{"text_format":"3","workbook":"xlsx","n_sheets":58,"sheets":["Список","Худ.эст.к 6г ч1. Н.г.","Худ.эст.к 6г ч1. К.г. ","Худ.эст.к 6г ч2. Н.г.","Худ.эст.к 6г ч2. К.г. ","Худ.эст.к 6г ч3. Н.г.","Худ.эст.к 6г ч3. К.г. ","Динамика худ-эстет. разв.","Реч.разв.к 6г ч1. Н.г.","Реч.разв.к 6г ч1. К.г. ","Реч.разв.к 6г ч2. Н.г.","Реч.разв.к 6г ч2. К.г. ","Динамика речевого развития","Позн.разв. к 6г ч1. Н.г.","Позн.разв. к 6г ч1. К.г. ","Позн.разв. к 6г ч2. Н.г.","Позн.разв. к 6г ч2. К.г. ","Динамика познав.разв.","Соц.ком.к 6г ч1. Н.г.","Соц.ком.к 6г ч1. К.г. ","Соц.ком. к 6г ч2. Н.г.","Соц.ком. к 6г ч2 К.г.","Динамика соц-ком.разв","Физ.разв. к 6г ч1. Н.г.","Физ.разв. к 6г ч1. К.г. ","Физ.разв. к 6г ч2. Н.г.","Физ.разв. к 6г ч2. К.г. ","Динамика физического развития","1","2","3","4","5","6","7","8","9","10","11","12","13","14","15","16","17","18","19","20","21","22","23","24","25","26","27","28","29","30"],"not_rendered":{"charts":27},"read":"whole","date_system":"1900"}

{"sheet":"Список","index":0,"n_rows":33,"n_cols":3,"rows_kept":33}
[]
[]
["№","Ф.И. ребенка","Дата рождения"]
[1]
[2]
[3]
[4]
[5]
[6]
[7]
[8]
[9]
[10]
[11]
[12]
[13]
[14]
[15]
[16]
[17]
[18]
[19]
[20]
[21]
[22]
[23]
[24]
[25]
[26]
[27]
[28]
[29]
[30]

{"sheet":"Худ.эст.к 6г ч1. Н.г.","index":1,"n_rows":56,"n_cols":16,"rows_kept":56,"merged":[[0,0,0,1],[0,4,0,6],[0,7,0,10],[1,0,1,3],[1,4,1,6],[1,7,1,11],[2,0,2,3],[3,0,3,1],[3,4,3,5],[3,6,3,8],[3,9,3,10],[4,0,4,1],[4,4,4,5],[4,6,4,8],[4,9,4,10],[5,0,10,0],[5,1,10,1],[5,4,5,14],[5,15,10,15],[6,4,6,14],[7,4,7,14],[8,4,8,7],[8,12,8,13],[9,4,10,4],[9,5,10,5],[9,6,10,6],[9,7,10,7],[9,8,10,8],[9,9,10,9],[9,10,10,10],[9,11,10,11],[9,12,10,12],[9,13,10,13],[9,14,10,14],[41,1,41,14],[43,4,43,7],[43,12,43,13],[45,1,45,15]]}
["Финальная диагностика",{"$nulls":3},"ГРУППА СТАРШЕГО ВОЗРАСТА (5-6 лет)",null,null,"Период проведения - окончание посещения группы старшего возраста"]
["Стартовая диагностика",{"$nulls":3},"ГРУППА ПОДГОТОВИТЕЛЬНОГО К ШКОЛЕ ВОЗРАСТА (6-7 лет)",null,null,"Период проведения - начало уч. года (сентябрь) или начало посещения группы подготовительного к школе возраста"]
["*- не диагностируется в данном возрасте"]
["Сформированность показателя",{"$nulls":3},"«2» показатель сформирован",null,"«1» показатель в стадии формирования",null,null,"«0» показатель не сформирован"]
["Средний уровень",{"$nulls":3},"1,8 - 2,0 норма-высокий",null,"1,0 - 1,7 норма - средний",null,null,"0,0 - 0,9 ниже нормы"]
["№","Ф.И. ребенка",null,null,"ОБРАЗОВАТЕЛЬНАЯ ОБЛАСТЬ «ХУДОЖЕСТВЕННО-ЭСТЕТИЧЕСКОЕ РАЗВИТИЕ»",{"$nulls":10},"СРЕДНИЙ ПОКАЗАТЕЛЬ ПО РЕБЕНКУ"]
[{"$nulls":4},"Показатели возможных достижений (возрастные характеристики) к 6 годам"]
[{"$nulls":4},"Музыкальная деятельность"]
[{"$nulls":4},"Слушание",{"$nulls":3},"Пение ","Музыкально-ритмические движения","Песенное творчество","Игра на детских музыкальных инструментах","Театрализованная деятельность",null,"Танцевально-игровое творчество"]
[{"$nulls":4},"Ребенок различает жанры музыкальных произведений (песня, танец, марш)","Ребенок узнает мелодию по отдельным фрагментам произведения (вступление, заключение, музыкальная фраза)","Ребенок различает звуки по высоте в пределах квинты","Ребенок различает звучание музыкальных инструментов (клавишно-ударных, струнных)","Ребенок демонстрирует развитые певческие навыки","Ребенок демонстрирует развитые навыки исполнения танцевальных движений","Ребенок может импровизировать мелодию на заданный текст","Ребенок демонстрирует навыки игры на детских музыкальных инструментах","Ребенок имеет представление о различных видах театрального искусства","Ребенок с удовольствие занимается театрализованной деятельностью","Ребенок может придумывать движения к танцам"]
[]
[1,{"$f":"Список!B4","v":0},{"$nulls":13},{"$f":"AVERAGE(H12:O12)","v":{"$error":"#DIV/0!"}}]
[2,{"$f":"Список!B5","v":0},{"$nulls":13},{"$error":"#DIV/0!"}]
[3,{"$f":"Список!B6","v":0},{"$nulls":13},{"$error":"#DIV/0!"}]
[4,{"$f":"Список!B7","v":0},{"$nulls":13},{"$error":"#DIV/0!"}]
[5,{"$f":"Список!B8","v":0},{"$nulls":13},{"$error":"#DIV/0!"}]
[6,{"$f":"Список!B9","v":0},{"$nulls":13},{"$error":"#DIV/0!"}]
[7,{"$f":"Список!B10","v":0},{"$nulls":13},{"$error":"#DIV/0!"}]
[8,{"$f":"Список!B11","v":0},{"$nulls":13},{"$error":"#DIV/0!"}]
[9,{"$f":"Список!B12","v":0},{"$nulls":13},{"$error":"#DIV/0!"}]
[10,{"$f":"Список!B13","v":0},{"$nulls":13},{"$error":"#DIV/0!"}]
[11,{"$f":"Список!B14","v":0},{"$nulls":13},{"$error":"#DIV/0!"}]
[12,{"$f":"Список!B15","v":0},{"$nulls":13},{"$error":"#DIV/0!"}]
[13,{"$f":"Список!B16","v":0},{"$nulls":13},{"$error":"#DIV/0!"}]
[14,{"$f":"Список!B17","v":0},{"$nulls":13},{"$error":"#DIV/0!"}]
[15,{"$f":"Список!B18","v":0},{"$nulls":13},{"$error":"#DIV/0!"}]
[16,{"$f":"Список!B19","v":0},{"$nulls":13},{"$error":"#DIV/0!"}]
[17,{"$f":"Список!B20","v":0},{"$nulls":13},{"$error":"#DIV/0!"}]
[18,{"$f":"Список!B21","v":0},{"$nulls":13},{"$error":"#DIV/0!"}]
[19,{"$f":"Список!B22","v":0},{"$nulls":13},{"$error":"#DIV/0!"}]
[20,{"$f":"Список!B23","v":0},{"$nulls":13},{"$error":"#DIV/0!"}]
[21,{"$f":"Список!B24","v":0},{"$nulls":13},{"$error":"#DIV/0!"}]
[22,{"$f":"Список!B25","v":0},{"$nulls":13},{"$error":"#DIV/0!"}]
[23,{"$f":"Список!B26","v":0},{"$nulls":13},{"$error":"#DIV/0!"}]
[24,{"$f":"Список!B27","v":0},{"$nulls":13},{"$error":"#DIV/0!"}]
[25,{"$f":"Список!B28","v":0},{"$nulls":13},{"$error":"#DIV/0!"}]
[26,{"$f":"Список!B29","v":0},{"$nulls":13},{"$error":"#DIV/0!"}]
[27,{"$f":"Список!B30","v":0},{"$nulls":13},{"$error":"#DIV/0!"}]
[28,{"$f":"Список!B31","v":0},{"$nulls":13},{"$error":"#DIV/0!"}]
[29,{"$f":"Список!B32","v":0},{"$nulls":13},{"$error":"#DIV/0!"}]
[30,{"$f":"Список!B33","v":0},{"$nulls":13},{"$error":"#DIV/0!"}]
[null,"СРЕДНИЙ ПОКАЗАТЕЛЬ ПО ГРУППЕ",{"$nulls":13},{"$f":"AVERAGE(P12:P41)","v":{"$error":"#DIV/0!"}}]
[null,"среднее по критерию",null,null,{"$f":"AVERAGE(E12:E41)","v":{"$error":"#DIV/0!"}},{"$f":"AVERAGE(F12:F41)","v":{"$error":"#DIV/0!"}},{"$error":"#DIV/0!"},{"$error":"#DIV/0!"},{"$error":"#DIV/0!"},{"$error":"#DIV/0!"},{"$error":"#DIV/0!"},{"$error":"#DIV/0!"},{"$error":"#DIV/0!"},{"$error":"#DIV/0!"},{"$error":"#DIV/0!"}]
[null,"среднее по разделу",null,null,{"$f":"(E43+F43+G43+H43)/4","v":{"$error":"#DIV/0!"}},{"$nulls":3},{"$f":"I43","v":{"$error":"#DIV/0!"}},{"$f":"J43","v":{"$error":"#DIV/0!"}},{"$f":"K43","v":{"$error":"#DIV/0!"}},{"$f":"L43","v":{"$error":"#DIV/0!"}},{"$f":"(M43+N43)/2","v":{"$error":"#DIV/0!"}},null,{"$f":"O43","v":{"$error":"#DIV/0!"}}]
[null,"Ф.И.О, должность специалиста(ов)____________________________________________________________________________________________________________________________________________________________________________________________________________________________________"]
[null,"© Автор-составитель Кулекина И.А., СПБ, 2023"]
[]
[]
[]
[null,"слушание",null,null,{"$f":"E44","v":{"$error":"#DIV/0!"}}]
[null,"пение",null,null,{"$f":"I44","v":{"$error":"#DIV/0!"}}]
[null,"музыкально-ритмические движения",null,null,{"$f":"J44","v":{"$error":"#DIV/0!"}}]
[null,"песенное творчество",null,null,{"$f":"K44","v":{"$error":"#DIV/0!"}}]
[null,"игра на музыкальных инструментах",null,null,{"$f":"L44","v":{"$error":"#DIV/0!"}}]
[null,"театрализованная деятельность",null,null,{"$f":"M44","v":{"$error":"#DIV/0!"}}]
[null,"театрально-игровое творчество",null,null,{"$f":"O44","v":{"$error":"#DIV/0!"}}]

{"sheet":"Худ.эст.к 6г ч1. К.г. ","index":2,"n_rows":56,"n_cols":16,"rows_kept":56,"merged":[[0,0,0,1],[0,4,0,6],[0,7,0,10],[1,0,1,3],[1,4,1,6],[1,7,1,11],[2,0,2,3],[3,0,3,1],[3,4,3,5],[3,6,3,8],[3,9,3,10],[4,0,4,1],[4,4,4,5],[4,6,4,8],[4,9,4,10],[5,0,10,0],[5,1,10,1],[5,4,5,14],[5,15,10,15],[6,4,6,14],[7,4,7,14],[8,4,8,7],[8,12,8,13],[9,4,10,4],[9,5,10,5],[9,6,10,6],[9,7,10,7],[9,8,10,8],[9,9,10,9],[9,10,10,10],[9,11,10,11],[9,12,10,12],[9,13,10,13],[9,14,10,14],[41,1,41,14],[43,4,43,7],[43,12,43,13],[45,1,45,15]]}
["Финальная диагностика",{"$nulls":3},"ГРУППА СТАРШЕГО ВОЗРАСТА (5-6 лет)",null,null,"Период проведения - окончание посещения группы старшего возраста"]
["Стартовая диагностика",{"$nulls":3},"ГРУППА ПОДГОТОВИТЕЛЬНОГО К ШКОЛЕ ВОЗРАСТА (6-7 лет)",null,null,"Период проведения - начало уч. года (сентябрь) или начало посещения группы подготовительного к школе возраста"]
["*- не диагностируется в данном возрасте"]
["Сформированность показателя",{"$nulls":3},"«2» показатель сформирован",null,"«1» показатель в стадии формирования",null,null,"«0» показатель не сформирован"]
["Средний уровень",{"$nulls":3},"1,8 - 2,0 норма-высокий",null,"1,0 - 1,7 норма - средний",null,null,"0,0 - 0,9 ниже нормы"]
["№","Ф.И. ребенка",null,null,"ОБРАЗОВАТЕЛЬНАЯ ОБЛАСТЬ «ХУДОЖЕСТВЕННО-ЭСТЕТИЧЕСКОЕ РАЗВИТИЕ»",{"$nulls":10},"СРЕДНИЙ ПОКАЗАТЕЛЬ ПО РЕБЕНКУ"]
[{"$nulls":4},"Показатели возможных достижений (возрастные характеристики) к 6 годам"]
[{"$nulls":4},"Музыкальная деятельность"]
[{"$nulls":4},"Слушание",{"$nulls":3},"Пение ","Музыкально-ритмические движения","Песенное творчество","Игра на детских музыкальных инструментах","Театрализованная деятельность",null,"Танцевально-игровое творчество"]
[{"$nulls":4},"Ребенок различает жанры музыкальных произведений (песня, танец, марш)","Ребенок узнает мелодию по отдельным фрагментам произведения (вступление, заключение, музыкальная фраза)","Ребенок различает звуки по высоте в пределах квинты","Ребенок различает звучание музыкальных инструментов (клавишно-ударных, струнных)","Ребенок демонстрирует развитые певческие навыки","Ребенок демонстрирует развитые навыки исполнения танцевальных движений","Ребенок может импровизировать мелодию на заданный текст","Ребенок демонстрирует навыки игры на детских музыкальных инструментах","Ребенок имеет представление о различных видах театрального искусства","Ребенок с удовольствие занимается театрализованной деятельностью","Ребенок может придумывать движения к танцам"]
[]
[1,{"$f":"Список!B4","v":0},{"$nulls":13},{"$f":"AVERAGE(H12:O12)","v":{"$error":"#DIV/0!"}}]
[2,{"$f":"Список!B5","v":0},{"$nulls":13},{"$error":"#DIV/0!"}]
[3,{"$f":"Список!B6","v":0},{"$nulls":13},{"$error":"#DIV/0!"}]
[4,{"$f":"Список!B7","v":0},{"$nulls":13},{"$error":"#DIV/0!"}]
[5,{"$f":"Список!B8","v":0},{"$nulls":13},{"$error":"#DIV/0!"}]
[6,{"$f":"Список!B9","v":0},{"$nulls":13},{"$error":"#DIV/0!"}]
[7,{"$f":"Список!B10","v":0},{"$nulls":13},{"$error":"#DIV/0!"}]
[8,{"$f":"Список!B11","v":0},{"$nulls":13},{"$error":"#DIV/0!"}]
[9,{"$f":"Список!B12","v":0},{"$nulls":13},{"$error":"#DIV/0!"}]
[10,{"$f":"Список!B13","v":0},{"$nulls":13},{"$error":"#DIV/0!"}]
[11,{"$f":"Список!B14","v":0},{"$nulls":13},{"$error":"#DIV/0!"}]
[12,{"$f":"Список!B15","v":0},{"$nulls":13},{"$error":"#DIV/0!"}]
[13,{"$f":"Список!B16","v":0},{"$nulls":13},{"$error":"#DIV/0!"}]
[14,{"$f":"Список!B17","v":0},{"$nulls":13},{"$error":"#DIV/0!"}]
[15,{"$f":"Список!B18","v":0},{"$nulls":13},{"$error":"#DIV/0!"}]
[16,{"$f":"Список!B19","v":0},{"$nulls":13},{"$error":"#DIV/0!"}]
[17,{"$f":"Список!B20","v":0},{"$nulls":13},{"$error":"#DIV/0!"}]
[18,{"$f":"Список!B21","v":0},{"$nulls":13},{"$error":"#DIV/0!"}]
[19,{"$f":"Список!B22","v":0},{"$nulls":13},{"$error":"#DIV/0!"}]
[20,{"$f":"Список!B23","v":0},{"$nulls":13},{"$error":"#DIV/0!"}]
[21,{"$f":"Список!B24","v":0},{"$nulls":13},{"$error":"#DIV/0!"}]
[22,{"$f":"Список!B25","v":0},{"$nulls":13},{"$error":"#DIV/0!"}]
[23,{"$f":"Список!B26","v":0},{"$nulls":13},{"$error":"#DIV/0!"}]
[24,{"$f":"Список!B27","v":0},{"$nulls":13},{"$error":"#DIV/0!"}]
[25,{"$f":"Список!B28","v":0},{"$nulls":13},{"$error":"#DIV/0!"}]
[26,{"$f":"Список!B29","v":0},{"$nulls":13},{"$error":"#DIV/0!"}]
[27,{"$f":"Список!B30","v":0},{"$nulls":13},{"$error":"#DIV/0!"}]
[28,{"$f":"Список!B31","v":0},{"$nulls":13},{"$error":"#DIV/0!"}]
[29,{"$f":"Список!B32","v":0},{"$nulls":13},{"$error":"#DIV/0!"}]
[30,{"$f":"Список!B33","v":0},{"$nulls":13},{"$error":"#DIV/0!"}]
[null,"СРЕДНИЙ ПОКАЗАТЕЛЬ ПО ГРУППЕ",{"$nulls":13},{"$f":"AVERAGE(P12:P41)","v":{"$error":"#DIV/0!"}}]
[null,"среднее по критерию",null,null,{"$f":"AVERAGE(E12:E41)","v":{"$error":"#DIV/0!"}},{"$f":"AVERAGE(F12:F41)","v":{"$error":"#DIV/0!"}},{"$error":"#DIV/0!"},{"$error":"#DIV/0!"},{"$error":"#DIV/0!"},{"$error":"#DIV/0!"},{"$error":"#DIV/0!"},{"$error":"#DIV/0!"},{"$error":"#DIV/0!"},{"$error":"#DIV/0!"},{"$error":"#DIV/0!"}]
[null,"среднее по разделу",null,null,{"$f":"(E43+F43+G43+H43)/4","v":{"$error":"#DIV/0!"}},{"$nulls":3},{"$f":"I43","v":{"$error":"#DIV/0!"}},{"$f":"J43","v":{"$error":"#DIV/0!"}},{"$f":"K43","v":{"$error":"#DIV/0!"}},{"$f":"L43","v":{"$error":"#DIV/0!"}},{"$f":"(M43+N43)/2","v":{"$error":"#DIV/0!"}},null,{"$f":"O43","v":{"$error":"#DIV/0!"}}]
[null,"Ф.И.О, должность специалиста(ов)____________________________________________________________________________________________________________________________________________________________________________________________________________________________________"]
[null,"© Автор-составитель Кулекина И.А., СПБ, 2023"]
[]
[]
[]
[null,"слушание",null,null,{"$f":"E44","v":{"$error":"#DIV/0!"}}]
[null,"пение",null,null,{"$f":"I44","v":{"$error":"#DIV/0!"}}]
[null,"музыкально-ритмические движения",null,null,{"$f":"J44","v":{"$error":"#DIV/0!"}}]
[null,"песенное творчество",null,null,{"$f":"K44","v":{"$error":"#DIV/0!"}}]
[null,"игра на музыкальных инструментах",null,null,{"$f":"L44","v":{"$error":"#DIV/0!"}}]
[null,"театрализованная деятельность",null,null,{"$f":"M44","v":{"$error":"#DIV/0!"}}]
[null,"театрально-игровое творчество",null,null,{"$f":"O44","v":{"$error":"#DIV/0!"}}]

{"sheet":"Худ.эст.к 6г ч2. Н.г.","index":3,"n_rows":54,"n_cols":14,"rows_kept":54,"merged":[[0,0,0,1],[0,4,0,5],[0,6,0,10],[1,0,1,3],[1,4,1,5],[1,6,1,11],[2,0,2,3],[3,0,3,1],[3,4,3,5],[3,8,3,9],[4,0,4,1],[4,4,4,5],[4,8,4,9],[5,0,10,0],[5,1,10,1],[5,4,5,12],[5,13,10,13],[6,4,6,12],[7,4,7,11],[8,4,8,5],[8,8,8,9],[8,10,8,11],[8,12,10,12],[9,4,10,4],[9,5,10,5],[9,6,10,6],[9,7,10,7],[9,8,10,8],[9,9,10,9],[9,10,10,10],[9,11,10,11],[41,1,41,12],[43,4,43,5],[43,8,43,9],[43,10,43,11],[45,1,45,13]]}
["Финальная диагностика",{"$nulls":3},"ГРУППА СТАРШЕГО ВОЗРАСТА (5-6 лет)",null,"Период проведения - окончание посещения группы старшего возраста"]
["Стартовая диагностика",{"$nulls":3},"ГРУППА ПОДГОТОВИТЕЛЬНОГО К ШКОЛЕ ВОЗРАСТА (6-7 лет)",null,"Период проведения - начало уч. года (сентябрь) или начало посещения группы подготовительного к школе возраста"]
["*- не диагностируется в данном возрасте"]
["Сформированность показателя",{"$nulls":3},"«2» показатель сформирован",null,"«1» показатель в стадии формирования",null,"«0» показатель не сформирован"]
["Средний уровень",{"$nulls":3},"1,8 - 2,0 норма-высокий",null,"1,0 - 1,7 норма - средний",null,"0,0 - 0,9 ниже нормы"]
[null,"Ф.И. ребенка",null,null,"ОБРАЗОВАТЕЛЬНАЯ ОБЛАСТЬ «ХУДОЖЕСТВЕННО-ЭСТЕТИЧЕСКОЕ РАЗВИТИЕ»",{"$nulls":8},"СРЕДНИЙ ПОКАЗАТЕЛЬ ПО РЕБЕНКУ"]
[{"$nulls":4},"Показатели возможных достижений (возрастные характеристики) к 6 годам"]
[{"$nulls":4},"Изобразительная деятельность"]
[{"$nulls":4},"Рисование ",null,"Лепка ","Аппликация ","Народное ДПИ",null,"Прикладное творчество",null,"Ребенок самостоятельно определяет замысел рисунка, аппликации, лепки, поделки, создает образы и композиционные изображения, использует разнообразные материалы"]
[{"$nulls":4},"Ребенок передает в изображении основные свойства предметов (форма, величина, цвет), характерные детали, соотношение предметов и их частей по величине, высоте, расположению относительно друг друга","Ребенок владеет основными способами и приемами рисования различными изобразительными материалами (цветные карандаши, гуашь, акварель, цветные мелки, пастель, сангина, угольный карандаш, фломастеры)","Ребенок лепит с натуры и по представлению знакомые предметы, передавая характерные особенности пластическим, конструктивным и комбинированным способами","Ребенок умеет пользоваться ножницами","Ребенок имеет представление о полхов-майданской, гжельской росписи","Ребенок может нарисовать узор, используя элементы  росписи","Ребенок умеет работать с бумагой (сгибать лист, сглаживать сгибы, надрезать по сгибам)","Ребенок умеет работать с природным и бросовым материалом"]
[]
[1,{"$f":"Список!B4","v":0},{"$nulls":11},{"$f":"AVERAGE(F12:M12)","v":{"$error":"#DIV/0!"}}]
[2,{"$f":"Список!B5","v":0},{"$nulls":11},{"$error":"#DIV/0!"}]
[3,{"$f":"Список!B6","v":0},{"$nulls":11},{"$error":"#DIV/0!"}]
[4,{"$f":"Список!B7","v":0},{"$nulls":11},{"$error":"#DIV/0!"}]
[5,{"$f":"Список!B8","v":0},{"$nulls":11},{"$error":"#DIV/0!"}]
[6,{"$f":"Список!B9","v":0},{"$nulls":11},{"$error":"#DIV/0!"}]
[7,{"$f":"Список!B10","v":0},{"$nulls":11},{"$error":"#DIV/0!"}]
[8,{"$f":"Список!B11","v":0},{"$nulls":11},{"$error":"#DIV/0!"}]
[9,{"$f":"Список!B12","v":0},{"$nulls":11},{"$error":"#DIV/0!"}]
[10,{"$f":"Список!B13","v":0},{"$nulls":11},{"$error":"#DIV/0!"}]
[11,{"$f":"Список!B14","v":0},{"$nulls":11},{"$error":"#DIV/0!"}]
[12,{"$f":"Список!B15","v":0},{"$nulls":11},{"$error":"#DIV/0!"}]
[13,{"$f":"Список!B16","v":0},{"$nulls":11},{"$error":"#DIV/0!"}]
[14,{"$f":"Список!B17","v":0},{"$nulls":11},{"$error":"#DIV/0!"}]
[15,{"$f":"Список!B18","v":0},{"$nulls":11},{"$error":"#DIV/0!"}]
[16,{"$f":"Список!B19","v":0},{"$nulls":11},{"$error":"#DIV/0!"}]
[17,{"$f":"Список!B20","v":0},{"$nulls":11},{"$error":"#DIV/0!"}]
[18,{"$f":"Список!B21","v":0},{"$nulls":11},{"$error":"#DIV/0!"}]
[19,{"$f":"Список!B22","v":0},{"$nulls":11},{"$error":"#DIV/0!"}]
[20,{"$f":"Список!B23","v":0},{"$nulls":11},{"$error":"#DIV/0!"}]
[21,{"$f":"Список!B24","v":0},{"$nulls":11},{"$error":"#DIV/0!"}]
[22,{"$f":"Список!B25","v":0},{"$nulls":11},{"$error":"#DIV/0!"}]
[23,{"$f":"Список!B26","v":0},{"$nulls":11},{"$error":"#DIV/0!"}]
[24,{"$f":"Список!B27","v":0},{"$nulls":11},{"$error":"#DIV/0!"}]
[25,{"$f":"Список!B28","v":0},{"$nulls":11},{"$error":"#DIV/0!"}]
[26,{"$f":"Список!B29","v":0},{"$nulls":11},{"$error":"#DIV/0!"}]
[27,{"$f":"Список!B30","v":0},{"$nulls":11},{"$error":"#DIV/0!"}]
[28,{"$f":"Список!B31","v":0},{"$nulls":11},{"$error":"#DIV/0!"}]
[29,{"$f":"Список!B32","v":0},{"$nulls":11},{"$error":"#DIV/0!"}]
[30,{"$f":"Список!B33","v":0},{"$nulls":11},{"$error":"#DIV/0!"}]
[null,"СРЕДНИЙ ПОКАЗАТЕЛЬ ПО ГРУППЕ",{"$nulls":11},{"$f":"AVERAGE(N12:N41)","v":{"$error":"#DIV/0!"}}]
[null,"среднее по критерию",null,null,{"$f":"AVERAGE(E12:E41)","v":{"$error":"#DIV/0!"}},{"$f":"AVERAGE(F12:F41)","v":{"$error":"#DIV/0!"}},{"$error":"#DIV/0!"},{"$error":"#DIV/0!"},{"$error":"#DIV/0!"},{"$error":"#DIV/0!"},{"$error":"#DIV/0!"},{"$error":"#DIV/0!"},{"$error":"#DIV/0!"}]
[null,"среднее по разделу",null,null,{"$f":"(E43+F43)/2","v":{"$error":"#DIV/0!"}},null,{"$f":"G43","v":{"$error":"#DIV/0!"}},{"$f":"H43","v":{"$error":"#DIV/0!"}},{"$f":"(I43+J43)/2","v":{"$error":"#DIV/0!"}},null,{"$f":"(K43+L43)/2","v":{"$error":"#DIV/0!"}},null,{"$f":"M43","v":{"$error":"#DIV/0!"}}]
[null,"Ф.И.О, должность специалиста(ов)____________________________________________________________________________________________________________________________________________________________________________________________________________________________________"]
[null,"© Автор-составитель Кулекина И.А., СПБ, 2023"]
[]
[]
[null,"рисование",null,null,{"$f":"E44","v":{"$error":"#DIV/0!"}}]
[null,"лепка",null,null,{"$f":"G44","v":{"$error":"#DIV/0!"}}]
[null,"аппликация",null,null,{"$f":"H44","v":{"$error":"#DIV/0!"}}]
[null,"народное ДПИ",null,null,{"$f":"I44","v":{"$error":"#DIV/0!"}}]
[null,"прикладное творчество",null,null,{"$f":"K44","v":{"$error":"#DIV/0!"}}]
[null,"Ребенок самостоятельно определяет замысел рисунка, аппликации, лепки, поделки, создает образы и композиционные изображения, использует разнообразные материалы",null,null,{"$f":"M44","v":{"$error":"#DIV/0!"}}]

{"sheet":"Худ.эст.к 6г ч2. К.г. ","index":4,"n_rows":54,"n_cols":14,"rows_kept":54,"merged":[[0,0,0,1],[0,4,0,5],[0,6,0,10],[1,0,1,3],[1,4,1,5],[1,6,1,11],[2,0,2,3],[3,0,3,1],[3,4,3,5],[3,8,3,9],[4,0,4,1],[4,4,4,5],[4,8,4,9],[5,0,10,0],[5,1,10,1],[5,4,5,12],[5,13,10,13],[6,4,6,12],[7,4,7,11],[8,4,8,5],[8,8,8,9],[8,10,8,11],[8,12,10,12],[9,4,10,4],[9,5,10,5],[9,6,10,6],[9,7,10,7],[9,8,10,8],[9,9,10,9],[9,10,10,10],[9,11,10,11],[41,1,41,12],[43,4,43,5],[43,8,43,9],[43,10,43,11],[45,1,45,13]]}
["Финальная диагностика",{"$nulls":3},"ГРУППА СТАРШЕГО ВОЗРАСТА (5-6 лет)",null,"Период проведения - окончание посещения группы старшего возраста"]
["Стартовая диагностика",{"$nulls":3},"ГРУППА ПОДГОТОВИТЕЛЬНОГО К ШКОЛЕ ВОЗРАСТА (6-7 лет)",null,"Период проведения - начало уч. года (сентябрь) или начало посещения группы подготовительного к школе возраста"]
["*- не диагностируется в данном возрасте"]
["Сформированность показателя",{"$nulls":3},"«2» показатель сформирован",null,"«1» показатель в стадии формирования",null,"«0» показатель не сформирован"]
["Средний уровень",{"$nulls":3},"1,8 - 2,0 норма-высокий",null,"1,0 - 1,7 норма - средний",null,"0,0 - 0,9 ниже нормы"]
[null,"Ф.И. ребенка",null,null,"ОБРАЗОВАТЕЛЬНАЯ ОБЛАСТЬ «ХУДОЖЕСТВЕННО-ЭСТЕТИЧЕСКОЕ РАЗВИТИЕ»",{"$nulls":8},"СРЕДНИЙ ПОКАЗАТЕЛЬ ПО РЕБЕНКУ"]
[{"$nulls":4},"Показатели возможных достижений (возрастные характеристики) к 6 годам"]
[{"$nulls":4},"Изобразительная деятельность"]
[{"$nulls":4},"Рисование ",null,"Лепка ","Аппликация ","Народное ДПИ",null,"Прикладное творчество",null,"Ребенок самостоятельно определяет замысел рисунка, аппликации, лепки, поделки, создает образы и композиционные изображения, использует разнообразные материалы"]
[{"$nulls":4},"Ребенок передает в изображении основные свойства предметов (форма, величина, цвет), характерные детали, соотношение предметов и их частей по величине, высоте, расположению относительно друг друга","Ребенок владеет основными способами и приемами рисования различными изобразительными материалами (цветные карандаши, гуашь, акварель, цветные мелки, пастель, сангина, угольный карандаш, фломастеры)","Ребенок лепит с натуры и по представлению знакомые предметы, передавая характерные особенности пластическим, конструктивным и комбинированным способами","Ребенок умеет пользоваться ножницами","Ребенок имеет представление о полхов-майданской, гжельской росписи","Ребенок может нарисовать узор, используя элементы  росписи","Ребенок умеет работать с бумагой (сгибать лист, сглаживать сгибы, надрезать по сгибам)","Ребенок умеет работать с природным и бросовым материалом"]
[]
[1,{"$f":"Список!B4","v":0},{"$nulls":11},{"$f":"AVERAGE(F12:M12)","v":{"$error":"#DIV/0!"}}]
[2,{"$f":"Список!B5","v":0},{"$nulls":11},{"$error":"#DIV/0!"}]
[3,{"$f":"Список!B6","v":0},{"$nulls":11},{"$error":"#DIV/0!"}]
[4,{"$f":"Список!B7","v":0},{"$nulls":11},{"$error":"#DIV/0!"}]
[5,{"$f":"Список!B8","v":0},{"$nulls":11},{"$error":"#DIV/0!"}]
[6,{"$f":"Список!B9","v":0},{"$nulls":11},{"$error":"#DIV/0!"}]
[7,{"$f":"Список!B10","v":0},{"$nulls":11},{"$error":"#DIV/0!"}]
[8,{"$f":"Список!B11","v":0},{"$nulls":11},{"$error":"#DIV/0!"}]
[9,{"$f":"Список!B12","v":0},{"$nulls":11},{"$error":"#DIV/0!"}]
[10,{"$f":"Список!B13","v":0},{"$nulls":11},{"$error":"#DIV/0!"}]
[11,{"$f":"Список!B14","v":0},{"$nulls":11},{"$error":"#DIV/0!"}]
[12,{"$f":"Список!B15","v":0},{"$nulls":11},{"$error":"#DIV/0!"}]
[13,{"$f":"Список!B16","v":0},{"$nulls":11},{"$error":"#DIV/0!"}]
[14,{"$f":"Список!B17","v":0},{"$nulls":11},{"$error":"#DIV/0!"}]
[15,{"$f":"Список!B18","v":0},{"$nulls":11},{"$error":"#DIV/0!"}]
[16,{"$f":"Список!B19","v":0},{"$nulls":11},{"$error":"#DIV/0!"}]
[17,{"$f":"Список!B20","v":0},{"$nulls":11},{"$error":"#DIV/0!"}]
[18,{"$f":"Список!B21","v":0},{"$nulls":11},{"$error":"#DIV/0!"}]
[19,{"$f":"Список!B22","v":0},{"$nulls":11},{"$error":"#DIV/0!"}]
[20,{"$f":"Список!B23","v":0},{"$nulls":11},{"$error":"#DIV/0!"}]
[21,{"$f":"Список!B24","v":0},{"$nulls":11},{"$error":"#DIV/0!"}]
[22,{"$f":"Список!B25","v":0},{"$nulls":11},{"$error":"#DIV/0!"}]
[23,{"$f":"Список!B26","v":0},{"$nulls":11},{"$error":"#DIV/0!"}]
[24,{"$f":"Список!B27","v":0},{"$nulls":11},{"$error":"#DIV/0!"}]
[25,{"$f":"Список!B28","v":0},{"$nulls":11},{"$error":"#DIV/0!"}]
[26,{"$f":"Список!B29","v":0},{"$nulls":11},{"$error":"#DIV/0!"}]
[27,{"$f":"Список!B30","v":0},{"$nulls":11},{"$error":"#DIV/0!"}]
[28,{"$f":"Список!B31","v":0},{"$nulls":11},{"$error":"#DIV/0!"}]
[29,{"$f":"Список!B32","v":0},{"$nulls":11},{"$error":"#DIV/0!"}]
[30,{"$f":"Список!B33","v":0},{"$nulls":11},{"$error":"#DIV/0!"}]
[null,"СРЕДНИЙ ПОКАЗАТЕЛЬ ПО ГРУППЕ",{"$nulls":11},{"$f":"AVERAGE(N12:N41)","v":{"$error":"#DIV/0!"}}]
[null,"среднее по критерию",null,null,{"$f":"AVERAGE(E12:E41)","v":{"$error":"#DIV/0!"}},{"$f":"AVERAGE(F12:F41)","v":{"$error":"#DIV/0!"}},{"$error":"#DIV/0!"},{"$error":"#DIV/0!"},{"$error":"#DIV/0!"},{"$error":"#DIV/0!"},{"$error":"#DIV/0!"},{"$error":"#DIV/0!"},{"$error":"#DIV/0!"}]
[null,"среднее по разделу",null,null,{"$f":"(E43+F43)/2","v":{"$error":"#DIV/0!"}},null,{"$f":"G43","v":{"$error":"#DIV/0!"}},{"$f":"H43","v":{"$error":"#DIV/0!"}},{"$f":"(I43+J43)/2","v":{"$error":"#DIV/0!"}},null,{"$f":"(K43+L43)/2","v":{"$error":"#DIV/0!"}},null,{"$f":"M43","v":{"$error":"#DIV/0!"}}]
[null,"Ф.И.О, должность специалиста(ов)____________________________________________________________________________________________________________________________________________________________________________________________________________________________________"]
[null,"© Автор-составитель Кулекина И.А., СПБ, 2023"]
[]
[]
[null,"рисование",null,null,{"$f":"E44","v":{"$error":"#DIV/0!"}}]
[null,"лепка",null,null,{"$f":"G44","v":{"$error":"#DIV/0!"}}]
[null,"аппликация",null,null,{"$f":"H44","v":{"$error":"#DIV/0!"}}]
[null,"народное ДПИ",null,null,{"$f":"I44","v":{"$error":"#DIV/0!"}}]
[null,"прикладное творчество",null,null,{"$f":"K44","v":{"$error":"#DIV/0!"}}]
[null,"Ребенок самостоятельно определяет замысел рисунка, аппликации, лепки, поделки, создает образы и композиционные изображения, использует разнообразные материалы",null,null,{"$f":"M44","v":{"$error":"#DIV/0!"}}]

{"sheet":"Худ.эст.к 6г ч3. Н.г.","index":5,"n_rows":50,"n_cols":13,"rows_kept":50,"merged":[[0,0,0,1],[0,4,0,6],[0,7,0,10],[1,0,1,3],[1,4,1,6],[1,7,1,11],[2,0,2,3],[3,0,3,1],[3,4,3,5],[3,6,3,8],[3,9,3,10],[4,0,4,1],[4,4,4,5],[4,6,4,8],[4,9,4,10],[5,0,10,0],[5,1,10,1],[5,4,5,11],[5,12,10,12],[6,4,6,11],[7,4,8,9],[7,10,8,11],[9,4,10,4],[9,5,10,5],[9,6,10,6],[9,7,10,7],[9,8,10,8],[9,9,10,9],[9,10,10,10],[9,11,10,11],[41,1,41,11],[43,4,43,9],[43,10,43,11],[45,1,45,12]]}
["Финальная диагностика",{"$nulls":3},"ГРУППА СТАРШЕГО ВОЗРАСТА (5-6 лет)",null,null,"Период проведения - окончание посещения группы старшего возраста"]
["Стартовая диагностика",{"$nulls":3},"ГРУППА ПОДГОТОВИТЕЛЬНОГО К ШКОЛЕ ВОЗРАСТА (6-7 лет)",null,null,"Период проведения - начало уч. года (сентябрь) или начало посещения группы подготовительного к школе возраста"]
["*- не диагностируется в данном возрасте"]
["Сформированность показателя",{"$nulls":3},"«2» показатель сформирован",null,"«1» показатель в стадии формирования",null,null,"«0» показатель не сформирован"]
["Средний уровень",{"$nulls":3},"1,8 - 2,0 норма-высокий",null,"1,0 - 1,7 норма - средний",null,null,"0,0 - 0,9 ниже нормы"]
[null,"Ф.И. ребенка",null,null,"ОБРАЗОВАТЕЛЬНАЯ ОБЛАСТЬ «ХУДОЖЕСТВЕННО-ЭСТЕТИЧЕСКОЕ РАЗВИТИЕ»",{"$nulls":7},"СРЕДНИЙ ПОКАЗАТЕЛЬ ПО РЕБЕНКУ"]
[{"$nulls":4},"Показатели возможных достижений (возрастные характеристики) к 6 годам"]
[{"$nulls":4},"Приобщение к искусству",{"$nulls":5},"Конструктивная деятельность"]
[]
[{"$nulls":4},"Ребенок умеет выделять, называть, группировать произведения по видам искусства: литература, музыка, изобразительное искусство, архитектура, театр, цирк","Ребенок имеет представление о видах изобразительного искусства: графика, декоративно-прикладное искусство, живопись, скульптура, архитектура, фотоискусство","Ребенок имеет представление о жанрах изобразительного искусства: натюрморт, пейзаж, портрет","Ребенок имеет представление о народном искусстве, фольклоре, музыке и художественных промыслах","Ребенок имеет представление о творческих профессиях: художник, композитор, музыкант, актер, артист балета","Ребенок имеет представление о культурно-досуговых местах: театр, музей, библиотека, выставка, кинотеатр, цирк и др.","Ребенок может провести анализ постройки (выделить основные части и характерные детали конструкций)","Ребенок может выполнить постройку по инструкции"]
[]
[1,{"$f":"Список!B4","v":0},{"$nulls":10},{"$f":"AVERAGE(E12:L12)","v":{"$error":"#DIV/0!"}}]
[2,{"$f":"Список!B5","v":0},{"$nulls":10},{"$error":"#DIV/0!"}]
[3,{"$f":"Список!B6","v":0},{"$nulls":10},{"$error":"#DIV/0!"}]
[4,{"$f":"Список!B7","v":0},{"$nulls":10},{"$error":"#DIV/0!"}]
[5,{"$f":"Список!B8","v":0},{"$nulls":10},{"$error":"#DIV/0!"}]
[6,{"$f":"Список!B9","v":0},{"$nulls":10},{"$error":"#DIV/0!"}]
[7,{"$f":"Список!B10","v":0},{"$nulls":10},{"$error":"#DIV/0!"}]
[8,{"$f":"Список!B11","v":0},{"$nulls":10},{"$error":"#DIV/0!"}]
[9,{"$f":"Список!B12","v":0},{"$nulls":10},{"$error":"#DIV/0!"}]
[10,{"$f":"Список!B13","v":0},{"$nulls":10},{"$error":"#DIV/0!"}]
[11,{"$f":"Список!B14","v":0},{"$nulls":10},{"$error":"#DIV/0!"}]
[12,{"$f":"Список!B15","v":0},{"$nulls":10},{"$error":"#DIV/0!"}]
[13,{"$f":"Список!B16","v":0},{"$nulls":10},{"$error":"#DIV/0!"}]
[14,{"$f":"Список!B17","v":0},{"$nulls":10},{"$error":"#DIV/0!"}]
[15,{"$f":"Список!B18","v":0},{"$nulls":10},{"$error":"#DIV/0!"}]
[16,{"$f":"Список!B19","v":0},{"$nulls":10},{"$error":"#DIV/0!"}]
[17,{"$f":"Список!B20","v":0},{"$nulls":10},{"$error":"#DIV/0!"}]
[18,{"$f":"Список!B21","v":0},{"$nulls":10},{"$error":"#DIV/0!"}]
[19,{"$f":"Список!B22","v":0},{"$nulls":10},{"$error":"#DIV/0!"}]
[20,{"$f":"Список!B23","v":0},{"$nulls":10},{"$error":"#DIV/0!"}]
[21,{"$f":"Список!B24","v":0},{"$nulls":10},{"$error":"#DIV/0!"}]
[22,{"$f":"Список!B25","v":0},{"$nulls":10},{"$error":"#DIV/0!"}]
[23,{"$f":"Список!B26","v":0},{"$nulls":10},{"$error":"#DIV/0!"}]
[24,{"$f":"Список!B27","v":0},{"$nulls":10},{"$error":"#DIV/0!"}]
[25,{"$f":"Список!B28","v":0},{"$nulls":10},{"$error":"#DIV/0!"}]
[26,{"$f":"Список!B29","v":0},{"$nulls":10},{"$error":"#DIV/0!"}]
[27,{"$f":"Список!B30","v":0},{"$nulls":10},{"$error":"#DIV/0!"}]
[28,{"$f":"Список!B31","v":0},{"$nulls":10},{"$error":"#DIV/0!"}]
[29,{"$f":"Список!B32","v":0},{"$nulls":10},{"$error":"#DIV/0!"}]
[30,{"$f":"Список!B33","v":0},{"$nulls":10},{"$error":"#DIV/0!"}]
[null,"СРЕДНИЙ ПОКАЗАТЕЛЬ ПО ГРУППЕ",{"$nulls":10},{"$f":"AVERAGE(M12:M41)","v":{"$error":"#DIV/0!"}}]
[null,"среднее по критерию",null,null,{"$f":"AVERAGE(E12:E41)","v":{"$error":"#DIV/0!"}},{"$f":"AVERAGE(F12:F41)","v":{"$error":"#DIV/0!"}},{"$error":"#DIV/0!"},{"$error":"#DIV/0!"},{"$error":"#DIV/0!"},{"$error":"#DIV/0!"},{"$error":"#DIV/0!"},{"$error":"#DIV/0!"}]
[null,"среднее по разделу",null,null,{"$f":"(E43+F43+G43+H43+I43+J43)/6","v":{"$error":"#DIV/0!"}},{"$nulls":5},{"$f":"(K43+L43)/2","v":{"$error":"#DIV/0!"}}]
[null,"Ф.И.О, должность специалиста(ов)____________________________________________________________________________________________________________________________________________________________________________________________________________________________________"]
[null,"© Автор-составитель Кулекина И.А., СПБ, 2023"]
[]
[]
[null,"приобщение к искусству",null,null,{"$f":"E44","v":{"$error":"#DIV/0!"}}]
[null,"конструктивная деятельность",null,null,{"$f":"K44","v":{"$error":"#DIV/0!"}}]

{"sheet":"Худ.эст.к 6г ч3. К.г. ","index":6,"n_rows":50,"n_cols":13,"rows_kept":50,"merged":[[0,0,0,1],[0,4,0,6],[0,7,0,10],[1,0,1,3],[1,4,1,6],[1,7,1,11],[2,0,2,3],[3,0,3,1],[3,4,3,5],[3,6,3,8],[3,9,3,10],[4,0,4,1],[4,4,4,5],[4,6,4,8],[4,9,4,10],[5,0,10,0],[5,1,10,1],[5,4,5,11],[5,12,10,12],[6,4,6,11],[7,4,8,9],[7,10,8,11],[9,4,10,4],[9,5,10,5],[9,6,10,6],[9,7,10,7],[9,8,10,8],[9,9,10,9],[9,10,10,10],[9,11,10,11],[41,1,41,11],[43,4,43,9],[43,10,43,11],[45,1,45,12]]}
["Финальная диагностика",{"$nulls":3},"ГРУППА СТАРШЕГО ВОЗРАСТА (5-6 лет)",null,null,"Период проведения - окончание посещения группы старшего возраста"]
["Стартовая диагностика",{"$nulls":3},"ГРУППА ПОДГОТОВИТЕЛЬНОГО К ШКОЛЕ ВОЗРАСТА (6-7 лет)",null,null,"Период проведения - начало уч. года (сентябрь) или начало посещения группы подготовительного к школе возраста"]
["*- не диагностируется в данном возрасте"]
["Сформированность показателя",{"$nulls":3},"«2» показатель сформирован",null,"«1» показатель в стадии формирования",null,null,"«0» показатель не сформирован"]
["Средний уровень",{"$nulls":3},"1,8 - 2,0 норма-высокий",null,"1,0 - 1,7 норма - средний",null,null,"0,0 - 0,9 ниже нормы"]
[null,"Ф.И. ребенка",null,null,"ОБРАЗОВАТЕЛЬНАЯ ОБЛАСТЬ «ХУДОЖЕСТВЕННО-ЭСТЕТИЧЕСКОЕ РАЗВИТИЕ»",{"$nulls":7},"СРЕДНИЙ ПОКАЗАТЕЛЬ ПО РЕБЕНКУ"]
[{"$nulls":4},"Показатели возможных достижений (возрастные характеристики) к 6 годам"]
[{"$nulls":4},"Приобщение к искусству",{"$nulls":5},"Конструктивная деятельность"]
[]
[{"$nulls":4},"Ребенок умеет выделять, называть, группировать произведения по видам искусства: литература, музыка, изобразительное искусство, архитектура, театр, цирк","Ребенок имеет представление о видах изобразительного искусства: графика, декоративно-прикладное искусство, живопись, скульптура, архитектура, фотоискусство","Ребенок имеет представление о жанрах изобразительного искусства: натюрморт, пейзаж, портрет","Ребенок имеет представление о народном искусстве, фольклоре, музыке и художественных промыслах","Ребенок имеет представление о творческих профессиях: художник, композитор, музыкант, актер, артист балета","Ребенок имеет представление о культурно-досуговых местах: театр, музей, библиотека, выставка, кинотеатр, цирк и др.","Ребенок может провести анализ постройки (выделить основные части и характерные детали конструкций)","Ребенок может выполнить постройку по инструкции"]
[]
[1,{"$f":"Список!B4","v":0},{"$nulls":10},{"$f":"AVERAGE(E12:L12)","v":{"$error":"#DIV/0!"}}]
[2,{"$f":"Список!B5","v":0},{"$nulls":10},{"$error":"#DIV/0!"}]
[3,{"$f":"Список!B6","v":0},{"$nulls":10},{"$error":"#DIV/0!"}]
[4,{"$f":"Список!B7","v":0},{"$nulls":10},{"$error":"#DIV/0!"}]
[5,{"$f":"Список!B8","v":0},{"$nulls":10},{"$error":"#DIV/0!"}]
[6,{"$f":"Список!B9","v":0},{"$nulls":10},{"$error":"#DIV/0!"}]
[7,{"$f":"Список!B10","v":0},{"$nulls":10},{"$error":"#DIV/0!"}]
[8,{"$f":"Список!B11","v":0},{"$nulls":10},{"$error":"#DIV/0!"}]
[9,{"$f":"Список!B12","v":0},{"$nulls":10},{"$error":"#DIV/0!"}]
[10,{"$f":"Список!B13","v":0},{"$nulls":10},{"$error":"#DIV/0!"}]
[11,{"$f":"Список!B14","v":0},{"$nulls":10},{"$error":"#DIV/0!"}]
[12,{"$f":"Список!B15","v":0},{"$nulls":10},{"$error":"#DIV/0!"}]
[13,{"$f":"Список!B16","v":0},{"$nulls":10},{"$error":"#DIV/0!"}]
[14,{"$f":"Список!B17","v":0},{"$nulls":10},{"$error":"#DIV/0!"}]
[15,{"$f":"Список!B18","v":0},{"$nulls":10},{"$error":"#DIV/0!"}]
[16,{"$f":"Список!B19","v":0},{"$nulls":10},{"$error":"#DIV/0!"}]
[17,{"$f":"Список!B20","v":0},{"$nulls":10},{"$error":"#DIV/0!"}]
[18,{"$f":"Список!B21","v":0},{"$nulls":10},{"$error":"#DIV/0!"}]
[19,{"$f":"Список!B22","v":0},{"$nulls":10},{"$error":"#DIV/0!"}]
[20,{"$f":"Список!B23","v":0},{"$nulls":10},{"$error":"#DIV/0!"}]
[21,{"$f":"Список!B24","v":0},{"$nulls":10},{"$error":"#DIV/0!"}]
[22,{"$f":"Список!B25","v":0},{"$nulls":10},{"$error":"#DIV/0!"}]
[23,{"$f":"Список!B26","v":0},{"$nulls":10},{"$error":"#DIV/0!"}]
[24,{"$f":"Список!B27","v":0},{"$nulls":10},{"$error":"#DIV/0!"}]
[25,{"$f":"Список!B28","v":0},{"$nulls":10},{"$error":"#DIV/0!"}]
[26,{"$f":"Список!B29","v":0},{"$nulls":10},{"$error":"#DIV/0!"}]
[27,{"$f":"Список!B30","v":0},{"$nulls":10},{"$error":"#DIV/0!"}]
[28,{"$f":"Список!B31","v":0},{"$nulls":10},{"$error":"#DIV/0!"}]
[29,{"$f":"Список!B32","v":0},{"$nulls":10},{"$error":"#DIV/0!"}]
[30,{"$f":"Список!B33","v":0},{"$nulls":10},{"$error":"#DIV/0!"}]
[null,"СРЕДНИЙ ПОКАЗАТЕЛЬ ПО ГРУППЕ",{"$nulls":10},{"$f":"AVERAGE(M12:M41)","v":{"$error":"#DIV/0!"}}]
[null,"среднее по критерию",null,null,{"$f":"AVERAGE(E12:E41)","v":{"$error":"#DIV/0!"}},{"$f":"AVERAGE(F12:F41)","v":{"$error":"#DIV/0!"}},{"$error":"#DIV/0!"},{"$error":"#DIV/0!"},{"$error":"#DIV/0!"},{"$error":"#DIV/0!"},{"$error":"#DIV/0!"},{"$error":"#DIV/0!"}]
[null,"среднее по разделу",null,null,{"$f":"(E43+F43+G43+H43+I43+J43)/6","v":{"$error":"#DIV/0!"}},{"$nulls":5},{"$f":"(K43+L43)/2","v":{"$error":"#DIV/0!"}}]
[null,"Ф.И.О, должность специалиста(ов)____________________________________________________________________________________________________________________________________________________________________________________________________________________________________"]
[null,"© Автор-составитель Кулекина И.А., СПБ, 2023"]
[]
[]
[null,"приобщение к искусству",null,null,{"$f":"E44","v":{"$error":"#DIV/0!"}}]
[null,"конструктивная деятельность",null,null,{"$f":"K44","v":{"$error":"#DIV/0!"}}]

{"sheet":"Динамика худ-эстет. разв.","index":7,"n_rows":7,"n_cols":17,"rows_kept":7,"merged":[[0,0,0,16]]}
["Обобщение результатов педагогической диагностики по ОО \"Художественно-эстетическое развитие\". Старшая группа"]
[]
[]
[]
[null,"слушание","пение","музыкально-ритмические движения","песенное творчество","Игра на музыкальных инструментах","театрализованная деятельность","театрально-игровое творчество","рисование","лепка","аппликация","народное ДПИ","прикладное творчество","Ребенок самостоятельно определяет замысел рисунка, аппликации, лепки, поделки, создает образы и композиционные изображения, использует разнообразные материалы","приобщение к искусству","конструктивная деятельность","среднее по группе"]
["начало года",{"$f":"'Худ.эст.к 6г ч1. Н.г.'!E50","v":{"$error":"#DIV/0!"}},{"$f":"'Худ.эст.к 6г ч1. Н.г.'!E51","v":{"$error":"#DIV/0!"}},{"$f":"'Худ.эст.к 6г ч1. Н.г.'!E52","v":{"$error":"#DIV/0!"}},{"$f":"'Худ.эст.к 6г ч1. Н.г.'!E53","v":{"$error":"#DIV/0!"}},{"$f":"'Худ.эст.к 6г ч1. Н.г.'!E54","v":{"$error":"#DIV/0!"}},{"$f":"'Худ.эст.к 6г ч1. Н.г.'!E55","v":{"$error":"#DIV/0!"}},{"$f":"'Худ.эст.к 6г ч1. Н.г.'!E56","v":{"$error":"#DIV/0!"}},{"$f":"'Худ.эст.к 6г ч2. Н.г.'!E49","v":{"$error":"#DIV/0!"}},{"$f":"'Худ.эст.к 6г ч2. Н.г.'!E50","v":{"$error":"#DIV/0!"}},{"$f":"'Худ.эст.к 6г ч2. Н.г.'!E51","v":{"$error":"#DIV/0!"}},{"$f":"'Худ.эст.к 6г ч2. Н.г.'!E52","v":{"$error":"#DIV/0!"}},{"$f":"'Худ.эст.к 6г ч2. Н.г.'!E53","v":{"$error":"#DIV/0!"}},{"$f":"'Худ.эст.к 6г ч2. Н.г.'!E54","v":{"$error":"#DIV/0!"}},{"$f":"'Худ.эст.к 6г ч3. Н.г.'!E49","v":{"$error":"#DIV/0!"}},{"$f":"'Худ.эст.к 6г ч3. Н.г.'!E50","v":{"$error":"#DIV/0!"}},{"$f":"AVERAGE(B6:P6)","v":{"$error":"#DIV/0!"}}]
["конец года",{"$f":"'Худ.эст.к 6г ч1. К.г. '!E50","v":{"$error":"#DIV/0!"}},{"$f":"'Худ.эст.к 6г ч1. К.г. '!E51","v":{"$error":"#DIV/0!"}},{"$f":"'Худ.эст.к 6г ч1. К.г. '!E52","v":{"$error":"#DIV/0!"}},{"$f":"'Худ.эст.к 6г ч1. К.г. '!E53","v":{"$error":"#DIV/0!"}},{"$f":"'Худ.эст.к 6г ч1. К.г. '!E54","v":{"$error":"#DIV/0!"}},{"$f":"'Худ.эст.к 6г ч1. Н.г.'!E55","v":{"$error":"#DIV/0!"}},{"$f":"'Худ.эст.к 6г ч1. Н.г.'!E56","v":{"$error":"#DIV/0!"}},{"$f":"'Худ.эст.к 6г ч2. К.г. '!E49","v":{"$error":"#DIV/0!"}},{"$f":"'Худ.эст.к 6г ч2. К.г. '!E50","v":{"$error":"#DIV/0!"}},{"$f":"'Худ.эст.к 6г ч2. К.г. '!E51","v":{"$error":"#DIV/0!"}},{"$f":"'Худ.эст.к 6г ч2. К.г. '!E52","v":{"$error":"#DIV/0!"}},{"$f":"'Худ.эст.к 6г ч2. К.г. '!E53","v":{"$error":"#DIV/0!"}},{"$f":"'Худ.эст.к 6г ч2. К.г. '!E54","v":{"$error":"#DIV/0!"}},{"$f":"'Худ.эст.к 6г ч3. К.г. '!E49","v":{"$error":"#DIV/0!"}},{"$f":"'Худ.эст.к 6г ч3. К.г. '!E50","v":{"$error":"#DIV/0!"}},{"$f":"AVERAGE(B7:P7)","v":{"$error":"#DIV/0!"}}]

{"sheet":"Реч.разв.к 6г ч1. Н.г.","index":8,"n_rows":50,"n_cols":13,"rows_kept":50,"merged":[[0,0,0,1],[0,7,0,10],[1,0,1,3],[1,4,1,6],[1,7,1,10],[2,0,2,3],[3,0,3,1],[3,4,3,5],[3,6,3,7],[3,8,3,9],[4,0,4,1],[4,4,4,5],[4,6,4,7],[4,8,4,9],[5,0,9,0],[5,1,9,1],[5,4,5,11],[5,12,9,12],[6,4,6,11],[7,5,7,6],[7,7,7,11],[8,4,9,4],[8,5,9,5],[8,6,9,6],[8,7,9,7],[8,8,9,8],[8,9,9,9],[8,10,9,10],[8,11,9,11],[40,1,40,11],[42,5,42,6],[42,7,42,11],[43,1,43,12],[44,1,44,12]]}
["Финальная диагностика",{"$nulls":3},"ГРУППА СТАРШЕГО ВОЗРАСТА (5-6 лет)",null,null,"Период проведения - окончание посещения группы старшего возраста"]
["Стартовая диагностика",{"$nulls":3},"ГРУППА ПОДГОТОВИТЕЛЬНОГО К ШКОЛЕ ВОЗРАСТА (6-7 лет)",null,null,"Период проведения - начало уч. года (сентябрь) или начало посещения группы подготовительного к школе возраста"]
["*- не диагностируется в данном возрасте"]
["Сформированность показателя",{"$nulls":3},"«2» показатель сформирован",null,"«1» показатель в стадии формирования",null,"«0» показатель не сформирован"]
["Средний уровень",{"$nulls":3},"1,8 - 2,0 норма-высокий",null,"1,0 - 1,7 норма - средний",null,"0,0 - 0,9 ниже нормы"]
["№","Ф.И. ребенка",null,null,"ОБРАЗОВАТЕЛЬНАЯ ОБЛАСТЬ «РЕЧЕВОЕ  РАЗВИТИЕ»",{"$nulls":7},"СРЕДНИЙ ПОКАЗАТЕЛЬ ПО РЕБЕНКУ"]
[{"$nulls":4},"Показатели возможных достижений (возрастные характеристики) к 6 годам"]
[{"$nulls":4},"Общее речевое развитие","Формирование словаря",null,"Грамматический строй"]
[{"$nulls":4},"Ребенок внятно разговаривает","Ребенок умеет обобщать предметы в группы по существенным признакам","Ребенок демонстрирует богатый словарный запас","Ребенок правильно использует в речи: несклоняемые существительные","Ребенок правильно использует в речи: слова, имеющие только множественное или только единственное число","Ребенок правильно использует в речи: глаголы одеть-надеть","Ребенок правильно использует в речи: существительные множественного числа в родительном падеже","Ребенок правильно образовывает слова с помощью суффикса, приставки"]
[]
[1,{"$f":"Список!B4","v":0},{"$nulls":10},{"$f":"AVERAGE(E11:L11)","v":{"$error":"#DIV/0!"}}]
[2,{"$f":"Список!B5","v":0},{"$nulls":10},{"$error":"#DIV/0!"}]
[3,{"$f":"Список!B6","v":0},{"$nulls":10},{"$error":"#DIV/0!"}]
[4,{"$f":"Список!B7","v":0},{"$nulls":10},{"$error":"#DIV/0!"}]
[5,{"$f":"Список!B8","v":0},{"$nulls":10},{"$error":"#DIV/0!"}]
[6,{"$f":"Список!B9","v":0},{"$nulls":10},{"$error":"#DIV/0!"}]
[7,{"$f":"Список!B10","v":0},{"$nulls":10},{"$error":"#DIV/0!"}]
[8,{"$f":"Список!B11","v":0},{"$nulls":10},{"$error":"#DIV/0!"}]
[9,{"$f":"Список!B12","v":0},{"$nulls":10},{"$error":"#DIV/0!"}]
[10,{"$f":"Список!B13","v":0},{"$nulls":10},{"$error":"#DIV/0!"}]
[11,{"$f":"Список!B14","v":0},{"$nulls":10},{"$error":"#DIV/0!"}]
[12,{"$f":"Список!B15","v":0},{"$nulls":10},{"$error":"#DIV/0!"}]
[13,{"$f":"Список!B16","v":0},{"$nulls":10},{"$error":"#DIV/0!"}]
[14,{"$f":"Список!B17","v":0},{"$nulls":10},{"$error":"#DIV/0!"}]
[15,{"$f":"Список!B18","v":0},{"$nulls":10},{"$error":"#DIV/0!"}]
[16,{"$f":"Список!B19","v":0},{"$nulls":10},{"$error":"#DIV/0!"}]
[17,{"$f":"Список!B20","v":0},{"$nulls":10},{"$error":"#DIV/0!"}]
[18,{"$f":"Список!B21","v":0},{"$nulls":10},{"$error":"#DIV/0!"}]
[19,{"$f":"Список!B22","v":0},{"$nulls":10},{"$error":"#DIV/0!"}]
[20,{"$f":"Список!B23","v":0},{"$nulls":10},{"$error":"#DIV/0!"}]
[21,{"$f":"Список!B24","v":0},{"$nulls":10},{"$error":"#DIV/0!"}]
[22,{"$f":"Список!B25","v":0},{"$nulls":10},{"$error":"#DIV/0!"}]
[23,{"$f":"Список!B26","v":0},{"$nulls":10},{"$error":"#DIV/0!"}]
[24,{"$f":"Список!B27","v":0},{"$nulls":10},{"$error":"#DIV/0!"}]
[25,{"$f":"Список!B28","v":0},{"$nulls":10},{"$error":"#DIV/0!"}]
[26,{"$f":"Список!B29","v":0},{"$nulls":10},{"$error":"#DIV/0!"}]
[27,{"$f":"Список!B30","v":0},{"$nulls":10},{"$error":"#DIV/0!"}]
[28,{"$f":"Список!B31","v":0},{"$nulls":10},{"$error":"#DIV/0!"}]
[29,{"$f":"Список!B32","v":0},{"$nulls":10},{"$error":"#DIV/0!"}]
[30,{"$f":"Список!B33","v":0},{"$nulls":10},{"$error":"#DIV/0!"}]
[null,"СРЕДНИЙ ПОКАЗАТЕЛЬ ПО ГРУППЕ",{"$nulls":10},{"$f":"AVERAGE(M11:M40)","v":{"$error":"#DIV/0!"}}]
[null,"среднее по критерию",null,null,{"$f":"AVERAGE(E11:E40)","v":{"$error":"#DIV/0!"}},{"$f":"AVERAGE(F11:F40)","v":{"$error":"#DIV/0!"}},{"$error":"#DIV/0!"},{"$error":"#DIV/0!"},{"$error":"#DIV/0!"},{"$error":"#DIV/0!"},{"$error":"#DIV/0!"},{"$error":"#DIV/0!"}]
[null,"среднее по разделу",null,null,{"$f":"E42","v":{"$error":"#DIV/0!"}},{"$f":"(F42+G42)/2","v":{"$error":"#DIV/0!"}},null,{"$f":"(H42+I42+J42+K42+L42)/5","v":{"$error":"#DIV/0!"}}]
[null,"Ф.И.О, должность специалиста(ов)____________________________________________________________________________________________________________________________________________________________________________________________________________________________________"]
[null,"© Автор-составитель Кулекина И.А., СПБ, 2023"]
[]
[]
[null,"общее речевое развитие",null,null,{"$f":"E43","v":{"$error":"#DIV/0!"}}]
[null,"формирование словаря",null,null,{"$f":"F43","v":{"$error":"#DIV/0!"}}]
[null,"грамматический строй речи",null,null,{"$f":"H43","v":{"$error":"#DIV/0!"}}]

{"sheet":"Реч.разв.к 6г ч1. К.г. ","index":9,"n_rows":50,"n_cols":13,"rows_kept":50,"merged":[[0,0,0,1],[0,7,0,10],[1,0,1,3],[1,4,1,6],[1,7,1,10],[2,0,2,3],[3,0,3,1],[3,4,3,5],[3,6,3,7],[3,8,3,9],[4,0,4,1],[4,4,4,5],[4,6,4,7],[4,8,4,9],[5,0,9,0],[5,1,9,1],[5,4,5,11],[5,12,9,12],[6,4,6,11],[7,5,7,6],[7,7,7,11],[8,4,9,4],[8,5,9,5],[8,6,9,6],[8,7,9,7],[8,8,9,8],[8,9,9,9],[8,10,9,10],[8,11,9,11],[40,1,40,11],[42,5,42,6],[42,7,42,11],[43,1,43,12],[44,1,44,12]]}
["Финальная диагностика",{"$nulls":3},"ГРУППА СТАРШЕГО ВОЗРАСТА (5-6 лет)",null,null,"Период проведения - окончание посещения группы старшего возраста"]
["Стартовая диагностика",{"$nulls":3},"ГРУППА ПОДГОТОВИТЕЛЬНОГО К ШКОЛЕ ВОЗРАСТА (6-7 лет)",null,null,"Период проведения - начало уч. года (сентябрь) или начало посещения группы подготовительного к школе возраста"]
["*- не диагностируется в данном возрасте"]
["Сформированность показателя",{"$nulls":3},"«2» показатель сформирован",null,"«1» показатель в стадии формирования",null,"«0» показатель не сформирован"]
["Средний уровень",{"$nulls":3},"1,8 - 2,0 норма-высокий",null,"1,0 - 1,7 норма - средний",null,"0,0 - 0,9 ниже нормы"]
["№","Ф.И. ребенка",null,null,"ОБРАЗОВАТЕЛЬНАЯ ОБЛАСТЬ «РЕЧЕВОЕ  РАЗВИТИЕ»",{"$nulls":7},"СРЕДНИЙ ПОКАЗАТЕЛЬ ПО РЕБЕНКУ"]
[{"$nulls":4},"Показатели возможных достижений (возрастные характеристики) к 6 годам"]
[{"$nulls":4},"Общее речевое развитие","Формирование словаря",null,"Грамматический строй"]
[{"$nulls":4},"Ребенок внятно разговаривает","Ребенок умеет обобщать предметы в группы по существенным признакам","Ребенок демонстрирует богатый словарный запас","Ребенок правильно использует в речи: несклоняемые существительные","Ребенок правильно использует в речи: слова, имеющие только множественное или только единственное число","Ребенок правильно использует в речи: глаголы одеть-надеть","Ребенок правильно использует в речи: существительные множественного числа в родительном падеже","Ребенок правильно образовывает слова с помощью суффикса, приставки"]
[]
[1,{"$f":"Список!B4","v":0},{"$nulls":10},{"$f":"AVERAGE(E11:L11)","v":{"$error":"#DIV/0!"}}]
[2,{"$f":"Список!B5","v":0},{"$nulls":10},{"$error":"#DIV/0!"}]
[3,{"$f":"Список!B6","v":0},{"$nulls":10},{"$error":"#DIV/0!"}]
[4,{"$f":"Список!B7","v":0},{"$nulls":10},{"$error":"#DIV/0!"}]
[5,{"$f":"Список!B8","v":0},{"$nulls":10},{"$error":"#DIV/0!"}]
[6,{"$f":"Список!B9","v":0},{"$nulls":10},{"$error":"#DIV/0!"}]
[7,{"$f":"Список!B10","v":0},{"$nulls":10},{"$error":"#DIV/0!"}]
[8,{"$f":"Список!B11","v":0},{"$nulls":10},{"$error":"#DIV/0!"}]
[9,{"$f":"Список!B12","v":0},{"$nulls":10},{"$error":"#DIV/0!"}]
[10,{"$f":"Список!B13","v":0},{"$nulls":10},{"$error":"#DIV/0!"}]
[11,{"$f":"Список!B14","v":0},{"$nulls":10},{"$error":"#DIV/0!"}]
[12,{"$f":"Список!B15","v":0},{"$nulls":10},{"$error":"#DIV/0!"}]
[13,{"$f":"Список!B16","v":0},{"$nulls":10},{"$error":"#DIV/0!"}]
[14,{"$f":"Список!B17","v":0},{"$nulls":10},{"$error":"#DIV/0!"}]
[15,{"$f":"Список!B18","v":0},{"$nulls":10},{"$error":"#DIV/0!"}]
[16,{"$f":"Список!B19","v":0},{"$nulls":10},{"$error":"#DIV/0!"}]
[17,{"$f":"Список!B20","v":0},{"$nulls":10},{"$error":"#DIV/0!"}]
[18,{"$f":"Список!B21","v":0},{"$nulls":10},{"$error":"#DIV/0!"}]
[19,{"$f":"Список!B22","v":0},{"$nulls":10},{"$error":"#DIV/0!"}]
[20,{"$f":"Список!B23","v":0},{"$nulls":10},{"$error":"#DIV/0!"}]
[21,{"$f":"Список!B24","v":0},{"$nulls":10},{"$error":"#DIV/0!"}]
[22,{"$f":"Список!B25","v":0},{"$nulls":10},{"$error":"#DIV/0!"}]
[23,{"$f":"Список!B26","v":0},{"$nulls":10},{"$error":"#DIV/0!"}]
[24,{"$f":"Список!B27","v":0},{"$nulls":10},{"$error":"#DIV/0!"}]
[25,{"$f":"Список!B28","v":0},{"$nulls":10},{"$error":"#DIV/0!"}]
[26,{"$f":"Список!B29","v":0},{"$nulls":10},{"$error":"#DIV/0!"}]
[27,{"$f":"Список!B30","v":0},{"$nulls":10},{"$error":"#DIV/0!"}]
[28,{"$f":"Список!B31","v":0},{"$nulls":10},{"$error":"#DIV/0!"}]
[29,{"$f":"Список!B32","v":0},{"$nulls":10},{"$error":"#DIV/0!"}]
[30,{"$f":"Список!B33","v":0},{"$nulls":10},{"$error":"#DIV/0!"}]
[null,"СРЕДНИЙ ПОКАЗАТЕЛЬ ПО ГРУППЕ",{"$nulls":10},{"$f":"AVERAGE(M11:M40)","v":{"$error":"#DIV/0!"}}]
[null,"среднее по критерию",null,null,{"$f":"AVERAGE(E11:E40)","v":{"$error":"#DIV/0!"}},{"$f":"AVERAGE(F11:F40)","v":{"$error":"#DIV/0!"}},{"$error":"#DIV/0!"},{"$error":"#DIV/0!"},{"$error":"#DIV/0!"},{"$error":"#DIV/0!"},{"$error":"#DIV/0!"},{"$error":"#DIV/0!"}]
[null,"среднее по разделу",null,null,{"$f":"E42","v":{"$error":"#DIV/0!"}},{"$f":"(F42+G42)/2","v":{"$error":"#DIV/0!"}},null,{"$f":"(H42+I42+J42+K42+L42)/5","v":{"$error":"#DIV/0!"}}]
[null,"Ф.И.О, должность специалиста(ов)____________________________________________________________________________________________________________________________________________________________________________________________________________________________________"]
[null,"© Автор-составитель Кулекина И.А., СПБ, 2023"]
[]
[]
[null,"общее речевое развитие",null,null,{"$f":"E43","v":{"$error":"#DIV/0!"}}]
[null,"формирование словаря",null,null,{"$f":"F43","v":{"$error":"#DIV/0!"}}]
[null,"грамматический строй речи",null,null,{"$f":"H43","v":{"$error":"#DIV/0!"}}]

{"sheet":"Реч.разв.к 6г ч2. Н.г.","index":10,"n_rows":51,"n_cols":18,"rows_kept":51,"merged":[[0,0,0,1],[0,4,0,7],[0,8,0,10],[1,0,1,3],[1,4,1,7],[1,8,1,11],[2,0,2,3],[3,0,3,1],[3,5,3,6],[3,7,3,8],[4,0,4,1],[4,5,4,6],[4,7,4,8],[5,0,9,0],[5,1,9,1],[5,4,5,16],[5,17,9,17],[6,4,6,16],[7,5,7,10],[7,12,7,16],[8,4,9,4],[8,5,9,5],[8,6,9,6],[8,7,9,7],[8,8,9,8],[8,9,9,9],[8,10,9,10],[8,11,9,11],[8,12,9,12],[8,13,9,13],[8,14,9,14],[8,15,9,15],[8,16,9,16],[40,1,40,16],[42,5,42,10],[43,1,43,17],[44,1,44,17]]}
["Финальная диагностика",{"$nulls":3},"ГРУППА СТАРШЕГО ВОЗРАСТА (5-6 лет)",{"$nulls":3},"Период проведения - окончание посещения группы старшего возраста"]
["Стартовая диагностика",{"$nulls":3},"ГРУППА ПОДГОТОВИТЕЛЬНОГО К ШКОЛЕ ВОЗРАСТА (6-7 лет)",{"$nulls":3},"Период проведения - начало уч. года (сентябрь) или начало посещения группы подготовительного к школе возраста"]
["*- не диагностируется в данном возрасте"]
["Сформированность показателя",{"$nulls":3},"«2» показатель сформирован","«1» показатель в стадии формирования",null,"«0» показатель не сформирован"]
["Средний уровень",{"$nulls":3},"1,8 - 2,0 норма-высокий","1,0 - 1,7 норма - средний",null,"0,0 - 0,9 ниже нормы"]
["№","Ф.И. ребенка",null,null,"ОБРАЗОВАТЕЛЬНАЯ ОБЛАСТЬ «РЕЧЕВОЕ  РАЗВИТИЕ»",{"$nulls":12},"СРЕДНИЙ ПОКАЗАТЕЛЬ ПО РЕБЕНКУ"]
[{"$nulls":4},"Показатели возможных достижений (возрастные характеристики) к 6 годам"]
[{"$nulls":4},"Звуковая культура речи","Связная речь",{"$nulls":5},"ЧХЛ","Подготовка к обучению грамоте"]
[{"$nulls":4},"Ребенок правильно произносит сонорные звуки: л-ль, р-рь","Ребенок пересказывает литературные произведения по ролям, по частям, правильно передавая идею и содержание","Ребенок пользуется прямой и косвенной речью","Ребенок составляет короткий описательный рассказ о предметах, объектах и явлениях природы, из личного опыта","Ребенок сочиняет сюжетные рассказы по картине, из личного опыта","Ребенок проявляет речевое творчество: придумывает продолжение и окончание к рассказу, рассказы по аналогии, по плану педагога, по модели","Ребенок владеет первичными приемами аргументации и доказательства","Ребенок проявляет избирательное отношение к произведениям определенной тематики и жанра","Ребенок понимает термины: слово: звук, буква, предложение, гласный звук, согласный звук","Ребенок может провести звуковой анализ слова, разделить на слоги двух-, трехслоговые слова; составляет схему слова","Ребенок различает гласные-согласные звуки","Ребенок определяет твердые-мягкие согласные","Ребенок составляет предложение по модели, определяет количество и последовательность слов в предложении"]
[]
[1,{"$f":"Список!B4","v":0},{"$nulls":15},{"$f":"AVERAGE(E11:Q11)","v":{"$error":"#DIV/0!"}}]
[2,{"$f":"Список!B5","v":0},{"$nulls":15},{"$error":"#DIV/0!"}]
[3,{"$f":"Список!B6","v":0},{"$nulls":15},{"$error":"#DIV/0!"}]
[4,{"$f":"Список!B7","v":0},{"$nulls":15},{"$error":"#DIV/0!"}]
[5,{"$f":"Список!B8","v":0},{"$nulls":15},{"$error":"#DIV/0!"}]
[6,{"$f":"Список!B9","v":0},{"$nulls":15},{"$error":"#DIV/0!"}]
[7,{"$f":"Список!B10","v":0},{"$nulls":15},{"$error":"#DIV/0!"}]
[8,{"$f":"Список!B11","v":0},{"$nulls":15},{"$error":"#DIV/0!"}]
[9,{"$f":"Список!B12","v":0},{"$nulls":15},{"$error":"#DIV/0!"}]
[10,{"$f":"Список!B13","v":0},{"$nulls":15},{"$error":"#DIV/0!"}]
[11,{"$f":"Список!B14","v":0},{"$nulls":15},{"$error":"#DIV/0!"}]
[12,{"$f":"Список!B15","v":0},{"$nulls":15},{"$error":"#DIV/0!"}]
[13,{"$f":"Список!B16","v":0},{"$nulls":15},{"$error":"#DIV/0!"}]
[14,{"$f":"Список!B17","v":0},{"$nulls":15},{"$error":"#DIV/0!"}]
[15,{"$f":"Список!B18","v":0},{"$nulls":15},{"$error":"#DIV/0!"}]
[16,{"$f":"Список!B19","v":0},{"$nulls":15},{"$error":"#DIV/0!"}]
[17,{"$f":"Список!B20","v":0},{"$nulls":15},{"$error":"#DIV/0!"}]
[18,{"$f":"Список!B21","v":0},{"$nulls":15},{"$error":"#DIV/0!"}]
[19,{"$f":"Список!B22","v":0},{"$nulls":15},{"$error":"#DIV/0!"}]
[20,{"$f":"Список!B23","v":0},{"$nulls":15},{"$error":"#DIV/0!"}]
[21,{"$f":"Список!B24","v":0},{"$nulls":15},{"$error":"#DIV/0!"}]
[22,{"$f":"Список!B25","v":0},{"$nulls":15},{"$error":"#DIV/0!"}]
[23,{"$f":"Список!B26","v":0},{"$nulls":15},{"$error":"#DIV/0!"}]
[24,{"$f":"Список!B27","v":0},{"$nulls":15},{"$error":"#DIV/0!"}]
[25,{"$f":"Список!B28","v":0},{"$nulls":15},{"$error":"#DIV/0!"}]
[26,{"$f":"Список!B29","v":0},{"$nulls":15},{"$error":"#DIV/0!"}]
[27,{"$f":"Список!B30","v":0},{"$nulls":15},{"$error":"#DIV/0!"}]
[28,{"$f":"Список!B31","v":0},{"$nulls":15},{"$error":"#DIV/0!"}]
[29,{"$f":"Список!B32","v":0},{"$nulls":15},{"$error":"#DIV/0!"}]
[30,{"$f":"Список!B33","v":0},{"$nulls":15},{"$error":"#DIV/0!"}]
[null,"СРЕДНИЙ ПОКАЗАТЕЛЬ ПО ГРУППЕ",{"$nulls":15},{"$f":"AVERAGE(R11:R40)","v":{"$error":"#DIV/0!"}}]
[null,"среднее по критерию",null,null,{"$f":"AVERAGE(E11:E40)","v":{"$error":"#DIV/0!"}},{"$f":"AVERAGE(F11:F40)","v":{"$error":"#DIV/0!"}},{"$error":"#DIV/0!"},{"$error":"#DIV/0!"},{"$error":"#DIV/0!"},{"$error":"#DIV/0!"},{"$error":"#DIV/0!"},{"$error":"#DIV/0!"},{"$error":"#DIV/0!"},{"$error":"#DIV/0!"},{"$error":"#DIV/0!"},{"$error":"#DIV/0!"},{"$error":"#DIV/0!"}]
[null,"среднее по разделу",null,null,{"$f":"E42","v":{"$error":"#DIV/0!"}},{"$f":"(F42+G42+H42+I42+J42+K42)/6","v":{"$error":"#DIV/0!"}},{"$nulls":5},{"$f":"L42","v":{"$error":"#DIV/0!"}},{"$f":"(M42+N42+O42+P42+Q42)/5","v":{"$error":"#DIV/0!"}}]
[null,"Ф.И.О, должность специалиста(ов)____________________________________________________________________________________________________________________________________________________________________________________________________________________________________"]
[null,"© Автор-составитель Кулекина И.А., СПБ, 2023"]
[]
[]
[null,"Звуковая культура речи",null,null,{"$f":"E43","v":{"$error":"#DIV/0!"}}]
[null,"связная речь",null,null,{"$f":"F43","v":{"$error":"#DIV/0!"}}]
[null,"чтение художественной литературы",null,null,{"$f":"L43","v":{"$error":"#DIV/0!"}}]
[null,"подготовка к обучению грамоте",null,null,{"$f":"M43","v":{"$error":"#DIV/0!"}}]

{"sheet":"Реч.разв.к 6г ч2. К.г. ","index":11,"n_rows":51,"n_cols":18,"rows_kept":51,"merged":[[0,0,0,1],[0,4,0,7],[0,8,0,10],[1,0,1,3],[1,4,1,7],[1,8,1,11],[2,0,2,3],[3,0,3,1],[3,5,3,6],[3,7,3,8],[4,0,4,1],[4,5,4,6],[4,7,4,8],[5,0,9,0],[5,1,9,1],[5,4,5,16],[5,17,9,17],[6,4,6,16],[7,5,7,10],[7,12,7,16],[8,4,9,4],[8,5,9,5],[8,6,9,6],[8,7,9,7],[8,8,9,8],[8,9,9,9],[8,10,9,10],[8,11,9,11],[8,12,9,12],[8,13,9,13],[8,14,9,14],[8,15,9,15],[8,16,9,16],[40,1,40,16],[42,5,42,10],[42,12,42,16],[43,1,43,17],[44,1,44,17]]}
["Финальная диагностика",{"$nulls":3},"ГРУППА СТАРШЕГО ВОЗРАСТА (5-6 лет)",{"$nulls":3},"Период проведения - окончание посещения группы старшего возраста"]
["Стартовая диагностика",{"$nulls":3},"ГРУППА ПОДГОТОВИТЕЛЬНОГО К ШКОЛЕ ВОЗРАСТА (6-7 лет)",{"$nulls":3},"Период проведения - начало уч. года (сентябрь) или начало посещения группы подготовительного к школе возраста"]
["*- не диагностируется в данном возрасте"]
["Сформированность показателя",{"$nulls":3},"«2» показатель сформирован","«1» показатель в стадии формирования",null,"«0» показатель не сформирован"]
["Средний уровень",{"$nulls":3},"1,8 - 2,0 норма-высокий","1,0 - 1,7 норма - средний",null,"0,0 - 0,9 ниже нормы"]
["№","Ф.И. ребенка",null,null,"ОБРАЗОВАТЕЛЬНАЯ ОБЛАСТЬ «РЕЧЕВОЕ  РАЗВИТИЕ»",{"$nulls":12},"СРЕДНИЙ ПОКАЗАТЕЛЬ ПО РЕБЕНКУ"]
[{"$nulls":4},"Показатели возможных достижений (возрастные характеристики) к 6 годам"]
[{"$nulls":4},"Звуковая культура речи","Связная речь",{"$nulls":5},"ЧХЛ","Подготовка к обучению грамоте"]
[{"$nulls":4},"Ребенок правильно произносит сонорные звуки: л-ль, р-рь","Ребенок пересказывает литературные произведения по ролям, по частям, правильно передавая идею и содержание","Ребенок пользуется прямой и косвенной речью","Ребенок составляет короткий описательный рассказ о предметах, объектах и явлениях природы, из личного опыта","Ребенок сочиняет сюжетные рассказы по картине, из личного опыта","Ребенок проявляет речевое творчество: придумывает продолжение и окончание к рассказу, рассказы по аналогии, по плану педагога, по модели","Ребенок владеет первичными приемами аргументации и доказательства","Ребенок проявляет избирательное отношение к произведениям определенной тематики и жанра","Ребенок понимает термины: слово: звук, буква, предложение, гласный звук, согласный звук","Ребенок может провести звуковой анализ слова, разделить на слоги двух-, трехслоговые слова; составляет схему слова","Ребенок различает гласные-согласные звуки","Ребенок определяет твердые-мягкие согласные","Ребенок составляет предложение по модели, определяет количество и последовательность слов в предложении"]
[]
[1,{"$f":"Список!B4","v":0},{"$nulls":15},{"$f":"AVERAGE(E11:Q11)","v":{"$error":"#DIV/0!"}}]
[2,{"$f":"Список!B5","v":0},{"$nulls":15},{"$error":"#DIV/0!"}]
[3,{"$f":"Список!B6","v":0},{"$nulls":15},{"$error":"#DIV/0!"}]
[4,{"$f":"Список!B7","v":0},{"$nulls":15},{"$error":"#DIV/0!"}]
[5,{"$f":"Список!B8","v":0},{"$nulls":15},{"$error":"#DIV/0!"}]
[6,{"$f":"Список!B9","v":0},{"$nulls":15},{"$error":"#DIV/0!"}]
[7,{"$f":"Список!B10","v":0},{"$nulls":15},{"$error":"#DIV/0!"}]
[8,{"$f":"Список!B11","v":0},{"$nulls":15},{"$error":"#DIV/0!"}]
[9,{"$f":"Список!B12","v":0},{"$nulls":15},{"$error":"#DIV/0!"}]
[10,{"$f":"Список!B13","v":0},{"$nulls":15},{"$error":"#DIV/0!"}]
[11,{"$f":"Список!B14","v":0},{"$nulls":15},{"$error":"#DIV/0!"}]
[12,{"$f":"Список!B15","v":0},{"$nulls":15},{"$error":"#DIV/0!"}]
[13,{"$f":"Список!B16","v":0},{"$nulls":15},{"$error":"#DIV/0!"}]
[14,{"$f":"Список!B17","v":0},{"$nulls":15},{"$error":"#DIV/0!"}]
[15,{"$f":"Список!B18","v":0},{"$nulls":15},{"$error":"#DIV/0!"}]
[16,{"$f":"Список!B19","v":0},{"$nulls":15},{"$error":"#DIV/0!"}]
[17,{"$f":"Список!B20","v":0},{"$nulls":15},{"$error":"#DIV/0!"}]
[18,{"$f":"Список!B21","v":0},{"$nulls":15},{"$error":"#DIV/0!"}]
[19,{"$f":"Список!B22","v":0},{"$nulls":15},{"$error":"#DIV/0!"}]
[20,{"$f":"Список!B23","v":0},{"$nulls":15},{"$error":"#DIV/0!"}]
[21,{"$f":"Список!B24","v":0},{"$nulls":15},{"$error":"#DIV/0!"}]
[22,{"$f":"Список!B25","v":0},{"$nulls":15},{"$error":"#DIV/0!"}]
[23,{"$f":"Список!B26","v":0},{"$nulls":15},{"$error":"#DIV/0!"}]
[24,{"$f":"Список!B27","v":0},{"$nulls":15},{"$error":"#DIV/0!"}]
[25,{"$f":"Список!B28","v":0},{"$nulls":15},{"$error":"#DIV/0!"}]
[26,{"$f":"Список!B29","v":0},{"$nulls":15},{"$error":"#DIV/0!"}]
[27,{"$f":"Список!B30","v":0},{"$nulls":15},{"$error":"#DIV/0!"}]
[28,{"$f":"Список!B31","v":0},{"$nulls":15},{"$error":"#DIV/0!"}]
[29,{"$f":"Список!B32","v":0},{"$nulls":15},{"$error":"#DIV/0!"}]
[30,{"$f":"Список!B33","v":0},{"$nulls":15},{"$error":"#DIV/0!"}]
[null,"СРЕДНИЙ ПОКАЗАТЕЛЬ ПО ГРУППЕ",{"$nulls":15},{"$f":"AVERAGE(R11:R40)","v":{"$error":"#DIV/0!"}}]
[null,"среднее по критерию",null,null,{"$f":"AVERAGE(E11:E40)","v":{"$error":"#DIV/0!"}},{"$f":"AVERAGE(F11:F40)","v":{"$error":"#DIV/0!"}},{"$error":"#DIV/0!"},{"$error":"#DIV/0!"},{"$error":"#DIV/0!"},{"$error":"#DIV/0!"},{"$error":"#DIV/0!"},{"$error":"#DIV/0!"},{"$error":"#DIV/0!"},{"$error":"#DIV/0!"},{"$error":"#DIV/0!"},{"$error":"#DIV/0!"},{"$error":"#DIV/0!"}]
[null,"среднее по разделу",null,null,{"$f":"E42","v":{"$error":"#DIV/0!"}},{"$f":"(F42+G42+H42+I42+J42+K42)/6","v":{"$error":"#DIV/0!"}},{"$nulls":5},{"$f":"L42","v":{"$error":"#DIV/0!"}},{"$f":"(M42+N42+O42+P42+Q42)/5","v":{"$error":"#DIV/0!"}}]
[null,"Ф.И.О, должность специалиста(ов)____________________________________________________________________________________________________________________________________________________________________________________________________________________________________"]
[null,"© Автор-составитель Кулекина И.А., СПБ, 2023"]
[]
[]
[null,"Звуковая культура речи",null,null,{"$f":"E43","v":{"$error":"#DIV/0!"}}]
[null,"связная речь",null,null,{"$f":"F43","v":{"$error":"#DIV/0!"}}]
[null,"чтение художественной литературы",null,null,{"$f":"L43","v":{"$error":"#DIV/0!"}}]
[null,"подготовка к обучению грамоте",null,null,{"$f":"M43","v":{"$error":"#DIV/0!"}}]

{"sheet":"Динамика речевого развития","index":12,"n_rows":5,"n_cols":9,"rows_kept":5,"merged":[[0,0,0,8]]}
["Обобщение результатов педагогической диагностики по ОО \"Речевое  развитие\". Старшая группа"]
[]
[null,"общее речевое развитие","формирование словаря","грамматический строй речи","Звуковая культура речи","связная речь","чтение художественной литературы","подготовка к обучению грамоте","среднее по группе"]
["начало года",{"$f":"'Реч.разв.к 6г ч1. Н.г.'!E48","v":{"$error":"#DIV/0!"}},{"$f":"'Реч.разв.к 6г ч1. Н.г.'!E49","v":{"$error":"#DIV/0!"}},{"$f":"'Реч.разв.к 6г ч1. Н.г.'!E50","v":{"$error":"#DIV/0!"}},{"$f":"'Реч.разв.к 6г ч2. Н.г.'!E48","v":{"$error":"#DIV/0!"}},{"$f":"'Реч.разв.к 6г ч2. Н.г.'!E49","v":{"$error":"#DIV/0!"}},{"$f":"'Реч.разв.к 6г ч2. Н.г.'!E50","v":{"$error":"#DIV/0!"}},{"$f":"'Реч.разв.к 6г ч2. Н.г.'!E51","v":{"$error":"#DIV/0!"}},{"$f":"AVERAGE(B4:H4)","v":{"$error":"#DIV/0!"}}]
["конец года",{"$f":"'Реч.разв.к 6г ч1. К.г. '!E48","v":{"$error":"#DIV/0!"}},{"$f":"'Реч.разв.к 6г ч1. К.г. '!E49","v":{"$error":"#DIV/0!"}},{"$f":"'Реч.разв.к 6г ч1. К.г. '!E50","v":{"$error":"#DIV/0!"}},{"$f":"'Реч.разв.к 6г ч2. К.г. '!E48","v":{"$error":"#DIV/0!"}},{"$f":"'Реч.разв.к 6г ч2. К.г. '!E49","v":{"$error":"#DIV/0!"}},{"$f":"'Реч.разв.к 6г ч2. К.г. '!E50","v":{"$error":"#DIV/0!"}},{"$f":"'Реч.разв.к 6г ч2. К.г. '!E51","v":{"$error":"#DIV/0!"}},{"$f":"AVERAGE(B5:H5)","v":{"$error":"#DIV/0!"}}]

{"sheet":"Позн.разв. к 6г ч1. Н.г.","index":13,"n_rows":55,"n_cols":20,"rows_kept":55,"merged":[[0,1,0,2],[0,5,0,7],[0,8,0,12],[1,1,1,4],[1,5,1,7],[1,8,1,14],[2,1,2,4],[3,1,3,2],[3,5,3,6],[3,7,3,8],[3,9,3,10],[4,1,4,2],[4,5,4,6],[4,7,4,8],[4,9,4,10],[5,0,10,0],[5,1,10,1],[5,4,5,18],[5,19,10,19],[6,4,6,18],[7,4,7,6],[7,7,7,9],[7,10,7,18],[8,7,10,7],[8,8,10,8],[8,9,10,9],[8,10,8,12],[8,16,8,18],[9,4,9,6],[9,10,10,10],[9,11,10,11],[9,12,10,12],[9,13,10,13],[9,14,10,14],[9,15,10,15],[9,16,10,16],[9,17,10,17],[9,18,10,18],[41,1,41,18],[43,4,43,6],[43,7,43,9],[43,10,43,12],[43,16,43,18],[45,1,45,19]]}
[null,"Финальная диагностика",{"$nulls":3},"ГРУППА СТАРШЕГО ВОЗРАСТА (5-6 лет)",null,null,"Период проведения - окончание посещения группы старшего возраста"]
[null,"Стартовая диагностика",{"$nulls":3},"ГРУППА ПОДГОТОВИТЕЛЬНОГО К ШКОЛЕ ВОЗРАСТА (6-7 лет)",null,null,"Период проведения - начало уч. года (сентябрь) или начало посещения группы подготовительного к школе возраста"]
[null,"*- не диагностируется в данном возрасте"]
[null,"Сформированность показателя",{"$nulls":3},"«2» показатель сформирован",null,"«1» показатель в стадии формирования",null,"«0» показатель не сформирован"]
[null,"Средний уровень",{"$nulls":3},"1,8 - 2,0 норма-высокий",null,"1,0 - 1,7 норма - средний",null,"0,0 - 0,9 ниже нормы"]
["№","Ф.И. ребенка",null,null,"ОБРАЗОВАТЕЛЬНАЯ ОБЛАСТЬ «ПОЗНАВАТЕЛЬНОЕ  РАЗВИТИЕ»",{"$nulls":14},"СРЕДНИЙ ПОКАЗАТЕЛЬ ПО РЕБЕНКУ"]
[{"$nulls":4},"Показатели возможных достижений (возрастные характеристики) к 6 годам"]
[{"$nulls":4},"Сенсорные эталоны ",null,null,"Познавательные действия",null,null,"Математические представления"]
[{"$nulls":4},"Цвет, оттенки","Форма, геометрические фигуры","Величина","Ребенок охотно участвует в обсуждении проблемы для совместного нахождения способов ее решения, предлагает пути решения, устанавливает закономерности причинно-следственного характера, проявляет любознательность","Ребенок использует математические знания, способы и средства для познания окружающего мира","Ребенок способен к произвольным умственным действиям, логическим операциям анализа, сравнения, обобщения, систематизации, классификации","Количество и счет",null,null,"Ориентировка во времени","Ориентировка в пространстве","Пространственно-количественные связи и отношения","Сравнение"]
[{"$nulls":4},"Ребенок различает и называет",{"$nulls":5},"Ребенок знает/называет/находит среди других цифры 0 -10","Ребенок выполняет количественный и порядковый счет в пределах 0-10","Ребенок знает состав чисел из единиц в пределах 5","Ребенок понимает календарные единицы времени (сутки, неделя, месяц, год)","Ребенок ориентируется на листе бумаги","Ребенок понимает простейшую графическую информацию об отношениях предметов (слева направо, справа налево, снизу вверх, сверху вниз)","Ребенок выделяет сходства и отличия между группами предметов","Ребенок сравнивает предметы по 3-5 признакам","Ребенок группирует предметы по разным основаниям, преимущественно на основе зрительной оценки"]
[{"$nulls":4},"Ребенок называет/различает все цвета спектра и ахроматические цвета, оттенки цвета, тоны цвета, теплые и холодные оттенки","Ребенок владеет способами воссоздания фигуры из частей, деления фигуры на части","Ребенок может выстраивать сериационные ряды предметов, различающихся по размеру в возрастающем и убывающем порядке в пределах 10"]
[1,{"$f":"Список!B4","v":0},{"$nulls":17},{"$f":"AVERAGE(E12:S12)","v":{"$error":"#DIV/0!"}}]
[2,{"$f":"Список!B5","v":0},{"$nulls":17},{"$error":"#DIV/0!"}]
[3,{"$f":"Список!B6","v":0},{"$nulls":17},{"$error":"#DIV/0!"}]
[4,{"$f":"Список!B7","v":0},{"$nulls":17},{"$error":"#DIV/0!"}]
[5,{"$f":"Список!B8","v":0},{"$nulls":17},{"$error":"#DIV/0!"}]
[6,{"$f":"Список!B9","v":0},{"$nulls":17},{"$error":"#DIV/0!"}]
[7,{"$f":"Список!B10","v":0},{"$nulls":17},{"$error":"#DIV/0!"}]
[8,{"$f":"Список!B11","v":0},{"$nulls":17},{"$error":"#DIV/0!"}]
[9,{"$f":"Список!B12","v":0},{"$nulls":17},{"$error":"#DIV/0!"}]
[10,{"$f":"Список!B13","v":0},{"$nulls":17},{"$error":"#DIV/0!"}]
[11,{"$f":"Список!B14","v":0},{"$nulls":17},{"$error":"#DIV/0!"}]
[12,{"$f":"Список!B15","v":0},{"$nulls":17},{"$error":"#DIV/0!"}]
[13,{"$f":"Список!B16","v":0},{"$nulls":17},{"$error":"#DIV/0!"}]
[14,{"$f":"Список!B17","v":0},{"$nulls":17},{"$error":"#DIV/0!"}]
[15,{"$f":"Список!B18","v":0},{"$nulls":17},{"$error":"#DIV/0!"}]
[16,{"$f":"Список!B19","v":0},{"$nulls":17},{"$error":"#DIV/0!"}]
[17,{"$f":"Список!B20","v":0},{"$nulls":17},{"$error":"#DIV/0!"}]
[18,{"$f":"Список!B21","v":0},{"$nulls":17},{"$error":"#DIV/0!"}]
[19,{"$f":"Список!B22","v":0},{"$nulls":17},{"$error":"#DIV/0!"}]
[20,{"$f":"Список!B23","v":0},{"$nulls":17},{"$error":"#DIV/0!"}]
[21,{"$f":"Список!B24","v":0},{"$nulls":17},{"$error":"#DIV/0!"}]
[22,{"$f":"Список!B25","v":0},{"$nulls":17},{"$error":"#DIV/0!"}]
[23,{"$f":"Список!B26","v":0},{"$nulls":17},{"$error":"#DIV/0!"}]
[24,{"$f":"Список!B27","v":0},{"$nulls":17},{"$error":"#DIV/0!"}]
[25,{"$f":"Список!B28","v":0},{"$nulls":17},{"$error":"#DIV/0!"}]
[26,{"$f":"Список!B29","v":0},{"$nulls":17},{"$error":"#DIV/0!"}]
[27,{"$f":"Список!B30","v":0},{"$nulls":17},{"$error":"#DIV/0!"}]
[28,{"$f":"Список!B31","v":0},{"$nulls":17},{"$error":"#DIV/0!"}]
[29,{"$f":"Список!B32","v":0},{"$nulls":17},{"$error":"#DIV/0!"}]
[30,{"$f":"Список!B33","v":0},{"$nulls":17},{"$error":"#DIV/0!"}]
[null,"СРЕДНИЙ ПОКАЗАТЕЛЬ ПО ГРУППЕ",{"$nulls":17},{"$f":"AVERAGE(T12:T41)","v":{"$error":"#DIV/0!"}}]
[null,"среднее по критерию",null,null,{"$f":"AVERAGE(E12:E41)","v":{"$error":"#DIV/0!"}},{"$f":"AVERAGE(F12:F41)","v":{"$error":"#DIV/0!"}},{"$error":"#DIV/0!"},{"$error":"#DIV/0!"},{"$error":"#DIV/0!"},{"$error":"#DIV/0!"},{"$error":"#DIV/0!"},{"$error":"#DIV/0!"},{"$error":"#DIV/0!"},{"$error":"#DIV/0!"},{"$error":"#DIV/0!"},{"$error":"#DIV/0!"},{"$error":"#DIV/0!"},{"$error":"#DIV/0!"},{"$error":"#DIV/0!"}]
[null,"среднее по разделу",null,null,{"$f":"(E43+F43+G43)/3","v":{"$error":"#DIV/0!"}},null,null,{"$f":"(H43+I43+J43)/3","v":{"$error":"#DIV/0!"}},null,null,{"$f":"(K43+L43+M43)/3","v":{"$error":"#DIV/0!"}},null,null,{"$f":"N43","v":{"$error":"#DIV/0!"}},{"$f":"O43","v":{"$error":"#DIV/0!"}},{"$f":"P43","v":{"$error":"#DIV/0!"}},{"$f":"(Q43+R43+S43)/3","v":{"$error":"#DIV/0!"}}]
[null,"Ф.И.О, должность специалиста(ов)____________________________________________________________________________________________________________________________________________________________________________________________________________________________________"]
[null,"© Автор-составитель Кулекина И.А., СПБ, 2023"]
[]
[]
[null,"сенсорные эталоны",null,null,{"$f":"E44","v":{"$error":"#DIV/0!"}}]
[null,"познавательные действия",null,null,{"$f":"H44","v":{"$error":"#DIV/0!"}}]
[null,"количество и счет",null,null,{"$f":"K44","v":{"$error":"#DIV/0!"}}]
[null,"ориентировка во времени",null,null,{"$f":"N44","v":{"$error":"#DIV/0!"}}]
[null,"ориентировка в пространстве",null,null,{"$f":"O44","v":{"$error":"#DIV/0!"}}]
[null,"Пространственно-количественные связи и отношения",null,null,{"$f":"P44","v":{"$error":"#DIV/0!"}}]
[null,"сравнение",null,null,{"$f":"Q44","v":{"$error":"#DIV/0!"}}]

{"sheet":"Позн.разв. к 6г ч1. К.г. ","index":14,"n_rows":55,"n_cols":20,"rows_kept":55,"merged":[[0,1,0,2],[0,5,0,7],[0,8,0,12],[1,1,1,4],[1,5,1,7],[1,8,1,14],[2,1,2,4],[3,1,3,2],[3,5,3,6],[3,7,3,8],[3,9,3,10],[4,1,4,2],[4,5,4,6],[4,7,4,8],[4,9,4,10],[5,0,10,0],[5,1,10,1],[5,4,5,18],[5,19,10,19],[6,4,6,18],[7,4,7,6],[7,7,7,9],[7,10,7,18],[8,7,10,7],[8,8,10,8],[8,9,10,9],[8,10,8,12],[8,16,8,18],[9,4,9,6],[9,10,10,10],[9,11,10,11],[9,12,10,12],[9,13,10,13],[9,14,10,14],[9,15,10,15],[9,16,10,16],[9,17,10,17],[9,18,10,18],[41,1,41,18],[43,4,43,6],[43,7,43,9],[43,10,43,12],[45,1,45,19]]}
[null,"Финальная диагностика",{"$nulls":3},"ГРУППА СТАРШЕГО ВОЗРАСТА (5-6 лет)",null,null,"Период проведения - окончание посещения группы старшего возраста"]
[null,"Стартовая диагностика",{"$nulls":3},"ГРУППА ПОДГОТОВИТЕЛЬНОГО К ШКОЛЕ ВОЗРАСТА (6-7 лет)",null,null,"Период проведения - начало уч. года (сентябрь) или начало посещения группы подготовительного к школе возраста"]
[null,"*- не диагностируется в данном возрасте"]
[null,"Сформированность показателя",{"$nulls":3},"«2» показатель сформирован",null,"«1» показатель в стадии формирования",null,"«0» показатель не сформирован"]
[null,"Средний уровень",{"$nulls":3},"1,8 - 2,0 норма-высокий",null,"1,0 - 1,7 норма - средний",null,"0,0 - 0,9 ниже нормы"]
["№","Ф.И. ребенка",null,null,"ОБРАЗОВАТЕЛЬНАЯ ОБЛАСТЬ «ПОЗНАВАТЕЛЬНОЕ  РАЗВИТИЕ»",{"$nulls":14},"СРЕДНИЙ ПОКАЗАТЕЛЬ ПО РЕБЕНКУ"]
[{"$nulls":4},"Показатели возможных достижений (возрастные характеристики) к 6 годам"]
[{"$nulls":4},"Сенсорные эталоны ",null,null,"Познавательные действия",null,null,"Математические представления"]
[{"$nulls":4},"Цвет, оттенки","Форма, геометрические фигуры","Величина","Ребенок охотно участвует в обсуждении проблемы для совместного нахождения способов ее решения, предлагает пути решения, устанавливает закономерности причинно-следственного характера, проявляет любознательность","Ребенок использует математические знания, способы и средства для познания окружающего мира","Ребенок способен к произвольным умственным действиям, логическим операциям анализа, сравнения, обобщения, систематизации, классификации","Количество и счет",null,null,"Ориентировка во времени","Ориентировка в пространстве","Пространственно-количественные связи и отношения","Сравнение"]
[{"$nulls":4},"Ребенок различает и называет",{"$nulls":5},"Ребенок знает/называет/находит среди других цифры 0 -10","Ребенок выполняет количественный и порядковый счет в пределах 0-10","Ребенок знает состав чисел из единиц в пределах 5","Ребенок понимает календарные единицы времени (сутки, неделя, месяц, год)","Ребенок ориентируется на листе бумаги","Ребенок понимает простейшую графическую информацию об отношениях предметов (слева направо, справа налево, снизу вверх, сверху вниз)","Ребенок выделяет сходства и отличия между группами предметов","Ребенок сравнивает предметы по 3-5 признакам","Ребенок группирует предметы по разным основаниям, преимущественно на основе зрительной оценки"]
[{"$nulls":4},"Ребенок называет/различает все цвета спектра и ахроматические цвета, оттенки цвета, тоны цвета, теплые и холодные оттенки","Ребенок владеет способами воссоздания фигуры из частей, деления фигуры на части","Ребенок может выстраивать сериационные ряды предметов, различающихся по размеру в возрастающем и убывающем порядке в пределах 10"]
[1,{"$f":"Список!B4","v":0},{"$nulls":17},{"$f":"AVERAGE(E12:S12)","v":{"$error":"#DIV/0!"}}]
[2,{"$f":"Список!B5","v":0},{"$nulls":17},{"$error":"#DIV/0!"}]
[3,{"$f":"Список!B6","v":0},{"$nulls":17},{"$error":"#DIV/0!"}]
[4,{"$f":"Список!B7","v":0},{"$nulls":17},{"$error":"#DIV/0!"}]
[5,{"$f":"Список!B8","v":0},{"$nulls":17},{"$error":"#DIV/0!"}]
[6,{"$f":"Список!B9","v":0},{"$nulls":17},{"$error":"#DIV/0!"}]
[7,{"$f":"Список!B10","v":0},{"$nulls":17},{"$error":"#DIV/0!"}]
[8,{"$f":"Список!B11","v":0},{"$nulls":17},{"$error":"#DIV/0!"}]
[9,{"$f":"Список!B12","v":0},{"$nulls":17},{"$error":"#DIV/0!"}]
[10,{"$f":"Список!B13","v":0},{"$nulls":17},{"$error":"#DIV/0!"}]
[11,{"$f":"Список!B14","v":0},{"$nulls":17},{"$error":"#DIV/0!"}]
[12,{"$f":"Список!B15","v":0},{"$nulls":17},{"$error":"#DIV/0!"}]
[13,{"$f":"Список!B16","v":0},{"$nulls":17},{"$error":"#DIV/0!"}]
[14,{"$f":"Список!B17","v":0},{"$nulls":17},{"$error":"#DIV/0!"}]
[15,{"$f":"Список!B18","v":0},{"$nulls":17},{"$error":"#DIV/0!"}]
[16,{"$f":"Список!B19","v":0},{"$nulls":17},{"$error":"#DIV/0!"}]
[17,{"$f":"Список!B20","v":0},{"$nulls":17},{"$error":"#DIV/0!"}]
[18,{"$f":"Список!B21","v":0},{"$nulls":17},{"$error":"#DIV/0!"}]
[19,{"$f":"Список!B22","v":0},{"$nulls":17},{"$error":"#DIV/0!"}]
[20,{"$f":"Список!B23","v":0},{"$nulls":17},{"$error":"#DIV/0!"}]
[21,{"$f":"Список!B24","v":0},{"$nulls":17},{"$error":"#DIV/0!"}]
[22,{"$f":"Список!B25","v":0},{"$nulls":17},{"$error":"#DIV/0!"}]
[23,{"$f":"Список!B26","v":0},{"$nulls":17},{"$error":"#DIV/0!"}]
[24,{"$f":"Список!B27","v":0},{"$nulls":17},{"$error":"#DIV/0!"}]
[25,{"$f":"Список!B28","v":0},{"$nulls":17},{"$error":"#DIV/0!"}]
[26,{"$f":"Список!B29","v":0},{"$nulls":17},{"$error":"#DIV/0!"}]
[27,{"$f":"Список!B30","v":0},{"$nulls":17},{"$error":"#DIV/0!"}]
[28,{"$f":"Список!B31","v":0},{"$nulls":17},{"$error":"#DIV/0!"}]
[29,{"$f":"Список!B32","v":0},{"$nulls":17},{"$error":"#DIV/0!"}]
[30,{"$f":"Список!B33","v":0},{"$nulls":17},{"$error":"#DIV/0!"}]
[null,"СРЕДНИЙ ПОКАЗАТЕЛЬ ПО ГРУППЕ",{"$nulls":17},{"$f":"AVERAGE(T12:T41)","v":{"$error":"#DIV/0!"}}]
[null,"среднее по критерию",null,null,{"$f":"AVERAGE(E12:E41)","v":{"$error":"#DIV/0!"}},{"$f":"AVERAGE(F12:F41)","v":{"$error":"#DIV/0!"}},{"$error":"#DIV/0!"},{"$error":"#DIV/0!"},{"$error":"#DIV/0!"},{"$error":"#DIV/0!"},{"$error":"#DIV/0!"},{"$error":"#DIV/0!"},{"$error":"#DIV/0!"},{"$error":"#DIV/0!"},{"$error":"#DIV/0!"},{"$error":"#DIV/0!"},{"$error":"#DIV/0!"},{"$error":"#DIV/0!"},{"$error":"#DIV/0!"}]
[null,"среднее по разделу",null,null,{"$f":"(E43+F43+G43)/3","v":{"$error":"#DIV/0!"}},null,null,{"$f":"(H43+I43+J43)/3","v":{"$error":"#DIV/0!"}},null,null,{"$f":"(K43+L43+M43)/3","v":{"$error":"#DIV/0!"}},null,null,{"$f":"N43","v":{"$error":"#DIV/0!"}},{"$f":"O43","v":{"$error":"#DIV/0!"}},{"$f":"P43","v":{"$error":"#DIV/0!"}},{"$f":"(Q43+R43+S43)/3","v":{"$error":"#DIV/0!"}}]
[null,"Ф.И.О, должность специалиста(ов)____________________________________________________________________________________________________________________________________________________________________________________________________________________________________"]
[null,"© Автор-составитель Кулекина И.А., СПБ, 2023"]
[]
[]
[null,"сенсорные эталоны",null,null,{"$f":"E44","v":{"$error":"#DIV/0!"}}]
[null,"познавательные действия",null,null,{"$f":"H44","v":{"$error":"#DIV/0!"}}]
[null,"количество и счет",null,null,{"$f":"K44","v":{"$error":"#DIV/0!"}}]
[null,"ориентировка во времени",null,null,{"$f":"N44","v":{"$error":"#DIV/0!"}}]
[null,"ориентировка в пространстве",null,null,{"$f":"O44","v":{"$error":"#DIV/0!"}}]
[null,"Пространственно-количественные связи и отношения",null,null,{"$f":"P44","v":{"$error":"#DIV/0!"}}]
[null,"сравнение",null,null,{"$f":"Q44","v":{"$error":"#DIV/0!"}}]

{"sheet":"Позн.разв. к 6г ч2. Н.г.","index":15,"n_rows":51,"n_cols":11,"rows_kept":51,"merged":[[0,0,0,1],[0,4,0,6],[0,7,0,9],[1,0,1,3],[1,4,1,6],[1,7,1,10],[2,0,2,3],[3,0,3,1],[3,4,3,5],[3,7,3,8],[4,0,4,1],[4,4,4,5],[4,7,4,8],[5,0,10,0],[5,1,10,1],[5,4,5,9],[5,10,10,10],[6,4,6,9],[7,4,7,5],[7,6,7,9],[8,4,9,5],[8,6,8,7],[8,8,8,9],[9,6,10,6],[9,7,10,7],[9,8,10,8],[9,9,10,9],[41,1,41,9],[43,4,43,5],[43,6,43,7],[43,8,43,9],[45,1,45,10]]}
["Финальная диагностика",{"$nulls":3},"ГРУППА СТАРШЕГО ВОЗРАСТА (5-6 лет)",null,null,"Период проведения - окончание посещения группы старшего возраста"]
["Стартовая диагностика",{"$nulls":3},"ГРУППА ПОДГОТОВИТЕЛЬНОГО К ШКОЛЕ ВОЗРАСТА (6-7 лет)",null,null,"Период проведения - начало уч. года (сентябрь) или начало посещения группы подготовительного к школе возраста"]
["*- не диагностируется в данном возрасте"]
["Сформированность показателя",{"$nulls":3},"«2» показатель сформирован",null,null,"«0» показатель не сформирован"]
["Средний уровень",{"$nulls":3},"1,8 - 2,0 норма-высокий",null,null,"0,0 - 0,9 ниже нормы"]
["№","Ф.И. ребенка",null,null,"ОБРАЗОВАТЕЛЬНАЯ ОБЛАСТЬ «ПОЗНАВАТЕЛЬНОЕ  РАЗВИТИЕ»",{"$nulls":5},"СРЕДНИЙ ПОКАЗАТЕЛЬ ПО РЕБЕНКУ"]
[{"$nulls":4},"Показатели возможных достижений (возрастные характеристики) к 6 годам"]
[{"$nulls":4},"Окружающий мир",null,"Природа "]
[{"$nulls":4},"Ребенок имеет представления, может показать на картинке и в естественной среде, может рассказать",null,"Объекты живой природы",null,"Объекты неживой природы, природные явления"]
[{"$nulls":6},"Ребенок имеет представление о сходстве и различии во внешнем виде и образе жизни объектов животного и растительного мира в разные сезоны года","Ребенок может сравнивать, группировать объекты живой природы по их особенностям, мету обитания, образу жизни, питанию","Ребенок имеет представление о признаках разных времен года","Ребенок наблюдает за явлениями природы, фиксирует результаты наблюдения"]
[{"$nulls":4},"о многообразии людей разных национальностей (особенностей внешнего вида, одежды, традиций)","Ребенок имеет представление о многообразии стран и народов мира"]
[1,{"$f":"Список!B4","v":0},{"$nulls":8},{"$f":"AVERAGE(E12:J12)","v":{"$error":"#DIV/0!"}}]
[2,{"$f":"Список!B5","v":0},{"$nulls":8},{"$error":"#DIV/0!"}]
[3,{"$f":"Список!B6","v":0},{"$nulls":8},{"$error":"#DIV/0!"}]
[4,{"$f":"Список!B7","v":0},{"$nulls":8},{"$error":"#DIV/0!"}]
[5,{"$f":"Список!B8","v":0},{"$nulls":8},{"$error":"#DIV/0!"}]
[6,{"$f":"Список!B9","v":0},{"$nulls":8},{"$error":"#DIV/0!"}]
[7,{"$f":"Список!B10","v":0},{"$nulls":8},{"$error":"#DIV/0!"}]
[8,{"$f":"Список!B11","v":0},{"$nulls":8},{"$error":"#DIV/0!"}]
[9,{"$f":"Список!B12","v":0},{"$nulls":8},{"$error":"#DIV/0!"}]
[10,{"$f":"Список!B13","v":0},{"$nulls":8},{"$error":"#DIV/0!"}]
[11,{"$f":"Список!B14","v":0},{"$nulls":8},{"$error":"#DIV/0!"}]
[12,{"$f":"Список!B15","v":0},{"$nulls":8},{"$error":"#DIV/0!"}]
[13,{"$f":"Список!B16","v":0},{"$nulls":8},{"$error":"#DIV/0!"}]
[14,{"$f":"Список!B17","v":0},{"$nulls":8},{"$error":"#DIV/0!"}]
[15,{"$f":"Список!B18","v":0},{"$nulls":8},{"$error":"#DIV/0!"}]
[16,{"$f":"Список!B19","v":0},{"$nulls":8},{"$error":"#DIV/0!"}]
[17,{"$f":"Список!B20","v":0},{"$nulls":8},{"$error":"#DIV/0!"}]
[18,{"$f":"Список!B21","v":0},{"$nulls":8},{"$error":"#DIV/0!"}]
[19,{"$f":"Список!B22","v":0},{"$nulls":8},{"$error":"#DIV/0!"}]
[20,{"$f":"Список!B23","v":0},{"$nulls":8},{"$error":"#DIV/0!"}]
[21,{"$f":"Список!B24","v":0},{"$nulls":8},{"$error":"#DIV/0!"}]
[22,{"$f":"Список!B25","v":0},{"$nulls":8},{"$error":"#DIV/0!"}]
[23,{"$f":"Список!B26","v":0},{"$nulls":8},{"$error":"#DIV/0!"}]
[24,{"$f":"Список!B27","v":0},{"$nulls":8},{"$error":"#DIV/0!"}]
[25,{"$f":"Список!B28","v":0},{"$nulls":8},{"$error":"#DIV/0!"}]
[26,{"$f":"Список!B29","v":0},{"$nulls":8},{"$error":"#DIV/0!"}]
[27,{"$f":"Список!B30","v":0},{"$nulls":8},{"$error":"#DIV/0!"}]
[28,{"$f":"Список!B31","v":0},{"$nulls":8},{"$error":"#DIV/0!"}]
[29,{"$f":"Список!B32","v":0},{"$nulls":8},{"$error":"#DIV/0!"}]
[30,{"$f":"Список!B33","v":0},{"$nulls":8},{"$error":"#DIV/0!"}]
[null,"СРЕДНИЙ ПОКАЗАТЕЛЬ ПО ГРУППЕ",{"$nulls":8},{"$f":"AVERAGE(K12:K41)","v":{"$error":"#DIV/0!"}}]
[null,"среднее по критерию",null,null,{"$f":"AVERAGE(E12:E41)","v":{"$error":"#DIV/0!"}},{"$f":"AVERAGE(F12:F41)","v":{"$error":"#DIV/0!"}},{"$error":"#DIV/0!"},{"$error":"#DIV/0!"},{"$error":"#DIV/0!"},{"$error":"#DIV/0!"}]
[null,"среднее по разделу",null,null,{"$f":"(E43+F43)/2","v":{"$error":"#DIV/0!"}},null,{"$f":"(G43+H43)/2","v":{"$error":"#DIV/0!"}},null,{"$f":"(I43+J43)/2","v":{"$error":"#DIV/0!"}}]
[null,"Ф.И.О, должность специалиста(ов)____________________________________________________________________________________________________________________________________________________________________________________________________________________________________"]
[null,"© Автор-составитель Кулекина И.А., СПБ, 2023"]
[]
[]
[null,"окружающий мир",null,null,{"$f":"E44","v":{"$error":"#DIV/0!"}}]
[null,"объекты живой природы",null,null,{"$f":"G44","v":{"$error":"#DIV/0!"}}]
[null,"объекты неживой природы, природные явления",null,null,{"$f":"I44","v":{"$error":"#DIV/0!"}}]

{"sheet":"Позн.разв. к 6г ч2. К.г. ","index":16,"n_rows":51,"n_cols":11,"rows_kept":51,"merged":[[0,0,0,1],[0,4,0,6],[0,7,0,9],[1,0,1,3],[1,4,1,6],[1,7,1,10],[2,0,2,3],[3,0,3,1],[3,4,3,5],[3,7,3,8],[4,0,4,1],[4,4,4,5],[4,7,4,8],[5,0,10,0],[5,1,10,1],[5,4,5,9],[5,10,10,10],[6,4,6,9],[7,4,7,5],[7,6,7,9],[8,4,9,5],[8,6,8,7],[8,8,8,9],[9,6,10,6],[9,7,10,7],[9,8,10,8],[9,9,10,9],[41,1,41,9],[43,4,43,5],[43,6,43,7],[43,8,43,9],[45,1,45,10]]}
["Финальная диагностика",{"$nulls":3},"ГРУППА СТАРШЕГО ВОЗРАСТА (5-6 лет)",null,null,"Период проведения - окончание посещения группы старшего возраста"]
["Стартовая диагностика",{"$nulls":3},"ГРУППА ПОДГОТОВИТЕЛЬНОГО К ШКОЛЕ ВОЗРАСТА (6-7 лет)",null,null,"Период проведения - начало уч. года (сентябрь) или начало посещения группы подготовительного к школе возраста"]
["*- не диагностируется в данном возрасте"]
["Сформированность показателя",{"$nulls":3},"«2» показатель сформирован",null,null,"«0» показатель не сформирован"]
["Средний уровень",{"$nulls":3},"1,8 - 2,0 норма-высокий",null,null,"0,0 - 0,9 ниже нормы"]
["№","Ф.И. ребенка",null,null,"ОБРАЗОВАТЕЛЬНАЯ ОБЛАСТЬ «ПОЗНАВАТЕЛЬНОЕ  РАЗВИТИЕ»",{"$nulls":5},"СРЕДНИЙ ПОКАЗАТЕЛЬ ПО РЕБЕНКУ"]
[{"$nulls":4},"Показатели возможных достижений (возрастные характеристики) к 6 годам"]
[{"$nulls":4},"Окружающий мир",null,"Природа "]
[{"$nulls":4},"Ребенок имеет представления, может показать на картинке и в естественной среде, может рассказать",null,"Объекты живой природы",null,"Объекты неживой природы, природные явления"]
[{"$nulls":6},"Ребенок имеет представление о сходстве и различии во внешнем виде и образе жизни объектов животного и растительного мира в разные сезоны года","Ребенок может сравнивать, группировать объекты живой природы по их особенностям, мету обитания, образу жизни, питанию","Ребенок имеет представление о признаках разных времен года","Ребенок наблюдает за явлениями природы, фиксирует результаты наблюдения"]
[{"$nulls":4},"о многообразии людей разных национальностей (особенностей внешнего вида, одежды, традиций)","Ребенок имеет представление о многообразии стран и народов мира"]
[1,{"$f":"Список!B4","v":0},{"$nulls":8},{"$f":"AVERAGE(E12:J12)","v":{"$error":"#DIV/0!"}}]
[2,{"$f":"Список!B5","v":0},{"$nulls":8},{"$error":"#DIV/0!"}]
[3,{"$f":"Список!B6","v":0},{"$nulls":8},{"$error":"#DIV/0!"}]
[4,{"$f":"Список!B7","v":0},{"$nulls":8},{"$error":"#DIV/0!"}]
[5,{"$f":"Список!B8","v":0},{"$nulls":8},{"$error":"#DIV/0!"}]
[6,{"$f":"Список!B9","v":0},{"$nulls":8},{"$error":"#DIV/0!"}]
[7,{"$f":"Список!B10","v":0},{"$nulls":8},{"$error":"#DIV/0!"}]
[8,{"$f":"Список!B11","v":0},{"$nulls":8},{"$error":"#DIV/0!"}]
[9,{"$f":"Список!B12","v":0},{"$nulls":8},{"$error":"#DIV/0!"}]
[10,{"$f":"Список!B13","v":0},{"$nulls":8},{"$error":"#DIV/0!"}]
[11,{"$f":"Список!B14","v":0},{"$nulls":8},{"$error":"#DIV/0!"}]
[12,{"$f":"Список!B15","v":0},{"$nulls":8},{"$error":"#DIV/0!"}]
[13,{"$f":"Список!B16","v":0},{"$nulls":8},{"$error":"#DIV/0!"}]
[14,{"$f":"Список!B17","v":0},{"$nulls":8},{"$error":"#DIV/0!"}]
[15,{"$f":"Список!B18","v":0},{"$nulls":8},{"$error":"#DIV/0!"}]
[16,{"$f":"Список!B19","v":0},{"$nulls":8},{"$error":"#DIV/0!"}]
[17,{"$f":"Список!B20","v":0},{"$nulls":8},{"$error":"#DIV/0!"}]
[18,{"$f":"Список!B21","v":0},{"$nulls":8},{"$error":"#DIV/0!"}]
[19,{"$f":"Список!B22","v":0},{"$nulls":8},{"$error":"#DIV/0!"}]
[20,{"$f":"Список!B23","v":0},{"$nulls":8},{"$error":"#DIV/0!"}]
[21,{"$f":"Список!B24","v":0},{"$nulls":8},{"$error":"#DIV/0!"}]
[22,{"$f":"Список!B25","v":0},{"$nulls":8},{"$error":"#DIV/0!"}]
[23,{"$f":"Список!B26","v":0},{"$nulls":8},{"$error":"#DIV/0!"}]
[24,{"$f":"Список!B27","v":0},{"$nulls":8},{"$error":"#DIV/0!"}]
[25,{"$f":"Список!B28","v":0},{"$nulls":8},{"$error":"#DIV/0!"}]
[26,{"$f":"Список!B29","v":0},{"$nulls":8},{"$error":"#DIV/0!"}]
[27,{"$f":"Список!B30","v":0},{"$nulls":8},{"$error":"#DIV/0!"}]
[28,{"$f":"Список!B31","v":0},{"$nulls":8},{"$error":"#DIV/0!"}]
[29,{"$f":"Список!B32","v":0},{"$nulls":8},{"$error":"#DIV/0!"}]
[30,{"$f":"Список!B33","v":0},{"$nulls":8},{"$error":"#DIV/0!"}]
[null,"СРЕДНИЙ ПОКАЗАТЕЛЬ ПО ГРУППЕ",{"$nulls":8},{"$f":"AVERAGE(K12:K41)","v":{"$error":"#DIV/0!"}}]
[null,"среднее по критерию",null,null,{"$f":"AVERAGE(E12:E41)","v":{"$error":"#DIV/0!"}},{"$f":"AVERAGE(F12:F41)","v":{"$error":"#DIV/0!"}},{"$error":"#DIV/0!"},{"$error":"#DIV/0!"},{"$error":"#DIV/0!"},{"$error":"#DIV/0!"}]
[null,"среднее по разделу",null,null,{"$f":"(E43+F43)/2","v":{"$error":"#DIV/0!"}},null,{"$f":"(G43+H43)/2","v":{"$error":"#DIV/0!"}},null,{"$f":"(I43+J43)/2","v":{"$error":"#DIV/0!"}}]
[null,"Ф.И.О, должность специалиста(ов)____________________________________________________________________________________________________________________________________________________________________________________________________________________________________"]
[null,"© Автор-составитель Кулекина И.А., СПБ, 2023"]
[]
[]
[null,"окружающий мир",null,null,{"$f":"E44","v":{"$error":"#DIV/0!"}}]
[null,"объекты живой природы",null,null,{"$f":"G44","v":{"$error":"#DIV/0!"}}]
[null,"объекты неживой природы, природные явления",null,null,{"$f":"I44","v":{"$error":"#DIV/0!"}}]

{"sheet":"Динамика познав.разв.","index":17,"n_rows":5,"n_cols":12,"rows_kept":5,"merged":[[0,0,0,11]]}
["Обобщение результатов педагогической диагностики по ОО \"Познавательное  развитие\". Старшая группа"]
[]
[null,"сенсорные эталоны","познавательные действия","количество и счет","ориентировка во времени","ориентировка в пространстве","Пространственно-количественные связи и отношения","сравнение","окружающий мир","объекты живой природы","объекты неживой природы, природные явления","среднее по группе"]
["начало года",{"$f":"'Позн.разв. к 6г ч1. Н.г.'!E49","v":{"$error":"#DIV/0!"}},{"$f":"'Позн.разв. к 6г ч1. Н.г.'!E50","v":{"$error":"#DIV/0!"}},{"$f":"'Позн.разв. к 6г ч1. Н.г.'!E51","v":{"$error":"#DIV/0!"}},{"$f":"'Позн.разв. к 6г ч1. Н.г.'!E52","v":{"$error":"#DIV/0!"}},{"$f":"'Позн.разв. к 6г ч1. Н.г.'!E53","v":{"$error":"#DIV/0!"}},{"$f":"'Позн.разв. к 6г ч1. Н.г.'!E54","v":{"$error":"#DIV/0!"}},{"$f":"'Позн.разв. к 6г ч1. Н.г.'!E55","v":{"$error":"#DIV/0!"}},{"$f":"'Позн.разв. к 6г ч2. Н.г.'!E49","v":{"$error":"#DIV/0!"}},{"$f":"'Позн.разв. к 6г ч2. Н.г.'!E50","v":{"$error":"#DIV/0!"}},{"$f":"'Позн.разв. к 6г ч2. Н.г.'!E51","v":{"$error":"#DIV/0!"}},{"$f":"AVERAGE(B4:K4)","v":{"$error":"#DIV/0!"}}]
["конец года",{"$f":"'Позн.разв. к 6г ч1. К.г. '!E49","v":{"$error":"#DIV/0!"}},{"$f":"'Позн.разв. к 6г ч1. К.г. '!E50","v":{"$error":"#DIV/0!"}},{"$f":"'Позн.разв. к 6г ч1. К.г. '!E51","v":{"$error":"#DIV/0!"}},{"$f":"'Позн.разв. к 6г ч1. К.г. '!E52","v":{"$error":"#DIV/0!"}},{"$f":"'Позн.разв. к 6г ч1. К.г. '!E53","v":{"$error":"#DIV/0!"}},{"$f":"'Позн.разв. к 6г ч1. К.г. '!E54","v":{"$error":"#DIV/0!"}},{"$f":"'Позн.разв. к 6г ч1. К.г. '!E55","v":{"$error":"#DIV/0!"}},{"$f":"'Позн.разв. к 6г ч2. К.г. '!E49","v":{"$error":"#DIV/0!"}},{"$f":"'Позн.разв. к 6г ч2. К.г. '!E50","v":{"$error":"#DIV/0!"}},{"$f":"'Позн.разв. к 6г ч2. К.г. '!E51","v":{"$error":"#DIV/0!"}},{"$f":"AVERAGE(B5:K5)","v":{"$error":"#DIV/0!"}}]

{"sheet":"Соц.ком.к 6г ч1. Н.г.","index":18,"n_rows":54,"n_cols":22,"rows_kept":54,"merged":[[0,0,0,1],[0,4,0,8],[0,10,0,13],[1,0,1,3],[1,4,1,9],[1,10,1,15],[2,0,2,3],[3,0,3,1],[3,4,3,7],[3,8,3,13],[3,14,3,17],[4,0,4,1],[4,4,4,7],[4,8,4,13],[4,14,4,17],[5,0,9,0],[5,1,9,1],[5,4,5,20],[5,21,9,21],[6,4,6,20],[7,4,7,20],[8,4,8,5],[8,6,8,7],[8,8,8,9],[8,10,8,13],[8,15,8,17],[8,18,8,20],[40,1,40,20],[42,4,42,5],[42,6,42,7],[42,8,42,9],[42,10,42,13],[42,15,42,17],[42,18,42,20],[43,1,43,21],[44,1,44,21]]}
["Финальная диагностика",{"$nulls":3},"ГРУППА СТАРШЕГО ВОЗРАСТА (5-6 лет)",{"$nulls":5},"Период проведения - окончание посещения группы старшего возраста"]
["Стартовая диагностика",{"$nulls":3},"ГРУППА ПОДГОТОВИТЕЛЬНОГО К ШКОЛЕ ВОЗРАСТА (6-7 лет)",{"$nulls":5},"Период проведения - начало уч. года (сентябрь) или начало посещения группы подготовительного к школе возраста"]
["*- не диагностируется в данном возрасте"]
["Сформированность показателя",{"$nulls":3},"«2» показатель сформирован",{"$nulls":3},"«1» показатель в стадии формирования",{"$nulls":5},"«0» показатель не сформирован"]
["Средний уровень",{"$nulls":3},"1,8 - 2,0 норма-высокий",{"$nulls":3},"1,0 - 1,7 норма - средний",{"$nulls":5},"0,0 - 0,9 ниже нормы"]
["№","Ф.И. ребенка",null,null,"ОБРАЗОВАТЕЛЬНАЯ ОБЛАСТЬ «СОЦИАЛЬНО-КОММУНИКАТИВНОЕ  РАЗВИТИЕ»",{"$nulls":16},"СРЕДНИЙ ПОКАЗАТЕЛЬ ПО РЕБЕНКУ"]
[{"$nulls":4},"Показатели возможных достижений (возрастные характеристики) к 6 годам"]
[{"$nulls":4},"Сфера социальных отношений"]
[{"$nulls":4},"Отношение к самому себе",null,"Отношение к сверстникам",null,"Отношение к взрослым",null,"Эмоции",{"$nulls":3},"Поведение","Семья",null,null,"Игровое поведение"]
[{"$nulls":4},"Ребенок может рассказать о себе, выразить собственные потребности, желания","Ребенок имеет представление о некоторых своих правах","Ребенок имеет предпочтения в общении","Ребенок охотно вступает в общение со сверстниками","Ребенок уважительно относится к взрослым, пожилым людям","Ребенок охотно вступает в общение со взрослыми","Ребенок понимает свои и чужие эмоциональные состояния, демонстрирует примеры эмоциональной поддержки ","Ребенок  откликается на просьбу помочь","Ребенок выразить чувства и эмоции в мимике, пантомимике, действиях, интонации","Ребенок демонстрирует адекватные возрасту способы регуляции эмоциональных состояний","Ребенок ориентируется на общепринятые нормы и правила культуры поведения","Ребенок знает членов своей семьи, ближайших родственников по линии матери и отца","Ребенок имеет представление о способах поддержки родственных связей (переписка, разговор, совместный отдых, традиции, походы в гости и др.)","Ребенок проявляет заботу по отношению к членам своей семьи, оказывает посильную помощь больному члену семьи","Ребенок в совместной деятельности принимает общую цель, договаривается о способах деятельности и материалах, может уступить в конфликтной ситуации","Ребенок проявляет интерес к игровому экспериментированию, развивающим и познавательным играм","Ребенок способен действовать в точном соответствие с игровой задачей и правилами"]
[1,{"$f":"Список!B4","v":0},{"$nulls":19},{"$f":"AVERAGE(G11:U11)","v":{"$error":"#DIV/0!"}}]
[2,{"$f":"Список!B5","v":0},{"$nulls":19},{"$error":"#DIV/0!"}]
[3,{"$f":"Список!B6","v":0},{"$nulls":19},{"$error":"#DIV/0!"}]
[4,{"$f":"Список!B7","v":0},{"$nulls":19},{"$error":"#DIV/0!"}]
[5,{"$f":"Список!B8","v":0},{"$nulls":19},{"$error":"#DIV/0!"}]
[6,{"$f":"Список!B9","v":0},{"$nulls":19},{"$error":"#DIV/0!"}]
[7,{"$f":"Список!B10","v":0},{"$nulls":19},{"$error":"#DIV/0!"}]
[8,{"$f":"Список!B11","v":0},{"$nulls":19},{"$error":"#DIV/0!"}]
[9,{"$f":"Список!B12","v":0},{"$nulls":19},{"$error":"#DIV/0!"}]
[10,{"$f":"Список!B13","v":0},{"$nulls":19},{"$error":"#DIV/0!"}]
[11,{"$f":"Список!B14","v":0},{"$nulls":19},{"$error":"#DIV/0!"}]
[12,{"$f":"Список!B15","v":0},{"$nulls":19},{"$error":"#DIV/0!"}]
[13,{"$f":"Список!B16","v":0},{"$nulls":19},{"$error":"#DIV/0!"}]
[14,{"$f":"Список!B17","v":0},{"$nulls":19},{"$error":"#DIV/0!"}]
[15,{"$f":"Список!B18","v":0},{"$nulls":19},{"$error":"#DIV/0!"}]
[16,{"$f":"Список!B19","v":0},{"$nulls":19},{"$error":"#DIV/0!"}]
[17,{"$f":"Список!B20","v":0},{"$nulls":19},{"$error":"#DIV/0!"}]
[18,{"$f":"Список!B21","v":0},{"$nulls":19},{"$error":"#DIV/0!"}]
[19,{"$f":"Список!B22","v":0},{"$nulls":19},{"$error":"#DIV/0!"}]
[20,{"$f":"Список!B23","v":0},{"$nulls":19},{"$error":"#DIV/0!"}]
[21,{"$f":"Список!B24","v":0},{"$nulls":19},{"$error":"#DIV/0!"}]
[22,{"$f":"Список!B25","v":0},{"$nulls":19},{"$error":"#DIV/0!"}]
[23,{"$f":"Список!B26","v":0},{"$nulls":19},{"$error":"#DIV/0!"}]
[24,{"$f":"Список!B27","v":0},{"$nulls":19},{"$error":"#DIV/0!"}]
[25,{"$f":"Список!B28","v":0},{"$nulls":19},{"$error":"#DIV/0!"}]
[26,{"$f":"Список!B29","v":0},{"$nulls":19},{"$error":"#DIV/0!"}]
[27,{"$f":"Список!B30","v":0},{"$nulls":19},{"$error":"#DIV/0!"}]
[28,{"$f":"Список!B31","v":0},{"$nulls":19},{"$error":"#DIV/0!"}]
[29,{"$f":"Список!B32","v":0},{"$nulls":19},{"$error":"#DIV/0!"}]
[30,{"$f":"Список!B33","v":0},{"$nulls":19},{"$error":"#DIV/0!"}]
[null,"СРЕДНИЙ ПОКАЗАТЕЛЬ ПО ГРУППЕ",{"$nulls":19},{"$f":"AVERAGE(V11:V40)","v":{"$error":"#DIV/0!"}}]
[null,"среднее по критерию",null,null,{"$f":"AVERAGE(E11:E40)","v":{"$error":"#DIV/0!"}},{"$f":"AVERAGE(F11:F40)","v":{"$error":"#DIV/0!"}},{"$error":"#DIV/0!"},{"$error":"#DIV/0!"},{"$error":"#DIV/0!"},{"$error":"#DIV/0!"},{"$error":"#DIV/0!"},{"$error":"#DIV/0!"},{"$error":"#DIV/0!"},{"$error":"#DIV/0!"},{"$error":"#DIV/0!"},{"$error":"#DIV/0!"},{"$error":"#DIV/0!"},{"$error":"#DIV/0!"},{"$error":"#DIV/0!"},{"$error":"#DIV/0!"},{"$error":"#DIV/0!"}]
[null,"среднее по разделу",null,null,{"$f":"(E42+F42)/2","v":{"$error":"#DIV/0!"}},null,{"$f":"(G42+H42)/2","v":{"$error":"#DIV/0!"}},null,{"$f":"(I42+J42)/2","v":{"$error":"#DIV/0!"}},null,{"$f":"(K42+L42+M42+N42)/4","v":{"$error":"#DIV/0!"}},{"$nulls":3},{"$f":"O42","v":{"$error":"#DIV/0!"}},{"$f":"(P42+Q42+R42)/3","v":{"$error":"#DIV/0!"}},null,null,{"$f":"(S42+T42+U42)/3","v":{"$error":"#DIV/0!"}}]
[null,"Ф.И.О, должность специалиста(ов)____________________________________________________________________________________________________________________________________________________________________________________________________________________________________"]
[null,"© Автор-составитель Кулекина И.А., СПБ, 2023"]
[]
[]
[null,"отношене к самому себе",null,null,{"$f":"E43","v":{"$error":"#DIV/0!"}}]
[null,"отношение к сверстникам",null,null,{"$f":"G43","v":{"$error":"#DIV/0!"}}]
[null,"отношение к взрослым",null,null,{"$f":"I43","v":{"$error":"#DIV/0!"}}]
[null,"эмоции",null,null,{"$f":"K43","v":{"$error":"#DIV/0!"}}]
[null,"поведение",null,null,{"$f":"O43","v":{"$error":"#DIV/0!"}}]
[null,"семья",null,null,{"$f":"P43","v":{"$error":"#DIV/0!"}}]
[null,"игровое поведение",null,null,{"$f":"S43","v":{"$error":"#DIV/0!"}}]

{"sheet":"Соц.ком.к 6г ч1. К.г. ","index":19,"n_rows":54,"n_cols":22,"rows_kept":54,"merged":[[0,0,0,1],[0,4,0,8],[0,10,0,13],[1,0,1,3],[1,4,1,9],[1,10,1,15],[2,0,2,3],[3,0,3,1],[3,4,3,7],[3,8,3,13],[3,14,3,17],[4,0,4,1],[4,4,4,7],[4,8,4,13],[4,14,4,17],[5,0,9,0],[5,1,9,1],[5,4,5,20],[5,21,9,21],[6,4,6,20],[7,4,7,20],[8,4,8,5],[8,6,8,7],[8,8,8,9],[8,10,8,13],[8,15,8,17],[8,18,8,20],[40,1,40,20],[42,4,42,5],[42,6,42,7],[42,8,42,9],[42,10,42,13],[42,15,42,17],[42,18,42,20],[43,1,43,21],[44,1,44,21]]}
["Финальная диагностика",{"$nulls":3},"ГРУППА СТАРШЕГО ВОЗРАСТА (5-6 лет)",{"$nulls":5},"Период проведения - окончание посещения группы старшего возраста"]
["Стартовая диагностика",{"$nulls":3},"ГРУППА ПОДГОТОВИТЕЛЬНОГО К ШКОЛЕ ВОЗРАСТА (6-7 лет)",{"$nulls":5},"Период проведения - начало уч. года (сентябрь) или начало посещения группы подготовительного к школе возраста"]
["*- не диагностируется в данном возрасте"]
["Сформированность показателя",{"$nulls":3},"«2» показатель сформирован",{"$nulls":3},"«1» показатель в стадии формирования",{"$nulls":5},"«0» показатель не сформирован"]
["Средний уровень",{"$nulls":3},"1,8 - 2,0 норма-высокий",{"$nulls":3},"1,0 - 1,7 норма - средний",{"$nulls":5},"0,0 - 0,9 ниже нормы"]
["№","Ф.И. ребенка",null,null,"ОБРАЗОВАТЕЛЬНАЯ ОБЛАСТЬ «СОЦИАЛЬНО-КОММУНИКАТИВНОЕ  РАЗВИТИЕ»",{"$nulls":16},"СРЕДНИЙ ПОКАЗАТЕЛЬ ПО РЕБЕНКУ"]
[{"$nulls":4},"Показатели возможных достижений (возрастные характеристики) к 6 годам"]
[{"$nulls":4},"Сфера социальных отношений"]
[{"$nulls":4},"Отношение к самому себе",null,"Отношение к сверстникам",null,"Отношение к взрослым",null,"Эмоции",{"$nulls":3},"Поведение","Семья",null,null,"Игровое поведение"]
[{"$nulls":4},"Ребенок может рассказать о себе, выразить собственные потребности, желания","Ребенок имеет представление о некоторых своих правах","Ребенок имеет предпочтения в общении","Ребенок охотно вступает в общение со сверстниками","Ребенок уважительно относится к взрослым, пожилым людям","Ребенок охотно вступает в общение со взрослыми","Ребенок понимает свои и чужие эмоциональные состояния, демонстрирует примеры эмоциональной поддержки ","Ребенок  откликается на просьбу помочь","Ребенок выразить чувства и эмоции в мимике, пантомимике, действиях, интонации","Ребенок демонстрирует адекватные возрасту способы регуляции эмоциональных состояний","Ребенок ориентируется на общепринятые нормы и правила культуры поведения","Ребенок знает членов своей семьи, ближайших родственников по линии матери и отца","Ребенок имеет представление о способах поддержки родственных связей (переписка, разговор, совместный отдых, традиции, походы в гости и др.)","Ребенок проявляет заботу по отношению к членам своей семьи, оказывает посильную помощь больному члену семьи","Ребенок в совместной деятельности принимает общую цель, договаривается о способах деятельности и материалах, может уступить в конфликтной ситуации","Ребенок проявляет интерес к игровому экспериментированию, развивающим и познавательным играм","Ребенок способен действовать в точном соответствие с игровой задачей и правилами"]
[1,{"$f":"Список!B4","v":0},{"$nulls":19},{"$f":"AVERAGE(G11:U11)","v":{"$error":"#DIV/0!"}}]
[2,{"$f":"Список!B5","v":0},{"$nulls":19},{"$error":"#DIV/0!"}]
[3,{"$f":"Список!B6","v":0},{"$nulls":19},{"$error":"#DIV/0!"}]
[4,{"$f":"Список!B7","v":0},{"$nulls":19},{"$error":"#DIV/0!"}]
[5,{"$f":"Список!B8","v":0},{"$nulls":19},{"$error":"#DIV/0!"}]
[6,{"$f":"Список!B9","v":0},{"$nulls":19},{"$error":"#DIV/0!"}]
[7,{"$f":"Список!B10","v":0},{"$nulls":19},{"$error":"#DIV/0!"}]
[8,{"$f":"Список!B11","v":0},{"$nulls":19},{"$error":"#DIV/0!"}]
[9,{"$f":"Список!B12","v":0},{"$nulls":19},{"$error":"#DIV/0!"}]
[10,{"$f":"Список!B13","v":0},{"$nulls":19},{"$error":"#DIV/0!"}]
[11,{"$f":"Список!B14","v":0},{"$nulls":19},{"$error":"#DIV/0!"}]
[12,{"$f":"Список!B15","v":0},{"$nulls":19},{"$error":"#DIV/0!"}]
[13,{"$f":"Список!B16","v":0},{"$nulls":19},{"$error":"#DIV/0!"}]
[14,{"$f":"Список!B17","v":0},{"$nulls":19},{"$error":"#DIV/0!"}]
[15,{"$f":"Список!B18","v":0},{"$nulls":19},{"$error":"#DIV/0!"}]
[16,{"$f":"Список!B19","v":0},{"$nulls":19},{"$error":"#DIV/0!"}]
[17,{"$f":"Список!B20","v":0},{"$nulls":19},{"$error":"#DIV/0!"}]
[18,{"$f":"Список!B21","v":0},{"$nulls":19},{"$error":"#DIV/0!"}]
[19,{"$f":"Список!B22","v":0},{"$nulls":19},{"$error":"#DIV/0!"}]
[20,{"$f":"Список!B23","v":0},{"$nulls":19},{"$error":"#DIV/0!"}]
[21,{"$f":"Список!B24","v":0},{"$nulls":19},{"$error":"#DIV/0!"}]
[22,{"$f":"Список!B25","v":0},{"$nulls":19},{"$error":"#DIV/0!"}]
[23,{"$f":"Список!B26","v":0},{"$nulls":19},{"$error":"#DIV/0!"}]
[24,{"$f":"Список!B27","v":0},{"$nulls":19},{"$error":"#DIV/0!"}]
[25,{"$f":"Список!B28","v":0},{"$nulls":19},{"$error":"#DIV/0!"}]
[26,{"$f":"Список!B29","v":0},{"$nulls":19},{"$error":"#DIV/0!"}]
[27,{"$f":"Список!B30","v":0},{"$nulls":19},{"$error":"#DIV/0!"}]
[28,{"$f":"Список!B31","v":0},{"$nulls":19},{"$error":"#DIV/0!"}]
[29,{"$f":"Список!B32","v":0},{"$nulls":19},{"$error":"#DIV/0!"}]
[30,{"$f":"Список!B33","v":0},{"$nulls":19},{"$error":"#DIV/0!"}]
[null,"СРЕДНИЙ ПОКАЗАТЕЛЬ ПО ГРУППЕ",{"$nulls":19},{"$f":"AVERAGE(V11:V40)","v":{"$error":"#DIV/0!"}}]
[null,"среднее по критерию",null,null,{"$f":"AVERAGE(E11:E40)","v":{"$error":"#DIV/0!"}},{"$f":"AVERAGE(F11:F40)","v":{"$error":"#DIV/0!"}},{"$error":"#DIV/0!"},{"$error":"#DIV/0!"},{"$error":"#DIV/0!"},{"$error":"#DIV/0!"},{"$error":"#DIV/0!"},{"$error":"#DIV/0!"},{"$error":"#DIV/0!"},{"$error":"#DIV/0!"},{"$error":"#DIV/0!"},{"$error":"#DIV/0!"},{"$error":"#DIV/0!"},{"$error":"#DIV/0!"},{"$error":"#DIV/0!"},{"$error":"#DIV/0!"},{"$error":"#DIV/0!"}]
[null,"среднее по разделу",null,null,{"$f":"(E42+F42)/2","v":{"$error":"#DIV/0!"}},null,{"$f":"(G42+H42)/2","v":{"$error":"#DIV/0!"}},null,{"$f":"(I42+J42)/2","v":{"$error":"#DIV/0!"}},null,{"$f":"(K42+L42+M42+N42)/4","v":{"$error":"#DIV/0!"}},{"$nulls":3},{"$f":"O42","v":{"$error":"#DIV/0!"}},{"$f":"(P42+Q42+R42)/3","v":{"$error":"#DIV/0!"}},null,null,{"$f":"(S42+T42+U42)/3","v":{"$error":"#DIV/0!"}}]
[null,"Ф.И.О, должность специалиста(ов)____________________________________________________________________________________________________________________________________________________________________________________________________________________________________"]
[null,"© Автор-составитель Кулекина И.А., СПБ, 2023"]
[]
[]
[null,"отношене к самому себе",null,null,{"$f":"E43","v":{"$error":"#DIV/0!"}}]
[null,"отношение к сверстникам",null,null,{"$f":"G43","v":{"$error":"#DIV/0!"}}]
[null,"отношение к взрослым",null,null,{"$f":"I43","v":{"$error":"#DIV/0!"}}]
[null,"эмоции",null,null,{"$f":"K43","v":{"$error":"#DIV/0!"}}]
[null,"поведение",null,null,{"$f":"O43","v":{"$error":"#DIV/0!"}}]
[null,"семья",null,null,{"$f":"P43","v":{"$error":"#DIV/0!"}}]
[null,"игровое поведение",null,null,{"$f":"S43","v":{"$error":"#DIV/0!"}}]

{"sheet":"Соц.ком. к 6г ч2. Н.г.","index":20,"n_rows":50,"n_cols":14,"rows_kept":50,"merged":[[0,0,0,1],[0,4,0,5],[0,7,0,12],[1,0,1,3],[1,4,1,6],[1,7,1,13],[2,0,2,3],[3,0,3,1],[3,4,3,5],[4,0,4,1],[4,4,4,5],[5,0,9,0],[5,1,9,1],[5,4,5,12],[5,13,9,13],[6,4,6,12],[7,4,7,6],[7,7,7,11],[8,4,9,4],[8,5,9,5],[8,6,9,6],[8,7,9,7],[8,8,9,8],[8,9,9,9],[8,10,9,10],[8,11,9,11],[8,12,9,12],[40,1,40,12],[42,4,42,6],[42,7,42,11],[43,1,43,13],[44,1,44,13]]}
["Финальная диагностика",{"$nulls":3},"ГРУППА СТАРШЕГО ВОЗРАСТА (5-6 лет)",null,null,"Период проведения - окончание посещения группы старшего возраста"]
["Стартовая диагностика",{"$nulls":3},"ГРУППА ПОДГОТОВИТЕЛЬНОГО К ШКОЛЕ ВОЗРАСТА (6-7 лет)",null,null,"Период проведения - начало уч. года (сентябрь) или начало посещения группы подготовительного к школе возраста"]
["*- не диагностируется в данном возрасте"]
["Сформированность показателя",{"$nulls":3},"«2» показатель сформирован",null,"«1» показатель в стадии формирования","«0» показатель не сформирован"]
["Средний уровень",{"$nulls":3},"1,8 - 2,0 норма-высокий",null,"1,0 - 1,7 норма - средний","0,0 - 0,9 ниже нормы"]
["№","Ф.И. ребенка",null,null,"ОБРАЗОВАТЕЛЬНАЯ ОБЛАСТЬ «СОЦИАЛЬНО-КОММУНИКАТИВНОЕ  РАЗВИТИЕ»",{"$nulls":8},"СРЕДНИЙ ПОКАЗАТЕЛЬ ПО РЕБЕНКУ"]
[{"$nulls":4},"Показатели возможных достижений (возрастные характеристики) к 6 годам"]
[{"$nulls":4},"Область формирования основ гражданственности и патриотизма",null,null,"Сфера трудового воспитания",{"$nulls":4},"Область формирования основ безопасного поведения"]
[{"$nulls":4},"Ребенок имеет представление о государственных символах России (герб, гимн, флаг)","Ребенок имеет представление о государственных праздниках России","Ребенок знает/может назвать/показать на картинке и в естественной среде достопримечательности населенного пункта, в котором живет","Ребенок имеет представления о разных видах производительного труда (промышленность, строительство, сельское хозяйство)","Ребенок имеет представления о разных видах обслуживающего труда (сфера досуга и отдыха, сфера культуры, медицина, торговля)","Ребенок имеет представление о структуре трудового процесса (мотив, цель, инструменты, оборудование, содержание действий, выбор трудовых действий, результат)","Ребенок имеет элементарные экономические представления (назначение рекламы, денег)","Ребенок охотно участвует в выполнении трудовых поручений, дежурстве; может распределять трудовые обязанности с другими","Ребенок имеет представления/ соблюдает правила поведения в быту, на улице, в природе, в общении с людьми, с животными"]
[]
[1,{"$f":"Список!B4","v":0},{"$nulls":11},{"$f":"AVERAGE(E11:M11)","v":{"$error":"#DIV/0!"}}]
[2,{"$f":"Список!B5","v":0},{"$nulls":11},{"$error":"#DIV/0!"}]
[3,{"$f":"Список!B6","v":0},{"$nulls":11},{"$error":"#DIV/0!"}]
[4,{"$f":"Список!B7","v":0},{"$nulls":11},{"$error":"#DIV/0!"}]
[5,{"$f":"Список!B8","v":0},{"$nulls":11},{"$error":"#DIV/0!"}]
[6,{"$f":"Список!B9","v":0},{"$nulls":11},{"$error":"#DIV/0!"}]
[7,{"$f":"Список!B10","v":0},{"$nulls":11},{"$error":"#DIV/0!"}]
[8,{"$f":"Список!B11","v":0},{"$nulls":11},{"$error":"#DIV/0!"}]
[9,{"$f":"Список!B12","v":0},{"$nulls":11},{"$error":"#DIV/0!"}]
[10,{"$f":"Список!B13","v":0},{"$nulls":11},{"$error":"#DIV/0!"}]
[11,{"$f":"Список!B14","v":0},{"$nulls":11},{"$error":"#DIV/0!"}]
[12,{"$f":"Список!B15","v":0},{"$nulls":11},{"$error":"#DIV/0!"}]
[13,{"$f":"Список!B16","v":0},{"$nulls":11},{"$error":"#DIV/0!"}]
[14,{"$f":"Список!B17","v":0},{"$nulls":11},{"$error":"#DIV/0!"}]
[15,{"$f":"Список!B18","v":0},{"$nulls":11},{"$error":"#DIV/0!"}]
[16,{"$f":"Список!B19","v":0},{"$nulls":11},{"$error":"#DIV/0!"}]
[17,{"$f":"Список!B20","v":0},{"$nulls":11},{"$error":"#DIV/0!"}]
[18,{"$f":"Список!B21","v":0},{"$nulls":11},{"$error":"#DIV/0!"}]
[19,{"$f":"Список!B22","v":0},{"$nulls":11},{"$error":"#DIV/0!"}]
[20,{"$f":"Список!B23","v":0},{"$nulls":11},{"$error":"#DIV/0!"}]
[21,{"$f":"Список!B24","v":0},{"$nulls":11},{"$error":"#DIV/0!"}]
[22,{"$f":"Список!B25","v":0},{"$nulls":11},{"$error":"#DIV/0!"}]
[23,{"$f":"Список!B26","v":0},{"$nulls":11},{"$error":"#DIV/0!"}]
[24,{"$f":"Список!B27","v":0},{"$nulls":11},{"$error":"#DIV/0!"}]
[25,{"$f":"Список!B28","v":0},{"$nulls":11},{"$error":"#DIV/0!"}]
[26,{"$f":"Список!B29","v":0},{"$nulls":11},{"$error":"#DIV/0!"}]
[27,{"$f":"Список!B30","v":0},{"$nulls":11},{"$error":"#DIV/0!"}]
[28,{"$f":"Список!B31","v":0},{"$nulls":11},{"$error":"#DIV/0!"}]
[29,{"$f":"Список!B32","v":0},{"$nulls":11},{"$error":"#DIV/0!"}]
[30,{"$f":"Список!B33","v":0},{"$nulls":11},{"$error":"#DIV/0!"}]
[null,"СРЕДНИЙ ПОКАЗАТЕЛЬ ПО ГРУППЕ",{"$nulls":11},{"$f":"AVERAGE(N11:N40)","v":{"$error":"#DIV/0!"}}]
[null,"среднее по критерию",null,null,{"$f":"AVERAGE(E11:E40)","v":{"$error":"#DIV/0!"}},{"$f":"AVERAGE(F11:F40)","v":{"$error":"#DIV/0!"}},{"$error":"#DIV/0!"},{"$error":"#DIV/0!"},{"$error":"#DIV/0!"},{"$error":"#DIV/0!"},{"$error":"#DIV/0!"},{"$error":"#DIV/0!"},{"$error":"#DIV/0!"}]
[null,"среднее по разделу",null,null,{"$f":"(E42+F42+G42)/3","v":{"$error":"#DIV/0!"}},null,null,{"$f":"(H42+I42+J42+K42+L42)/5","v":{"$error":"#DIV/0!"}},{"$nulls":4},{"$f":"M42","v":{"$error":"#DIV/0!"}}]
[null,"Ф.И.О, должность специалиста(ов)____________________________________________________________________________________________________________________________________________________________________________________________________________________________________"]
[null,"© Автор-составитель Кулекина И.А., СПБ, 2023"]
[]
[]
[null,"Область формирования основ гражданственности и патриотизма",null,null,{"$f":"E43","v":{"$error":"#DIV/0!"}}]
[null,"сфера трудового воспитания",null,null,{"$f":"H43","v":{"$error":"#DIV/0!"}}]
[null,"Область формирования основ безопасного поведения",null,null,{"$f":"M43","v":{"$error":"#DIV/0!"}}]

{"sheet":"Соц.ком. к 6г ч2 К.г.","index":21,"n_rows":50,"n_cols":14,"rows_kept":50,"merged":[[0,0,0,1],[0,4,0,5],[0,7,0,12],[1,0,1,3],[1,4,1,6],[1,7,1,13],[2,0,2,3],[3,0,3,1],[3,4,3,5],[4,0,4,1],[4,4,4,5],[5,0,9,0],[5,1,9,1],[5,4,5,12],[5,13,9,13],[6,4,6,12],[7,4,7,6],[7,7,7,11],[8,4,9,4],[8,5,9,5],[8,6,9,6],[8,7,9,7],[8,8,9,8],[8,9,9,9],[8,10,9,10],[8,11,9,11],[8,12,9,12],[40,1,40,12],[42,4,42,6],[42,7,42,11],[43,1,43,13],[44,1,44,13]]}
["Финальная диагностика",{"$nulls":3},"ГРУППА СТАРШЕГО ВОЗРАСТА (5-6 лет)",null,null,"Период проведения - окончание посещения группы старшего возраста"]
["Стартовая диагностика",{"$nulls":3},"ГРУППА ПОДГОТОВИТЕЛЬНОГО К ШКОЛЕ ВОЗРАСТА (6-7 лет)",null,null,"Период проведения - начало уч. года (сентябрь) или начало посещения группы подготовительного к школе возраста"]
["*- не диагностируется в данном возрасте"]
["Сформированность показателя",{"$nulls":3},"«2» показатель сформирован",null,"«1» показатель в стадии формирования","«0» показатель не сформирован"]
["Средний уровень",{"$nulls":3},"1,8 - 2,0 норма-высокий",null,"1,0 - 1,7 норма - средний","0,0 - 0,9 ниже нормы"]
["№","Ф.И. ребенка",null,null,"ОБРАЗОВАТЕЛЬНАЯ ОБЛАСТЬ «СОЦИАЛЬНО-КОММУНИКАТИВНОЕ  РАЗВИТИЕ»",{"$nulls":8},"СРЕДНИЙ ПОКАЗАТЕЛЬ ПО РЕБЕНКУ"]
[{"$nulls":4},"Показатели возможных достижений (возрастные характеристики) к 6 годам"]
[{"$nulls":4},"Область формирования основ гражданственности и патриотизма",null,null,"Сфера трудового воспитания",{"$nulls":4},"Область формирования основ безопасного поведения"]
[{"$nulls":4},"Ребенок имеет представление о государственных символах России (герб, гимн, флаг)","Ребенок имеет представление о государственных праздниках России","Ребенок знает/может назвать/показать на картинке и в естественной среде достопримечательности населенного пункта, в котором живет","Ребенок имеет представления о разных видах производительного труда (промышленность, строительство, сельское хозяйство)","Ребенок имеет представления о разных видах обслуживающего труда (сфера досуга и отдыха, сфера культуры, медицина, торговля)","Ребенок имеет представление о структуре трудового процесса (мотив, цель, инструменты, оборудование, содержание действий, выбор трудовых действий, результат)","Ребенок имеет элементарные экономические представления (назначение рекламы, денег)","Ребенок охотно участвует в выполнении трудовых поручений, дежурстве; может распределять трудовые обязанности с другими","Ребенок имеет представления/ соблюдает правила поведения в быту, на улице, в природе, в общении с людьми, с животными"]
[]
[1,{"$f":"Список!B4","v":0},{"$nulls":11},{"$f":"AVERAGE(E11:M11)","v":{"$error":"#DIV/0!"}}]
[2,{"$f":"Список!B5","v":0},{"$nulls":11},{"$error":"#DIV/0!"}]
[3,{"$f":"Список!B6","v":0},{"$nulls":11},{"$error":"#DIV/0!"}]
[4,{"$f":"Список!B7","v":0},{"$nulls":11},{"$error":"#DIV/0!"}]
[5,{"$f":"Список!B8","v":0},{"$nulls":11},{"$error":"#DIV/0!"}]
[6,{"$f":"Список!B9","v":0},{"$nulls":11},{"$error":"#DIV/0!"}]
[7,{"$f":"Список!B10","v":0},{"$nulls":11},{"$error":"#DIV/0!"}]
[8,{"$f":"Список!B11","v":0},{"$nulls":11},{"$error":"#DIV/0!"}]
[9,{"$f":"Список!B12","v":0},{"$nulls":11},{"$error":"#DIV/0!"}]
[10,{"$f":"Список!B13","v":0},{"$nulls":11},{"$error":"#DIV/0!"}]
[11,{"$f":"Список!B14","v":0},{"$nulls":11},{"$error":"#DIV/0!"}]
[12,{"$f":"Список!B15","v":0},{"$nulls":11},{"$error":"#DIV/0!"}]
[13,{"$f":"Список!B16","v":0},{"$nulls":11},{"$error":"#DIV/0!"}]
[14,{"$f":"Список!B17","v":0},{"$nulls":11},{"$error":"#DIV/0!"}]
[15,{"$f":"Список!B18","v":0},{"$nulls":11},{"$error":"#DIV/0!"}]
[16,{"$f":"Список!B19","v":0},{"$nulls":11},{"$error":"#DIV/0!"}]
[17,{"$f":"Список!B20","v":0},{"$nulls":11},{"$error":"#DIV/0!"}]
[18,{"$f":"Список!B21","v":0},{"$nulls":11},{"$error":"#DIV/0!"}]
[19,{"$f":"Список!B22","v":0},{"$nulls":11},{"$error":"#DIV/0!"}]
[20,{"$f":"Список!B23","v":0},{"$nulls":11},{"$error":"#DIV/0!"}]
[21,{"$f":"Список!B24","v":0},{"$nulls":11},{"$error":"#DIV/0!"}]
[22,{"$f":"Список!B25","v":0},{"$nulls":11},{"$error":"#DIV/0!"}]
[23,{"$f":"Список!B26","v":0},{"$nulls":11},{"$error":"#DIV/0!"}]
[24,{"$f":"Список!B27","v":0},{"$nulls":11},{"$error":"#DIV/0!"}]
[25,{"$f":"Список!B28","v":0},{"$nulls":11},{"$error":"#DIV/0!"}]
[26,{"$f":"Список!B29","v":0},{"$nulls":11},{"$error":"#DIV/0!"}]
[27,{"$f":"Список!B30","v":0},{"$nulls":11},{"$error":"#DIV/0!"}]
[28,{"$f":"Список!B31","v":0},{"$nulls":11},{"$error":"#DIV/0!"}]
[29,{"$f":"Список!B32","v":0},{"$nulls":11},{"$error":"#DIV/0!"}]
[30,{"$f":"Список!B33","v":0},{"$nulls":11},{"$error":"#DIV/0!"}]
[null,"СРЕДНИЙ ПОКАЗАТЕЛЬ ПО ГРУППЕ",{"$nulls":11},{"$f":"AVERAGE(N11:N40)","v":{"$error":"#DIV/0!"}}]
[null,"среднее по критерию",null,null,{"$f":"AVERAGE(E11:E40)","v":{"$error":"#DIV/0!"}},{"$f":"AVERAGE(F11:F40)","v":{"$error":"#DIV/0!"}},{"$error":"#DIV/0!"},{"$error":"#DIV/0!"},{"$error":"#DIV/0!"},{"$error":"#DIV/0!"},{"$error":"#DIV/0!"},{"$error":"#DIV/0!"},{"$error":"#DIV/0!"}]
[null,"среднее по разделу",null,null,{"$f":"(E42+F42+G42)/3","v":{"$error":"#DIV/0!"}},null,null,{"$f":"(H42+I42+J42+K42+L42)/5","v":{"$error":"#DIV/0!"}},{"$nulls":4},{"$f":"M42","v":{"$error":"#DIV/0!"}}]
[null,"Ф.И.О, должность специалиста(ов)____________________________________________________________________________________________________________________________________________________________________________________________________________________________________"]
[null,"© Автор-составитель Кулекина И.А., СПБ, 2023"]
[]
[]
[null,"Область формирования основ гражданственности и патриотизма",null,null,{"$f":"E43","v":{"$error":"#DIV/0!"}}]
[null,"сфера трудового воспитания",null,null,{"$f":"H43","v":{"$error":"#DIV/0!"}}]
[null,"Область формирования основ безопасного поведения",null,null,{"$f":"M43","v":{"$error":"#DIV/0!"}}]

{"sheet":"Динамика соц-ком.разв","index":22,"n_rows":5,"n_cols":12,"rows_kept":5,"merged":[[0,0,0,11]]}
["Обобщение результатов педагогической диагностики по ОО \"Социально-коммуникативное  развитие\". Старшая группа"]
[]
[null,"отношене к самому себе","отношение к сверстникам","отношение к взрослым","эмоции","поведение","семья","игровое поведение","Область формирования основ гражданственности и патриотизма","сфера трудового воспитания","Область формирования основ безопасного поведения","среднее по группе"]
["начало года",{"$f":"'Соц.ком.к 6г ч1. Н.г.'!E48","v":{"$error":"#DIV/0!"}},{"$f":"'Соц.ком.к 6г ч1. Н.г.'!E49","v":{"$error":"#DIV/0!"}},{"$f":"'Соц.ком.к 6г ч1. Н.г.'!E50","v":{"$error":"#DIV/0!"}},{"$f":"'Соц.ком.к 6г ч1. Н.г.'!E51","v":{"$error":"#DIV/0!"}},{"$f":"'Соц.ком.к 6г ч1. Н.г.'!E52","v":{"$error":"#DIV/0!"}},{"$f":"'Соц.ком.к 6г ч1. Н.г.'!E53","v":{"$error":"#DIV/0!"}},{"$f":"'Соц.ком.к 6г ч1. Н.г.'!E54","v":{"$error":"#DIV/0!"}},{"$f":"'Соц.ком. к 6г ч2. Н.г.'!E48","v":{"$error":"#DIV/0!"}},{"$f":"'Соц.ком. к 6г ч2. Н.г.'!E49","v":{"$error":"#DIV/0!"}},{"$f":"'Соц.ком. к 6г ч2. Н.г.'!E50","v":{"$error":"#DIV/0!"}},{"$f":"AVERAGE(B4:K4)","v":{"$error":"#DIV/0!"}}]
["конец года",{"$f":"'Соц.ком.к 6г ч1. К.г. '!$E$48","v":{"$error":"#DIV/0!"}},{"$f":"'Соц.ком.к 6г ч1. К.г. '!$E$49","v":{"$error":"#DIV/0!"}},{"$f":"'Соц.ком.к 6г ч1. К.г. '!$E$50","v":{"$error":"#DIV/0!"}},{"$f":"'Соц.ком.к 6г ч1. К.г. '!$E$51","v":{"$error":"#DIV/0!"}},{"$f":"'Соц.ком.к 6г ч1. К.г. '!$E$52","v":{"$error":"#DIV/0!"}},{"$f":"'Соц.ком.к 6г ч1. К.г. '!$E$53","v":{"$error":"#DIV/0!"}},{"$f":"'Соц.ком.к 6г ч1. К.г. '!$E$54","v":{"$error":"#DIV/0!"}},{"$f":"'Соц.ком. к 6г ч2 К.г.'!$E$48","v":{"$error":"#DIV/0!"}},{"$f":"'Соц.ком. к 6г ч2 К.г.'!$E$49","v":{"$error":"#DIV/0!"}},{"$f":"'Соц.ком. к 6г ч2 К.г.'!$E$50","v":{"$error":"#DIV/0!"}},{"$f":"AVERAGE(B5:K5)","v":{"$error":"#DIV/0!"}}]

{"sheet":"Физ.разв. к 6г ч1. Н.г.","index":23,"n_rows":56,"n_cols":25,"rows_kept":56,"merged":[[0,0,0,1],[0,4,0,8],[0,9,0,13],[1,0,1,3],[1,4,1,8],[1,9,1,16],[2,0,2,3],[3,0,3,1],[3,4,3,7],[3,8,3,10],[3,11,3,13],[4,0,4,1],[4,4,4,7],[4,8,4,9],[4,11,4,13],[5,0,10,0],[5,1,10,1],[5,4,5,23],[5,24,10,24],[6,4,6,23],[7,4,7,23],[8,4,8,5],[8,6,8,8],[8,9,8,11],[8,12,8,14],[8,15,8,19],[8,20,8,21],[8,22,8,23],[9,4,10,4],[9,5,10,5],[9,6,10,6],[9,7,10,7],[9,8,10,8],[9,9,9,11],[9,12,9,14],[9,15,9,19],[9,20,10,20],[9,21,10,21],[9,22,9,23],[41,1,41,23],[43,4,43,5],[43,6,43,8],[43,9,43,11],[43,12,43,14],[43,15,43,19],[43,20,43,21],[43,22,43,23],[44,1,44,24],[45,1,45,24]]}
["Финальная диагностика",{"$nulls":3},"ГРУППА СТАРШЕГО ВОЗРАСТА (5-6 лет)",{"$nulls":4},"Период проведения - окончание посещения группы старшего возраста"]
["Стартовая диагностика",{"$nulls":3},"ГРУППА ПОДГОТОВИТЕЛЬНОГО К ШКОЛЕ ВОЗРАСТА (6-7 лет)",{"$nulls":4},"Период проведения - начало уч. года (сентябрь) или начало посещения группы подготовительного к школе возраста"]
["*- не диагностируется в данном возрасте"]
["Сформированность показателя",{"$nulls":3},"«2» показатель сформирован",{"$nulls":3},"«1» показатель в стадии формирования",null,null,"«0» показатель не сформирован"]
["Средний уровень",{"$nulls":3},"1,8 - 2,0 норма-высокий",{"$nulls":3},"1,0 - 1,7 норма - средний",null,null,"0,0 - 0,9 ниже нормы"]
["№","Ф.И. ребенка",null,null,"ОБРАЗОВАТЕЛЬНАЯ ОБЛАСТЬ «ФИЗИЧЕСКОЕ РАЗВИТИЕ»",{"$nulls":19},"СРЕДНИЙ ПОКАЗАТЕЛЬ ПО РЕБЕНКУ"]
[{"$nulls":4},"Показатели возможных достижений (возрастные характеристики) к 6 годам"]
[{"$nulls":4},"Крупная моторика. ОВД, ОРУ"]
[{"$nulls":4},"Бросание, катание, ловля, метание",null,"Ползанье, лазанье",null,null,"Ходьба",null,null,"Бег",null,null,"Прыжки",{"$nulls":4},"Равновесие",null,"Строевые упражнения"]
[{"$nulls":4},"Ребенок выполняет различные упражнения с мячом (прокатывание, передача, перебрасывание, ведение, подбрасывание, ловля, забрасывание)","Ребенок выполняет метание в цель, метание в даль предметов разной массы","Ребенок выполняет ползанье разными способами (на четвереньках, на животе)","Ребенок выполняет переползание через несколько предметов подряд, под дугами, в туннеле","Ребенок выполняет лазанье по гимнастической стенке чередующимся шагом","Ребенок выполняет различные виды ходьбы",null,null,"Ребенок выполняет различные виды бега",null,null,"Ребенок выполняет различные виды прыжков",{"$nulls":4},"Ребенок выполняет стойку на одной ноге ","Ребенок выполняет упражнение \"ласточка\" ","Ребенок выполняет различные виды строевых упражнений"]
[{"$nulls":9},"обычным шагом, на носках, на пятках, с высоким подниманием колен","приставной, в полуприседе, мелким и широким, перекатом с пятки на носок, гимнастическим","змейкой без ориентиров, в колонне по одному и по два","в колонне по одному, змейкой, с перестроением на ходу в пары, звенья","со сменой ведущих, с пролезанием в обруч, с ловлей и увертыванием, высоко поднимая колени","между расставленными предметами, в заданном темпе, мелким и широким шагом","подпрыгивание, перепрыгивание, спрыгивание","в длину с места","в высоту с разбега","в длину с разбега","со скакалкой",null,null,"построения (по росту, в колонну по одному, в шеренгу, в круг)","в колонну по три, в две шеренги на месте, расхождение из колонны в разные стороны"]
[1,{"$f":"Список!B4","v":0},{"$nulls":22},{"$f":"AVERAGE(H12:X12)","v":{"$error":"#DIV/0!"}}]
[2,{"$f":"Список!B5","v":0},{"$nulls":22},{"$error":"#DIV/0!"}]
[3,{"$f":"Список!B6","v":0},{"$nulls":22},{"$error":"#DIV/0!"}]
[4,{"$f":"Список!B7","v":0},{"$nulls":22},{"$error":"#DIV/0!"}]
[5,{"$f":"Список!B8","v":0},{"$nulls":22},{"$error":"#DIV/0!"}]
[6,{"$f":"Список!B9","v":0},{"$nulls":22},{"$error":"#DIV/0!"}]
[7,{"$f":"Список!B10","v":0},{"$nulls":22},{"$error":"#DIV/0!"}]
[8,{"$f":"Список!B11","v":0},{"$nulls":22},{"$error":"#DIV/0!"}]
[9,{"$f":"Список!B12","v":0},{"$nulls":22},{"$error":"#DIV/0!"}]
[10,{"$f":"Список!B13","v":0},{"$nulls":22},{"$error":"#DIV/0!"}]
[11,{"$f":"Список!B14","v":0},{"$nulls":22},{"$error":"#DIV/0!"}]
[12,{"$f":"Список!B15","v":0},{"$nulls":22},{"$error":"#DIV/0!"}]
[13,{"$f":"Список!B16","v":0},{"$nulls":22},{"$error":"#DIV/0!"}]
[14,{"$f":"Список!B17","v":0},{"$nulls":22},{"$error":"#DIV/0!"}]
[15,{"$f":"Список!B18","v":0},{"$nulls":22},{"$error":"#DIV/0!"}]
[16,{"$f":"Список!B19","v":0},{"$nulls":22},{"$error":"#DIV/0!"}]
[17,{"$f":"Список!B20","v":0},{"$nulls":22},{"$error":"#DIV/0!"}]
[18,{"$f":"Список!B21","v":0},{"$nulls":22},{"$error":"#DIV/0!"}]
[19,{"$f":"Список!B22","v":0},{"$nulls":22},{"$error":"#DIV/0!"}]
[20,{"$f":"Список!B23","v":0},{"$nulls":22},{"$error":"#DIV/0!"}]
[21,{"$f":"Список!B24","v":0},{"$nulls":22},{"$error":"#DIV/0!"}]
[22,{"$f":"Список!B25","v":0},{"$nulls":22},{"$error":"#DIV/0!"}]
[23,{"$f":"Список!B26","v":0},{"$nulls":22},{"$error":"#DIV/0!"}]
[24,{"$f":"Список!B27","v":0},{"$nulls":22},{"$error":"#DIV/0!"}]
[25,{"$f":"Список!B28","v":0},{"$nulls":22},{"$error":"#DIV/0!"}]
[26,{"$f":"Список!B29","v":0},{"$nulls":22},{"$error":"#DIV/0!"}]
[27,{"$f":"Список!B30","v":0},{"$nulls":22},{"$error":"#DIV/0!"}]
[28,{"$f":"Список!B31","v":0},{"$nulls":22},{"$error":"#DIV/0!"}]
[29,{"$f":"Список!B32","v":0},{"$nulls":22},{"$error":"#DIV/0!"}]
[30,{"$f":"Список!B33","v":0},{"$nulls":22},{"$error":"#DIV/0!"}]
[null,"СРЕДНИЙ ПОКАЗАТЕЛЬ ПО ГРУППЕ",{"$nulls":22},{"$f":"AVERAGE(Y12:Y41)","v":{"$error":"#DIV/0!"}}]
[null,"среднее по критерию",null,null,{"$f":"AVERAGE(E12:E41)","v":{"$error":"#DIV/0!"}},{"$f":"AVERAGE(F12:F41)","v":{"$error":"#DIV/0!"}},{"$error":"#DIV/0!"},{"$error":"#DIV/0!"},{"$error":"#DIV/0!"},{"$error":"#DIV/0!"},{"$error":"#DIV/0!"},{"$error":"#DIV/0!"},{"$error":"#DIV/0!"},{"$error":"#DIV/0!"},{"$error":"#DIV/0!"},{"$error":"#DIV/0!"},{"$error":"#DIV/0!"},{"$error":"#DIV/0!"},{"$error":"#DIV/0!"},{"$error":"#DIV/0!"},{"$error":"#DIV/0!"},{"$error":"#DIV/0!"},{"$error":"#DIV/0!"},{"$error":"#DIV/0!"}]
[null,"среднее по разделу",null,null,{"$f":"(E43+F43)/2","v":{"$error":"#DIV/0!"}},null,{"$f":"(G43+H43+I43)/3","v":{"$error":"#DIV/0!"}},null,null,{"$f":"(J43+K43+L43)/3","v":{"$error":"#DIV/0!"}},null,null,{"$f":"(M43+N43+O43)/3","v":{"$error":"#DIV/0!"}},null,null,{"$f":"(P43+Q43+R43+S43+T43)/5","v":{"$error":"#DIV/0!"}},{"$nulls":4},{"$f":"(U43+V43)/2","v":{"$error":"#DIV/0!"}},null,{"$f":"(W43+X43)/2","v":{"$error":"#DIV/0!"}}]
[null,"Ф.И.О, должность специалиста(ов)____________________________________________________________________________________________________________________________________________________________________________________________________________________________________"]
[null,"© Автор-составитель Кулекина И.А., СПБ, 2023"]
[]
[]
[]
[null,"бросание, катание, ловля, метание",null,null,{"$f":"E44","v":{"$error":"#DIV/0!"}}]
[null,"ползанье, лазанье",null,null,{"$f":"G44","v":{"$error":"#DIV/0!"}}]
[null,"ходьба",null,null,{"$f":"J44","v":{"$error":"#DIV/0!"}}]
[null,"бег",null,null,{"$f":"M44","v":{"$error":"#DIV/0!"}}]
[null,"прыжки",null,null,{"$f":"P44","v":{"$error":"#DIV/0!"}}]
[null,"равновесие",null,null,{"$f":"U44","v":{"$error":"#DIV/0!"}}]
[null,"строевые упражнения",null,null,{"$f":"W44","v":{"$error":"#DIV/0!"}}]

{"sheet":"Физ.разв. к 6г ч1. К.г. ","index":24,"n_rows":56,"n_cols":25,"rows_kept":56,"merged":[[0,0,0,1],[0,4,0,8],[0,9,0,13],[1,0,1,3],[1,4,1,8],[1,9,1,16],[2,0,2,3],[3,0,3,1],[3,4,3,7],[3,8,3,10],[3,11,3,13],[4,0,4,1],[4,4,4,7],[4,8,4,9],[4,11,4,13],[5,0,10,0],[5,1,10,1],[5,4,5,23],[5,24,10,24],[6,4,6,23],[7,4,7,23],[8,4,8,5],[8,6,8,8],[8,9,8,11],[8,12,8,14],[8,15,8,19],[8,20,8,21],[8,22,8,23],[9,4,10,4],[9,5,10,5],[9,6,10,6],[9,7,10,7],[9,8,10,8],[9,9,9,11],[9,12,9,14],[9,15,9,19],[9,20,10,20],[9,21,10,21],[9,22,9,23],[41,1,41,23],[43,4,43,5],[43,6,43,8],[43,9,43,11],[43,12,43,14],[43,15,43,19],[43,20,43,21],[43,22,43,23],[44,1,44,24],[45,1,45,24]]}
["Финальная диагностика",{"$nulls":3},"ГРУППА СТАРШЕГО ВОЗРАСТА (5-6 лет)",{"$nulls":4},"Период проведения - окончание посещения группы старшего возраста"]
["Стартовая диагностика",{"$nulls":3},"ГРУППА ПОДГОТОВИТЕЛЬНОГО К ШКОЛЕ ВОЗРАСТА (6-7 лет)",{"$nulls":4},"Период проведения - начало уч. года (сентябрь) или начало посещения группы подготовительного к школе возраста"]
["*- не диагностируется в данном возрасте"]
["Сформированность показателя",{"$nulls":3},"«2» показатель сформирован",{"$nulls":3},"«1» показатель в стадии формирования",null,null,"«0» показатель не сформирован"]
["Средний уровень",{"$nulls":3},"1,8 - 2,0 норма-высокий",{"$nulls":3},"1,0 - 1,7 норма - средний",null,null,"0,0 - 0,9 ниже нормы"]
["№","Ф.И. ребенка",null,null,"ОБРАЗОВАТЕЛЬНАЯ ОБЛАСТЬ «ФИЗИЧЕСКОЕ РАЗВИТИЕ»",{"$nulls":19},"СРЕДНИЙ ПОКАЗАТЕЛЬ ПО РЕБЕНКУ"]
[{"$nulls":4},"Показатели возможных достижений (возрастные характеристики) к 6 годам"]
[{"$nulls":4},"Крупная моторика. ОВД, ОРУ"]
[{"$nulls":4},"Бросание, катание, ловля, метание",null,"Ползанье, лазанье",null,null,"Ходьба",null,null,"Бег",null,null,"Прыжки",{"$nulls":4},"Равновесие",null,"Строевые упражнения"]
[{"$nulls":4},"Ребенок выполняет различные упражнения с мячом (прокатывание, передача, перебрасывание, ведение, подбрасывание, ловля, забрасывание)","Ребенок выполняет метание в цель, метание в даль предметов разной массы","Ребенок выполняет ползанье разными способами (на четвереньках, на животе)","Ребенок выполняет переползание через несколько предметов подряд, под дугами, в туннеле","Ребенок выполняет лазанье по гимнастической стенке чередующимся шагом","Ребенок выполняет различные виды ходьбы",null,null,"Ребенок выполняет различные виды бега",null,null,"Ребенок выполняет различные виды прыжков",{"$nulls":4},"Ребенок выполняет стойку на одной ноге ","Ребенок выполняет упражнение \"ласточка\" ","Ребенок выполняет различные виды строевых упражнений"]
[{"$nulls":9},"обычным шагом, на носках, на пятках, с высоким подниманием колен","приставной, в полуприседе, мелким и широким, перекатом с пятки на носок, гимнастическим","змейкой без ориентиров, в колонне по одному и по два","в колонне по одному, змейкой, с перестроением на ходу в пары, звенья","со сменой ведущих, с пролезанием в обруч, с ловлей и увертыванием, высоко поднимая колени","между расставленными предметами, в заданном темпе, мелким и широким шагом","подпрыгивание, перепрыгивание, спрыгивание","в длину с места","в высоту с разбега","в длину с разбега","со скакалкой",null,null,"построения (по росту, в колонну по одному, в шеренгу, в круг)","в колонну по три, в две шеренги на месте, расхождение из колонны в разные стороны"]
[1,{"$f":"Список!B4","v":0},{"$nulls":22},{"$f":"AVERAGE(H12:X12)","v":{"$error":"#DIV/0!"}}]
[2,{"$f":"Список!B5","v":0},{"$nulls":22},{"$error":"#DIV/0!"}]
[3,{"$f":"Список!B6","v":0},{"$nulls":22},{"$error":"#DIV/0!"}]
[4,{"$f":"Список!B7","v":0},{"$nulls":22},{"$error":"#DIV/0!"}]
[5,{"$f":"Список!B8","v":0},{"$nulls":22},{"$error":"#DIV/0!"}]
[6,{"$f":"Список!B9","v":0},{"$nulls":22},{"$error":"#DIV/0!"}]
[7,{"$f":"Список!B10","v":0},{"$nulls":22},{"$error":"#DIV/0!"}]
[8,{"$f":"Список!B11","v":0},{"$nulls":22},{"$error":"#DIV/0!"}]
[9,{"$f":"Список!B12","v":0},{"$nulls":22},{"$error":"#DIV/0!"}]
[10,{"$f":"Список!B13","v":0},{"$nulls":22},{"$error":"#DIV/0!"}]
[11,{"$f":"Список!B14","v":0},{"$nulls":22},{"$error":"#DIV/0!"}]
[12,{"$f":"Список!B15","v":0},{"$nulls":22},{"$error":"#DIV/0!"}]
[13,{"$f":"Список!B16","v":0},{"$nulls":22},{"$error":"#DIV/0!"}]
[14,{"$f":"Список!B17","v":0},{"$nulls":22},{"$error":"#DIV/0!"}]
[15,{"$f":"Список!B18","v":0},{"$nulls":22},{"$error":"#DIV/0!"}]
[16,{"$f":"Список!B19","v":0},{"$nulls":22},{"$error":"#DIV/0!"}]
[17,{"$f":"Список!B20","v":0},{"$nulls":22},{"$error":"#DIV/0!"}]
[18,{"$f":"Список!B21","v":0},{"$nulls":22},{"$error":"#DIV/0!"}]
[19,{"$f":"Список!B22","v":0},{"$nulls":22},{"$error":"#DIV/0!"}]
[20,{"$f":"Список!B23","v":0},{"$nulls":22},{"$error":"#DIV/0!"}]
[21,{"$f":"Список!B24","v":0},{"$nulls":22},{"$error":"#DIV/0!"}]
[22,{"$f":"Список!B25","v":0},{"$nulls":22},{"$error":"#DIV/0!"}]
[23,{"$f":"Список!B26","v":0},{"$nulls":22},{"$error":"#DIV/0!"}]
[24,{"$f":"Список!B27","v":0},{"$nulls":22},{"$error":"#DIV/0!"}]
[25,{"$f":"Список!B28","v":0},{"$nulls":22},{"$error":"#DIV/0!"}]
[26,{"$f":"Список!B29","v":0},{"$nulls":22},{"$error":"#DIV/0!"}]
[27,{"$f":"Список!B30","v":0},{"$nulls":22},{"$error":"#DIV/0!"}]
[28,{"$f":"Список!B31","v":0},{"$nulls":22},{"$error":"#DIV/0!"}]
[29,{"$f":"Список!B32","v":0},{"$nulls":22},{"$error":"#DIV/0!"}]
[30,{"$f":"Список!B33","v":0},{"$nulls":22},{"$error":"#DIV/0!"}]
[null,"СРЕДНИЙ ПОКАЗАТЕЛЬ ПО ГРУППЕ",{"$nulls":22},{"$f":"AVERAGE(Y12:Y41)","v":{"$error":"#DIV/0!"}}]
[null,"среднее по критерию",null,null,{"$f":"AVERAGE(E12:E41)","v":{"$error":"#DIV/0!"}},{"$f":"AVERAGE(F12:F41)","v":{"$error":"#DIV/0!"}},{"$error":"#DIV/0!"},{"$error":"#DIV/0!"},{"$error":"#DIV/0!"},{"$error":"#DIV/0!"},{"$error":"#DIV/0!"},{"$error":"#DIV/0!"},{"$error":"#DIV/0!"},{"$error":"#DIV/0!"},{"$error":"#DIV/0!"},{"$error":"#DIV/0!"},{"$error":"#DIV/0!"},{"$error":"#DIV/0!"},{"$error":"#DIV/0!"},{"$error":"#DIV/0!"},{"$error":"#DIV/0!"},{"$error":"#DIV/0!"},{"$error":"#DIV/0!"},{"$error":"#DIV/0!"}]
[null,"среднее по разделу",null,null,{"$f":"(E43+F43)/2","v":{"$error":"#DIV/0!"}},null,{"$f":"(G43+H43+I43)/3","v":{"$error":"#DIV/0!"}},null,null,{"$f":"(J43+K43+L43)/3","v":{"$error":"#DIV/0!"}},null,null,{"$f":"(M43+N43+O43)/3","v":{"$error":"#DIV/0!"}},null,null,{"$f":"(P43+Q43+R43+S43+T43)/5","v":{"$error":"#DIV/0!"}},{"$nulls":4},{"$f":"(U43+V43)/2","v":{"$error":"#DIV/0!"}},null,{"$f":"(W43+X43)/2","v":{"$error":"#DIV/0!"}}]
[null,"Ф.И.О, должность специалиста(ов)____________________________________________________________________________________________________________________________________________________________________________________________________________________________________"]
[null,"© Автор-составитель Кулекина И.А., СПБ, 2023"]
[]
[]
[]
[null,"бросание, катание, ловля, метание",null,null,{"$f":"E44","v":{"$error":"#DIV/0!"}}]
[null,"ползанье, лазанье",null,null,{"$f":"G44","v":{"$error":"#DIV/0!"}}]
[null,"ходьба",null,null,{"$f":"J44","v":{"$error":"#DIV/0!"}}]
[null,"бег",null,null,{"$f":"M44","v":{"$error":"#DIV/0!"}}]
[null,"прыжки",null,null,{"$f":"P44","v":{"$error":"#DIV/0!"}}]
[null,"равновесие",null,null,{"$f":"U44","v":{"$error":"#DIV/0!"}}]
[null,"строевые упражнения",null,null,{"$f":"W44","v":{"$error":"#DIV/0!"}}]

{"sheet":"Физ.разв. к 6г ч2. Н.г.","index":25,"n_rows":56,"n_cols":26,"rows_kept":56,"merged":[[0,0,0,1],[0,5,0,9],[0,10,0,14],[1,0,1,3],[1,5,1,9],[1,10,1,17],[2,0,2,3],[3,0,3,1],[3,5,3,6],[3,7,3,9],[3,10,3,12],[4,0,4,1],[4,5,4,6],[4,7,4,9],[4,10,4,12],[5,0,11,0],[5,1,11,1],[5,4,5,24],[5,25,11,25],[6,4,6,24],[7,4,7,9],[7,10,7,13],[7,14,7,16],[7,17,7,19],[7,21,7,24],[8,4,8,5],[8,6,8,9],[8,10,9,10],[8,11,9,11],[8,12,9,12],[8,13,9,13],[8,14,11,14],[8,15,11,15],[8,16,11,16],[8,17,11,17],[8,18,11,18],[8,19,11,19],[8,20,11,20],[8,21,8,24],[9,4,11,4],[9,5,11,5],[9,6,11,6],[9,7,11,7],[9,8,11,8],[9,9,11,9],[9,21,11,21],[9,22,11,22],[9,23,11,23],[9,24,11,24],[10,10,11,10],[10,11,11,11],[10,12,11,12],[10,13,11,13],[42,1,42,24],[44,4,44,5],[44,6,44,9],[44,10,44,13],[44,14,44,16],[44,17,44,19],[44,21,44,24],[45,1,45,25],[46,1,46,25]]}
["Финальная диагностика",{"$nulls":4},"ГРУППА СТАРШЕГО ВОЗРАСТА (5-6 лет)",{"$nulls":4},"Период проведения - окончание посещения группы старшего возраста"]
["Стартовая диагностика",{"$nulls":4},"ГРУППА ПОДГОТОВИТЕЛЬНОГО К ШКОЛЕ ВОЗРАСТА (6-7 лет)",{"$nulls":4},"Период проведения - начало уч. года (сентябрь) или начало посещения группы подготовительного к школе возраста"]
["*- не диагностируется в данном возрасте"]
["Сформированность показателя",{"$nulls":4},"«2» показатель сформирован",null,"«1» показатель в стадии формирования",null,null,"«0» показатель не сформирован"]
["Средний уровень",{"$nulls":4},"1,8 - 2,0 норма-высокий",null,"1,0 - 1,7 норма - средний",null,null,"0,0 - 0,9 ниже нормы"]
["№","Ф.И. ребенка",null,null,"ОБРАЗОВАТЕЛЬНАЯ ОБЛАСТЬ «ФИЗИЧЕСКОЕ  РАЗВИТИЕ»",{"$nulls":20},"СРЕДНИЙ ПОКАЗАТЕЛЬ ПО РЕБЕНКУ"]
[{"$nulls":4},"Показатели возможных достижений (возрастные характеристики) к 6 годам"]
[{"$nulls":4},"Мелкая моторика",{"$nulls":5},"КГН",{"$nulls":3},"ЗОЖ",null,null,"Подвижные игры",null,null,"Спорт. игры","Спортивные упражнения"]
[{"$nulls":4},"Координация рук и глаз",null,"Графические навыки",{"$nulls":3},"Навыки соблюдения чистоты тела (правила личной гигиены)","Навыки культуры еды (прием пищи) ","Навыки поддержания порядка (правила поведения в быту) ","Навыки ухода за собой (одевание, раздевание) ","Ребенок имеет представление о факторах, положительно/негативно влияющих на здоровье; владеет основными способами укрепления здоровья","Ребенок имеет представление о некоторых видах спорта (9 и больше), роли спорта для укрепления здоровья","Ребенок проявляет заботливое отношение к своему здоровью и здоровью окружающих","Ребенок проявляет доступный возрасту самоконтроль","Ребенок  способен привлечь внимание других детей и организовать знакомую подвижную игру","Ребенок придумывает новые варианты игр, комбинирует движения","Ребенок имеет представление об элементах спортивных игр (городки, баскетбол, бадминтон, футбол), умеет выполнять некоторые виды движений","Ребенок умеет кататься"]
[{"$nulls":4},"Ребенок может найти выход из лабиринта","Ребенок может нарисовать простой узор, изображение, не отрывая руки","Ребенок может повторить узор с чередующимися элементами","Ребенок закрашивает контурное изображение с множеством мелких деталей, не выходя за контур","Ребенок может соединить точки для получения изображения","Ребенок рисует геометрический орнамент по клеткам",{"$nulls":11},"на санках","на лыжах","на двухколесном велосипеде","на самокате"]
[{"$nulls":10},"Ребенок выполняет самостоятельно","Ребенок выполняет самостоятельно","Ребенок выполняет самостоятельно","Ребенок выполняет самостоятельно"]
[]
[1,{"$f":"Список!B4","v":0},{"$nulls":23},{"$f":"AVERAGE(E13:Y13)","v":{"$error":"#DIV/0!"}}]
[2,{"$f":"Список!B5","v":0},{"$nulls":23},{"$error":"#DIV/0!"}]
[3,{"$f":"Список!B6","v":0},{"$nulls":23},{"$error":"#DIV/0!"}]
[4,{"$f":"Список!B7","v":0},{"$nulls":23},{"$error":"#DIV/0!"}]
[5,{"$f":"Список!B8","v":0},{"$nulls":23},{"$error":"#DIV/0!"}]
[6,{"$f":"Список!B9","v":0},{"$nulls":23},{"$error":"#DIV/0!"}]
[7,{"$f":"Список!B10","v":0},{"$nulls":23},{"$error":"#DIV/0!"}]
[8,{"$f":"Список!B11","v":0},{"$nulls":23},{"$error":"#DIV/0!"}]
[9,{"$f":"Список!B12","v":0},{"$nulls":23},{"$error":"#DIV/0!"}]
[10,{"$f":"Список!B13","v":0},{"$nulls":23},{"$error":"#DIV/0!"}]
[11,{"$f":"Список!B14","v":0},{"$nulls":23},{"$error":"#DIV/0!"}]
[12,{"$f":"Список!B15","v":0},{"$nulls":23},{"$error":"#DIV/0!"}]
[13,{"$f":"Список!B16","v":0},{"$nulls":23},{"$error":"#DIV/0!"}]
[14,{"$f":"Список!B17","v":0},{"$nulls":23},{"$error":"#DIV/0!"}]
[15,{"$f":"Список!B18","v":0},{"$nulls":23},{"$error":"#DIV/0!"}]
[16,{"$f":"Список!B19","v":0},{"$nulls":23},{"$error":"#DIV/0!"}]
[17,{"$f":"Список!B20","v":0},{"$nulls":23},{"$error":"#DIV/0!"}]
[18,{"$f":"Список!B21","v":0},{"$nulls":23},{"$error":"#DIV/0!"}]
[19,{"$f":"Список!B22","v":0},{"$nulls":23},{"$error":"#DIV/0!"}]
[20,{"$f":"Список!B23","v":0},{"$nulls":23},{"$error":"#DIV/0!"}]
[21,{"$f":"Список!B24","v":0},{"$nulls":23},{"$error":"#DIV/0!"}]
[22,{"$f":"Список!B25","v":0},{"$nulls":23},{"$error":"#DIV/0!"}]
[23,{"$f":"Список!B26","v":0},{"$nulls":23},{"$error":"#DIV/0!"}]
[24,{"$f":"Список!B27","v":0},{"$nulls":23},{"$error":"#DIV/0!"}]
[25,{"$f":"Список!B28","v":0},{"$nulls":23},{"$error":"#DIV/0!"}]
[26,{"$f":"Список!B29","v":0},{"$nulls":23},{"$error":"#DIV/0!"}]
[27,{"$f":"Список!B30","v":0},{"$nulls":23},{"$error":"#DIV/0!"}]
[28,{"$f":"Список!B31","v":0},{"$nulls":23},{"$error":"#DIV/0!"}]
[29,{"$f":"Список!B32","v":0},{"$nulls":23},{"$error":"#DIV/0!"}]
[30,{"$f":"Список!B33","v":0},{"$nulls":23},{"$error":"#DIV/0!"}]
[null,"СРЕДНИЙ ПОКАЗАТЕЛЬ ПО ГРУППЕ",{"$nulls":23},{"$f":"AVERAGE(Z13:Z42)","v":{"$error":"#DIV/0!"}}]
[null,"среднее по критерию",null,null,{"$f":"AVERAGE(E13:E42)","v":{"$error":"#DIV/0!"}},{"$f":"AVERAGE(F13:F42)","v":{"$error":"#DIV/0!"}},{"$error":"#DIV/0!"},{"$error":"#DIV/0!"},{"$error":"#DIV/0!"},{"$error":"#DIV/0!"},{"$error":"#DIV/0!"},{"$error":"#DIV/0!"},{"$error":"#DIV/0!"},{"$error":"#DIV/0!"},{"$error":"#DIV/0!"},{"$error":"#DIV/0!"},{"$error":"#DIV/0!"},{"$error":"#DIV/0!"},{"$error":"#DIV/0!"},{"$error":"#DIV/0!"},{"$error":"#DIV/0!"},{"$error":"#DIV/0!"},{"$error":"#DIV/0!"},{"$error":"#DIV/0!"},{"$error":"#DIV/0!"}]
[null,"среднее по разделу",null,null,{"$f":"(E44+F44)/2","v":{"$error":"#DIV/0!"}},null,{"$f":"(G44+H44+I44+J44)/4","v":{"$error":"#DIV/0!"}},{"$nulls":3},{"$f":"(K44+L44+M44+N44)/4","v":{"$error":"#DIV/0!"}},{"$nulls":3},{"$f":"(O44+P44+Q44)/3","v":{"$error":"#DIV/0!"}},null,null,{"$f":"(R44+S44+T44)/3","v":{"$error":"#DIV/0!"}},null,null,{"$f":"U44","v":{"$error":"#DIV/0!"}},{"$f":"(V44+W44+X44+Y44)/4","v":{"$error":"#DIV/0!"}}]
[null,"Ф.И.О, должность специалиста(ов)____________________________________________________________________________________________________________________________________________________________________________________________________________________________________"]
[null,"© Автор-составитель Кулекина И.А., СПБ, 2023"]
[]
[]
[null,"координация рук и глаз",null,null,{"$f":"E45","v":{"$error":"#DIV/0!"}}]
[null,"графические навыки",null,null,{"$f":"G45","v":{"$error":"#DIV/0!"}}]
[null,"КГН",null,null,{"$f":"K45","v":{"$error":"#DIV/0!"}}]
[null,"ЗОЖ",null,null,{"$f":"O45","v":{"$error":"#DIV/0!"}}]
[null,"подвижные игры",null,null,{"$f":"R45","v":{"$error":"#DIV/0!"}}]
[null,"спортивные игры",null,null,{"$f":"U45","v":{"$error":"#DIV/0!"}}]
[null,"спортивные упражнения",null,null,{"$f":"V45","v":{"$error":"#DIV/0!"}}]

{"sheet":"Физ.разв. к 6г ч2. К.г. ","index":26,"n_rows":56,"n_cols":26,"rows_kept":56,"merged":[[0,0,0,1],[0,5,0,9],[0,10,0,14],[1,0,1,3],[1,5,1,9],[1,10,1,17],[2,0,2,3],[3,0,3,1],[3,5,3,6],[3,7,3,9],[3,10,3,12],[4,0,4,1],[4,5,4,6],[4,7,4,9],[4,10,4,12],[5,0,11,0],[5,1,11,1],[5,4,5,24],[5,25,11,25],[6,4,6,24],[7,4,7,9],[7,10,7,13],[7,14,7,16],[7,17,7,19],[7,21,7,24],[8,4,8,5],[8,6,8,9],[8,10,9,10],[8,11,9,11],[8,12,9,12],[8,13,9,13],[8,14,11,14],[8,15,11,15],[8,16,11,16],[8,17,11,17],[8,18,11,18],[8,19,11,19],[8,20,11,20],[8,21,8,24],[9,4,11,4],[9,5,11,5],[9,6,11,6],[9,7,11,7],[9,8,11,8],[9,9,11,9],[9,21,11,21],[9,22,11,22],[9,23,11,23],[9,24,11,24],[10,10,11,10],[10,11,11,11],[10,12,11,12],[10,13,11,13],[42,1,42,24],[44,4,44,5],[44,6,44,9],[44,10,44,13],[44,14,44,16],[44,17,44,19],[44,21,44,24],[45,1,45,25],[46,1,46,25]]}
["Финальная диагностика",{"$nulls":4},"ГРУППА СТАРШЕГО ВОЗРАСТА (5-6 лет)",{"$nulls":4},"Период проведения - окончание посещения группы старшего возраста"]
["Стартовая диагностика",{"$nulls":4},"ГРУППА ПОДГОТОВИТЕЛЬНОГО К ШКОЛЕ ВОЗРАСТА (6-7 лет)",{"$nulls":4},"Период проведения - начало уч. года (сентябрь) или начало посещения группы подготовительного к школе возраста"]
["*- не диагностируется в данном возрасте"]
["Сформированность показателя",{"$nulls":4},"«2» показатель сформирован",null,"«1» показатель в стадии формирования",null,null,"«0» показатель не сформирован"]
["Средний уровень",{"$nulls":4},"1,8 - 2,0 норма-высокий",null,"1,0 - 1,7 норма - средний",null,null,"0,0 - 0,9 ниже нормы"]
["№","Ф.И. ребенка",null,null,"ОБРАЗОВАТЕЛЬНАЯ ОБЛАСТЬ «ФИЗИЧЕСКОЕ  РАЗВИТИЕ»",{"$nulls":20},"СРЕДНИЙ ПОКАЗАТЕЛЬ ПО РЕБЕНКУ"]
[{"$nulls":4},"Показатели возможных достижений (возрастные характеристики) к 6 годам"]
[{"$nulls":4},"Мелкая моторика",{"$nulls":5},"КГН",{"$nulls":3},"ЗОЖ",null,null,"Подвижные игры",null,null,"Спорт. игры","Спортивные упражнения"]
[{"$nulls":4},"Координация рук и глаз",null,"Графические навыки",{"$nulls":3},"Навыки соблюдения чистоты тела (правила личной гигиены)","Навыки культуры еды (прием пищи) ","Навыки поддержания порядка (правила поведения в быту) ","Навыки ухода за собой (одевание, раздевание) ","Ребенок имеет представление о факторах, положительно/негативно влияющих на здоровье; владеет основными способами укрепления здоровья","Ребенок имеет представление о некоторых видах спорта (9 и больше), роли спорта для укрепления здоровья","Ребенок проявляет заботливое отношение к своему здоровью и здоровью окружающих","Ребенок проявляет доступный возрасту самоконтроль","Ребенок  способен привлечь внимание других детей и организовать знакомую подвижную игру","Ребенок придумывает новые варианты игр, комбинирует движения","Ребенок имеет представление об элементах спортивных игр (городки, баскетбол, бадминтон, футбол), умеет выполнять некоторые виды движений","Ребенок умеет кататься"]
[{"$nulls":4},"Ребенок может найти выход из лабиринта","Ребенок может нарисовать простой узор, изображение, не отрывая руки","Ребенок может повторить узор с чередующимися элементами","Ребенок закрашивает контурное изображение с множеством мелких деталей, не выходя за контур","Ребенок может соединить точки для получения изображения","Ребенок рисует геометрический орнамент по клеткам",{"$nulls":11},"на санках","на лыжах","на двухколесном велосипеде","на самокате"]
[{"$nulls":10},"Ребенок выполняет самостоятельно","Ребенок выполняет самостоятельно","Ребенок выполняет самостоятельно","Ребенок выполняет самостоятельно"]
[]
[1,{"$f":"Список!B4","v":0},{"$nulls":23},{"$f":"AVERAGE(E13:Y13)","v":{"$error":"#DIV/0!"}}]
[2,{"$f":"Список!B5","v":0},{"$nulls":23},{"$error":"#DIV/0!"}]
[3,{"$f":"Список!B6","v":0},{"$nulls":23},{"$error":"#DIV/0!"}]
[4,{"$f":"Список!B7","v":0},{"$nulls":23},{"$error":"#DIV/0!"}]
[5,{"$f":"Список!B8","v":0},{"$nulls":23},{"$error":"#DIV/0!"}]
[6,{"$f":"Список!B9","v":0},{"$nulls":23},{"$error":"#DIV/0!"}]
[7,{"$f":"Список!B10","v":0},{"$nulls":23},{"$error":"#DIV/0!"}]
[8,{"$f":"Список!B11","v":0},{"$nulls":23},{"$error":"#DIV/0!"}]
[9,{"$f":"Список!B12","v":0},{"$nulls":23},{"$error":"#DIV/0!"}]
[10,{"$f":"Список!B13","v":0},{"$nulls":23},{"$error":"#DIV/0!"}]
[11,{"$f":"Список!B14","v":0},{"$nulls":23},{"$error":"#DIV/0!"}]
[12,{"$f":"Список!B15","v":0},{"$nulls":23},{"$error":"#DIV/0!"}]
[13,{"$f":"Список!B16","v":0},{"$nulls":23},{"$error":"#DIV/0!"}]
[14,{"$f":"Список!B17","v":0},{"$nulls":23},{"$error":"#DIV/0!"}]
[15,{"$f":"Список!B18","v":0},{"$nulls":23},{"$error":"#DIV/0!"}]
[16,{"$f":"Список!B19","v":0},{"$nulls":23},{"$error":"#DIV/0!"}]
[17,{"$f":"Список!B20","v":0},{"$nulls":23},{"$error":"#DIV/0!"}]
[18,{"$f":"Список!B21","v":0},{"$nulls":23},{"$error":"#DIV/0!"}]
[19,{"$f":"Список!B22","v":0},{"$nulls":23},{"$error":"#DIV/0!"}]
[20,{"$f":"Список!B23","v":0},{"$nulls":23},{"$error":"#DIV/0!"}]
[21,{"$f":"Список!B24","v":0},{"$nulls":23},{"$error":"#DIV/0!"}]
[22,{"$f":"Список!B25","v":0},{"$nulls":23},{"$error":"#DIV/0!"}]
[23,{"$f":"Список!B26","v":0},{"$nulls":23},{"$error":"#DIV/0!"}]
[24,{"$f":"Список!B27","v":0},{"$nulls":23},{"$error":"#DIV/0!"}]
[25,{"$f":"Список!B28","v":0},{"$nulls":23},{"$error":"#DIV/0!"}]
[26,{"$f":"Список!B29","v":0},{"$nulls":23},{"$error":"#DIV/0!"}]
[27,{"$f":"Список!B30","v":0},{"$nulls":23},{"$error":"#DIV/0!"}]
[28,{"$f":"Список!B31","v":0},{"$nulls":23},{"$error":"#DIV/0!"}]
[29,{"$f":"Список!B32","v":0},{"$nulls":23},{"$error":"#DIV/0!"}]
[30,{"$f":"Список!B33","v":0},{"$nulls":23},{"$error":"#DIV/0!"}]
[null,"СРЕДНИЙ ПОКАЗАТЕЛЬ ПО ГРУППЕ",{"$nulls":23},{"$f":"AVERAGE(Z13:Z42)","v":{"$error":"#DIV/0!"}}]
[null,"среднее по критерию",null,null,{"$f":"AVERAGE(E13:E42)","v":{"$error":"#DIV/0!"}},{"$f":"AVERAGE(F13:F42)","v":{"$error":"#DIV/0!"}},{"$error":"#DIV/0!"},{"$error":"#DIV/0!"},{"$error":"#DIV/0!"},{"$error":"#DIV/0!"},{"$error":"#DIV/0!"},{"$error":"#DIV/0!"},{"$error":"#DIV/0!"},{"$error":"#DIV/0!"},{"$error":"#DIV/0!"},{"$error":"#DIV/0!"},{"$error":"#DIV/0!"},{"$error":"#DIV/0!"},{"$error":"#DIV/0!"},{"$error":"#DIV/0!"},{"$error":"#DIV/0!"},{"$error":"#DIV/0!"},{"$error":"#DIV/0!"},{"$error":"#DIV/0!"},{"$error":"#DIV/0!"}]
[null,"среднее по разделу",null,null,{"$f":"(E44+F44)/2","v":{"$error":"#DIV/0!"}},null,{"$f":"(G44+H44+I44+J44)/4","v":{"$error":"#DIV/0!"}},{"$nulls":3},{"$f":"(K44+L44+M44+N44)/4","v":{"$error":"#DIV/0!"}},{"$nulls":3},{"$f":"(O44+P44+Q44)/3","v":{"$error":"#DIV/0!"}},null,null,{"$f":"(R44+S44+T44)/3","v":{"$error":"#DIV/0!"}},null,null,{"$f":"U44","v":{"$error":"#DIV/0!"}},{"$f":"(V44+W44+X44+Y44)/4","v":{"$error":"#DIV/0!"}}]
[null,"Ф.И.О, должность специалиста(ов)____________________________________________________________________________________________________________________________________________________________________________________________________________________________________"]
[null,"© Автор-составитель Кулекина И.А., СПБ, 2023"]
[]
[]
[null,"координация рук и глаз",null,null,{"$f":"E45","v":{"$error":"#DIV/0!"}}]
[null,"графические навыки",null,null,{"$f":"G45","v":{"$error":"#DIV/0!"}}]
[null,"КГН",null,null,{"$f":"K45","v":{"$error":"#DIV/0!"}}]
[null,"ЗОЖ",null,null,{"$f":"O45","v":{"$error":"#DIV/0!"}}]
[null,"подвижные игры",null,null,{"$f":"R45","v":{"$error":"#DIV/0!"}}]
[null,"спортивные игры",null,null,{"$f":"U45","v":{"$error":"#DIV/0!"}}]
[null,"спортивные упражнения",null,null,{"$f":"V45","v":{"$error":"#DIV/0!"}}]

{"sheet":"Динамика физического развития","index":27,"n_rows":7,"n_cols":16,"rows_kept":7,"merged":[[0,0,0,15]]}
["Обобщение результатов педагогической диагностики по ОО \"Физическое развитие\". Старшая группа"]
[]
[]
[]
[null,"бросание, катание, ловля, метание","ползанье, лазанье","ходьба","бег","прыжки","равновесие","строевые упражнения","координация рук и глаз","графические навыки","КГН","ЗОЖ","подвижные игры","спортивные игры","спортивные упражнения","среднее по группе"]
["начало года",{"$f":"'Физ.разв. к 6г ч1. Н.г.'!E50","v":{"$error":"#DIV/0!"}},{"$f":"'Физ.разв. к 6г ч1. Н.г.'!E51","v":{"$error":"#DIV/0!"}},{"$f":"'Физ.разв. к 6г ч1. Н.г.'!E52","v":{"$error":"#DIV/0!"}},{"$f":"'Физ.разв. к 6г ч1. Н.г.'!E53","v":{"$error":"#DIV/0!"}},{"$f":"'Физ.разв. к 6г ч1. Н.г.'!E54","v":{"$error":"#DIV/0!"}},{"$f":"'Физ.разв. к 6г ч1. Н.г.'!E55","v":{"$error":"#DIV/0!"}},{"$f":"'Физ.разв. к 6г ч1. Н.г.'!E56","v":{"$error":"#DIV/0!"}},{"$f":"'Физ.разв. к 6г ч2. Н.г.'!E50","v":{"$error":"#DIV/0!"}},{"$f":"'Физ.разв. к 6г ч2. Н.г.'!E51","v":{"$error":"#DIV/0!"}},{"$f":"'Физ.разв. к 6г ч2. Н.г.'!E52","v":{"$error":"#DIV/0!"}},{"$f":"'Физ.разв. к 6г ч2. Н.г.'!E53","v":{"$error":"#DIV/0!"}},{"$f":"'Физ.разв. к 6г ч2. Н.г.'!E54","v":{"$error":"#DIV/0!"}},{"$f":"'Физ.разв. к 6г ч2. Н.г.'!E55","v":{"$error":"#DIV/0!"}},{"$f":"'Физ.разв. к 6г ч2. Н.г.'!E56","v":{"$error":"#DIV/0!"}},{"$f":"AVERAGE(B6:O6)","v":{"$error":"#DIV/0!"}}]
["конец года",{"$f":"'Физ.разв. к 6г ч1. К.г. '!E50","v":{"$error":"#DIV/0!"}},{"$f":"'Физ.разв. к 6г ч1. К.г. '!E51","v":{"$error":"#DIV/0!"}},{"$f":"'Физ.разв. к 6г ч1. К.г. '!E52","v":{"$error":"#DIV/0!"}},{"$f":"'Физ.разв. к 6г ч1. К.г. '!E53","v":{"$error":"#DIV/0!"}},{"$f":"'Физ.разв. к 6г ч1. К.г. '!E54","v":{"$error":"#DIV/0!"}},{"$f":"'Физ.разв. к 6г ч1. К.г. '!E55","v":{"$error":"#DIV/0!"}},{"$f":"'Физ.разв. к 6г ч1. К.г. '!E56","v":{"$error":"#DIV/0!"}},{"$f":"'Физ.разв. к 6г ч2. К.г. '!E50","v":{"$error":"#DIV/0!"}},{"$f":"'Физ.разв. к 6г ч2. К.г. '!E51","v":{"$error":"#DIV/0!"}},{"$f":"'Физ.разв. к 6г ч2. К.г. '!E52","v":{"$error":"#DIV/0!"}},{"$f":"'Физ.разв. к 6г ч2. К.г. '!E53","v":{"$error":"#DIV/0!"}},{"$f":"'Физ.разв. к 6г ч2. К.г. '!E54","v":{"$error":"#DIV/0!"}},{"$f":"'Физ.разв. к 6г ч2. К.г. '!E55","v":{"$error":"#DIV/0!"}},{"$f":"'Физ.разв. к 6г ч2. К.г. '!E56","v":{"$error":"#DIV/0!"}},{"$f":"AVERAGE(B7:O7)","v":{"$error":"#DIV/0!"}}]

{"sheet":"1","index":28,"n_rows":11,"n_cols":138,"rows_kept":11,"merged":[[4,117,4,122],[4,123,4,126],[4,127,4,129],[4,130,4,132],[4,134,4,137],[5,0,8,0],[5,1,5,11],[5,12,5,19],[5,21,6,26],[5,27,6,28],[5,50,5,52],[5,53,5,55],[5,56,5,64],[5,65,5,66],[5,67,5,70],[5,117,5,118],[5,119,5,122],[5,123,6,123],[5,124,6,124],[5,125,6,125],[5,126,6,126],[5,127,8,127],[5,128,8,128],[5,129,8,129],[5,130,8,130],[5,131,8,131],[5,132,8,132],[5,133,8,133],[5,134,5,137],[6,1,6,4],[6,9,6,10],[6,12,6,13],[6,16,6,17],[6,18,6,19],[6,20,8,20],[6,30,6,31],[6,32,6,36],[6,38,6,43],[6,45,6,49],[6,53,8,53],[6,54,8,54],[6,55,8,55],[6,56,6,58],[6,62,6,64],[6,65,7,66],[6,67,6,68],[6,69,6,70],[6,71,6,87],[6,88,6,90],[6,91,6,95],[6,97,6,98],[6,99,6,101],[6,102,6,104],[6,105,6,107],[6,108,6,112],[6,113,6,114],[6,115,6,116],[6,117,8,117],[6,118,8,118],[6,119,8,119],[6,120,8,120],[6,121,8,121],[6,122,8,122],[6,134,8,134],[6,135,8,135],[6,136,8,136],[6,137,8,137],[7,1,8,1],[7,2,8,2],[7,3,8,3],[7,4,8,4],[7,5,8,5],[7,6,8,6],[7,7,8,7],[7,8,8,8],[7,9,8,9],[7,10,8,10],[7,11,8,11],[7,12,8,12],[7,13,8,13],[7,14,8,14],[7,15,8,15],[7,16,8,16],[7,17,8,17],[7,18,8,18],[7,19,8,19],[7,21,8,21],[7,22,8,22],[7,23,8,23],[7,24,8,24],[7,25,8,25],[7,26,8,26],[7,27,8,27],[7,28,8,28],[7,29,8,29],[7,30,8,30],[7,31,8,31],[7,32,8,32],[7,33,8,33],[7,34,8,34],[7,35,8,35],[7,36,8,36],[7,37,8,37],[7,38,8,38],[7,39,8,39],[7,40,8,40],[7,41,8,41],[7,42,8,42],[7,43,8,43],[7,44,8,44],[7,45,8,45],[7,46,8,46],[7,47,8,47],[7,48,8,48],[7,49,8,49],[7,50,7,52],[7,56,8,56],[7,57,8,57],[7,58,8,58],[7,59,8,59],[7,60,8,60],[7,61,8,61],[7,62,8,62],[7,63,8,63],[7,64,8,64],[7,67,8,67],[7,68,8,68],[7,69,8,69],[7,70,8,70],[7,71,7,72],[7,73,7,74],[7,75,7,76],[7,77,7,80],[7,82,7,84],[7,85,7,87],[7,88,8,88],[7,89,8,89],[7,90,8,90],[7,91,8,91],[7,92,8,92],[7,93,8,93],[7,94,8,94],[7,95,8,95],[7,96,8,96],[7,97,8,97],[7,98,8,98],[7,99,8,99],[7,100,8,100],[7,101,8,101],[7,102,7,104],[7,105,7,107],[7,108,7,112],[7,113,8,113],[7,114,8,114],[7,115,7,116],[7,123,8,123],[7,124,8,124],[7,125,8,125],[7,126,8,126]]}
[]
[]
[]
[]
[{"$nulls":117},"Мелкая моторика",{"$nulls":5},"КГН",{"$nulls":3},"ЗОЖ",null,null,"Подвижные игры",null,null,"Спорт. игры","Спортивные упражнения"]
[{"$f":"Список!B4","v":0},"Музыкальная деятельность",{"$nulls":10},"Изобразительная деятельность",{"$nulls":8},"Приобщение к искусству",{"$nulls":5},"Конструктивная деятельность",{"$nulls":22},"Сенсорные эталоны ",null,null,"Познавательные действия",null,null,"Математические представления",{"$nulls":8},"Окружающий мир",null,"Природа ",{"$nulls":49},"Координация рук и глаз",null,"Графические навыки",{"$nulls":3},"Навыки соблюдения чистоты тела (правила личной гигиены)","Навыки культуры еды (прием пищи) ","Навыки поддержания порядка (правила поведения в быту) ","Навыки ухода за собой (одевание, раздевание) ","Ребенок имеет представление о факторах, положительно/негативно влияющих на здоровье; владеет основными способами укрепления здоровья","Ребенок имеет представление о некоторых видах спорта (9 и больше), роли спорта для укрепления здоровья","Ребенок проявляет заботливое отношение к своему здоровью и здоровью окружающих","Ребенок проявляет доступный возрасту самоконтроль","Ребенок  способен привлечь внимание других детей и организовать знакомую подвижную игру","Ребенок придумывает новые варианты игр, комбинирует движения","Ребенок имеет представление об элементах спортивных игр (городки, баскетбол, бадминтон, футбол), умеет выполнять некоторые виды движений","Ребенок умеет кататься"]
[null,"Слушание",{"$nulls":3},"Пение ","Музыкально-ритмические движения","Песенное творчество","Игра на детских музыкальных инструментах","Театрализованная деятельность",null,"Танцевально-игровое творчество","Рисование ",null,"Лепка ","Аппликация ","Народное ДПИ",null,"Прикладное творчество",null,"Ребенок самостоятельно определяет замысел рисунка, аппликации, лепки, поделки, создает образы и композиционные изображения, использует разнообразные материалы",{"$nulls":8},"Общее речевое развитие","Формирование словаря",null,"Грамматический строй",{"$nulls":4},"Звуковая культура речи","Связная речь",{"$nulls":5},"ЧХЛ","Подготовка к обучению грамоте",{"$nulls":4},"Цвет, оттенки","Форма, геометрические фигуры","Величина","Ребенок охотно участвует в обсуждении проблемы для совместного нахождения способов ее решения, предлагает пути решения, устанавливает закономерности причинно-следственного характера, проявляет любознательность","Ребенок использует математические знания, способы и средства для познания окружающего мира","Ребенок способен к произвольным умственным действиям, логическим операциям анализа, сравнения, обобщения, систематизации, классификации","Количество и счет",null,null,"Ориентировка во времени","Ориентировка в пространстве","Пространственно-количественные связи и отношения","Сравнение",null,null,"Ребенок имеет представления, может показать на картинке и в естественной среде, может рассказать",null,"Объекты живой природы",null,"Объекты неживой природы, природные явления",null,"Сфера социальных отношений",{"$nulls":16},"Область формирования основ гражданственности и патриотизма",null,null,"Сфера трудового воспитания",{"$nulls":4},"Область формирования основ безопасного поведения","Бросание, катание, ловля, метание",null,"Ползанье, лазанье",null,null,"Ходьба",null,null,"Бег",null,null,"Прыжки",{"$nulls":4},"Равновесие",null,"Строевые упражнения",null,"Ребенок может найти выход из лабиринта","Ребенок может нарисовать простой узор, изображение, не отрывая руки","Ребенок может повторить узор с чередующимися элементами","Ребенок закрашивает контурное изображение с множеством мелких деталей, не выходя за контур","Ребенок может соединить точки для получения изображения","Ребенок рисует геометрический орнамент по клеткам",{"$nulls":11},"на санках","на лыжах","на двухколесном велосипеде","на самокате"]
[null,"Ребенок различает жанры музыкальных произведений (песня, танец, марш)","Ребенок узнает мелодию по отдельным фрагментам произведения (вступление, заключение, музыкальная фраза)","Ребенок различает звуки по высоте в пределах квинты","Ребенок различает звучание музыкальных инструментов (клавишно-ударных, струнных)","Ребенок демонстрирует развитые певческие навыки","Ребенок демонстрирует развитые навыки исполнения танцевальных движений","Ребенок может импровизировать мелодию на заданный текст","Ребенок демонстрирует навыки игры на детских музыкальных инструментах","Ребенок имеет представление о различных видах театрального искусства","Ребенок с удовольствие занимается театрализованной деятельностью","Ребенок может придумывать движения к танцам","Ребенок передает в изображении основные свойства предметов (форма, величина, цвет), характерные детали, соотношение предметов и их частей по величине, высоте, расположению относительно друг друга","Ребенок владеет основными способами и приемами рисования различными изобразительными материалами (цветные карандаши, гуашь, акварель, цветные мелки, пастель, сангина, угольный карандаш, фломастеры)","Ребенок лепит с натуры и по представлению знакомые предметы, передавая характерные особенности пластическим, конструктивным и комбинированным способами","Ребенок умеет пользоваться ножницами","Ребенок имеет представление о полхов-майданской, гжельской росписи","Ребенок может нарисовать узор, используя элементы  росписи","Ребенок умеет работать с бумагой (сгибать лист, сглаживать сгибы, надрезать по сгибам)","Ребенок умеет работать с природным и бросовым материалом",null,"Ребенок умеет выделять, называть, группировать произведения по видам искусства: литература, музыка, изобразительное искусство, архитектура, театр, цирк","Ребенок имеет представление о видах изобразительного искусства: графика, декоративно-прикладное искусство, живопись, скульптура, архитектура, фотоискусство","Ребенок имеет представление о жанрах изобразительного искусства: натюрморт, пейзаж, портрет","Ребенок имеет представление о народном искусстве, фольклоре, музыке и художественных промыслах","Ребенок имеет представление о творческих профессиях: художник, композитор, музыкант, актер, артист балета","Ребенок имеет представление о культурно-досуговых местах: театр, музей, библиотека, выставка, кинотеатр, цирк и др.","Ребенок может провести анализ постройки (выделить основные части и характерные детали конструкций)","Ребенок может выполнить постройку по инструкции","Ребенок внятно разговаривает","Ребенок умеет обобщать предметы в группы по существенным признакам","Ребенок демонстрирует богатый словарный запас","Ребенок правильно использует в речи: несклоняемые существительные","Ребенок правильно использует в речи: слова, имеющие только множественное или только единственное число","Ребенок правильно использует в речи: глаголы одеть-надеть","Ребенок правильно использует в речи: существительные множественного числа в родительном падеже","Ребенок правильно образовывает слова с помощью суффикса, приставки","Ребенок правильно произносит сонорные звуки: л-ль, р-рь","Ребенок пересказывает литературные произведения по ролям, по частям, правильно передавая идею и содержание","Ребенок пользуется прямой и косвенной речью","Ребенок составляет короткий описательный рассказ о предметах, объектах и явлениях природы, из личного опыта","Ребенок сочиняет сюжетные рассказы по картине, из личного опыта","Ребенок проявляет речевое творчество: придумывает продолжение и окончание к рассказу, рассказы по аналогии, по плану педагога, по модели","Ребенок владеет первичными приемами аргументации и доказательства","Ребенок проявляет избирательное отношение к произведениям определенной тематики и жанра","Ребенок понимает термины: слово: звук, буква, предложение, гласный звук, согласный звук","Ребенок может провести звуковой анализ слова, разделить на слоги двух-, трехслоговые слова; составляет схему слова","Ребенок различает гласные-согласные звуки","Ребенок определяет твердые-мягкие согласные","Ребенок составляет предложение по модели, определяет количество и последовательность слов в предложении","Ребенок различает и называет",{"$nulls":5},"Ребенок знает/называет/находит среди других цифры 0 -10","Ребенок выполняет количественный и порядковый счет в пределах 0-10","Ребенок знает состав чисел из единиц в пределах 5","Ребенок понимает календарные единицы времени (сутки, неделя, месяц, год)","Ребенок ориентируется на листе бумаги","Ребенок понимает простейшую графическую информацию об отношениях предметов (слева направо, справа налево, снизу вверх, сверху вниз)","Ребенок выделяет сходства и отличия между группами предметов","Ребенок сравнивает предметы по 3-5 признакам","Ребенок группирует предметы по разным основаниям, преимущественно на основе зрительной оценки",null,null,"Ребенок имеет представление о сходстве и различии во внешнем виде и образе жизни объектов животного и растительного мира в разные сезоны года","Ребенок может сравнивать, группировать объекты живой природы по их особенностям, мету обитания, образу жизни, питанию","Ребенок имеет представление о признаках разных времен года","Ребенок наблюдает за явлениями природы, фиксирует результаты наблюдения","Отношение к самому себе",null,"Отношение к сверстникам",null,"Отношение к взрослым",null,"Эмоции",{"$nulls":3},"Поведение","Семья",null,null,"Игровое поведение",null,null,"Ребенок имеет представление о государственных символах России (герб, гимн, флаг)","Ребенок имеет представление о государственных праздниках России","Ребенок знает/может назвать/показать на картинке и в естественной среде достопримечательности населенного пункта, в котором живет","Ребенок имеет представления о разных видах производительного труда (промышленность, строительство, сельское хозяйство)","Ребенок имеет представления о разных видах обслуживающего труда (сфера досуга и отдыха, сфера культуры, медицина, торговля)","Ребенок имеет представление о структуре трудового процесса (мотив, цель, инструменты, оборудование, содержание действий, выбор трудовых действий, результат)","Ребенок имеет элементарные экономические представления (назначение рекламы, денег)","Ребенок охотно участвует в выполнении трудовых поручений, дежурстве; может распределять трудовые обязанности с другими","Ребенок имеет представления/ соблюдает правила поведения в быту, на улице, в природе, в общении с людьми, с животными","Ребенок выполняет различные упражнения с мячом (прокатывание, передача, перебрасывание, ведение, подбрасывание, ловля, забрасывание)","Ребенок выполняет метание в цель, метание в даль предметов разной массы","Ребенок выполняет ползанье разными способами (на четвереньках, на животе)","Ребенок выполняет переползание через несколько предметов подряд, под дугами, в туннеле","Ребенок выполняет лазанье по гимнастической стенке чередующимся шагом","Ребенок выполняет различные виды ходьбы",null,null,"Ребенок выполняет различные виды бега",null,null,"Ребенок выполняет различные виды прыжков",{"$nulls":4},"Ребенок выполняет стойку на одной ноге ","Ребенок выполняет упражнение \"ласточка\" ","Ребенок выполняет различные виды строевых упражнений",{"$nulls":7},"Ребенок выполняет самостоятельно","Ребенок выполняет самостоятельно","Ребенок выполняет самостоятельно","Ребенок выполняет самостоятельно"]
[{"$nulls":50},"Ребенок называет/различает все цвета спектра и ахроматические цвета, оттенки цвета, тоны цвета, теплые и холодные оттенки","Ребенок владеет способами воссоздания фигуры из частей, деления фигуры на части","Ребенок может выстраивать сериационные ряды предметов, различающихся по размеру в возрастающем и убывающем порядке в пределах 10",{"$nulls":12},"о многообразии людей разных национальностей (особенностей внешнего вида, одежды, традиций)","Ребенок имеет представление о многообразии стран и народов мира",{"$nulls":4},"Ребенок может рассказать о себе, выразить собственные потребности, желания","Ребенок имеет представление о некоторых своих правах","Ребенок имеет предпочтения в общении","Ребенок охотно вступает в общение со сверстниками","Ребенок уважительно относится к взрослым, пожилым людям","Ребенок охотно вступает в общение со взрослыми","Ребенок понимает свои и чужие эмоциональные состояния, демонстрирует примеры эмоциональной поддержки ","Ребенок  откликается на просьбу помочь","Ребенок выразить чувства и эмоции в мимике, пантомимике, действиях, интонации","Ребенок демонстрирует адекватные возрасту способы регуляции эмоциональных состояний","Ребенок ориентируется на общепринятые нормы и правила культуры поведения","Ребенок знает членов своей семьи, ближайших родственников по линии матери и отца","Ребенок имеет представление о способах поддержки родственных связей (переписка, разговор, совместный отдых, традиции, походы в гости и др.)","Ребенок проявляет заботу по отношению к членам своей семьи, оказывает посильную помощь больному члену семьи","Ребенок в совместной деятельности принимает общую цель, договаривается о способах деятельности и материалах, может уступить в конфликтной ситуации","Ребенок проявляет интерес к игровому экспериментированию, развивающим и познавательным играм","Ребенок способен действовать в точном соответствие с игровой задачей и правилами",{"$nulls":14},"обычным шагом, на носках, на пятках, с высоким подниманием колен","приставной, в полуприседе, мелким и широким, перекатом с пятки на носок, гимнастическим","змейкой без ориентиров, в колонне по одному и по два","в колонне по одному, змейкой, с перестроением на ходу в пары, звенья","со сменой ведущих, с пролезанием в обруч, с ловлей и увертыванием, высоко поднимая колени","между расставленными предметами, в заданном темпе, мелким и широким шагом","подпрыгивание, перепрыгивание, спрыгивание","в длину с места","в высоту с разбега","в длину с разбега","со скакалкой",null,null,"построения (по росту, в колонну по одному, в шеренгу, в круг)","в колонну по три, в две шеренги на месте, расхождение из колонны в разные стороны"]
["начало года",{"$f":"'Худ.эст.к 6г ч1. Н.г.'!E12","v":0},{"$f":"'Худ.эст.к 6г ч1. Н.г.'!F12","v":0},{"$f":"'Худ.эст.к 6г ч1. Н.г.'!G12","v":0},{"$f":"'Худ.эст.к 6г ч1. Н.г.'!H12","v":0},{"$f":"'Худ.эст.к 6г ч1. Н.г.'!I12","v":0},{"$f":"'Худ.эст.к 6г ч1. Н.г.'!J12","v":0},{"$f":"'Худ.эст.к 6г ч1. Н.г.'!K12","v":0},{"$f":"'Худ.эст.к 6г ч1. Н.г.'!L12","v":0},{"$f":"'Худ.эст.к 6г ч1. Н.г.'!M12","v":0},{"$f":"'Худ.эст.к 6г ч1. Н.г.'!N12","v":0},{"$f":"'Худ.эст.к 6г ч1. Н.г.'!O12","v":0},{"$f":"'Худ.эст.к 6г ч2. Н.г.'!E12","v":0},{"$f":"'Худ.эст.к 6г ч2. Н.г.'!F12","v":0},{"$f":"'Худ.эст.к 6г ч2. Н.г.'!G12","v":0},{"$f":"'Худ.эст.к 6г ч2. Н.г.'!H12","v":0},{"$f":"'Худ.эст.к 6г ч2. Н.г.'!I12","v":0},{"$f":"'Худ.эст.к 6г ч2. Н.г.'!J12","v":0},{"$f":"'Худ.эст.к 6г ч2. Н.г.'!K12","v":0},{"$f":"'Худ.эст.к 6г ч2. Н.г.'!L12","v":0},{"$f":"'Худ.эст.к 6г ч2. Н.г.'!M12","v":0},{"$f":"'Худ.эст.к 6г ч3. Н.г.'!E12","v":0},{"$f":"'Худ.эст.к 6г ч3. Н.г.'!F12","v":0},{"$f":"'Худ.эст.к 6г ч3. Н.г.'!G12","v":0},{"$f":"'Худ.эст.к 6г ч3. Н.г.'!H12","v":0},{"$f":"'Худ.эст.к 6г ч3. Н.г.'!I12","v":0},{"$f":"'Худ.эст.к 6г ч3. Н.г.'!J12","v":0},{"$f":"'Худ.эст.к 6г ч3. Н.г.'!K12","v":0},{"$f":"'Худ.эст.к 6г ч3. Н.г.'!L12","v":0},{"$f":"'Реч.разв.к 6г ч1. Н.г.'!E11","v":0},{"$f":"'Реч.разв.к 6г ч1. Н.г.'!F11","v":0},{"$f":"'Реч.разв.к 6г ч1. Н.г.'!G11","v":0},{"$f":"'Реч.разв.к 6г ч1. Н.г.'!H11","v":0},{"$f":"'Реч.разв.к 6г ч1. Н.г.'!I11","v":0},{"$f":"'Реч.разв.к 6г ч1. Н.г.'!J11","v":0},{"$f":"'Реч.разв.к 6г ч1. Н.г.'!K11","v":0},{"$f":"'Реч.разв.к 6г ч1. Н.г.'!L11","v":0},{"$f":"'Реч.разв.к 6г ч2. Н.г.'!E11","v":0},{"$f":"'Реч.разв.к 6г ч2. Н.г.'!F11","v":0},{"$f":"'Реч.разв.к 6г ч2. Н.г.'!G11","v":0},{"$f":"'Реч.разв.к 6г ч2. Н.г.'!H11","v":0},{"$f":"'Реч.разв.к 6г ч2. Н.г.'!I11","v":0},{"$f":"'Реч.разв.к 6г ч2. Н.г.'!J11","v":0},{"$f":"'Реч.разв.к 6г ч2. Н.г.'!K11","v":0},{"$f":"'Реч.разв.к 6г ч2. Н.г.'!L11","v":0},{"$f":"'Реч.разв.к 6г ч2. Н.г.'!M11","v":0},{"$f":"'Реч.разв.к 6г ч2. Н.г.'!N11","v":0},{"$f":"'Реч.разв.к 6г ч2. Н.г.'!O11","v":0},{"$f":"'Реч.разв.к 6г ч2. Н.г.'!P11","v":0},{"$f":"'Реч.разв.к 6г ч2. Н.г.'!Q11","v":0},{"$f":"'Позн.разв. к 6г ч1. Н.г.'!E12","v":0},{"$f":"'Позн.разв. к 6г ч1. Н.г.'!F12","v":0},{"$f":"'Позн.разв. к 6г ч1. Н.г.'!G12","v":0},{"$f":"'Позн.разв. к 6г ч1. Н.г.'!H12","v":0},{"$f":"'Позн.разв. к 6г ч1. Н.г.'!I12","v":0},{"$f":"'Позн.разв. к 6г ч1. Н.г.'!J12","v":0},{"$f":"'Позн.разв. к 6г ч1. Н.г.'!K12","v":0},{"$f":"'Позн.разв. к 6г ч1. Н.г.'!L12","v":0},{"$f":"'Позн.разв. к 6г ч1. Н.г.'!M12","v":0},{"$f":"'Позн.разв. к 6г ч1. Н.г.'!N12","v":0},{"$f":"'Позн.разв. к 6г ч1. Н.г.'!O12","v":0},{"$f":"'Позн.разв. к 6г ч1. Н.г.'!P12","v":0},{"$f":"'Позн.разв. к 6г ч1. Н.г.'!Q12","v":0},{"$f":"'Позн.разв. к 6г ч1. Н.г.'!R12","v":0},{"$f":"'Позн.разв. к 6г ч1. Н.г.'!S12","v":0},{"$f":"'Позн.разв. к 6г ч2. Н.г.'!E12","v":0},{"$f":"'Позн.разв. к 6г ч2. Н.г.'!F12","v":0},{"$f":"'Позн.разв. к 6г ч2. Н.г.'!G12","v":0},{"$f":"'Позн.разв. к 6г ч2. Н.г.'!H12","v":0},{"$f":"'Позн.разв. к 6г ч2. Н.г.'!I12","v":0},{"$f":"'Позн.разв. к 6г ч2. Н.г.'!J12","v":0},{"$f":"'Соц.ком.к 6г ч1. Н.г.'!E11","v":0},{"$f":"'Соц.ком.к 6г ч1. Н.г.'!F11","v":0},{"$f":"'Соц.ком.к 6г ч1. Н.г.'!G11","v":0},{"$f":"'Соц.ком.к 6г ч1. Н.г.'!H11","v":0},{"$f":"'Соц.ком.к 6г ч1. Н.г.'!I11","v":0},{"$f":"'Соц.ком.к 6г ч1. Н.г.'!J11","v":0},{"$f":"'Соц.ком.к 6г ч1. Н.г.'!K11","v":0},{"$f":"'Соц.ком.к 6г ч1. Н.г.'!L11","v":0},{"$f":"'Соц.ком.к 6г ч1. Н.г.'!M11","v":0},{"$f":"'Соц.ком.к 6г ч1. Н.г.'!N11","v":0},{"$f":"'Соц.ком.к 6г ч1. Н.г.'!O11","v":0},{"$f":"'Соц.ком.к 6г ч1. Н.г.'!P11","v":0},{"$f":"'Соц.ком.к 6г ч1. Н.г.'!Q11","v":0},{"$f":"'Соц.ком.к 6г ч1. Н.г.'!R11","v":0},{"$f":"'Соц.ком.к 6г ч1. Н.г.'!S11","v":0},{"$f":"'Соц.ком.к 6г ч1. Н.г.'!T11","v":0},{"$f":"'Соц.ком.к 6г ч1. Н.г.'!U11","v":0},{"$f":"'Соц.ком. к 6г ч2. Н.г.'!E11","v":0},{"$f":"'Соц.ком. к 6г ч2. Н.г.'!F11","v":0},{"$f":"'Соц.ком. к 6г ч2. Н.г.'!G11","v":0},{"$f":"'Соц.ком. к 6г ч2. Н.г.'!H11","v":0},{"$f":"'Соц.ком. к 6г ч2. Н.г.'!I11","v":0},{"$f":"'Соц.ком. к 6г ч2. Н.г.'!J11","v":0},{"$f":"'Соц.ком. к 6г ч2. Н.г.'!K11","v":0},{"$f":"'Соц.ком. к 6г ч2. Н.г.'!L11","v":0},{"$f":"'Соц.ком. к 6г ч2. Н.г.'!M11","v":0},{"$f":"'Физ.разв. к 6г ч1. Н.г.'!E12","v":0},{"$f":"'Физ.разв. к 6г ч1. Н.г.'!F12","v":0},{"$f":"'Физ.разв. к 6г ч1. Н.г.'!G12","v":0},{"$f":"'Физ.разв. к 6г ч1. Н.г.'!H12","v":0},{"$f":"'Физ.разв. к 6г ч1. Н.г.'!I12","v":0},{"$f":"'Физ.разв. к 6г ч1. Н.г.'!J12","v":0},{"$f":"'Физ.разв. к 6г ч1. Н.г.'!K12","v":0},{"$f":"'Физ.разв. к 6г ч1. Н.г.'!L12","v":0},{"$f":"'Физ.разв. к 6г ч1. Н.г.'!M12","v":0},{"$f":"'Физ.разв. к 6г ч1. Н.г.'!N12","v":0},{"$f":"'Физ.разв. к 6г ч1. Н.г.'!O12","v":0},{"$f":"'Физ.разв. к 6г ч1. Н.г.'!P12","v":0},{"$f":"'Физ.разв. к 6г ч1. Н.г.'!Q12","v":0},{"$f":"'Физ.разв. к 6г ч1. Н.г.'!R12","v":0},{"$f":"'Физ.разв. к 6г ч1. Н.г.'!S12","v":0},{"$f":"'Физ.разв. к 6г ч1. Н.г.'!T12","v":0},{"$f":"'Физ.разв. к 6г ч1. Н.г.'!U12","v":0},{"$f":"'Физ.разв. к 6г ч1. Н.г.'!V12","v":0},{"$f":"'Физ.разв. к 6г ч1. Н.г.'!W12","v":0},{"$f":"'Физ.разв. к 6г ч1. Н.г.'!X12","v":0},{"$f":"'Физ.разв. к 6г ч2. Н.г.'!E13","v":0},{"$f":"'Физ.разв. к 6г ч2. Н.г.'!F13","v":0},{"$f":"'Физ.разв. к 6г ч2. Н.г.'!G13","v":0},{"$f":"'Физ.разв. к 6г ч2. Н.г.'!H13","v":0},{"$f":"'Физ.разв. к 6г ч2. Н.г.'!I13","v":0},{"$f":"'Физ.разв. к 6г ч2. Н.г.'!J13","v":0},{"$f":"'Физ.разв. к 6г ч2. Н.г.'!K13","v":0},{"$f":"'Физ.разв. к 6г ч2. Н.г.'!L13","v":0},{"$f":"'Физ.разв. к 6г ч2. Н.г.'!M13","v":0},{"$f":"'Физ.разв. к 6г ч2. Н.г.'!N13","v":0},{"$f":"'Физ.разв. к 6г ч2. Н.г.'!O13","v":0},{"$f":"'Физ.разв. к 6г ч2. Н.г.'!P13","v":0},{"$f":"'Физ.разв. к 6г ч2. Н.г.'!Q13","v":0},{"$f":"'Физ.разв. к 6г ч2. Н.г.'!R13","v":0},{"$f":"'Физ.разв. к 6г ч2. Н.г.'!S13","v":0},{"$f":"'Физ.разв. к 6г ч2. Н.г.'!T13","v":0},{"$f":"'Физ.разв. к 6г ч2. Н.г.'!U13","v":0},{"$f":"'Физ.разв. к 6г ч2. Н.г.'!V13","v":0},{"$f":"'Физ.разв. к 6г ч2. Н.г.'!W13","v":0},{"$f":"'Физ.разв. к 6г ч2. Н.г.'!X13","v":0},{"$f":"'Физ.разв. к 6г ч2. Н.г.'!Y13","v":0}]
["конец года",{"$f":"'Худ.эст.к 6г ч1. К.г. '!E12","v":0},{"$f":"'Худ.эст.к 6г ч1. К.г. '!F12","v":0},{"$f":"'Худ.эст.к 6г ч1. К.г. '!G12","v":0},{"$f":"'Худ.эст.к 6г ч1. К.г. '!H12","v":0},{"$f":"'Худ.эст.к 6г ч1. К.г. '!I12","v":0},{"$f":"'Худ.эст.к 6г ч1. К.г. '!J12","v":0},{"$f":"'Худ.эст.к 6г ч1. К.г. '!K12","v":0},{"$f":"'Худ.эст.к 6г ч1. К.г. '!L12","v":0},{"$f":"'Худ.эст.к 6г ч1. К.г. '!M12","v":0},{"$f":"'Худ.эст.к 6г ч1. К.г. '!N12","v":0},{"$f":"'Худ.эст.к 6г ч1. К.г. '!O12","v":0},{"$f":"'Худ.эст.к 6г ч2. К.г. '!E12","v":0},{"$f":"'Худ.эст.к 6г ч2. К.г. '!F12","v":0},{"$f":"'Худ.эст.к 6г ч2. К.г. '!G12","v":0},{"$f":"'Худ.эст.к 6г ч2. К.г. '!H12","v":0},{"$f":"'Худ.эст.к 6г ч2. К.г. '!I12","v":0},{"$f":"'Худ.эст.к 6г ч2. К.г. '!J12","v":0},{"$f":"'Худ.эст.к 6г ч2. К.г. '!K12","v":0},{"$f":"'Худ.эст.к 6г ч2. К.г. '!L12","v":0},{"$f":"'Худ.эст.к 6г ч2. К.г. '!M12","v":0},{"$f":"'Худ.эст.к 6г ч3. К.г. '!E12","v":0},{"$f":"'Худ.эст.к 6г ч3. К.г. '!F12","v":0},{"$f":"'Худ.эст.к 6г ч3. К.г. '!G12","v":0},{"$f":"'Худ.эст.к 6г ч3. К.г. '!H12","v":0},{"$f":"'Худ.эст.к 6г ч3. К.г. '!I12","v":0},{"$f":"'Худ.эст.к 6г ч3. К.г. '!J12","v":0},{"$f":"'Худ.эст.к 6г ч3. К.г. '!K12","v":0},{"$f":"'Худ.эст.к 6г ч3. К.г. '!L12","v":0},{"$f":"'Реч.разв.к 6г ч1. К.г. '!E11","v":0},{"$f":"'Реч.разв.к 6г ч1. К.г. '!F11","v":0},{"$f":"'Реч.разв.к 6г ч1. К.г. '!G11","v":0},{"$f":"'Реч.разв.к 6г ч1. К.г. '!H11","v":0},{"$f":"'Реч.разв.к 6г ч1. К.г. '!I11","v":0},{"$f":"'Реч.разв.к 6г ч1. К.г. '!J11","v":0},{"$f":"'Реч.разв.к 6г ч1. К.г. '!K11","v":0},{"$f":"'Реч.разв.к 6г ч1. К.г. '!L11","v":0},{"$f":"'Реч.разв.к 6г ч2. К.г. '!E11","v":0},{"$f":"'Реч.разв.к 6г ч2. К.г. '!F11","v":0},{"$f":"'Реч.разв.к 6г ч2. К.г. '!G11","v":0},{"$f":"'Реч.разв.к 6г ч2. К.г. '!H11","v":0},{"$f":"'Реч.разв.к 6г ч2. К.г. '!I11","v":0},{"$f":"'Реч.разв.к 6г ч2. К.г. '!J11","v":0},{"$f":"'Реч.разв.к 6г ч2. К.г. '!K11","v":0},{"$f":"'Реч.разв.к 6г ч2. К.г. '!L11","v":0},{"$f":"'Реч.разв.к 6г ч2. К.г. '!M11","v":0},{"$f":"'Реч.разв.к 6г ч2. К.г. '!N11","v":0},{"$f":"'Реч.разв.к 6г ч2. К.г. '!O11","v":0},{"$f":"'Реч.разв.к 6г ч2. К.г. '!P11","v":0},{"$f":"'Реч.разв.к 6г ч2. К.г. '!Q11","v":0},{"$f":"'Позн.разв. к 6г ч1. К.г. '!E12","v":0},{"$f":"'Позн.разв. к 6г ч1. К.г. '!F12","v":0},{"$f":"'Позн.разв. к 6г ч1. К.г. '!G12","v":0},{"$f":"'Позн.разв. к 6г ч1. К.г. '!H12","v":0},{"$f":"'Позн.разв. к 6г ч1. К.г. '!I12","v":0},{"$f":"'Позн.разв. к 6г ч1. К.г. '!J12","v":0},{"$f":"'Позн.разв. к 6г ч1. К.г. '!K12","v":0},{"$f":"'Позн.разв. к 6г ч1. К.г. '!L12","v":0},{"$f":"'Позн.разв. к 6г ч1. К.г. '!M12","v":0},{"$f":"'Позн.разв. к 6г ч1. К.г. '!N12","v":0},{"$f":"'Позн.разв. к 6г ч1. К.г. '!O12","v":0},{"$f":"'Позн.разв. к 6г ч1. К.г. '!P12","v":0},{"$f":"'Позн.разв. к 6г ч1. К.г. '!Q12","v":0},{"$f":"'Позн.разв. к 6г ч1. К.г. '!R12","v":0},{"$f":"'Позн.разв. к 6г ч1. К.г. '!S12","v":0},{"$f":"'Позн.разв. к 6г ч2. К.г. '!E12","v":0},{"$f":"'Позн.разв. к 6г ч2. К.г. '!F12","v":0},{"$f":"'Позн.разв. к 6г ч2. К.г. '!G12","v":0},{"$f":"'Позн.разв. к 6г ч2. К.г. '!H12","v":0},{"$f":"'Позн.разв. к 6г ч2. К.г. '!I12","v":0},{"$f":"'Позн.разв. к 6г ч2. К.г. '!J12","v":0},{"$f":"'Соц.ком.к 6г ч1. К.г. '!$E$11","v":0},{"$f":"'Соц.ком.к 6г ч1. К.г. '!$E$11","v":0},{"$f":"'Соц.ком.к 6г ч1. К.г. '!$E$11","v":0},{"$f":"'Соц.ком.к 6г ч1. К.г. '!$E$11","v":0},{"$f":"'Соц.ком.к 6г ч1. К.г. '!$E$11","v":0},{"$f":"'Соц.ком.к 6г ч1. К.г. '!$E$11","v":0},{"$f":"'Соц.ком.к 6г ч1. К.г. '!$E$11","v":0},{"$f":"'Соц.ком.к 6г ч1. К.г. '!$E$11","v":0},{"$f":"'Соц.ком.к 6г ч1. К.г. '!$E$11","v":0},{"$f":"'Соц.ком.к 6г ч1. К.г. '!$E$11","v":0},{"$f":"'Соц.ком.к 6г ч1. К.г. '!$E$11","v":0},{"$f":"'Соц.ком.к 6г ч1. К.г. '!$E$11","v":0},{"$f":"'Соц.ком.к 6г ч1. К.г. '!$E$11","v":0},{"$f":"'Соц.ком.к 6г ч1. К.г. '!$E$11","v":0},{"$f":"'Соц.ком.к 6г ч1. К.г. '!$E$11","v":0},{"$f":"'Соц.ком.к 6г ч1. К.г. '!$E$11","v":0},{"$f":"'Соц.ком.к 6г ч1. К.г. '!$E$11","v":0},{"$f":"'Соц.ком. к 6г ч2 К.г.'!E11","v":0},{"$f":"'Соц.ком. к 6г ч2 К.г.'!F11","v":0},{"$f":"'Соц.ком. к 6г ч2 К.г.'!G11","v":0},{"$f":"'Соц.ком. к 6г ч2 К.г.'!H11","v":0},{"$f":"'Соц.ком. к 6г ч2 К.г.'!I11","v":0},{"$f":"'Соц.ком. к 6г ч2 К.г.'!J11","v":0},{"$f":"'Соц.ком. к 6г ч2 К.г.'!K11","v":0},{"$f":"'Соц.ком. к 6г ч2 К.г.'!L11","v":0},{"$f":"'Соц.ком. к 6г ч2 К.г.'!M11","v":0},{"$f":"'Физ.разв. к 6г ч1. К.г. '!E12","v":0},{"$f":"'Физ.разв. к 6г ч1. К.г. '!F12","v":0},{"$f":"'Физ.разв. к 6г ч1. К.г. '!G12","v":0},{"$f":"'Физ.разв. к 6г ч1. К.г. '!H12","v":0},{"$f":"'Физ.разв. к 6г ч1. К.г. '!I12","v":0},{"$f":"'Физ.разв. к 6г ч1. К.г. '!J12","v":0},{"$f":"'Физ.разв. к 6г ч1. К.г. '!K12","v":0},{"$f":"'Физ.разв. к 6г ч1. К.г. '!L12","v":0},{"$f":"'Физ.разв. к 6г ч1. К.г. '!M12","v":0},{"$f":"'Физ.разв. к 6г ч1. К.г. '!N12","v":0},{"$f":"'Физ.разв. к 6г ч1. К.г. '!O12","v":0},{"$f":"'Физ.разв. к 6г ч1. К.г. '!P12","v":0},{"$f":"'Физ.разв. к 6г ч1. К.г. '!Q12","v":0},{"$f":"'Физ.разв. к 6г ч1. К.г. '!R12","v":0},{"$f":"'Физ.разв. к 6г ч1. К.г. '!S12","v":0},{"$f":"'Физ.разв. к 6г ч1. К.г. '!T12","v":0},{"$f":"'Физ.разв. к 6г ч1. К.г. '!U12","v":0},{"$f":"'Физ.разв. к 6г ч1. К.г. '!V12","v":0},{"$f":"'Физ.разв. к 6г ч1. К.г. '!W12","v":0},{"$f":"'Физ.разв. к 6г ч1. К.г. '!X12","v":0},{"$f":"'Физ.разв. к 6г ч2. К.г. '!E13","v":0},{"$f":"'Физ.разв. к 6г ч2. К.г. '!F13","v":0},{"$f":"'Физ.разв. к 6г ч2. К.г. '!G13","v":0},{"$f":"'Физ.разв. к 6г ч2. К.г. '!H13","v":0},{"$f":"'Физ.разв. к 6г ч2. К.г. '!I13","v":0},{"$f":"'Физ.разв. к 6г ч2. К.г. '!J13","v":0},{"$f":"'Физ.разв. к 6г ч2. К.г. '!K13","v":0},{"$f":"'Физ.разв. к 6г ч2. К.г. '!L13","v":0},{"$f":"'Физ.разв. к 6г ч2. К.г. '!M13","v":0},{"$f":"'Физ.разв. к 6г ч2. К.г. '!N13","v":0},{"$f":"'Физ.разв. к 6г ч2. К.г. '!O13","v":0},{"$f":"'Физ.разв. к 6г ч2. К.г. '!P13","v":0},{"$f":"'Физ.разв. к 6г ч2. К.г. '!Q13","v":0},{"$f":"'Физ.разв. к 6г ч2. К.г. '!R13","v":0},{"$f":"'Физ.разв. к 6г ч2. К.г. '!S13","v":0},{"$f":"'Физ.разв. к 6г ч2. К.г. '!T13","v":0},{"$f":"'Физ.разв. к 6г ч2. К.г. '!U13","v":0},{"$f":"'Физ.разв. к 6г ч2. К.г. '!V13","v":0},{"$f":"'Физ.разв. к 6г ч2. К.г. '!W13","v":0},{"$f":"'Физ.разв. к 6г ч2. К.г. '!X13","v":0},{"$f":"'Физ.разв. к 6г ч2. К.г. '!Y13","v":0}]

{"sheet":"2","index":29,"n_rows":11,"n_cols":138,"rows_kept":11,"merged":[[4,117,4,122],[4,123,4,126],[4,127,4,129],[4,130,4,132],[4,134,4,137],[5,0,8,0],[5,1,5,11],[5,12,5,19],[5,21,6,26],[5,27,6,28],[5,50,5,52],[5,53,5,55],[5,56,5,64],[5,65,5,66],[5,67,5,70],[5,117,5,118],[5,119,5,122],[5,123,6,123],[5,124,6,124],[5,125,6,125],[5,126,6,126],[5,127,8,127],[5,128,8,128],[5,129,8,129],[5,130,8,130],[5,131,8,131],[5,132,8,132],[5,133,8,133],[5,134,5,137],[6,1,6,4],[6,9,6,10],[6,12,6,13],[6,16,6,17],[6,18,6,19],[6,20,8,20],[6,30,6,31],[6,32,6,36],[6,38,6,43],[6,45,6,49],[6,53,8,53],[6,54,8,54],[6,55,8,55],[6,56,6,58],[6,62,6,64],[6,65,7,66],[6,67,6,68],[6,69,6,70],[6,71,6,87],[6,88,6,90],[6,91,6,95],[6,97,6,98],[6,99,6,101],[6,102,6,104],[6,105,6,107],[6,108,6,112],[6,113,6,114],[6,115,6,116],[6,117,8,117],[6,118,8,118],[6,119,8,119],[6,120,8,120],[6,121,8,121],[6,122,8,122],[6,134,8,134],[6,135,8,135],[6,136,8,136],[6,137,8,137],[7,1,8,1],[7,2,8,2],[7,3,8,3],[7,4,8,4],[7,5,8,5],[7,6,8,6],[7,7,8,7],[7,8,8,8],[7,9,8,9],[7,10,8,10],[7,11,8,11],[7,12,8,12],[7,13,8,13],[7,14,8,14],[7,15,8,15],[7,16,8,16],[7,17,8,17],[7,18,8,18],[7,19,8,19],[7,21,8,21],[7,22,8,22],[7,23,8,23],[7,24,8,24],[7,25,8,25],[7,26,8,26],[7,27,8,27],[7,28,8,28],[7,29,8,29],[7,30,8,30],[7,31,8,31],[7,32,8,32],[7,33,8,33],[7,34,8,34],[7,35,8,35],[7,36,8,36],[7,37,8,37],[7,38,8,38],[7,39,8,39],[7,40,8,40],[7,41,8,41],[7,42,8,42],[7,43,8,43],[7,44,8,44],[7,45,8,45],[7,46,8,46],[7,47,8,47],[7,48,8,48],[7,49,8,49],[7,50,7,52],[7,56,8,56],[7,57,8,57],[7,58,8,58],[7,59,8,59],[7,60,8,60],[7,61,8,61],[7,62,8,62],[7,63,8,63],[7,64,8,64],[7,67,8,67],[7,68,8,68],[7,69,8,69],[7,70,8,70],[7,71,7,72],[7,73,7,74],[7,75,7,76],[7,77,7,80],[7,82,7,84],[7,85,7,87],[7,88,8,88],[7,89,8,89],[7,90,8,90],[7,91,8,91],[7,92,8,92],[7,93,8,93],[7,94,8,94],[7,95,8,95],[7,96,8,96],[7,97,8,97],[7,98,8,98],[7,99,8,99],[7,100,8,100],[7,101,8,101],[7,102,7,104],[7,105,7,107],[7,108,7,112],[7,113,8,113],[7,114,8,114],[7,115,7,116],[7,123,8,123],[7,124,8,124],[7,125,8,125],[7,126,8,126]]}
[]
[]
[]
[]
[{"$nulls":117},"Мелкая моторика",{"$nulls":5},"КГН",{"$nulls":3},"ЗОЖ",null,null,"Подвижные игры",null,null,"Спорт. игры","Спортивные упражнения"]
[{"$f":"Список!B5","v":0},"Музыкальная деятельность",{"$nulls":10},"Изобразительная деятельность",{"$nulls":8},"Приобщение к искусству",{"$nulls":5},"Конструктивная деятельность",{"$nulls":22},"Сенсорные эталоны ",null,null,"Познавательные действия",null,null,"Математические представления",{"$nulls":8},"Окружающий мир",null,"Природа ",{"$nulls":49},"Координация рук и глаз",null,"Графические навыки",{"$nulls":3},"Навыки соблюдения чистоты тела (правила личной гигиены)","Навыки культуры еды (прием пищи) ","Навыки поддержания порядка (правила поведения в быту) ","Навыки ухода за собой (одевание, раздевание) ","Ребенок имеет представление о факторах, положительно/негативно влияющих на здоровье; владеет основными способами укрепления здоровья","Ребенок имеет представление о некоторых видах спорта (9 и больше), роли спорта для укрепления здоровья","Ребенок проявляет заботливое отношение к своему здоровью и здоровью окружающих","Ребенок проявляет доступный возрасту самоконтроль","Ребенок  способен привлечь внимание других детей и организовать знакомую подвижную игру","Ребенок придумывает новые варианты игр, комбинирует движения","Ребенок имеет представление об элементах спортивных игр (городки, баскетбол, бадминтон, футбол), умеет выполнять некоторые виды движений","Ребенок умеет кататься"]
[null,"Слушание",{"$nulls":3},"Пение ","Музыкально-ритмические движения","Песенное творчество","Игра на детских музыкальных инструментах","Театрализованная деятельность",null,"Танцевально-игровое творчество","Рисование ",null,"Лепка ","Аппликация ","Народное ДПИ",null,"Прикладное творчество",null,"Ребенок самостоятельно определяет замысел рисунка, аппликации, лепки, поделки, создает образы и композиционные изображения, использует разнообразные материалы",{"$nulls":8},"Общее речевое развитие","Формирование словаря",null,"Грамматический строй",{"$nulls":4},"Звуковая культура речи","Связная речь",{"$nulls":5},"ЧХЛ","Подготовка к обучению грамоте",{"$nulls":4},"Цвет, оттенки","Форма, геометрические фигуры","Величина","Ребенок охотно участвует в обсуждении проблемы для совместного нахождения способов ее решения, предлагает пути решения, устанавливает закономерности причинно-следственного характера, проявляет любознательность","Ребенок использует математические знания, способы и средства для познания окружающего мира","Ребенок способен к произвольным умственным действиям, логическим операциям анализа, сравнения, обобщения, систематизации, классификации","Количество и счет",null,null,"Ориентировка во времени","Ориентировка в пространстве","Пространственно-количественные связи и отношения","Сравнение",null,null,"Ребенок имеет представления, может показать на картинке и в естественной среде, может рассказать",null,"Объекты живой природы",null,"Объекты неживой природы, природные явления",null,"Сфера социальных отношений",{"$nulls":16},"Область формирования основ гражданственности и патриотизма",null,null,"Сфера трудового воспитания",{"$nulls":4},"Область формирования основ безопасного поведения","Бросание, катание, ловля, метание",null,"Ползанье, лазанье",null,null,"Ходьба",null,null,"Бег",null,null,"Прыжки",{"$nulls":4},"Равновесие",null,"Строевые упражнения",null,"Ребенок может найти выход из лабиринта","Ребенок может нарисовать простой узор, изображение, не отрывая руки","Ребенок может повторить узор с чередующимися элементами","Ребенок закрашивает контурное изображение с множеством мелких деталей, не выходя за контур","Ребенок может соединить точки для получения изображения","Ребенок рисует геометрический орнамент по клеткам",{"$nulls":11},"на санках","на лыжах","на двухколесном велосипеде","на самокате"]
[null,"Ребенок различает жанры музыкальных произведений (песня, танец, марш)","Ребенок узнает мелодию по отдельным фрагментам произведения (вступление, заключение, музыкальная фраза)","Ребенок различает звуки по высоте в пределах квинты","Ребенок различает звучание музыкальных инструментов (клавишно-ударных, струнных)","Ребенок демонстрирует развитые певческие навыки","Ребенок демонстрирует развитые навыки исполнения танцевальных движений","Ребенок может импровизировать мелодию на заданный текст","Ребенок демонстрирует навыки игры на детских музыкальных инструментах","Ребенок имеет представление о различных видах театрального искусства","Ребенок с удовольствие занимается театрализованной деятельностью","Ребенок может придумывать движения к танцам","Ребенок передает в изображении основные свойства предметов (форма, величина, цвет), характерные детали, соотношение предметов и их частей по величине, высоте, расположению относительно друг друга","Ребенок владеет основными способами и приемами рисования различными изобразительными материалами (цветные карандаши, гуашь, акварель, цветные мелки, пастель, сангина, угольный карандаш, фломастеры)","Ребенок лепит с натуры и по представлению знакомые предметы, передавая характерные особенности пластическим, конструктивным и комбинированным способами","Ребенок умеет пользоваться ножницами","Ребенок имеет представление о полхов-майданской, гжельской росписи","Ребенок может нарисовать узор, используя элементы  росписи","Ребенок умеет работать с бумагой (сгибать лист, сглаживать сгибы, надрезать по сгибам)","Ребенок умеет работать с природным и бросовым материалом",null,"Ребенок умеет выделять, называть, группировать произведения по видам искусства: литература, музыка, изобразительное искусство, архитектура, театр, цирк","Ребенок имеет представление о видах изобразительного искусства: графика, декоративно-прикладное искусство, живопись, скульптура, архитектура, фотоискусство","Ребенок имеет представление о жанрах изобразительного искусства: натюрморт, пейзаж, портрет","Ребенок имеет представление о народном искусстве, фольклоре, музыке и художественных промыслах","Ребенок имеет представление о творческих профессиях: художник, композитор, музыкант, актер, артист балета","Ребенок имеет представление о культурно-досуговых местах: театр, музей, библиотека, выставка, кинотеатр, цирк и др.","Ребенок может провести анализ постройки (выделить основные части и характерные детали конструкций)","Ребенок может выполнить постройку по инструкции","Ребенок внятно разговаривает","Ребенок умеет обобщать предметы в группы по существенным признакам","Ребенок демонстрирует богатый словарный запас","Ребенок правильно использует в речи: несклоняемые существительные","Ребенок правильно использует в речи: слова, имеющие только множественное или только единственное число","Ребенок правильно использует в речи: глаголы одеть-надеть","Ребенок правильно использует в речи: существительные множественного числа в родительном падеже","Ребенок правильно образовывает слова с помощью суффикса, приставки","Ребенок правильно произносит сонорные звуки: л-ль, р-рь","Ребенок пересказывает литературные произведения по ролям, по частям, правильно передавая идею и содержание","Ребенок пользуется прямой и косвенной речью","Ребенок составляет короткий описательный рассказ о предметах, объектах и явлениях природы, из личного опыта","Ребенок сочиняет сюжетные рассказы по картине, из личного опыта","Ребенок проявляет речевое творчество: придумывает продолжение и окончание к рассказу, рассказы по аналогии, по плану педагога, по модели","Ребенок владеет первичными приемами аргументации и доказательства","Ребенок проявляет избирательное отношение к произведениям определенной тематики и жанра","Ребенок понимает термины: слово: звук, буква, предложение, гласный звук, согласный звук","Ребенок может провести звуковой анализ слова, разделить на слоги двух-, трехслоговые слова; составляет схему слова","Ребенок различает гласные-согласные звуки","Ребенок определяет твердые-мягкие согласные","Ребенок составляет предложение по модели, определяет количество и последовательность слов в предложении","Ребенок различает и называет",{"$nulls":5},"Ребенок знает/называет/находит среди других цифры 0 -10","Ребенок выполняет количественный и порядковый счет в пределах 0-10","Ребенок знает состав чисел из единиц в пределах 5","Ребенок понимает календарные единицы времени (сутки, неделя, месяц, год)","Ребенок ориентируется на листе бумаги","Ребенок понимает простейшую графическую информацию об отношениях предметов (слева направо, справа налево, снизу вверх, сверху вниз)","Ребенок выделяет сходства и отличия между группами предметов","Ребенок сравнивает предметы по 3-5 признакам","Ребенок группирует предметы по разным основаниям, преимущественно на основе зрительной оценки",null,null,"Ребенок имеет представление о сходстве и различии во внешнем виде и образе жизни объектов животного и растительного мира в разные сезоны года","Ребенок может сравнивать, группировать объекты живой природы по их особенностям, мету обитания, образу жизни, питанию","Ребенок имеет представление о признаках разных времен года","Ребенок наблюдает за явлениями природы, фиксирует результаты наблюдения","Отношение к самому себе",null,"Отношение к сверстникам",null,"Отношение к взрослым",null,"Эмоции",{"$nulls":3},"Поведение","Семья",null,null,"Игровое поведение",null,null,"Ребенок имеет представление о государственных символах России (герб, гимн, флаг)","Ребенок имеет представление о государственных праздниках России","Ребенок знает/может назвать/показать на картинке и в естественной среде достопримечательности населенного пункта, в котором живет","Ребенок имеет представления о разных видах производительного труда (промышленность, строительство, сельское хозяйство)","Ребенок имеет представления о разных видах обслуживающего труда (сфера досуга и отдыха, сфера культуры, медицина, торговля)","Ребенок имеет представление о структуре трудового процесса (мотив, цель, инструменты, оборудование, содержание действий, выбор трудовых действий, результат)","Ребенок имеет элементарные экономические представления (назначение рекламы, денег)","Ребенок охотно участвует в выполнении трудовых поручений, дежурстве; может распределять трудовые обязанности с другими","Ребенок имеет представления/ соблюдает правила поведения в быту, на улице, в природе, в общении с людьми, с животными","Ребенок выполняет различные упражнения с мячом (прокатывание, передача, перебрасывание, ведение, подбрасывание, ловля, забрасывание)","Ребенок выполняет метание в цель, метание в даль предметов разной массы","Ребенок выполняет ползанье разными способами (на четвереньках, на животе)","Ребенок выполняет переползание через несколько предметов подряд, под дугами, в туннеле","Ребенок выполняет лазанье по гимнастической стенке чередующимся шагом","Ребенок выполняет различные виды ходьбы",null,null,"Ребенок выполняет различные виды бега",null,null,"Ребенок выполняет различные виды прыжков",{"$nulls":4},"Ребенок выполняет стойку на одной ноге ","Ребенок выполняет упражнение \"ласточка\" ","Ребенок выполняет различные виды строевых упражнений",{"$nulls":7},"Ребенок выполняет самостоятельно","Ребенок выполняет самостоятельно","Ребенок выполняет самостоятельно","Ребенок выполняет самостоятельно"]
[{"$nulls":50},"Ребенок называет/различает все цвета спектра и ахроматические цвета, оттенки цвета, тоны цвета, теплые и холодные оттенки","Ребенок владеет способами воссоздания фигуры из частей, деления фигуры на части","Ребенок может выстраивать сериационные ряды предметов, различающихся по размеру в возрастающем и убывающем порядке в пределах 10",{"$nulls":12},"о многообразии людей разных национальностей (особенностей внешнего вида, одежды, традиций)","Ребенок имеет представление о многообразии стран и народов мира",{"$nulls":4},"Ребенок может рассказать о себе, выразить собственные потребности, желания","Ребенок имеет представление о некоторых своих правах","Ребенок имеет предпочтения в общении","Ребенок охотно вступает в общение со сверстниками","Ребенок уважительно относится к взрослым, пожилым людям","Ребенок охотно вступает в общение со взрослыми","Ребенок понимает свои и чужие эмоциональные состояния, демонстрирует примеры эмоциональной поддержки ","Ребенок  откликается на просьбу помочь","Ребенок выразить чувства и эмоции в мимике, пантомимике, действиях, интонации","Ребенок демонстрирует адекватные возрасту способы регуляции эмоциональных состояний","Ребенок ориентируется на общепринятые нормы и правила культуры поведения","Ребенок знает членов своей семьи, ближайших родственников по линии матери и отца","Ребенок имеет представление о способах поддержки родственных связей (переписка, разговор, совместный отдых, традиции, походы в гости и др.)","Ребенок проявляет заботу по отношению к членам своей семьи, оказывает посильную помощь больному члену семьи","Ребенок в совместной деятельности принимает общую цель, договаривается о способах деятельности и материалах, может уступить в конфликтной ситуации","Ребенок проявляет интерес к игровому экспериментированию, развивающим и познавательным играм","Ребенок способен действовать в точном соответствие с игровой задачей и правилами",{"$nulls":14},"обычным шагом, на носках, на пятках, с высоким подниманием колен","приставной, в полуприседе, мелким и широким, перекатом с пятки на носок, гимнастическим","змейкой без ориентиров, в колонне по одному и по два","в колонне по одному, змейкой, с перестроением на ходу в пары, звенья","со сменой ведущих, с пролезанием в обруч, с ловлей и увертыванием, высоко поднимая колени","между расставленными предметами, в заданном темпе, мелким и широким шагом","подпрыгивание, перепрыгивание, спрыгивание","в длину с места","в высоту с разбега","в длину с разбега","со скакалкой",null,null,"построения (по росту, в колонну по одному, в шеренгу, в круг)","в колонну по три, в две шеренги на месте, расхождение из колонны в разные стороны"]
["начало года",{"$f":"'Худ.эст.к 6г ч1. Н.г.'!E13","v":0},{"$f":"'Худ.эст.к 6г ч1. Н.г.'!F13","v":0},{"$f":"'Худ.эст.к 6г ч1. Н.г.'!G13","v":0},{"$f":"'Худ.эст.к 6г ч1. Н.г.'!H13","v":0},{"$f":"'Худ.эст.к 6г ч1. Н.г.'!I13","v":0},{"$f":"'Худ.эст.к 6г ч1. Н.г.'!J13","v":0},{"$f":"'Худ.эст.к 6г ч1. Н.г.'!K13","v":0},{"$f":"'Худ.эст.к 6г ч1. Н.г.'!L13","v":0},{"$f":"'Худ.эст.к 6г ч1. Н.г.'!M13","v":0},{"$f":"'Худ.эст.к 6г ч1. Н.г.'!N13","v":0},{"$f":"'Худ.эст.к 6г ч1. Н.г.'!O13","v":0},{"$f":"'Худ.эст.к 6г ч2. Н.г.'!E13","v":0},{"$f":"'Худ.эст.к 6г ч2. Н.г.'!F13","v":0},{"$f":"'Худ.эст.к 6г ч2. Н.г.'!G13","v":0},{"$f":"'Худ.эст.к 6г ч2. Н.г.'!H13","v":0},{"$f":"'Худ.эст.к 6г ч2. Н.г.'!I13","v":0},{"$f":"'Худ.эст.к 6г ч2. Н.г.'!J13","v":0},{"$f":"'Худ.эст.к 6г ч2. Н.г.'!K13","v":0},{"$f":"'Худ.эст.к 6г ч2. Н.г.'!L13","v":0},{"$f":"'Худ.эст.к 6г ч2. Н.г.'!M13","v":0},{"$f":"'Худ.эст.к 6г ч3. Н.г.'!E13","v":0},{"$f":"'Худ.эст.к 6г ч3. Н.г.'!F13","v":0},{"$f":"'Худ.эст.к 6г ч3. Н.г.'!G13","v":0},{"$f":"'Худ.эст.к 6г ч3. Н.г.'!H13","v":0},{"$f":"'Худ.эст.к 6г ч3. Н.г.'!I13","v":0},{"$f":"'Худ.эст.к 6г ч3. Н.г.'!J13","v":0},{"$f":"'Худ.эст.к 6г ч3. Н.г.'!K13","v":0},{"$f":"'Худ.эст.к 6г ч3. Н.г.'!L13","v":0},{"$f":"'Реч.разв.к 6г ч1. Н.г.'!E12","v":0},{"$f":"'Реч.разв.к 6г ч1. Н.г.'!F12","v":0},{"$f":"'Реч.разв.к 6г ч1. Н.г.'!G12","v":0},{"$f":"'Реч.разв.к 6г ч1. Н.г.'!H12","v":0},{"$f":"'Реч.разв.к 6г ч1. Н.г.'!I12","v":0},{"$f":"'Реч.разв.к 6г ч1. Н.г.'!J12","v":0},{"$f":"'Реч.разв.к 6г ч1. Н.г.'!K12","v":0},{"$f":"'Реч.разв.к 6г ч1. Н.г.'!L12","v":0},{"$f":"'Реч.разв.к 6г ч2. Н.г.'!E12","v":0},{"$f":"'Реч.разв.к 6г ч2. Н.г.'!F12","v":0},{"$f":"'Реч.разв.к 6г ч2. Н.г.'!G12","v":0},{"$f":"'Реч.разв.к 6г ч2. Н.г.'!H12","v":0},{"$f":"'Реч.разв.к 6г ч2. Н.г.'!I12","v":0},{"$f":"'Реч.разв.к 6г ч2. Н.г.'!J12","v":0},{"$f":"'Реч.разв.к 6г ч2. Н.г.'!K12","v":0},{"$f":"'Реч.разв.к 6г ч2. Н.г.'!L12","v":0},{"$f":"'Реч.разв.к 6г ч2. Н.г.'!M12","v":0},{"$f":"'Реч.разв.к 6г ч2. Н.г.'!N12","v":0},{"$f":"'Реч.разв.к 6г ч2. Н.г.'!O12","v":0},{"$f":"'Реч.разв.к 6г ч2. Н.г.'!P12","v":0},{"$f":"'Реч.разв.к 6г ч2. Н.г.'!Q12","v":0},{"$f":"'Позн.разв. к 6г ч1. Н.г.'!E13","v":0},{"$f":"'Позн.разв. к 6г ч1. Н.г.'!F13","v":0},{"$f":"'Позн.разв. к 6г ч1. Н.г.'!G13","v":0},{"$f":"'Позн.разв. к 6г ч1. Н.г.'!H13","v":0},{"$f":"'Позн.разв. к 6г ч1. Н.г.'!I13","v":0},{"$f":"'Позн.разв. к 6г ч1. Н.г.'!J13","v":0},{"$f":"'Позн.разв. к 6г ч1. Н.г.'!K13","v":0},{"$f":"'Позн.разв. к 6г ч1. Н.г.'!L13","v":0},{"$f":"'Позн.разв. к 6г ч1. Н.г.'!M13","v":0},{"$f":"'Позн.разв. к 6г ч1. Н.г.'!N13","v":0},{"$f":"'Позн.разв. к 6г ч1. Н.г.'!O13","v":0},{"$f":"'Позн.разв. к 6г ч1. Н.г.'!P13","v":0},{"$f":"'Позн.разв. к 6г ч1. Н.г.'!Q13","v":0},{"$f":"'Позн.разв. к 6г ч1. Н.г.'!R13","v":0},{"$f":"'Позн.разв. к 6г ч1. Н.г.'!S13","v":0},{"$f":"'Позн.разв. к 6г ч2. Н.г.'!E13","v":0},{"$f":"'Позн.разв. к 6г ч2. Н.г.'!F13","v":0},{"$f":"'Позн.разв. к 6г ч2. Н.г.'!G13","v":0},{"$f":"'Позн.разв. к 6г ч2. Н.г.'!H13","v":0},{"$f":"'Позн.разв. к 6г ч2. Н.г.'!I13","v":0},{"$f":"'Позн.разв. к 6г ч2. Н.г.'!J13","v":0},{"$f":"'Соц.ком.к 6г ч1. Н.г.'!E12","v":0},{"$f":"'Соц.ком.к 6г ч1. Н.г.'!F12","v":0},{"$f":"'Соц.ком.к 6г ч1. Н.г.'!G12","v":0},{"$f":"'Соц.ком.к 6г ч1. Н.г.'!H12","v":0},{"$f":"'Соц.ком.к 6г ч1. Н.г.'!I12","v":0},{"$f":"'Соц.ком.к 6г ч1. Н.г.'!J12","v":0},{"$f":"'Соц.ком.к 6г ч1. Н.г.'!K12","v":0},{"$f":"'Соц.ком.к 6г ч1. Н.г.'!L12","v":0},{"$f":"'Соц.ком.к 6г ч1. Н.г.'!M12","v":0},{"$f":"'Соц.ком.к 6г ч1. Н.г.'!N12","v":0},{"$f":"'Соц.ком.к 6г ч1. Н.г.'!O12","v":0},{"$f":"'Соц.ком.к 6г ч1. Н.г.'!P12","v":0},{"$f":"'Соц.ком.к 6г ч1. Н.г.'!Q12","v":0},{"$f":"'Соц.ком.к 6г ч1. Н.г.'!R12","v":0},{"$f":"'Соц.ком.к 6г ч1. Н.г.'!S12","v":0},{"$f":"'Соц.ком.к 6г ч1. Н.г.'!T12","v":0},{"$f":"'Соц.ком.к 6г ч1. Н.г.'!U12","v":0},{"$f":"'Соц.ком. к 6г ч2. Н.г.'!E12","v":0},{"$f":"'Соц.ком. к 6г ч2. Н.г.'!F12","v":0},{"$f":"'Соц.ком. к 6г ч2. Н.г.'!G12","v":0},{"$f":"'Соц.ком. к 6г ч2. Н.г.'!H12","v":0},{"$f":"'Соц.ком. к 6г ч2. Н.г.'!I12","v":0},{"$f":"'Соц.ком. к 6г ч2. Н.г.'!J12","v":0},{"$f":"'Соц.ком. к 6г ч2. Н.г.'!K12","v":0},{"$f":"'Соц.ком. к 6г ч2. Н.г.'!L12","v":0},{"$f":"'Соц.ком. к 6г ч2. Н.г.'!M12","v":0},{"$f":"'Физ.разв. к 6г ч1. Н.г.'!E13","v":0},{"$f":"'Физ.разв. к 6г ч1. Н.г.'!F13","v":0},{"$f":"'Физ.разв. к 6г ч1. Н.г.'!G13","v":0},{"$f":"'Физ.разв. к 6г ч1. Н.г.'!H13","v":0},{"$f":"'Физ.разв. к 6г ч1. Н.г.'!I13","v":0},{"$f":"'Физ.разв. к 6г ч1. Н.г.'!J13","v":0},{"$f":"'Физ.разв. к 6г ч1. Н.г.'!K13","v":0},{"$f":"'Физ.разв. к 6г ч1. Н.г.'!L13","v":0},{"$f":"'Физ.разв. к 6г ч1. Н.г.'!M13","v":0},{"$f":"'Физ.разв. к 6г ч1. Н.г.'!N13","v":0},{"$f":"'Физ.разв. к 6г ч1. Н.г.'!O13","v":0},{"$f":"'Физ.разв. к 6г ч1. Н.г.'!P13","v":0},{"$f":"'Физ.разв. к 6г ч1. Н.г.'!Q13","v":0},{"$f":"'Физ.разв. к 6г ч1. Н.г.'!R13","v":0},{"$f":"'Физ.разв. к 6г ч1. Н.г.'!S13","v":0},{"$f":"'Физ.разв. к 6г ч1. Н.г.'!T13","v":0},{"$f":"'Физ.разв. к 6г ч1. Н.г.'!U13","v":0},{"$f":"'Физ.разв. к 6г ч1. Н.г.'!V13","v":0},{"$f":"'Физ.разв. к 6г ч1. Н.г.'!W13","v":0},{"$f":"'Физ.разв. к 6г ч1. Н.г.'!X13","v":0},{"$f":"'Физ.разв. к 6г ч2. Н.г.'!E14","v":0},{"$f":"'Физ.разв. к 6г ч2. Н.г.'!F14","v":0},{"$f":"'Физ.разв. к 6г ч2. Н.г.'!G14","v":0},{"$f":"'Физ.разв. к 6г ч2. Н.г.'!H14","v":0},{"$f":"'Физ.разв. к 6г ч2. Н.г.'!I14","v":0},{"$f":"'Физ.разв. к 6г ч2. Н.г.'!J14","v":0},{"$f":"'Физ.разв. к 6г ч2. Н.г.'!K14","v":0},{"$f":"'Физ.разв. к 6г ч2. Н.г.'!L14","v":0},{"$f":"'Физ.разв. к 6г ч2. Н.г.'!M14","v":0},{"$f":"'Физ.разв. к 6г ч2. Н.г.'!N14","v":0},{"$f":"'Физ.разв. к 6г ч2. Н.г.'!O14","v":0},{"$f":"'Физ.разв. к 6г ч2. Н.г.'!P14","v":0},{"$f":"'Физ.разв. к 6г ч2. Н.г.'!Q14","v":0},{"$f":"'Физ.разв. к 6г ч2. Н.г.'!R14","v":0},{"$f":"'Физ.разв. к 6г ч2. Н.г.'!S14","v":0},{"$f":"'Физ.разв. к 6г ч2. Н.г.'!T14","v":0},{"$f":"'Физ.разв. к 6г ч2. Н.г.'!U14","v":0},{"$f":"'Физ.разв. к 6г ч2. Н.г.'!V14","v":0},{"$f":"'Физ.разв. к 6г ч2. Н.г.'!W14","v":0},{"$f":"'Физ.разв. к 6г ч2. Н.г.'!X14","v":0},{"$f":"'Физ.разв. к 6г ч2. Н.г.'!Y14","v":0}]
["конец года",{"$f":"'Худ.эст.к 6г ч1. К.г. '!E13","v":0},{"$f":"'Худ.эст.к 6г ч1. К.г. '!F13","v":0},{"$f":"'Худ.эст.к 6г ч1. К.г. '!G13","v":0},{"$f":"'Худ.эст.к 6г ч1. К.г. '!H13","v":0},{"$f":"'Худ.эст.к 6г ч1. К.г. '!I13","v":0},{"$f":"'Худ.эст.к 6г ч1. К.г. '!J13","v":0},{"$f":"'Худ.эст.к 6г ч1. К.г. '!K13","v":0},{"$f":"'Худ.эст.к 6г ч1. К.г. '!L13","v":0},{"$f":"'Худ.эст.к 6г ч1. К.г. '!M13","v":0},{"$f":"'Худ.эст.к 6г ч1. К.г. '!N13","v":0},{"$f":"'Худ.эст.к 6г ч1. К.г. '!O13","v":0},{"$f":"'Худ.эст.к 6г ч2. К.г. '!E13","v":0},{"$f":"'Худ.эст.к 6г ч2. К.г. '!F13","v":0},{"$f":"'Худ.эст.к 6г ч2. К.г. '!G13","v":0},{"$f":"'Худ.эст.к 6г ч2. К.г. '!H13","v":0},{"$f":"'Худ.эст.к 6г ч2. К.г. '!I13","v":0},{"$f":"'Худ.эст.к 6г ч2. К.г. '!J13","v":0},{"$f":"'Худ.эст.к 6г ч2. К.г. '!K13","v":0},{"$f":"'Худ.эст.к 6г ч2. К.г. '!L13","v":0},{"$f":"'Худ.эст.к 6г ч2. К.г. '!M13","v":0},{"$f":"'Худ.эст.к 6г ч3. К.г. '!E13","v":0},{"$f":"'Худ.эст.к 6г ч3. К.г. '!F13","v":0},{"$f":"'Худ.эст.к 6г ч3. К.г. '!G13","v":0},{"$f":"'Худ.эст.к 6г ч3. К.г. '!H13","v":0},{"$f":"'Худ.эст.к 6г ч3. К.г. '!I13","v":0},{"$f":"'Худ.эст.к 6г ч3. К.г. '!J13","v":0},{"$f":"'Худ.эст.к 6г ч3. К.г. '!K13","v":0},{"$f":"'Худ.эст.к 6г ч3. К.г. '!L13","v":0},{"$f":"'Реч.разв.к 6г ч1. К.г. '!E12","v":0},{"$f":"'Реч.разв.к 6г ч1. К.г. '!F12","v":0},{"$f":"'Реч.разв.к 6г ч1. К.г. '!G12","v":0},{"$f":"'Реч.разв.к 6г ч1. К.г. '!H12","v":0},{"$f":"'Реч.разв.к 6г ч1. К.г. '!I12","v":0},{"$f":"'Реч.разв.к 6г ч1. К.г. '!J12","v":0},{"$f":"'Реч.разв.к 6г ч1. К.г. '!K12","v":0},{"$f":"'Реч.разв.к 6г ч1. К.г. '!L12","v":0},{"$f":"'Реч.разв.к 6г ч2. К.г. '!E12","v":0},{"$f":"'Реч.разв.к 6г ч2. К.г. '!F12","v":0},{"$f":"'Реч.разв.к 6г ч2. К.г. '!G12","v":0},{"$f":"'Реч.разв.к 6г ч2. К.г. '!H12","v":0},{"$f":"'Реч.разв.к 6г ч2. К.г. '!I12","v":0},{"$f":"'Реч.разв.к 6г ч2. К.г. '!J12","v":0},{"$f":"'Реч.разв.к 6г ч2. К.г. '!K12","v":0},{"$f":"'Реч.разв.к 6г ч2. К.г. '!L12","v":0},{"$f":"'Реч.разв.к 6г ч2. К.г. '!M12","v":0},{"$f":"'Реч.разв.к 6г ч2. К.г. '!N12","v":0},{"$f":"'Реч.разв.к 6г ч2. К.г. '!O12","v":0},{"$f":"'Реч.разв.к 6г ч2. К.г. '!P12","v":0},{"$f":"'Реч.разв.к 6г ч2. К.г. '!Q12","v":0},{"$f":"'Позн.разв. к 6г ч1. К.г. '!E13","v":0},{"$f":"'Позн.разв. к 6г ч1. К.г. '!F13","v":0},{"$f":"'Позн.разв. к 6г ч1. К.г. '!G13","v":0},{"$f":"'Позн.разв. к 6г ч1. К.г. '!H13","v":0},{"$f":"'Позн.разв. к 6г ч1. К.г. '!I13","v":0},{"$f":"'Позн.разв. к 6г ч1. К.г. '!J13","v":0},{"$f":"'Позн.разв. к 6г ч1. К.г. '!K13","v":0},{"$f":"'Позн.разв. к 6г ч1. К.г. '!L13","v":0},{"$f":"'Позн.разв. к 6г ч1. К.г. '!M13","v":0},{"$f":"'Позн.разв. к 6г ч1. К.г. '!N13","v":0},{"$f":"'Позн.разв. к 6г ч1. К.г. '!O13","v":0},{"$f":"'Позн.разв. к 6г ч1. К.г. '!P13","v":0},{"$f":"'Позн.разв. к 6г ч1. К.г. '!Q13","v":0},{"$f":"'Позн.разв. к 6г ч1. К.г. '!R13","v":0},{"$f":"'Позн.разв. к 6г ч1. К.г. '!S13","v":0},{"$f":"'Позн.разв. к 6г ч2. К.г. '!E13","v":0},{"$f":"'Позн.разв. к 6г ч2. К.г. '!F13","v":0},{"$f":"'Позн.разв. к 6г ч2. К.г. '!G13","v":0},{"$f":"'Позн.разв. к 6г ч2. К.г. '!H13","v":0},{"$f":"'Позн.разв. к 6г ч2. К.г. '!I13","v":0},{"$f":"'Позн.разв. к 6г ч2. К.г. '!J13","v":0},{"$f":"'Соц.ком.к 6г ч1. К.г. '!$E$12","v":0},{"$f":"'Соц.ком.к 6г ч1. К.г. '!$E$12","v":0},{"$f":"'Соц.ком.к 6г ч1. К.г. '!$E$12","v":0},{"$f":"'Соц.ком.к 6г ч1. К.г. '!$E$12","v":0},{"$f":"'Соц.ком.к 6г ч1. К.г. '!$E$12","v":0},{"$f":"'Соц.ком.к 6г ч1. К.г. '!$E$12","v":0},{"$f":"'Соц.ком.к 6г ч1. К.г. '!$E$12","v":0},{"$f":"'Соц.ком.к 6г ч1. К.г. '!$E$12","v":0},{"$f":"'Соц.ком.к 6г ч1. К.г. '!$E$12","v":0},{"$f":"'Соц.ком.к 6г ч1. К.г. '!$E$12","v":0},{"$f":"'Соц.ком.к 6г ч1. К.г. '!$E$12","v":0},{"$f":"'Соц.ком.к 6г ч1. К.г. '!$E$12","v":0},{"$f":"'Соц.ком.к 6г ч1. К.г. '!$E$12","v":0},{"$f":"'Соц.ком.к 6г ч1. К.г. '!$E$12","v":0},{"$f":"'Соц.ком.к 6г ч1. К.г. '!$E$12","v":0},{"$f":"'Соц.ком.к 6г ч1. К.г. '!$E$12","v":0},{"$f":"'Соц.ком.к 6г ч1. К.г. '!$E$12","v":0},{"$f":"'Соц.ком. к 6г ч2 К.г.'!E12","v":0},{"$f":"'Соц.ком. к 6г ч2 К.г.'!F12","v":0},{"$f":"'Соц.ком. к 6г ч2 К.г.'!G12","v":0},{"$f":"'Соц.ком. к 6г ч2 К.г.'!H12","v":0},{"$f":"'Соц.ком. к 6г ч2 К.г.'!I12","v":0},{"$f":"'Соц.ком. к 6г ч2 К.г.'!J12","v":0},{"$f":"'Соц.ком. к 6г ч2 К.г.'!K12","v":0},{"$f":"'Соц.ком. к 6г ч2 К.г.'!L12","v":0},{"$f":"'Соц.ком. к 6г ч2 К.г.'!M12","v":0},{"$f":"'Физ.разв. к 6г ч1. К.г. '!E13","v":0},{"$f":"'Физ.разв. к 6г ч1. К.г. '!F13","v":0},{"$f":"'Физ.разв. к 6г ч1. К.г. '!G13","v":0},{"$f":"'Физ.разв. к 6г ч1. К.г. '!H13","v":0},{"$f":"'Физ.разв. к 6г ч1. К.г. '!I13","v":0},{"$f":"'Физ.разв. к 6г ч1. К.г. '!J13","v":0},{"$f":"'Физ.разв. к 6г ч1. К.г. '!K13","v":0},{"$f":"'Физ.разв. к 6г ч1. К.г. '!L13","v":0},{"$f":"'Физ.разв. к 6г ч1. К.г. '!M13","v":0},{"$f":"'Физ.разв. к 6г ч1. К.г. '!N13","v":0},{"$f":"'Физ.разв. к 6г ч1. К.г. '!O13","v":0},{"$f":"'Физ.разв. к 6г ч1. К.г. '!P13","v":0},{"$f":"'Физ.разв. к 6г ч1. К.г. '!Q13","v":0},{"$f":"'Физ.разв. к 6г ч1. К.г. '!R13","v":0},{"$f":"'Физ.разв. к 6г ч1. К.г. '!S13","v":0},{"$f":"'Физ.разв. к 6г ч1. К.г. '!T13","v":0},{"$f":"'Физ.разв. к 6г ч1. К.г. '!U13","v":0},{"$f":"'Физ.разв. к 6г ч1. К.г. '!V13","v":0},{"$f":"'Физ.разв. к 6г ч1. К.г. '!W13","v":0},{"$f":"'Физ.разв. к 6г ч1. К.г. '!X13","v":0},{"$f":"'Физ.разв. к 6г ч2. К.г. '!E14","v":0},{"$f":"'Физ.разв. к 6г ч2. К.г. '!F14","v":0},{"$f":"'Физ.разв. к 6г ч2. К.г. '!G14","v":0},{"$f":"'Физ.разв. к 6г ч2. К.г. '!H14","v":0},{"$f":"'Физ.разв. к 6г ч2. К.г. '!I14","v":0},{"$f":"'Физ.разв. к 6г ч2. К.г. '!J14","v":0},{"$f":"'Физ.разв. к 6г ч2. К.г. '!K14","v":0},{"$f":"'Физ.разв. к 6г ч2. К.г. '!L14","v":0},{"$f":"'Физ.разв. к 6г ч2. К.г. '!M14","v":0},{"$f":"'Физ.разв. к 6г ч2. К.г. '!N14","v":0},{"$f":"'Физ.разв. к 6г ч2. К.г. '!O14","v":0},{"$f":"'Физ.разв. к 6г ч2. К.г. '!P14","v":0},{"$f":"'Физ.разв. к 6г ч2. К.г. '!Q14","v":0},{"$f":"'Физ.разв. к 6г ч2. К.г. '!R14","v":0},{"$f":"'Физ.разв. к 6г ч2. К.г. '!S14","v":0},{"$f":"'Физ.разв. к 6г ч2. К.г. '!T14","v":0},{"$f":"'Физ.разв. к 6г ч2. К.г. '!U14","v":0},{"$f":"'Физ.разв. к 6г ч2. К.г. '!V14","v":0},{"$f":"'Физ.разв. к 6г ч2. К.г. '!W14","v":0},{"$f":"'Физ.разв. к 6г ч2. К.г. '!X14","v":0},{"$f":"'Физ.разв. к 6г ч2. К.г. '!Y14","v":0}]

{"sheet":"3","index":30,"n_rows":11,"n_cols":138,"rows_kept":11,"merged":[[4,117,4,122],[4,123,4,126],[4,127,4,129],[4,130,4,132],[4,134,4,137],[5,0,8,0],[5,1,5,11],[5,12,5,19],[5,21,6,26],[5,27,6,28],[5,50,5,52],[5,53,5,55],[5,56,5,64],[5,65,5,66],[5,67,5,70],[5,117,5,118],[5,119,5,122],[5,123,6,123],[5,124,6,124],[5,125,6,125],[5,126,6,126],[5,127,8,127],[5,128,8,128],[5,129,8,129],[5,130,8,130],[5,131,8,131],[5,132,8,132],[5,133,8,133],[5,134,5,137],[6,1,6,4],[6,9,6,10],[6,12,6,13],[6,16,6,17],[6,18,6,19],[6,20,8,20],[6,30,6,31],[6,32,6,36],[6,38,6,43],[6,45,6,49],[6,53,8,53],[6,54,8,54],[6,55,8,55],[6,56,6,58],[6,62,6,64],[6,65,7,66],[6,67,6,68],[6,69,6,70],[6,71,6,87],[6,88,6,90],[6,91,6,95],[6,97,6,98],[6,99,6,101],[6,102,6,104],[6,105,6,107],[6,108,6,112],[6,113,6,114],[6,115,6,116],[6,117,8,117],[6,118,8,118],[6,119,8,119],[6,120,8,120],[6,121,8,121],[6,122,8,122],[6,134,8,134],[6,135,8,135],[6,136,8,136],[6,137,8,137],[7,1,8,1],[7,2,8,2],[7,3,8,3],[7,4,8,4],[7,5,8,5],[7,6,8,6],[7,7,8,7],[7,8,8,8],[7,9,8,9],[7,10,8,10],[7,11,8,11],[7,12,8,12],[7,13,8,13],[7,14,8,14],[7,15,8,15],[7,16,8,16],[7,17,8,17],[7,18,8,18],[7,19,8,19],[7,21,8,21],[7,22,8,22],[7,23,8,23],[7,24,8,24],[7,25,8,25],[7,26,8,26],[7,27,8,27],[7,28,8,28],[7,29,8,29],[7,30,8,30],[7,31,8,31],[7,32,8,32],[7,33,8,33],[7,34,8,34],[7,35,8,35],[7,36,8,36],[7,37,8,37],[7,38,8,38],[7,39,8,39],[7,40,8,40],[7,41,8,41],[7,42,8,42],[7,43,8,43],[7,44,8,44],[7,45,8,45],[7,46,8,46],[7,47,8,47],[7,48,8,48],[7,49,8,49],[7,50,7,52],[7,56,8,56],[7,57,8,57],[7,58,8,58],[7,59,8,59],[7,60,8,60],[7,61,8,61],[7,62,8,62],[7,63,8,63],[7,64,8,64],[7,67,8,67],[7,68,8,68],[7,69,8,69],[7,70,8,70],[7,71,7,72],[7,73,7,74],[7,75,7,76],[7,77,7,80],[7,82,7,84],[7,85,7,87],[7,88,8,88],[7,89,8,89],[7,90,8,90],[7,91,8,91],[7,92,8,92],[7,93,8,93],[7,94,8,94],[7,95,8,95],[7,96,8,96],[7,97,8,97],[7,98,8,98],[7,99,8,99],[7,100,8,100],[7,101,8,101],[7,102,7,104],[7,105,7,107],[7,108,7,112],[7,113,8,113],[7,114,8,114],[7,115,7,116],[7,123,8,123],[7,124,8,124],[7,125,8,125],[7,126,8,126]]}
[]
[]
[]
[]
[{"$nulls":117},"Мелкая моторика",{"$nulls":5},"КГН",{"$nulls":3},"ЗОЖ",null,null,"Подвижные игры",null,null,"Спорт. игры","Спортивные упражнения"]
[{"$f":"Список!B6","v":0},"Музыкальная деятельность",{"$nulls":10},"Изобразительная деятельность",{"$nulls":8},"Приобщение к искусству",{"$nulls":5},"Конструктивная деятельность",{"$nulls":22},"Сенсорные эталоны ",null,null,"Познавательные действия",null,null,"Математические представления",{"$nulls":8},"Окружающий мир",null,"Природа ",{"$nulls":49},"Координация рук и глаз",null,"Графические навыки",{"$nulls":3},"Навыки соблюдения чистоты тела (правила личной гигиены)","Навыки культуры еды (прием пищи) ","Навыки поддержания порядка (правила поведения в быту) ","Навыки ухода за собой (одевание, раздевание) ","Ребенок имеет представление о факторах, положительно/негативно влияющих на здоровье; владеет основными способами укрепления здоровья","Ребенок имеет представление о некоторых видах спорта (9 и больше), роли спорта для укрепления здоровья","Ребенок проявляет заботливое отношение к своему здоровью и здоровью окружающих","Ребенок проявляет доступный возрасту самоконтроль","Ребенок  способен привлечь внимание других детей и организовать знакомую подвижную игру","Ребенок придумывает новые варианты игр, комбинирует движения","Ребенок имеет представление об элементах спортивных игр (городки, баскетбол, бадминтон, футбол), умеет выполнять некоторые виды движений","Ребенок умеет кататься"]
[null,"Слушание",{"$nulls":3},"Пение ","Музыкально-ритмические движения","Песенное творчество","Игра на детских музыкальных инструментах","Театрализованная деятельность",null,"Танцевально-игровое творчество","Рисование ",null,"Лепка ","Аппликация ","Народное ДПИ",null,"Прикладное творчество",null,"Ребенок самостоятельно определяет замысел рисунка, аппликации, лепки, поделки, создает образы и композиционные изображения, использует разнообразные материалы",{"$nulls":8},"Общее речевое развитие","Формирование словаря",null,"Грамматический строй",{"$nulls":4},"Звуковая культура речи","Связная речь",{"$nulls":5},"ЧХЛ","Подготовка к обучению грамоте",{"$nulls":4},"Цвет, оттенки","Форма, геометрические фигуры","Величина","Ребенок охотно участвует в обсуждении проблемы для совместного нахождения способов ее решения, предлагает пути решения, устанавливает закономерности причинно-следственного характера, проявляет любознательность","Ребенок использует математические знания, способы и средства для познания окружающего мира","Ребенок способен к произвольным умственным действиям, логическим операциям анализа, сравнения, обобщения, систематизации, классификации","Количество и счет",null,null,"Ориентировка во времени","Ориентировка в пространстве","Пространственно-количественные связи и отношения","Сравнение",null,null,"Ребенок имеет представления, может показать на картинке и в естественной среде, может рассказать",null,"Объекты живой природы",null,"Объекты неживой природы, природные явления",null,"Сфера социальных отношений",{"$nulls":16},"Область формирования основ гражданственности и патриотизма",null,null,"Сфера трудового воспитания",{"$nulls":4},"Область формирования основ безопасного поведения","Бросание, катание, ловля, метание",null,"Ползанье, лазанье",null,null,"Ходьба",null,null,"Бег",null,null,"Прыжки",{"$nulls":4},"Равновесие",null,"Строевые упражнения",null,"Ребенок может найти выход из лабиринта","Ребенок может нарисовать простой узор, изображение, не отрывая руки","Ребенок может повторить узор с чередующимися элементами","Ребенок закрашивает контурное изображение с множеством мелких деталей, не выходя за контур","Ребенок может соединить точки для получения изображения","Ребенок рисует геометрический орнамент по клеткам",{"$nulls":11},"на санках","на лыжах","на двухколесном велосипеде","на самокате"]
[null,"Ребенок различает жанры музыкальных произведений (песня, танец, марш)","Ребенок узнает мелодию по отдельным фрагментам произведения (вступление, заключение, музыкальная фраза)","Ребенок различает звуки по высоте в пределах квинты","Ребенок различает звучание музыкальных инструментов (клавишно-ударных, струнных)","Ребенок демонстрирует развитые певческие навыки","Ребенок демонстрирует развитые навыки исполнения танцевальных движений","Ребенок может импровизировать мелодию на заданный текст","Ребенок демонстрирует навыки игры на детских музыкальных инструментах","Ребенок имеет представление о различных видах театрального искусства","Ребенок с удовольствие занимается театрализованной деятельностью","Ребенок может придумывать движения к танцам","Ребенок передает в изображении основные свойства предметов (форма, величина, цвет), характерные детали, соотношение предметов и их частей по величине, высоте, расположению относительно друг друга","Ребенок владеет основными способами и приемами рисования различными изобразительными материалами (цветные карандаши, гуашь, акварель, цветные мелки, пастель, сангина, угольный карандаш, фломастеры)","Ребенок лепит с натуры и по представлению знакомые предметы, передавая характерные особенности пластическим, конструктивным и комбинированным способами","Ребенок умеет пользоваться ножницами","Ребенок имеет представление о полхов-майданской, гжельской росписи","Ребенок может нарисовать узор, используя элементы  росписи","Ребенок умеет работать с бумагой (сгибать лист, сглаживать сгибы, надрезать по сгибам)","Ребенок умеет работать с природным и бросовым материалом",null,"Ребенок умеет выделять, называть, группировать произведения по видам искусства: литература, музыка, изобразительное искусство, архитектура, театр, цирк","Ребенок имеет представление о видах изобразительного искусства: графика, декоративно-прикладное искусство, живопись, скульптура, архитектура, фотоискусство","Ребенок имеет представление о жанрах изобразительного искусства: натюрморт, пейзаж, портрет","Ребенок имеет представление о народном искусстве, фольклоре, музыке и художественных промыслах","Ребенок имеет представление о творческих профессиях: художник, композитор, музыкант, актер, артист балета","Ребенок имеет представление о культурно-досуговых местах: театр, музей, библиотека, выставка, кинотеатр, цирк и др.","Ребенок может провести анализ постройки (выделить основные части и характерные детали конструкций)","Ребенок может выполнить постройку по инструкции","Ребенок внятно разговаривает","Ребенок умеет обобщать предметы в группы по существенным признакам","Ребенок демонстрирует богатый словарный запас","Ребенок правильно использует в речи: несклоняемые существительные","Ребенок правильно использует в речи: слова, имеющие только множественное или только единственное число","Ребенок правильно использует в речи: глаголы одеть-надеть","Ребенок правильно использует в речи: существительные множественного числа в родительном падеже","Ребенок правильно образовывает слова с помощью суффикса, приставки","Ребенок правильно произносит сонорные звуки: л-ль, р-рь","Ребенок пересказывает литературные произведения по ролям, по частям, правильно передавая идею и содержание","Ребенок пользуется прямой и косвенной речью","Ребенок составляет короткий описательный рассказ о предметах, объектах и явлениях природы, из личного опыта","Ребенок сочиняет сюжетные рассказы по картине, из личного опыта","Ребенок проявляет речевое творчество: придумывает продолжение и окончание к рассказу, рассказы по аналогии, по плану педагога, по модели","Ребенок владеет первичными приемами аргументации и доказательства","Ребенок проявляет избирательное отношение к произведениям определенной тематики и жанра","Ребенок понимает термины: слово: звук, буква, предложение, гласный звук, согласный звук","Ребенок может провести звуковой анализ слова, разделить на слоги двух-, трехслоговые слова; составляет схему слова","Ребенок различает гласные-согласные звуки","Ребенок определяет твердые-мягкие согласные","Ребенок составляет предложение по модели, определяет количество и последовательность слов в предложении","Ребенок различает и называет",{"$nulls":5},"Ребенок знает/называет/находит среди других цифры 0 -10","Ребенок выполняет количественный и порядковый счет в пределах 0-10","Ребенок знает состав чисел из единиц в пределах 5","Ребенок понимает календарные единицы времени (сутки, неделя, месяц, год)","Ребенок ориентируется на листе бумаги","Ребенок понимает простейшую графическую информацию об отношениях предметов (слева направо, справа налево, снизу вверх, сверху вниз)","Ребенок выделяет сходства и отличия между группами предметов","Ребенок сравнивает предметы по 3-5 признакам","Ребенок группирует предметы по разным основаниям, преимущественно на основе зрительной оценки",null,null,"Ребенок имеет представление о сходстве и различии во внешнем виде и образе жизни объектов животного и растительного мира в разные сезоны года","Ребенок может сравнивать, группировать объекты живой природы по их особенностям, мету обитания, образу жизни, питанию","Ребенок имеет представление о признаках разных времен года","Ребенок наблюдает за явлениями природы, фиксирует результаты наблюдения","Отношение к самому себе",null,"Отношение к сверстникам",null,"Отношение к взрослым",null,"Эмоции",{"$nulls":3},"Поведение","Семья",null,null,"Игровое поведение",null,null,"Ребенок имеет представление о государственных символах России (герб, гимн, флаг)","Ребенок имеет представление о государственных праздниках России","Ребенок знает/может назвать/показать на картинке и в естественной среде достопримечательности населенного пункта, в котором живет","Ребенок имеет представления о разных видах производительного труда (промышленность, строительство, сельское хозяйство)","Ребенок имеет представления о разных видах обслуживающего труда (сфера досуга и отдыха, сфера культуры, медицина, торговля)","Ребенок имеет представление о структуре трудового процесса (мотив, цель, инструменты, оборудование, содержание действий, выбор трудовых действий, результат)","Ребенок имеет элементарные экономические представления (назначение рекламы, денег)","Ребенок охотно участвует в выполнении трудовых поручений, дежурстве; может распределять трудовые обязанности с другими","Ребенок имеет представления/ соблюдает правила поведения в быту, на улице, в природе, в общении с людьми, с животными","Ребенок выполняет различные упражнения с мячом (прокатывание, передача, перебрасывание, ведение, подбрасывание, ловля, забрасывание)","Ребенок выполняет метание в цель, метание в даль предметов разной массы","Ребенок выполняет ползанье разными способами (на четвереньках, на животе)","Ребенок выполняет переползание через несколько предметов подряд, под дугами, в туннеле","Ребенок выполняет лазанье по гимнастической стенке чередующимся шагом","Ребенок выполняет различные виды ходьбы",null,null,"Ребенок выполняет различные виды бега",null,null,"Ребенок выполняет различные виды прыжков",{"$nulls":4},"Ребенок выполняет стойку на одной ноге ","Ребенок выполняет упражнение \"ласточка\" ","Ребенок выполняет различные виды строевых упражнений",{"$nulls":7},"Ребенок выполняет самостоятельно","Ребенок выполняет самостоятельно","Ребенок выполняет самостоятельно","Ребенок выполняет самостоятельно"]
[{"$nulls":50},"Ребенок называет/различает все цвета спектра и ахроматические цвета, оттенки цвета, тоны цвета, теплые и холодные оттенки","Ребенок владеет способами воссоздания фигуры из частей, деления фигуры на части","Ребенок может выстраивать сериационные ряды предметов, различающихся по размеру в возрастающем и убывающем порядке в пределах 10",{"$nulls":12},"о многообразии людей разных национальностей (особенностей внешнего вида, одежды, традиций)","Ребенок имеет представление о многообразии стран и народов мира",{"$nulls":4},"Ребенок может рассказать о себе, выразить собственные потребности, желания","Ребенок имеет представление о некоторых своих правах","Ребенок имеет предпочтения в общении","Ребенок охотно вступает в общение со сверстниками","Ребенок уважительно относится к взрослым, пожилым людям","Ребенок охотно вступает в общение со взрослыми","Ребенок понимает свои и чужие эмоциональные состояния, демонстрирует примеры эмоциональной поддержки ","Ребенок  откликается на просьбу помочь","Ребенок выразить чувства и эмоции в мимике, пантомимике, действиях, интонации","Ребенок демонстрирует адекватные возрасту способы регуляции эмоциональных состояний","Ребенок ориентируется на общепринятые нормы и правила культуры поведения","Ребенок знает членов своей семьи, ближайших родственников по линии матери и отца","Ребенок имеет представление о способах поддержки родственных связей (переписка, разговор, совместный отдых, традиции, походы в гости и др.)","Ребенок проявляет заботу по отношению к членам своей семьи, оказывает посильную помощь больному члену семьи","Ребенок в совместной деятельности принимает общую цель, договаривается о способах деятельности и материалах, может уступить в конфликтной ситуации","Ребенок проявляет интерес к игровому экспериментированию, развивающим и познавательным играм","Ребенок способен действовать в точном соответствие с игровой задачей и правилами",{"$nulls":14},"обычным шагом, на носках, на пятках, с высоким подниманием колен","приставной, в полуприседе, мелким и широким, перекатом с пятки на носок, гимнастическим","змейкой без ориентиров, в колонне по одному и по два","в колонне по одному, змейкой, с перестроением на ходу в пары, звенья","со сменой ведущих, с пролезанием в обруч, с ловлей и увертыванием, высоко поднимая колени","между расставленными предметами, в заданном темпе, мелким и широким шагом","подпрыгивание, перепрыгивание, спрыгивание","в длину с места","в высоту с разбега","в длину с разбега","со скакалкой",null,null,"построения (по росту, в колонну по одному, в шеренгу, в круг)","в колонну по три, в две шеренги на месте, расхождение из колонны в разные стороны"]
["начало года",{"$f":"'Худ.эст.к 6г ч1. Н.г.'!E14","v":0},{"$f":"'Худ.эст.к 6г ч1. Н.г.'!F14","v":0},{"$f":"'Худ.эст.к 6г ч1. Н.г.'!G14","v":0},{"$f":"'Худ.эст.к 6г ч1. Н.г.'!H14","v":0},{"$f":"'Худ.эст.к 6г ч1. Н.г.'!I14","v":0},{"$f":"'Худ.эст.к 6г ч1. Н.г.'!J14","v":0},{"$f":"'Худ.эст.к 6г ч1. Н.г.'!K14","v":0},{"$f":"'Худ.эст.к 6г ч1. Н.г.'!L14","v":0},{"$f":"'Худ.эст.к 6г ч1. Н.г.'!M14","v":0},{"$f":"'Худ.эст.к 6г ч1. Н.г.'!N14","v":0},{"$f":"'Худ.эст.к 6г ч1. Н.г.'!O14","v":0},{"$f":"'Худ.эст.к 6г ч2. Н.г.'!E14","v":0},{"$f":"'Худ.эст.к 6г ч2. Н.г.'!F14","v":0},{"$f":"'Худ.эст.к 6г ч2. Н.г.'!G14","v":0},{"$f":"'Худ.эст.к 6г ч2. Н.г.'!H14","v":0},{"$f":"'Худ.эст.к 6г ч2. Н.г.'!I14","v":0},{"$f":"'Худ.эст.к 6г ч2. Н.г.'!J14","v":0},{"$f":"'Худ.эст.к 6г ч2. Н.г.'!K14","v":0},{"$f":"'Худ.эст.к 6г ч2. Н.г.'!L14","v":0},{"$f":"'Худ.эст.к 6г ч2. Н.г.'!M14","v":0},{"$f":"'Худ.эст.к 6г ч3. Н.г.'!E14","v":0},{"$f":"'Худ.эст.к 6г ч3. Н.г.'!F14","v":0},{"$f":"'Худ.эст.к 6г ч3. Н.г.'!G14","v":0},{"$f":"'Худ.эст.к 6г ч3. Н.г.'!H14","v":0},{"$f":"'Худ.эст.к 6г ч3. Н.г.'!I14","v":0},{"$f":"'Худ.эст.к 6г ч3. Н.г.'!J14","v":0},{"$f":"'Худ.эст.к 6г ч3. Н.г.'!K14","v":0},{"$f":"'Худ.эст.к 6г ч3. Н.г.'!L14","v":0},{"$f":"'Реч.разв.к 6г ч1. Н.г.'!E13","v":0},{"$f":"'Реч.разв.к 6г ч1. Н.г.'!F13","v":0},{"$f":"'Реч.разв.к 6г ч1. Н.г.'!G13","v":0},{"$f":"'Реч.разв.к 6г ч1. Н.г.'!H13","v":0},{"$f":"'Реч.разв.к 6г ч1. Н.г.'!I13","v":0},{"$f":"'Реч.разв.к 6г ч1. Н.г.'!J13","v":0},{"$f":"'Реч.разв.к 6г ч1. Н.г.'!K13","v":0},{"$f":"'Реч.разв.к 6г ч1. Н.г.'!L13","v":0},{"$f":"'Реч.разв.к 6г ч2. Н.г.'!E13","v":0},{"$f":"'Реч.разв.к 6г ч2. Н.г.'!F13","v":0},{"$f":"'Реч.разв.к 6г ч2. Н.г.'!G13","v":0},{"$f":"'Реч.разв.к 6г ч2. Н.г.'!H13","v":0},{"$f":"'Реч.разв.к 6г ч2. Н.г.'!I13","v":0},{"$f":"'Реч.разв.к 6г ч2. Н.г.'!J13","v":0},{"$f":"'Реч.разв.к 6г ч2. Н.г.'!K13","v":0},{"$f":"'Реч.разв.к 6г ч2. Н.г.'!L13","v":0},{"$f":"'Реч.разв.к 6г ч2. Н.г.'!M13","v":0},{"$f":"'Реч.разв.к 6г ч2. Н.г.'!N13","v":0},{"$f":"'Реч.разв.к 6г ч2. Н.г.'!O13","v":0},{"$f":"'Реч.разв.к 6г ч2. Н.г.'!P13","v":0},{"$f":"'Реч.разв.к 6г ч2. Н.г.'!Q13","v":0},{"$f":"'Позн.разв. к 6г ч1. Н.г.'!E14","v":0},{"$f":"'Позн.разв. к 6г ч1. Н.г.'!F14","v":0},{"$f":"'Позн.разв. к 6г ч1. Н.г.'!G14","v":0},{"$f":"'Позн.разв. к 6г ч1. Н.г.'!H14","v":0},{"$f":"'Позн.разв. к 6г ч1. Н.г.'!I14","v":0},{"$f":"'Позн.разв. к 6г ч1. Н.г.'!J14","v":0},{"$f":"'Позн.разв. к 6г ч1. Н.г.'!K14","v":0},{"$f":"'Позн.разв. к 6г ч1. Н.г.'!L14","v":0},{"$f":"'Позн.разв. к 6г ч1. Н.г.'!M14","v":0},{"$f":"'Позн.разв. к 6г ч1. Н.г.'!N14","v":0},{"$f":"'Позн.разв. к 6г ч1. Н.г.'!O14","v":0},{"$f":"'Позн.разв. к 6г ч1. Н.г.'!P14","v":0},{"$f":"'Позн.разв. к 6г ч1. Н.г.'!Q14","v":0},{"$f":"'Позн.разв. к 6г ч1. Н.г.'!R14","v":0},{"$f":"'Позн.разв. к 6г ч1. Н.г.'!S14","v":0},{"$f":"'Позн.разв. к 6г ч2. Н.г.'!E14","v":0},{"$f":"'Позн.разв. к 6г ч2. Н.г.'!F14","v":0},{"$f":"'Позн.разв. к 6г ч2. Н.г.'!G14","v":0},{"$f":"'Позн.разв. к 6г ч2. Н.г.'!H14","v":0},{"$f":"'Позн.разв. к 6г ч2. Н.г.'!I14","v":0},{"$f":"'Позн.разв. к 6г ч2. Н.г.'!J14","v":0},{"$f":"'Соц.ком.к 6г ч1. Н.г.'!E13","v":0},{"$f":"'Соц.ком.к 6г ч1. Н.г.'!F13","v":0},{"$f":"'Соц.ком.к 6г ч1. Н.г.'!G13","v":0},{"$f":"'Соц.ком.к 6г ч1. Н.г.'!H13","v":0},{"$f":"'Соц.ком.к 6г ч1. Н.г.'!I13","v":0},{"$f":"'Соц.ком.к 6г ч1. Н.г.'!J13","v":0},{"$f":"'Соц.ком.к 6г ч1. Н.г.'!K13","v":0},{"$f":"'Соц.ком.к 6г ч1. Н.г.'!L13","v":0},{"$f":"'Соц.ком.к 6г ч1. Н.г.'!M13","v":0},{"$f":"'Соц.ком.к 6г ч1. Н.г.'!N13","v":0},{"$f":"'Соц.ком.к 6г ч1. Н.г.'!O13","v":0},{"$f":"'Соц.ком.к 6г ч1. Н.г.'!P13","v":0},{"$f":"'Соц.ком.к 6г ч1. Н.г.'!Q13","v":0},{"$f":"'Соц.ком.к 6г ч1. Н.г.'!R13","v":0},{"$f":"'Соц.ком.к 6г ч1. Н.г.'!S13","v":0},{"$f":"'Соц.ком.к 6г ч1. Н.г.'!T13","v":0},{"$f":"'Соц.ком.к 6г ч1. Н.г.'!U13","v":0},{"$f":"'Соц.ком. к 6г ч2. Н.г.'!E13","v":0},{"$f":"'Соц.ком. к 6г ч2. Н.г.'!F13","v":0},{"$f":"'Соц.ком. к 6г ч2. Н.г.'!G13","v":0},{"$f":"'Соц.ком. к 6г ч2. Н.г.'!H13","v":0},{"$f":"'Соц.ком. к 6г ч2. Н.г.'!I13","v":0},{"$f":"'Соц.ком. к 6г ч2. Н.г.'!J13","v":0},{"$f":"'Соц.ком. к 6г ч2. Н.г.'!K13","v":0},{"$f":"'Соц.ком. к 6г ч2. Н.г.'!L13","v":0},{"$f":"'Соц.ком. к 6г ч2. Н.г.'!M13","v":0},{"$f":"'Физ.разв. к 6г ч1. Н.г.'!E14","v":0},{"$f":"'Физ.разв. к 6г ч1. Н.г.'!F14","v":0},{"$f":"'Физ.разв. к 6г ч1. Н.г.'!G14","v":0},{"$f":"'Физ.разв. к 6г ч1. Н.г.'!H14","v":0},{"$f":"'Физ.разв. к 6г ч1. Н.г.'!I14","v":0},{"$f":"'Физ.разв. к 6г ч1. Н.г.'!J14","v":0},{"$f":"'Физ.разв. к 6г ч1. Н.г.'!K14","v":0},{"$f":"'Физ.разв. к 6г ч1. Н.г.'!L14","v":0},{"$f":"'Физ.разв. к 6г ч1. Н.г.'!M14","v":0},{"$f":"'Физ.разв. к 6г ч1. Н.г.'!N14","v":0},{"$f":"'Физ.разв. к 6г ч1. Н.г.'!O14","v":0},{"$f":"'Физ.разв. к 6г ч1. Н.г.'!P14","v":0},{"$f":"'Физ.разв. к 6г ч1. Н.г.'!Q14","v":0},{"$f":"'Физ.разв. к 6г ч1. Н.г.'!R14","v":0},{"$f":"'Физ.разв. к 6г ч1. Н.г.'!S14","v":0},{"$f":"'Физ.разв. к 6г ч1. Н.г.'!T14","v":0},{"$f":"'Физ.разв. к 6г ч1. Н.г.'!U14","v":0},{"$f":"'Физ.разв. к 6г ч1. Н.г.'!V14","v":0},{"$f":"'Физ.разв. к 6г ч1. Н.г.'!W14","v":0},{"$f":"'Физ.разв. к 6г ч1. Н.г.'!X14","v":0},{"$f":"'Физ.разв. к 6г ч2. Н.г.'!E15","v":0},{"$f":"'Физ.разв. к 6г ч2. Н.г.'!F15","v":0},{"$f":"'Физ.разв. к 6г ч2. Н.г.'!G15","v":0},{"$f":"'Физ.разв. к 6г ч2. Н.г.'!H15","v":0},{"$f":"'Физ.разв. к 6г ч2. Н.г.'!I15","v":0},{"$f":"'Физ.разв. к 6г ч2. Н.г.'!J15","v":0},{"$f":"'Физ.разв. к 6г ч2. Н.г.'!K15","v":0},{"$f":"'Физ.разв. к 6г ч2. Н.г.'!L15","v":0},{"$f":"'Физ.разв. к 6г ч2. Н.г.'!M15","v":0},{"$f":"'Физ.разв. к 6г ч2. Н.г.'!N15","v":0},{"$f":"'Физ.разв. к 6г ч2. Н.г.'!O15","v":0},{"$f":"'Физ.разв. к 6г ч2. Н.г.'!P15","v":0},{"$f":"'Физ.разв. к 6г ч2. Н.г.'!Q15","v":0},{"$f":"'Физ.разв. к 6г ч2. Н.г.'!R15","v":0},{"$f":"'Физ.разв. к 6г ч2. Н.г.'!S15","v":0},{"$f":"'Физ.разв. к 6г ч2. Н.г.'!T15","v":0},{"$f":"'Физ.разв. к 6г ч2. Н.г.'!U15","v":0},{"$f":"'Физ.разв. к 6г ч2. Н.г.'!V15","v":0},{"$f":"'Физ.разв. к 6г ч2. Н.г.'!W15","v":0},{"$f":"'Физ.разв. к 6г ч2. Н.г.'!X15","v":0},{"$f":"'Физ.разв. к 6г ч2. Н.г.'!Y15","v":0}]
["конец года",{"$f":"'Худ.эст.к 6г ч1. К.г. '!E14","v":0},{"$f":"'Худ.эст.к 6г ч1. К.г. '!F14","v":0},{"$f":"'Худ.эст.к 6г ч1. К.г. '!G14","v":0},{"$f":"'Худ.эст.к 6г ч1. К.г. '!H14","v":0},{"$f":"'Худ.эст.к 6г ч1. К.г. '!I14","v":0},{"$f":"'Худ.эст.к 6г ч1. К.г. '!J14","v":0},{"$f":"'Худ.эст.к 6г ч1. К.г. '!K14","v":0},{"$f":"'Худ.эст.к 6г ч1. К.г. '!L14","v":0},{"$f":"'Худ.эст.к 6г ч1. К.г. '!M14","v":0},{"$f":"'Худ.эст.к 6г ч1. К.г. '!N14","v":0},{"$f":"'Худ.эст.к 6г ч1. К.г. '!O14","v":0},{"$f":"'Худ.эст.к 6г ч2. К.г. '!E14","v":0},{"$f":"'Худ.эст.к 6г ч2. К.г. '!F14","v":0},{"$f":"'Худ.эст.к 6г ч2. К.г. '!G14","v":0},{"$f":"'Худ.эст.к 6г ч2. К.г. '!H14","v":0},{"$f":"'Худ.эст.к 6г ч2. К.г. '!I14","v":0},{"$f":"'Худ.эст.к 6г ч2. К.г. '!J14","v":0},{"$f":"'Худ.эст.к 6г ч2. К.г. '!K14","v":0},{"$f":"'Худ.эст.к 6г ч2. К.г. '!L14","v":0},{"$f":"'Худ.эст.к 6г ч2. К.г. '!M14","v":0},{"$f":"'Худ.эст.к 6г ч3. К.г. '!E14","v":0},{"$f":"'Худ.эст.к 6г ч3. К.г. '!F14","v":0},{"$f":"'Худ.эст.к 6г ч3. К.г. '!G14","v":0},{"$f":"'Худ.эст.к 6г ч3. К.г. '!H14","v":0},{"$f":"'Худ.эст.к 6г ч3. К.г. '!I14","v":0},{"$f":"'Худ.эст.к 6г ч3. К.г. '!J14","v":0},{"$f":"'Худ.эст.к 6г ч3. К.г. '!K14","v":0},{"$f":"'Худ.эст.к 6г ч3. К.г. '!L14","v":0},{"$f":"'Реч.разв.к 6г ч1. К.г. '!E13","v":0},{"$f":"'Реч.разв.к 6г ч1. К.г. '!F13","v":0},{"$f":"'Реч.разв.к 6г ч1. К.г. '!G13","v":0},{"$f":"'Реч.разв.к 6г ч1. К.г. '!H13","v":0},{"$f":"'Реч.разв.к 6г ч1. К.г. '!I13","v":0},{"$f":"'Реч.разв.к 6г ч1. К.г. '!J13","v":0},{"$f":"'Реч.разв.к 6г ч1. К.г. '!K13","v":0},{"$f":"'Реч.разв.к 6г ч1. К.г. '!L13","v":0},{"$f":"'Реч.разв.к 6г ч2. К.г. '!E13","v":0},{"$f":"'Реч.разв.к 6г ч2. К.г. '!F13","v":0},{"$f":"'Реч.разв.к 6г ч2. К.г. '!G13","v":0},{"$f":"'Реч.разв.к 6г ч2. К.г. '!H13","v":0},{"$f":"'Реч.разв.к 6г ч2. К.г. '!I13","v":0},{"$f":"'Реч.разв.к 6г ч2. К.г. '!J13","v":0},{"$f":"'Реч.разв.к 6г ч2. К.г. '!K13","v":0},{"$f":"'Реч.разв.к 6г ч2. К.г. '!L13","v":0},{"$f":"'Реч.разв.к 6г ч2. К.г. '!M13","v":0},{"$f":"'Реч.разв.к 6г ч2. К.г. '!N13","v":0},{"$f":"'Реч.разв.к 6г ч2. К.г. '!O13","v":0},{"$f":"'Реч.разв.к 6г ч2. К.г. '!P13","v":0},{"$f":"'Реч.разв.к 6г ч2. К.г. '!Q13","v":0},{"$f":"'Позн.разв. к 6г ч1. К.г. '!E14","v":0},{"$f":"'Позн.разв. к 6г ч1. К.г. '!F14","v":0},{"$f":"'Позн.разв. к 6г ч1. К.г. '!G14","v":0},{"$f":"'Позн.разв. к 6г ч1. К.г. '!H14","v":0},{"$f":"'Позн.разв. к 6г ч1. К.г. '!I14","v":0},{"$f":"'Позн.разв. к 6г ч1. К.г. '!J14","v":0},{"$f":"'Позн.разв. к 6г ч1. К.г. '!K14","v":0},{"$f":"'Позн.разв. к 6г ч1. К.г. '!L14","v":0},{"$f":"'Позн.разв. к 6г ч1. К.г. '!M14","v":0},{"$f":"'Позн.разв. к 6г ч1. К.г. '!N14","v":0},{"$f":"'Позн.разв. к 6г ч1. К.г. '!O14","v":0},{"$f":"'Позн.разв. к 6г ч1. К.г. '!P14","v":0},{"$f":"'Позн.разв. к 6г ч1. К.г. '!Q14","v":0},{"$f":"'Позн.разв. к 6г ч1. К.г. '!R14","v":0},{"$f":"'Позн.разв. к 6г ч1. К.г. '!S14","v":0},{"$f":"'Позн.разв. к 6г ч2. К.г. '!E14","v":0},{"$f":"'Позн.разв. к 6г ч2. К.г. '!F14","v":0},{"$f":"'Позн.разв. к 6г ч2. К.г. '!G14","v":0},{"$f":"'Позн.разв. к 6г ч2. К.г. '!H14","v":0},{"$f":"'Позн.разв. к 6г ч2. К.г. '!I14","v":0},{"$f":"'Позн.разв. к 6г ч2. К.г. '!J14","v":0},{"$f":"'Соц.ком.к 6г ч1. К.г. '!$E$13","v":0},{"$f":"'Соц.ком.к 6г ч1. К.г. '!$E$13","v":0},{"$f":"'Соц.ком.к 6г ч1. К.г. '!$E$13","v":0},{"$f":"'Соц.ком.к 6г ч1. К.г. '!$E$13","v":0},{"$f":"'Соц.ком.к 6г ч1. К.г. '!$E$13","v":0},{"$f":"'Соц.ком.к 6г ч1. К.г. '!$E$13","v":0},{"$f":"'Соц.ком.к 6г ч1. К.г. '!$E$13","v":0},{"$f":"'Соц.ком.к 6г ч1. К.г. '!$E$13","v":0},{"$f":"'Соц.ком.к 6г ч1. К.г. '!$E$13","v":0},{"$f":"'Соц.ком.к 6г ч1. К.г. '!$E$13","v":0},{"$f":"'Соц.ком.к 6г ч1. К.г. '!$E$13","v":0},{"$f":"'Соц.ком.к 6г ч1. К.г. '!$E$13","v":0},{"$f":"'Соц.ком.к 6г ч1. К.г. '!$E$13","v":0},{"$f":"'Соц.ком.к 6г ч1. К.г. '!$E$13","v":0},{"$f":"'Соц.ком.к 6г ч1. К.г. '!$E$13","v":0},{"$f":"'Соц.ком.к 6г ч1. К.г. '!$E$13","v":0},{"$f":"'Соц.ком.к 6г ч1. К.г. '!$E$13","v":0},{"$f":"'Соц.ком. к 6г ч2 К.г.'!E13","v":0},{"$f":"'Соц.ком. к 6г ч2 К.г.'!F13","v":0},{"$f":"'Соц.ком. к 6г ч2 К.г.'!G13","v":0},{"$f":"'Соц.ком. к 6г ч2 К.г.'!H13","v":0},{"$f":"'Соц.ком. к 6г ч2 К.г.'!I13","v":0},{"$f":"'Соц.ком. к 6г ч2 К.г.'!J13","v":0},{"$f":"'Соц.ком. к 6г ч2 К.г.'!K13","v":0},{"$f":"'Соц.ком. к 6г ч2 К.г.'!L13","v":0},{"$f":"'Соц.ком. к 6г ч2 К.г.'!M13","v":0},{"$f":"'Физ.разв. к 6г ч1. К.г. '!E14","v":0},{"$f":"'Физ.разв. к 6г ч1. К.г. '!F14","v":0},{"$f":"'Физ.разв. к 6г ч1. К.г. '!G14","v":0},{"$f":"'Физ.разв. к 6г ч1. К.г. '!H14","v":0},{"$f":"'Физ.разв. к 6г ч1. К.г. '!I14","v":0},{"$f":"'Физ.разв. к 6г ч1. К.г. '!J14","v":0},{"$f":"'Физ.разв. к 6г ч1. К.г. '!K14","v":0},{"$f":"'Физ.разв. к 6г ч1. К.г. '!L14","v":0},{"$f":"'Физ.разв. к 6г ч1. К.г. '!M14","v":0},{"$f":"'Физ.разв. к 6г ч1. К.г. '!N14","v":0},{"$f":"'Физ.разв. к 6г ч1. К.г. '!O14","v":0},{"$f":"'Физ.разв. к 6г ч1. К.г. '!P14","v":0},{"$f":"'Физ.разв. к 6г ч1. К.г. '!Q14","v":0},{"$f":"'Физ.разв. к 6г ч1. К.г. '!R14","v":0},{"$f":"'Физ.разв. к 6г ч1. К.г. '!S14","v":0},{"$f":"'Физ.разв. к 6г ч1. К.г. '!T14","v":0},{"$f":"'Физ.разв. к 6г ч1. К.г. '!U14","v":0},{"$f":"'Физ.разв. к 6г ч1. К.г. '!V14","v":0},{"$f":"'Физ.разв. к 6г ч1. К.г. '!W14","v":0},{"$f":"'Физ.разв. к 6г ч1. К.г. '!X14","v":0},{"$f":"'Физ.разв. к 6г ч2. К.г. '!E15","v":0},{"$f":"'Физ.разв. к 6г ч2. К.г. '!F15","v":0},{"$f":"'Физ.разв. к 6г ч2. К.г. '!G15","v":0},{"$f":"'Физ.разв. к 6г ч2. К.г. '!H15","v":0},{"$f":"'Физ.разв. к 6г ч2. К.г. '!I15","v":0},{"$f":"'Физ.разв. к 6г ч2. К.г. '!J15","v":0},{"$f":"'Физ.разв. к 6г ч2. К.г. '!K15","v":0},{"$f":"'Физ.разв. к 6г ч2. К.г. '!L15","v":0},{"$f":"'Физ.разв. к 6г ч2. К.г. '!M15","v":0},{"$f":"'Физ.разв. к 6г ч2. К.г. '!N15","v":0},{"$f":"'Физ.разв. к 6г ч2. К.г. '!O15","v":0},{"$f":"'Физ.разв. к 6г ч2. К.г. '!P15","v":0},{"$f":"'Физ.разв. к 6г ч2. К.г. '!Q15","v":0},{"$f":"'Физ.разв. к 6г ч2. К.г. '!R15","v":0},{"$f":"'Физ.разв. к 6г ч2. К.г. '!S15","v":0},{"$f":"'Физ.разв. к 6г ч2. К.г. '!T15","v":0},{"$f":"'Физ.разв. к 6г ч2. К.г. '!U15","v":0},{"$f":"'Физ.разв. к 6г ч2. К.г. '!V15","v":0},{"$f":"'Физ.разв. к 6г ч2. К.г. '!W15","v":0},{"$f":"'Физ.разв. к 6г ч2. К.г. '!X15","v":0},{"$f":"'Физ.разв. к 6г ч2. К.г. '!Y15","v":0}]

{"sheet":"4","index":31,"n_rows":11,"n_cols":138,"rows_kept":11,"merged":[[4,117,4,122],[4,123,4,126],[4,127,4,129],[4,130,4,132],[4,134,4,137],[5,0,8,0],[5,1,5,11],[5,12,5,19],[5,21,6,26],[5,27,6,28],[5,50,5,52],[5,53,5,55],[5,56,5,64],[5,65,5,66],[5,67,5,70],[5,117,5,118],[5,119,5,122],[5,123,6,123],[5,124,6,124],[5,125,6,125],[5,126,6,126],[5,127,8,127],[5,128,8,128],[5,129,8,129],[5,130,8,130],[5,131,8,131],[5,132,8,132],[5,133,8,133],[5,134,5,137],[6,1,6,4],[6,9,6,10],[6,12,6,13],[6,16,6,17],[6,18,6,19],[6,20,8,20],[6,30,6,31],[6,32,6,36],[6,38,6,43],[6,45,6,49],[6,53,8,53],[6,54,8,54],[6,55,8,55],[6,56,6,58],[6,62,6,64],[6,65,7,66],[6,67,6,68],[6,69,6,70],[6,71,6,87],[6,88,6,90],[6,91,6,95],[6,97,6,98],[6,99,6,101],[6,102,6,104],[6,105,6,107],[6,108,6,112],[6,113,6,114],[6,115,6,116],[6,117,8,117],[6,118,8,118],[6,119,8,119],[6,120,8,120],[6,121,8,121],[6,122,8,122],[6,134,8,134],[6,135,8,135],[6,136,8,136],[6,137,8,137],[7,1,8,1],[7,2,8,2],[7,3,8,3],[7,4,8,4],[7,5,8,5],[7,6,8,6],[7,7,8,7],[7,8,8,8],[7,9,8,9],[7,10,8,10],[7,11,8,11],[7,12,8,12],[7,13,8,13],[7,14,8,14],[7,15,8,15],[7,16,8,16],[7,17,8,17],[7,18,8,18],[7,19,8,19],[7,21,8,21],[7,22,8,22],[7,23,8,23],[7,24,8,24],[7,25,8,25],[7,26,8,26],[7,27,8,27],[7,28,8,28],[7,29,8,29],[7,30,8,30],[7,31,8,31],[7,32,8,32],[7,33,8,33],[7,34,8,34],[7,35,8,35],[7,36,8,36],[7,37,8,37],[7,38,8,38],[7,39,8,39],[7,40,8,40],[7,41,8,41],[7,42,8,42],[7,43,8,43],[7,44,8,44],[7,45,8,45],[7,46,8,46],[7,47,8,47],[7,48,8,48],[7,49,8,49],[7,50,7,52],[7,56,8,56],[7,57,8,57],[7,58,8,58],[7,59,8,59],[7,60,8,60],[7,61,8,61],[7,62,8,62],[7,63,8,63],[7,64,8,64],[7,67,8,67],[7,68,8,68],[7,69,8,69],[7,70,8,70],[7,71,7,72],[7,73,7,74],[7,75,7,76],[7,77,7,80],[7,82,7,84],[7,85,7,87],[7,88,8,88],[7,89,8,89],[7,90,8,90],[7,91,8,91],[7,92,8,92],[7,93,8,93],[7,94,8,94],[7,95,8,95],[7,96,8,96],[7,97,8,97],[7,98,8,98],[7,99,8,99],[7,100,8,100],[7,101,8,101],[7,102,7,104],[7,105,7,107],[7,108,7,112],[7,113,8,113],[7,114,8,114],[7,115,7,116],[7,123,8,123],[7,124,8,124],[7,125,8,125],[7,126,8,126]]}
[]
[]
[]
[]
[{"$nulls":117},"Мелкая моторика",{"$nulls":5},"КГН",{"$nulls":3},"ЗОЖ",null,null,"Подвижные игры",null,null,"Спорт. игры","Спортивные упражнения"]
[{"$f":"Список!B7","v":0},"Музыкальная деятельность",{"$nulls":10},"Изобразительная деятельность",{"$nulls":8},"Приобщение к искусству",{"$nulls":5},"Конструктивная деятельность",{"$nulls":22},"Сенсорные эталоны ",null,null,"Познавательные действия",null,null,"Математические представления",{"$nulls":8},"Окружающий мир",null,"Природа ",{"$nulls":49},"Координация рук и глаз",null,"Графические навыки",{"$nulls":3},"Навыки соблюдения чистоты тела (правила личной гигиены)","Навыки культуры еды (прием пищи) ","Навыки поддержания порядка (правила поведения в быту) ","Навыки ухода за собой (одевание, раздевание) ","Ребенок имеет представление о факторах, положительно/негативно влияющих на здоровье; владеет основными способами укрепления здоровья","Ребенок имеет представление о некоторых видах спорта (9 и больше), роли спорта для укрепления здоровья","Ребенок проявляет заботливое отношение к своему здоровью и здоровью окружающих","Ребенок проявляет доступный возрасту самоконтроль","Ребенок  способен привлечь внимание других детей и организовать знакомую подвижную игру","Ребенок придумывает новые варианты игр, комбинирует движения","Ребенок имеет представление об элементах спортивных игр (городки, баскетбол, бадминтон, футбол), умеет выполнять некоторые виды движений","Ребенок умеет кататься"]
[null,"Слушание",{"$nulls":3},"Пение ","Музыкально-ритмические движения","Песенное творчество","Игра на детских музыкальных инструментах","Театрализованная деятельность",null,"Танцевально-игровое творчество","Рисование ",null,"Лепка ","Аппликация ","Народное ДПИ",null,"Прикладное творчество",null,"Ребенок самостоятельно определяет замысел рисунка, аппликации, лепки, поделки, создает образы и композиционные изображения, использует разнообразные материалы",{"$nulls":8},"Общее речевое развитие","Формирование словаря",null,"Грамматический строй",{"$nulls":4},"Звуковая культура речи","Связная речь",{"$nulls":5},"ЧХЛ","Подготовка к обучению грамоте",{"$nulls":4},"Цвет, оттенки","Форма, геометрические фигуры","Величина","Ребенок охотно участвует в обсуждении проблемы для совместного нахождения способов ее решения, предлагает пути решения, устанавливает закономерности причинно-следственного характера, проявляет любознательность","Ребенок использует математические знания, способы и средства для познания окружающего мира","Ребенок способен к произвольным умственным действиям, логическим операциям анализа, сравнения, обобщения, систематизации, классификации","Количество и счет",null,null,"Ориентировка во времени","Ориентировка в пространстве","Пространственно-количественные связи и отношения","Сравнение",null,null,"Ребенок имеет представления, может показать на картинке и в естественной среде, может рассказать",null,"Объекты живой природы",null,"Объекты неживой природы, природные явления",null,"Сфера социальных отношений",{"$nulls":16},"Область формирования основ гражданственности и патриотизма",null,null,"Сфера трудового воспитания",{"$nulls":4},"Область формирования основ безопасного поведения","Бросание, катание, ловля, метание",null,"Ползанье, лазанье",null,null,"Ходьба",null,null,"Бег",null,null,"Прыжки",{"$nulls":4},"Равновесие",null,"Строевые упражнения",null,"Ребенок может найти выход из лабиринта","Ребенок может нарисовать простой узор, изображение, не отрывая руки","Ребенок может повторить узор с чередующимися элементами","Ребенок закрашивает контурное изображение с множеством мелких деталей, не выходя за контур","Ребенок может соединить точки для получения изображения","Ребенок рисует геометрический орнамент по клеткам",{"$nulls":11},"на санках","на лыжах","на двухколесном велосипеде","на самокате"]
[null,"Ребенок различает жанры музыкальных произведений (песня, танец, марш)","Ребенок узнает мелодию по отдельным фрагментам произведения (вступление, заключение, музыкальная фраза)","Ребенок различает звуки по высоте в пределах квинты","Ребенок различает звучание музыкальных инструментов (клавишно-ударных, струнных)","Ребенок демонстрирует развитые певческие навыки","Ребенок демонстрирует развитые навыки исполнения танцевальных движений","Ребенок может импровизировать мелодию на заданный текст","Ребенок демонстрирует навыки игры на детских музыкальных инструментах","Ребенок имеет представление о различных видах театрального искусства","Ребенок с удовольствие занимается театрализованной деятельностью","Ребенок может придумывать движения к танцам","Ребенок передает в изображении основные свойства предметов (форма, величина, цвет), характерные детали, соотношение предметов и их частей по величине, высоте, расположению относительно друг друга","Ребенок владеет основными способами и приемами рисования различными изобразительными материалами (цветные карандаши, гуашь, акварель, цветные мелки, пастель, сангина, угольный карандаш, фломастеры)","Ребенок лепит с натуры и по представлению знакомые предметы, передавая характерные особенности пластическим, конструктивным и комбинированным способами","Ребенок умеет пользоваться ножницами","Ребенок имеет представление о полхов-майданской, гжельской росписи","Ребенок может нарисовать узор, используя элементы  росписи","Ребенок умеет работать с бумагой (сгибать лист, сглаживать сгибы, надрезать по сгибам)","Ребенок умеет работать с природным и бросовым материалом",null,"Ребенок умеет выделять, называть, группировать произведения по видам искусства: литература, музыка, изобразительное искусство, архитектура, театр, цирк","Ребенок имеет представление о видах изобразительного искусства: графика, декоративно-прикладное искусство, живопись, скульптура, архитектура, фотоискусство","Ребенок имеет представление о жанрах изобразительного искусства: натюрморт, пейзаж, портрет","Ребенок имеет представление о народном искусстве, фольклоре, музыке и художественных промыслах","Ребенок имеет представление о творческих профессиях: художник, композитор, музыкант, актер, артист балета","Ребенок имеет представление о культурно-досуговых местах: театр, музей, библиотека, выставка, кинотеатр, цирк и др.","Ребенок может провести анализ постройки (выделить основные части и характерные детали конструкций)","Ребенок может выполнить постройку по инструкции","Ребенок внятно разговаривает","Ребенок умеет обобщать предметы в группы по существенным признакам","Ребенок демонстрирует богатый словарный запас","Ребенок правильно использует в речи: несклоняемые существительные","Ребенок правильно использует в речи: слова, имеющие только множественное или только единственное число","Ребенок правильно использует в речи: глаголы одеть-надеть","Ребенок правильно использует в речи: существительные множественного числа в родительном падеже","Ребенок правильно образовывает слова с помощью суффикса, приставки","Ребенок правильно произносит сонорные звуки: л-ль, р-рь","Ребенок пересказывает литературные произведения по ролям, по частям, правильно передавая идею и содержание","Ребенок пользуется прямой и косвенной речью","Ребенок составляет короткий описательный рассказ о предметах, объектах и явлениях природы, из личного опыта","Ребенок сочиняет сюжетные рассказы по картине, из личного опыта","Ребенок проявляет речевое творчество: придумывает продолжение и окончание к рассказу, рассказы по аналогии, по плану педагога, по модели","Ребенок владеет первичными приемами аргументации и доказательства","Ребенок проявляет избирательное отношение к произведениям определенной тематики и жанра","Ребенок понимает термины: слово: звук, буква, предложение, гласный звук, согласный звук","Ребенок может провести звуковой анализ слова, разделить на слоги двух-, трехслоговые слова; составляет схему слова","Ребенок различает гласные-согласные звуки","Ребенок определяет твердые-мягкие согласные","Ребенок составляет предложение по модели, определяет количество и последовательность слов в предложении","Ребенок различает и называет",{"$nulls":5},"Ребенок знает/называет/находит среди других цифры 0 -10","Ребенок выполняет количественный и порядковый счет в пределах 0-10","Ребенок знает состав чисел из единиц в пределах 5","Ребенок понимает календарные единицы времени (сутки, неделя, месяц, год)","Ребенок ориентируется на листе бумаги","Ребенок понимает простейшую графическую информацию об отношениях предметов (слева направо, справа налево, снизу вверх, сверху вниз)","Ребенок выделяет сходства и отличия между группами предметов","Ребенок сравнивает предметы по 3-5 признакам","Ребенок группирует предметы по разным основаниям, преимущественно на основе зрительной оценки",null,null,"Ребенок имеет представление о сходстве и различии во внешнем виде и образе жизни объектов животного и растительного мира в разные сезоны года","Ребенок может сравнивать, группировать объекты живой природы по их особенностям, мету обитания, образу жизни, питанию","Ребенок имеет представление о признаках разных времен года","Ребенок наблюдает за явлениями природы, фиксирует результаты наблюдения","Отношение к самому себе",null,"Отношение к сверстникам",null,"Отношение к взрослым",null,"Эмоции",{"$nulls":3},"Поведение","Семья",null,null,"Игровое поведение",null,null,"Ребенок имеет представление о государственных символах России (герб, гимн, флаг)","Ребенок имеет представление о государственных праздниках России","Ребенок знает/может назвать/показать на картинке и в естественной среде достопримечательности населенного пункта, в котором живет","Ребенок имеет представления о разных видах производительного труда (промышленность, строительство, сельское хозяйство)","Ребенок имеет представления о разных видах обслуживающего труда (сфера досуга и отдыха, сфера культуры, медицина, торговля)","Ребенок имеет представление о структуре трудового процесса (мотив, цель, инструменты, оборудование, содержание действий, выбор трудовых действий, результат)","Ребенок имеет элементарные экономические представления (назначение рекламы, денег)","Ребенок охотно участвует в выполнении трудовых поручений, дежурстве; может распределять трудовые обязанности с другими","Ребенок имеет представления/ соблюдает правила поведения в быту, на улице, в природе, в общении с людьми, с животными","Ребенок выполняет различные упражнения с мячом (прокатывание, передача, перебрасывание, ведение, подбрасывание, ловля, забрасывание)","Ребенок выполняет метание в цель, метание в даль предметов разной массы","Ребенок выполняет ползанье разными способами (на четвереньках, на животе)","Ребенок выполняет переползание через несколько предметов подряд, под дугами, в туннеле","Ребенок выполняет лазанье по гимнастической стенке чередующимся шагом","Ребенок выполняет различные виды ходьбы",null,null,"Ребенок выполняет различные виды бега",null,null,"Ребенок выполняет различные виды прыжков",{"$nulls":4},"Ребенок выполняет стойку на одной ноге ","Ребенок выполняет упражнение \"ласточка\" ","Ребенок выполняет различные виды строевых упражнений",{"$nulls":7},"Ребенок выполняет самостоятельно","Ребенок выполняет самостоятельно","Ребенок выполняет самостоятельно","Ребенок выполняет самостоятельно"]
[{"$nulls":50},"Ребенок называет/различает все цвета спектра и ахроматические цвета, оттенки цвета, тоны цвета, теплые и холодные оттенки","Ребенок владеет способами воссоздания фигуры из частей, деления фигуры на части","Ребенок может выстраивать сериационные ряды предметов, различающихся по размеру в возрастающем и убывающем порядке в пределах 10",{"$nulls":12},"о многообразии людей разных национальностей (особенностей внешнего вида, одежды, традиций)","Ребенок имеет представление о многообразии стран и народов мира",{"$nulls":4},"Ребенок может рассказать о себе, выразить собственные потребности, желания","Ребенок имеет представление о некоторых своих правах","Ребенок имеет предпочтения в общении","Ребенок охотно вступает в общение со сверстниками","Ребенок уважительно относится к взрослым, пожилым людям","Ребенок охотно вступает в общение со взрослыми","Ребенок понимает свои и чужие эмоциональные состояния, демонстрирует примеры эмоциональной поддержки ","Ребенок  откликается на просьбу помочь","Ребенок выразить чувства и эмоции в мимике, пантомимике, действиях, интонации","Ребенок демонстрирует адекватные возрасту способы регуляции эмоциональных состояний","Ребенок ориентируется на общепринятые нормы и правила культуры поведения","Ребенок знает членов своей семьи, ближайших родственников по линии матери и отца","Ребенок имеет представление о способах поддержки родственных связей (переписка, разговор, совместный отдых, традиции, походы в гости и др.)","Ребенок проявляет заботу по отношению к членам своей семьи, оказывает посильную помощь больному члену семьи","Ребенок в совместной деятельности принимает общую цель, договаривается о способах деятельности и материалах, может уступить в конфликтной ситуации","Ребенок проявляет интерес к игровому экспериментированию, развивающим и познавательным играм","Ребенок способен действовать в точном соответствие с игровой задачей и правилами",{"$nulls":14},"обычным шагом, на носках, на пятках, с высоким подниманием колен","приставной, в полуприседе, мелким и широким, перекатом с пятки на носок, гимнастическим","змейкой без ориентиров, в колонне по одному и по два","в колонне по одному, змейкой, с перестроением на ходу в пары, звенья","со сменой ведущих, с пролезанием в обруч, с ловлей и увертыванием, высоко поднимая колени","между расставленными предметами, в заданном темпе, мелким и широким шагом","подпрыгивание, перепрыгивание, спрыгивание","в длину с места","в высоту с разбега","в длину с разбега","со скакалкой",null,null,"построения (по росту, в колонну по одному, в шеренгу, в круг)","в колонну по три, в две шеренги на месте, расхождение из колонны в разные стороны"]
["начало года",{"$f":"'Худ.эст.к 6г ч1. Н.г.'!E15","v":0},{"$f":"'Худ.эст.к 6г ч1. Н.г.'!F15","v":0},{"$f":"'Худ.эст.к 6г ч1. Н.г.'!G15","v":0},{"$f":"'Худ.эст.к 6г ч1. Н.г.'!H15","v":0},{"$f":"'Худ.эст.к 6г ч1. Н.г.'!I15","v":0},{"$f":"'Худ.эст.к 6г ч1. Н.г.'!J15","v":0},{"$f":"'Худ.эст.к 6г ч1. Н.г.'!K15","v":0},{"$f":"'Худ.эст.к 6г ч1. Н.г.'!L15","v":0},{"$f":"'Худ.эст.к 6г ч1. Н.г.'!M15","v":0},{"$f":"'Худ.эст.к 6г ч1. Н.г.'!N15","v":0},{"$f":"'Худ.эст.к 6г ч1. Н.г.'!O15","v":0},{"$f":"'Худ.эст.к 6г ч2. Н.г.'!E15","v":0},{"$f":"'Худ.эст.к 6г ч2. Н.г.'!F15","v":0},{"$f":"'Худ.эст.к 6г ч2. Н.г.'!G15","v":0},{"$f":"'Худ.эст.к 6г ч2. Н.г.'!H15","v":0},{"$f":"'Худ.эст.к 6г ч2. Н.г.'!I15","v":0},{"$f":"'Худ.эст.к 6г ч2. Н.г.'!J15","v":0},{"$f":"'Худ.эст.к 6г ч2. Н.г.'!K15","v":0},{"$f":"'Худ.эст.к 6г ч2. Н.г.'!L15","v":0},{"$f":"'Худ.эст.к 6г ч2. Н.г.'!M15","v":0},{"$f":"'Худ.эст.к 6г ч3. Н.г.'!E15","v":0},{"$f":"'Худ.эст.к 6г ч3. Н.г.'!F15","v":0},{"$f":"'Худ.эст.к 6г ч3. Н.г.'!G15","v":0},{"$f":"'Худ.эст.к 6г ч3. Н.г.'!H15","v":0},{"$f":"'Худ.эст.к 6г ч3. Н.г.'!I15","v":0},{"$f":"'Худ.эст.к 6г ч3. Н.г.'!J15","v":0},{"$f":"'Худ.эст.к 6г ч3. Н.г.'!K15","v":0},{"$f":"'Худ.эст.к 6г ч3. Н.г.'!L15","v":0},{"$f":"'Реч.разв.к 6г ч1. Н.г.'!E14","v":0},{"$f":"'Реч.разв.к 6г ч1. Н.г.'!F14","v":0},{"$f":"'Реч.разв.к 6г ч1. Н.г.'!G14","v":0},{"$f":"'Реч.разв.к 6г ч1. Н.г.'!H14","v":0},{"$f":"'Реч.разв.к 6г ч1. Н.г.'!I14","v":0},{"$f":"'Реч.разв.к 6г ч1. Н.г.'!J14","v":0},{"$f":"'Реч.разв.к 6г ч1. Н.г.'!K14","v":0},{"$f":"'Реч.разв.к 6г ч1. Н.г.'!L14","v":0},{"$f":"'Реч.разв.к 6г ч2. Н.г.'!E14","v":0},{"$f":"'Реч.разв.к 6г ч2. Н.г.'!F14","v":0},{"$f":"'Реч.разв.к 6г ч2. Н.г.'!G14","v":0},{"$f":"'Реч.разв.к 6г ч2. Н.г.'!H14","v":0},{"$f":"'Реч.разв.к 6г ч2. Н.г.'!I14","v":0},{"$f":"'Реч.разв.к 6г ч2. Н.г.'!J14","v":0},{"$f":"'Реч.разв.к 6г ч2. Н.г.'!K14","v":0},{"$f":"'Реч.разв.к 6г ч2. Н.г.'!L14","v":0},{"$f":"'Реч.разв.к 6г ч2. Н.г.'!M14","v":0},{"$f":"'Реч.разв.к 6г ч2. Н.г.'!N14","v":0},{"$f":"'Реч.разв.к 6г ч2. Н.г.'!O14","v":0},{"$f":"'Реч.разв.к 6г ч2. Н.г.'!P14","v":0},{"$f":"'Реч.разв.к 6г ч2. Н.г.'!Q14","v":0},{"$f":"'Позн.разв. к 6г ч1. Н.г.'!E15","v":0},{"$f":"'Позн.разв. к 6г ч1. Н.г.'!F15","v":0},{"$f":"'Позн.разв. к 6г ч1. Н.г.'!G15","v":0},{"$f":"'Позн.разв. к 6г ч1. Н.г.'!H15","v":0},{"$f":"'Позн.разв. к 6г ч1. Н.г.'!I15","v":0},{"$f":"'Позн.разв. к 6г ч1. Н.г.'!J15","v":0},{"$f":"'Позн.разв. к 6г ч1. Н.г.'!K15","v":0},{"$f":"'Позн.разв. к 6г ч1. Н.г.'!L15","v":0},{"$f":"'Позн.разв. к 6г ч1. Н.г.'!M15","v":0},{"$f":"'Позн.разв. к 6г ч1. Н.г.'!N15","v":0},{"$f":"'Позн.разв. к 6г ч1. Н.г.'!O15","v":0},{"$f":"'Позн.разв. к 6г ч1. Н.г.'!P15","v":0},{"$f":"'Позн.разв. к 6г ч1. Н.г.'!Q15","v":0},{"$f":"'Позн.разв. к 6г ч1. Н.г.'!R15","v":0},{"$f":"'Позн.разв. к 6г ч1. Н.г.'!S15","v":0},{"$f":"'Позн.разв. к 6г ч2. Н.г.'!E15","v":0},{"$f":"'Позн.разв. к 6г ч2. Н.г.'!F15","v":0},{"$f":"'Позн.разв. к 6г ч2. Н.г.'!G15","v":0},{"$f":"'Позн.разв. к 6г ч2. Н.г.'!H15","v":0},{"$f":"'Позн.разв. к 6г ч2. Н.г.'!I15","v":0},{"$f":"'Позн.разв. к 6г ч2. Н.г.'!J15","v":0},{"$f":"'Соц.ком.к 6г ч1. Н.г.'!E14","v":0},{"$f":"'Соц.ком.к 6г ч1. Н.г.'!F14","v":0},{"$f":"'Соц.ком.к 6г ч1. Н.г.'!G14","v":0},{"$f":"'Соц.ком.к 6г ч1. Н.г.'!H14","v":0},{"$f":"'Соц.ком.к 6г ч1. Н.г.'!I14","v":0},{"$f":"'Соц.ком.к 6г ч1. Н.г.'!J14","v":0},{"$f":"'Соц.ком.к 6г ч1. Н.г.'!K14","v":0},{"$f":"'Соц.ком.к 6г ч1. Н.г.'!L14","v":0},{"$f":"'Соц.ком.к 6г ч1. Н.г.'!M14","v":0},{"$f":"'Соц.ком.к 6г ч1. Н.г.'!N14","v":0},{"$f":"'Соц.ком.к 6г ч1. Н.г.'!O14","v":0},{"$f":"'Соц.ком.к 6г ч1. Н.г.'!P14","v":0},{"$f":"'Соц.ком.к 6г ч1. Н.г.'!Q14","v":0},{"$f":"'Соц.ком.к 6г ч1. Н.г.'!R14","v":0},{"$f":"'Соц.ком.к 6г ч1. Н.г.'!S14","v":0},{"$f":"'Соц.ком.к 6г ч1. Н.г.'!T14","v":0},{"$f":"'Соц.ком.к 6г ч1. Н.г.'!U14","v":0},{"$f":"'Соц.ком. к 6г ч2. Н.г.'!E14","v":0},{"$f":"'Соц.ком. к 6г ч2. Н.г.'!F14","v":0},{"$f":"'Соц.ком. к 6г ч2. Н.г.'!G14","v":0},{"$f":"'Соц.ком. к 6г ч2. Н.г.'!H14","v":0},{"$f":"'Соц.ком. к 6г ч2. Н.г.'!I14","v":0},{"$f":"'Соц.ком. к 6г ч2. Н.г.'!J14","v":0},{"$f":"'Соц.ком. к 6г ч2. Н.г.'!K14","v":0},{"$f":"'Соц.ком. к 6г ч2. Н.г.'!L14","v":0},{"$f":"'Соц.ком. к 6г ч2. Н.г.'!M14","v":0},{"$f":"'Физ.разв. к 6г ч1. Н.г.'!E15","v":0},{"$f":"'Физ.разв. к 6г ч1. Н.г.'!F15","v":0},{"$f":"'Физ.разв. к 6г ч1. Н.г.'!G15","v":0},{"$f":"'Физ.разв. к 6г ч1. Н.г.'!H15","v":0},{"$f":"'Физ.разв. к 6г ч1. Н.г.'!I15","v":0},{"$f":"'Физ.разв. к 6г ч1. Н.г.'!J15","v":0},{"$f":"'Физ.разв. к 6г ч1. Н.г.'!K15","v":0},{"$f":"'Физ.разв. к 6г ч1. Н.г.'!L15","v":0},{"$f":"'Физ.разв. к 6г ч1. Н.г.'!M15","v":0},{"$f":"'Физ.разв. к 6г ч1. Н.г.'!N15","v":0},{"$f":"'Физ.разв. к 6г ч1. Н.г.'!O15","v":0},{"$f":"'Физ.разв. к 6г ч1. Н.г.'!P15","v":0},{"$f":"'Физ.разв. к 6г ч1. Н.г.'!Q15","v":0},{"$f":"'Физ.разв. к 6г ч1. Н.г.'!R15","v":0},{"$f":"'Физ.разв. к 6г ч1. Н.г.'!S15","v":0},{"$f":"'Физ.разв. к 6г ч1. Н.г.'!T15","v":0},{"$f":"'Физ.разв. к 6г ч1. Н.г.'!U15","v":0},{"$f":"'Физ.разв. к 6г ч1. Н.г.'!V15","v":0},{"$f":"'Физ.разв. к 6г ч1. Н.г.'!W15","v":0},{"$f":"'Физ.разв. к 6г ч1. Н.г.'!X15","v":0},{"$f":"'Физ.разв. к 6г ч2. Н.г.'!E16","v":0},{"$f":"'Физ.разв. к 6г ч2. Н.г.'!F16","v":0},{"$f":"'Физ.разв. к 6г ч2. Н.г.'!G16","v":0},{"$f":"'Физ.разв. к 6г ч2. Н.г.'!H16","v":0},{"$f":"'Физ.разв. к 6г ч2. Н.г.'!I16","v":0},{"$f":"'Физ.разв. к 6г ч2. Н.г.'!J16","v":0},{"$f":"'Физ.разв. к 6г ч2. Н.г.'!K16","v":0},{"$f":"'Физ.разв. к 6г ч2. Н.г.'!L16","v":0},{"$f":"'Физ.разв. к 6г ч2. Н.г.'!M16","v":0},{"$f":"'Физ.разв. к 6г ч2. Н.г.'!N16","v":0},{"$f":"'Физ.разв. к 6г ч2. Н.г.'!O16","v":0},{"$f":"'Физ.разв. к 6г ч2. Н.г.'!P16","v":0},{"$f":"'Физ.разв. к 6г ч2. Н.г.'!Q16","v":0},{"$f":"'Физ.разв. к 6г ч2. Н.г.'!R16","v":0},{"$f":"'Физ.разв. к 6г ч2. Н.г.'!S16","v":0},{"$f":"'Физ.разв. к 6г ч2. Н.г.'!T16","v":0},{"$f":"'Физ.разв. к 6г ч2. Н.г.'!U16","v":0},{"$f":"'Физ.разв. к 6г ч2. Н.г.'!V16","v":0},{"$f":"'Физ.разв. к 6г ч2. Н.г.'!W16","v":0},{"$f":"'Физ.разв. к 6г ч2. Н.г.'!X16","v":0},{"$f":"'Физ.разв. к 6г ч2. Н.г.'!Y16","v":0}]
["конец года",{"$f":"'Худ.эст.к 6г ч1. К.г. '!E15","v":0},{"$f":"'Худ.эст.к 6г ч1. К.г. '!F15","v":0},{"$f":"'Худ.эст.к 6г ч1. К.г. '!G15","v":0},{"$f":"'Худ.эст.к 6г ч1. К.г. '!H15","v":0},{"$f":"'Худ.эст.к 6г ч1. К.г. '!I15","v":0},{"$f":"'Худ.эст.к 6г ч1. К.г. '!J15","v":0},{"$f":"'Худ.эст.к 6г ч1. К.г. '!K15","v":0},{"$f":"'Худ.эст.к 6г ч1. К.г. '!L15","v":0},{"$f":"'Худ.эст.к 6г ч1. К.г. '!M15","v":0},{"$f":"'Худ.эст.к 6г ч1. К.г. '!N15","v":0},{"$f":"'Худ.эст.к 6г ч1. К.г. '!O15","v":0},{"$f":"'Худ.эст.к 6г ч2. К.г. '!E15","v":0},{"$f":"'Худ.эст.к 6г ч2. К.г. '!F15","v":0},{"$f":"'Худ.эст.к 6г ч2. К.г. '!G15","v":0},{"$f":"'Худ.эст.к 6г ч2. К.г. '!H15","v":0},{"$f":"'Худ.эст.к 6г ч2. К.г. '!I15","v":0},{"$f":"'Худ.эст.к 6г ч2. К.г. '!J15","v":0},{"$f":"'Худ.эст.к 6г ч2. К.г. '!K15","v":0},{"$f":"'Худ.эст.к 6г ч2. К.г. '!L15","v":0},{"$f":"'Худ.эст.к 6г ч2. К.г. '!M15","v":0},{"$f":"'Худ.эст.к 6г ч3. К.г. '!E15","v":0},{"$f":"'Худ.эст.к 6г ч3. К.г. '!F15","v":0},{"$f":"'Худ.эст.к 6г ч3. К.г. '!G15","v":0},{"$f":"'Худ.эст.к 6г ч3. К.г. '!H15","v":0},{"$f":"'Худ.эст.к 6г ч3. К.г. '!I15","v":0},{"$f":"'Худ.эст.к 6г ч3. К.г. '!J15","v":0},{"$f":"'Худ.эст.к 6г ч3. К.г. '!K15","v":0},{"$f":"'Худ.эст.к 6г ч3. К.г. '!L15","v":0},{"$f":"'Реч.разв.к 6г ч1. К.г. '!E14","v":0},{"$f":"'Реч.разв.к 6г ч1. К.г. '!F14","v":0},{"$f":"'Реч.разв.к 6г ч1. К.г. '!G14","v":0},{"$f":"'Реч.разв.к 6г ч1. К.г. '!H14","v":0},{"$f":"'Реч.разв.к 6г ч1. К.г. '!I14","v":0},{"$f":"'Реч.разв.к 6г ч1. К.г. '!J14","v":0},{"$f":"'Реч.разв.к 6г ч1. К.г. '!K14","v":0},{"$f":"'Реч.разв.к 6г ч1. К.г. '!L14","v":0},{"$f":"'Реч.разв.к 6г ч2. К.г. '!E14","v":0},{"$f":"'Реч.разв.к 6г ч2. К.г. '!F14","v":0},{"$f":"'Реч.разв.к 6г ч2. К.г. '!G14","v":0},{"$f":"'Реч.разв.к 6г ч2. К.г. '!H14","v":0},{"$f":"'Реч.разв.к 6г ч2. К.г. '!I14","v":0},{"$f":"'Реч.разв.к 6г ч2. К.г. '!J14","v":0},{"$f":"'Реч.разв.к 6г ч2. К.г. '!K14","v":0},{"$f":"'Реч.разв.к 6г ч2. К.г. '!L14","v":0},{"$f":"'Реч.разв.к 6г ч2. К.г. '!M14","v":0},{"$f":"'Реч.разв.к 6г ч2. К.г. '!N14","v":0},{"$f":"'Реч.разв.к 6г ч2. К.г. '!O14","v":0},{"$f":"'Реч.разв.к 6г ч2. К.г. '!P14","v":0},{"$f":"'Реч.разв.к 6г ч2. К.г. '!Q14","v":0},{"$f":"'Позн.разв. к 6г ч1. К.г. '!E15","v":0},{"$f":"'Позн.разв. к 6г ч1. К.г. '!F15","v":0},{"$f":"'Позн.разв. к 6г ч1. К.г. '!G15","v":0},{"$f":"'Позн.разв. к 6г ч1. К.г. '!H15","v":0},{"$f":"'Позн.разв. к 6г ч1. К.г. '!I15","v":0},{"$f":"'Позн.разв. к 6г ч1. К.г. '!J15","v":0},{"$f":"'Позн.разв. к 6г ч1. К.г. '!K15","v":0},{"$f":"'Позн.разв. к 6г ч1. К.г. '!L15","v":0},{"$f":"'Позн.разв. к 6г ч1. К.г. '!M15","v":0},{"$f":"'Позн.разв. к 6г ч1. К.г. '!N15","v":0},{"$f":"'Позн.разв. к 6г ч1. К.г. '!O15","v":0},{"$f":"'Позн.разв. к 6г ч1. К.г. '!P15","v":0},{"$f":"'Позн.разв. к 6г ч1. К.г. '!Q15","v":0},{"$f":"'Позн.разв. к 6г ч1. К.г. '!R15","v":0},{"$f":"'Позн.разв. к 6г ч1. К.г. '!S15","v":0},{"$f":"'Позн.разв. к 6г ч2. К.г. '!E25","v":0},{"$f":"'Позн.разв. к 6г ч2. К.г. '!F25","v":0},{"$f":"'Позн.разв. к 6г ч2. К.г. '!G25","v":0},{"$f":"'Позн.разв. к 6г ч2. К.г. '!H25","v":0},{"$f":"'Позн.разв. к 6г ч2. К.г. '!I25","v":0},{"$f":"'Позн.разв. к 6г ч2. К.г. '!J25","v":0},{"$f":"'Соц.ком.к 6г ч1. К.г. '!$E$14","v":0},{"$f":"'Соц.ком.к 6г ч1. К.г. '!$E$14","v":0},{"$f":"'Соц.ком.к 6г ч1. К.г. '!$E$14","v":0},{"$f":"'Соц.ком.к 6г ч1. К.г. '!$E$14","v":0},{"$f":"'Соц.ком.к 6г ч1. К.г. '!$E$14","v":0},{"$f":"'Соц.ком.к 6г ч1. К.г. '!$E$14","v":0},{"$f":"'Соц.ком.к 6г ч1. К.г. '!$E$14","v":0},{"$f":"'Соц.ком.к 6г ч1. К.г. '!$E$14","v":0},{"$f":"'Соц.ком.к 6г ч1. К.г. '!$E$14","v":0},{"$f":"'Соц.ком.к 6г ч1. К.г. '!$E$14","v":0},{"$f":"'Соц.ком.к 6г ч1. К.г. '!$E$14","v":0},{"$f":"'Соц.ком.к 6г ч1. К.г. '!$E$14","v":0},{"$f":"'Соц.ком.к 6г ч1. К.г. '!$E$14","v":0},{"$f":"'Соц.ком.к 6г ч1. К.г. '!$E$14","v":0},{"$f":"'Соц.ком.к 6г ч1. К.г. '!$E$14","v":0},{"$f":"'Соц.ком.к 6г ч1. К.г. '!$E$14","v":0},{"$f":"'Соц.ком.к 6г ч1. К.г. '!$E$14","v":0},{"$f":"'Соц.ком. к 6г ч2 К.г.'!E14","v":0},{"$f":"'Соц.ком. к 6г ч2 К.г.'!F14","v":0},{"$f":"'Соц.ком. к 6г ч2 К.г.'!G14","v":0},{"$f":"'Соц.ком. к 6г ч2 К.г.'!H14","v":0},{"$f":"'Соц.ком. к 6г ч2 К.г.'!I14","v":0},{"$f":"'Соц.ком. к 6г ч2 К.г.'!J14","v":0},{"$f":"'Соц.ком. к 6г ч2 К.г.'!K14","v":0},{"$f":"'Соц.ком. к 6г ч2 К.г.'!L14","v":0},{"$f":"'Соц.ком. к 6г ч2 К.г.'!M14","v":0},{"$f":"'Физ.разв. к 6г ч1. К.г. '!E15","v":0},{"$f":"'Физ.разв. к 6г ч1. К.г. '!F15","v":0},{"$f":"'Физ.разв. к 6г ч1. К.г. '!G15","v":0},{"$f":"'Физ.разв. к 6г ч1. К.г. '!H15","v":0},{"$f":"'Физ.разв. к 6г ч1. К.г. '!I15","v":0},{"$f":"'Физ.разв. к 6г ч1. К.г. '!J15","v":0},{"$f":"'Физ.разв. к 6г ч1. К.г. '!K15","v":0},{"$f":"'Физ.разв. к 6г ч1. К.г. '!L15","v":0},{"$f":"'Физ.разв. к 6г ч1. К.г. '!M15","v":0},{"$f":"'Физ.разв. к 6г ч1. К.г. '!N15","v":0},{"$f":"'Физ.разв. к 6г ч1. К.г. '!O15","v":0},{"$f":"'Физ.разв. к 6г ч1. К.г. '!P15","v":0},{"$f":"'Физ.разв. к 6г ч1. К.г. '!Q15","v":0},{"$f":"'Физ.разв. к 6г ч1. К.г. '!R15","v":0},{"$f":"'Физ.разв. к 6г ч1. К.г. '!S15","v":0},{"$f":"'Физ.разв. к 6г ч1. К.г. '!T15","v":0},{"$f":"'Физ.разв. к 6г ч1. К.г. '!U15","v":0},{"$f":"'Физ.разв. к 6г ч1. К.г. '!V15","v":0},{"$f":"'Физ.разв. к 6г ч1. К.г. '!W15","v":0},{"$f":"'Физ.разв. к 6г ч1. К.г. '!X15","v":0},{"$f":"'Физ.разв. к 6г ч2. К.г. '!E16","v":0},{"$f":"'Физ.разв. к 6г ч2. К.г. '!F16","v":0},{"$f":"'Физ.разв. к 6г ч2. К.г. '!G16","v":0},{"$f":"'Физ.разв. к 6г ч2. К.г. '!H16","v":0},{"$f":"'Физ.разв. к 6г ч2. К.г. '!I16","v":0},{"$f":"'Физ.разв. к 6г ч2. К.г. '!J16","v":0},{"$f":"'Физ.разв. к 6г ч2. К.г. '!K16","v":0},{"$f":"'Физ.разв. к 6г ч2. К.г. '!L16","v":0},{"$f":"'Физ.разв. к 6г ч2. К.г. '!M16","v":0},{"$f":"'Физ.разв. к 6г ч2. К.г. '!N16","v":0},{"$f":"'Физ.разв. к 6г ч2. К.г. '!O16","v":0},{"$f":"'Физ.разв. к 6г ч2. К.г. '!P16","v":0},{"$f":"'Физ.разв. к 6г ч2. К.г. '!Q16","v":0},{"$f":"'Физ.разв. к 6г ч2. К.г. '!R16","v":0},{"$f":"'Физ.разв. к 6г ч2. К.г. '!S16","v":0},{"$f":"'Физ.разв. к 6г ч2. К.г. '!T16","v":0},{"$f":"'Физ.разв. к 6г ч2. К.г. '!U16","v":0},{"$f":"'Физ.разв. к 6г ч2. К.г. '!V16","v":0},{"$f":"'Физ.разв. к 6г ч2. К.г. '!W16","v":0},{"$f":"'Физ.разв. к 6г ч2. К.г. '!X16","v":0},{"$f":"'Физ.разв. к 6г ч2. К.г. '!Y16","v":0}]

{"sheet":"5","index":32,"n_rows":11,"n_cols":138,"rows_kept":11,"merged":[[4,117,4,122],[4,123,4,126],[4,127,4,129],[4,130,4,132],[4,134,4,137],[5,0,8,0],[5,1,5,11],[5,12,5,19],[5,21,6,26],[5,27,6,28],[5,50,5,52],[5,53,5,55],[5,56,5,64],[5,65,5,66],[5,67,5,70],[5,117,5,118],[5,119,5,122],[5,123,6,123],[5,124,6,124],[5,125,6,125],[5,126,6,126],[5,127,8,127],[5,128,8,128],[5,129,8,129],[5,130,8,130],[5,131,8,131],[5,132,8,132],[5,133,8,133],[5,134,5,137],[6,1,6,4],[6,9,6,10],[6,12,6,13],[6,16,6,17],[6,18,6,19],[6,20,8,20],[6,30,6,31],[6,32,6,36],[6,38,6,43],[6,45,6,49],[6,53,8,53],[6,54,8,54],[6,55,8,55],[6,56,6,58],[6,62,6,64],[6,65,7,66],[6,67,6,68],[6,69,6,70],[6,71,6,87],[6,88,6,90],[6,91,6,95],[6,97,6,98],[6,99,6,101],[6,102,6,104],[6,105,6,107],[6,108,6,112],[6,113,6,114],[6,115,6,116],[6,117,8,117],[6,118,8,118],[6,119,8,119],[6,120,8,120],[6,121,8,121],[6,122,8,122],[6,134,8,134],[6,135,8,135],[6,136,8,136],[6,137,8,137],[7,1,8,1],[7,2,8,2],[7,3,8,3],[7,4,8,4],[7,5,8,5],[7,6,8,6],[7,7,8,7],[7,8,8,8],[7,9,8,9],[7,10,8,10],[7,11,8,11],[7,12,8,12],[7,13,8,13],[7,14,8,14],[7,15,8,15],[7,16,8,16],[7,17,8,17],[7,18,8,18],[7,19,8,19],[7,21,8,21],[7,22,8,22],[7,23,8,23],[7,24,8,24],[7,25,8,25],[7,26,8,26],[7,27,8,27],[7,28,8,28],[7,29,8,29],[7,30,8,30],[7,31,8,31],[7,32,8,32],[7,33,8,33],[7,34,8,34],[7,35,8,35],[7,36,8,36],[7,37,8,37],[7,38,8,38],[7,39,8,39],[7,40,8,40],[7,41,8,41],[7,42,8,42],[7,43,8,43],[7,44,8,44],[7,45,8,45],[7,46,8,46],[7,47,8,47],[7,48,8,48],[7,49,8,49],[7,50,7,52],[7,56,8,56],[7,57,8,57],[7,58,8,58],[7,59,8,59],[7,60,8,60],[7,61,8,61],[7,62,8,62],[7,63,8,63],[7,64,8,64],[7,67,8,67],[7,68,8,68],[7,69,8,69],[7,70,8,70],[7,71,7,72],[7,73,7,74],[7,75,7,76],[7,77,7,80],[7,82,7,84],[7,85,7,87],[7,88,8,88],[7,89,8,89],[7,90,8,90],[7,91,8,91],[7,92,8,92],[7,93,8,93],[7,94,8,94],[7,95,8,95],[7,96,8,96],[7,97,8,97],[7,98,8,98],[7,99,8,99],[7,100,8,100],[7,101,8,101],[7,102,7,104],[7,105,7,107],[7,108,7,112],[7,113,8,113],[7,114,8,114],[7,115,7,116],[7,123,8,123],[7,124,8,124],[7,125,8,125],[7,126,8,126]]}
[]
[]
[]
[]
[{"$nulls":117},"Мелкая моторика",{"$nulls":5},"КГН",{"$nulls":3},"ЗОЖ",null,null,"Подвижные игры",null,null,"Спорт. игры","Спортивные упражнения"]
[{"$f":"Список!B8","v":0},"Музыкальная деятельность",{"$nulls":10},"Изобразительная деятельность",{"$nulls":8},"Приобщение к искусству",{"$nulls":5},"Конструктивная деятельность",{"$nulls":22},"Сенсорные эталоны ",null,null,"Познавательные действия",null,null,"Математические представления",{"$nulls":8},"Окружающий мир",null,"Природа ",{"$nulls":49},"Координация рук и глаз",null,"Графические навыки",{"$nulls":3},"Навыки соблюдения чистоты тела (правила личной гигиены)","Навыки культуры еды (прием пищи) ","Навыки поддержания порядка (правила поведения в быту) ","Навыки ухода за собой (одевание, раздевание) ","Ребенок имеет представление о факторах, положительно/негативно влияющих на здоровье; владеет основными способами укрепления здоровья","Ребенок имеет представление о некоторых видах спорта (9 и больше), роли спорта для укрепления здоровья","Ребенок проявляет заботливое отношение к своему здоровью и здоровью окружающих","Ребенок проявляет доступный возрасту самоконтроль","Ребенок  способен привлечь внимание других детей и организовать знакомую подвижную игру","Ребенок придумывает новые варианты игр, комбинирует движения","Ребенок имеет представление об элементах спортивных игр (городки, баскетбол, бадминтон, футбол), умеет выполнять некоторые виды движений","Ребенок умеет кататься"]
[null,"Слушание",{"$nulls":3},"Пение ","Музыкально-ритмические движения","Песенное творчество","Игра на детских музыкальных инструментах","Театрализованная деятельность",null,"Танцевально-игровое творчество","Рисование ",null,"Лепка ","Аппликация ","Народное ДПИ",null,"Прикладное творчество",null,"Ребенок самостоятельно определяет замысел рисунка, аппликации, лепки, поделки, создает образы и композиционные изображения, использует разнообразные материалы",{"$nulls":8},"Общее речевое развитие","Формирование словаря",null,"Грамматический строй",{"$nulls":4},"Звуковая культура речи","Связная речь",{"$nulls":5},"ЧХЛ","Подготовка к обучению грамоте",{"$nulls":4},"Цвет, оттенки","Форма, геометрические фигуры","Величина","Ребенок охотно участвует в обсуждении проблемы для совместного нахождения способов ее решения, предлагает пути решения, устанавливает закономерности причинно-следственного характера, проявляет любознательность","Ребенок использует математические знания, способы и средства для познания окружающего мира","Ребенок способен к произвольным умственным действиям, логическим операциям анализа, сравнения, обобщения, систематизации, классификации","Количество и счет",null,null,"Ориентировка во времени","Ориентировка в пространстве","Пространственно-количественные связи и отношения","Сравнение",null,null,"Ребенок имеет представления, может показать на картинке и в естественной среде, может рассказать",null,"Объекты живой природы",null,"Объекты неживой природы, природные явления",null,"Сфера социальных отношений",{"$nulls":16},"Область формирования основ гражданственности и патриотизма",null,null,"Сфера трудового воспитания",{"$nulls":4},"Область формирования основ безопасного поведения","Бросание, катание, ловля, метание",null,"Ползанье, лазанье",null,null,"Ходьба",null,null,"Бег",null,null,"Прыжки",{"$nulls":4},"Равновесие",null,"Строевые упражнения",null,"Ребенок может найти выход из лабиринта","Ребенок может нарисовать простой узор, изображение, не отрывая руки","Ребенок может повторить узор с чередующимися элементами","Ребенок закрашивает контурное изображение с множеством мелких деталей, не выходя за контур","Ребенок может соединить точки для получения изображения","Ребенок рисует геометрический орнамент по клеткам",{"$nulls":11},"на санках","на лыжах","на двухколесном велосипеде","на самокате"]
[null,"Ребенок различает жанры музыкальных произведений (песня, танец, марш)","Ребенок узнает мелодию по отдельным фрагментам произведения (вступление, заключение, музыкальная фраза)","Ребенок различает звуки по высоте в пределах квинты","Ребенок различает звучание музыкальных инструментов (клавишно-ударных, струнных)","Ребенок демонстрирует развитые певческие навыки","Ребенок демонстрирует развитые навыки исполнения танцевальных движений","Ребенок может импровизировать мелодию на заданный текст","Ребенок демонстрирует навыки игры на детских музыкальных инструментах","Ребенок имеет представление о различных видах театрального искусства","Ребенок с удовольствие занимается театрализованной деятельностью","Ребенок может придумывать движения к танцам","Ребенок передает в изображении основные свойства предметов (форма, величина, цвет), характерные детали, соотношение предметов и их частей по величине, высоте, расположению относительно друг друга","Ребенок владеет основными способами и приемами рисования различными изобразительными материалами (цветные карандаши, гуашь, акварель, цветные мелки, пастель, сангина, угольный карандаш, фломастеры)","Ребенок лепит с натуры и по представлению знакомые предметы, передавая характерные особенности пластическим, конструктивным и комбинированным способами","Ребенок умеет пользоваться ножницами","Ребенок имеет представление о полхов-майданской, гжельской росписи","Ребенок может нарисовать узор, используя элементы  росписи","Ребенок умеет работать с бумагой (сгибать лист, сглаживать сгибы, надрезать по сгибам)","Ребенок умеет работать с природным и бросовым материалом",null,"Ребенок умеет выделять, называть, группировать произведения по видам искусства: литература, музыка, изобразительное искусство, архитектура, театр, цирк","Ребенок имеет представление о видах изобразительного искусства: графика, декоративно-прикладное искусство, живопись, скульптура, архитектура, фотоискусство","Ребенок имеет представление о жанрах изобразительного искусства: натюрморт, пейзаж, портрет","Ребенок имеет представление о народном искусстве, фольклоре, музыке и художественных промыслах","Ребенок имеет представление о творческих профессиях: художник, композитор, музыкант, актер, артист балета","Ребенок имеет представление о культурно-досуговых местах: театр, музей, библиотека, выставка, кинотеатр, цирк и др.","Ребенок может провести анализ постройки (выделить основные части и характерные детали конструкций)","Ребенок может выполнить постройку по инструкции","Ребенок внятно разговаривает","Ребенок умеет обобщать предметы в группы по существенным признакам","Ребенок демонстрирует богатый словарный запас","Ребенок правильно использует в речи: несклоняемые существительные","Ребенок правильно использует в речи: слова, имеющие только множественное или только единственное число","Ребенок правильно использует в речи: глаголы одеть-надеть","Ребенок правильно использует в речи: существительные множественного числа в родительном падеже","Ребенок правильно образовывает слова с помощью суффикса, приставки","Ребенок правильно произносит сонорные звуки: л-ль, р-рь","Ребенок пересказывает литературные произведения по ролям, по частям, правильно передавая идею и содержание","Ребенок пользуется прямой и косвенной речью","Ребенок составляет короткий описательный рассказ о предметах, объектах и явлениях природы, из личного опыта","Ребенок сочиняет сюжетные рассказы по картине, из личного опыта","Ребенок проявляет речевое творчество: придумывает продолжение и окончание к рассказу, рассказы по аналогии, по плану педагога, по модели","Ребенок владеет первичными приемами аргументации и доказательства","Ребенок проявляет избирательное отношение к произведениям определенной тематики и жанра","Ребенок понимает термины: слово: звук, буква, предложение, гласный звук, согласный звук","Ребенок может провести звуковой анализ слова, разделить на слоги двух-, трехслоговые слова; составляет схему слова","Ребенок различает гласные-согласные звуки","Ребенок определяет твердые-мягкие согласные","Ребенок составляет предложение по модели, определяет количество и последовательность слов в предложении","Ребенок различает и называет",{"$nulls":5},"Ребенок знает/называет/находит среди других цифры 0 -10","Ребенок выполняет количественный и порядковый счет в пределах 0-10","Ребенок знает состав чисел из единиц в пределах 5","Ребенок понимает календарные единицы времени (сутки, неделя, месяц, год)","Ребенок ориентируется на листе бумаги","Ребенок понимает простейшую графическую информацию об отношениях предметов (слева направо, справа налево, снизу вверх, сверху вниз)","Ребенок выделяет сходства и отличия между группами предметов","Ребенок сравнивает предметы по 3-5 признакам","Ребенок группирует предметы по разным основаниям, преимущественно на основе зрительной оценки",null,null,"Ребенок имеет представление о сходстве и различии во внешнем виде и образе жизни объектов животного и растительного мира в разные сезоны года","Ребенок может сравнивать, группировать объекты живой природы по их особенностям, мету обитания, образу жизни, питанию","Ребенок имеет представление о признаках разных времен года","Ребенок наблюдает за явлениями природы, фиксирует результаты наблюдения","Отношение к самому себе",null,"Отношение к сверстникам",null,"Отношение к взрослым",null,"Эмоции",{"$nulls":3},"Поведение","Семья",null,null,"Игровое поведение",null,null,"Ребенок имеет представление о государственных символах России (герб, гимн, флаг)","Ребенок имеет представление о государственных праздниках России","Ребенок знает/может назвать/показать на картинке и в естественной среде достопримечательности населенного пункта, в котором живет","Ребенок имеет представления о разных видах производительного труда (промышленность, строительство, сельское хозяйство)","Ребенок имеет представления о разных видах обслуживающего труда (сфера досуга и отдыха, сфера культуры, медицина, торговля)","Ребенок имеет представление о структуре трудового процесса (мотив, цель, инструменты, оборудование, содержание действий, выбор трудовых действий, результат)","Ребенок имеет элементарные экономические представления (назначение рекламы, денег)","Ребенок охотно участвует в выполнении трудовых поручений, дежурстве; может распределять трудовые обязанности с другими","Ребенок имеет представления/ соблюдает правила поведения в быту, на улице, в природе, в общении с людьми, с животными","Ребенок выполняет различные упражнения с мячом (прокатывание, передача, перебрасывание, ведение, подбрасывание, ловля, забрасывание)","Ребенок выполняет метание в цель, метание в даль предметов разной массы","Ребенок выполняет ползанье разными способами (на четвереньках, на животе)","Ребенок выполняет переползание через несколько предметов подряд, под дугами, в туннеле","Ребенок выполняет лазанье по гимнастической стенке чередующимся шагом","Ребенок выполняет различные виды ходьбы",null,null,"Ребенок выполняет различные виды бега",null,null,"Ребенок выполняет различные виды прыжков",{"$nulls":4},"Ребенок выполняет стойку на одной ноге ","Ребенок выполняет упражнение \"ласточка\" ","Ребенок выполняет различные виды строевых упражнений",{"$nulls":7},"Ребенок выполняет самостоятельно","Ребенок выполняет самостоятельно","Ребенок выполняет самостоятельно","Ребенок выполняет самостоятельно"]
[{"$nulls":50},"Ребенок называет/различает все цвета спектра и ахроматические цвета, оттенки цвета, тоны цвета, теплые и холодные оттенки","Ребенок владеет способами воссоздания фигуры из частей, деления фигуры на части","Ребенок может выстраивать сериационные ряды предметов, различающихся по размеру в возрастающем и убывающем порядке в пределах 10",{"$nulls":12},"о многообразии людей разных национальностей (особенностей внешнего вида, одежды, традиций)","Ребенок имеет представление о многообразии стран и народов мира",{"$nulls":4},"Ребенок может рассказать о себе, выразить собственные потребности, желания","Ребенок имеет представление о некоторых своих правах","Ребенок имеет предпочтения в общении","Ребенок охотно вступает в общение со сверстниками","Ребенок уважительно относится к взрослым, пожилым людям","Ребенок охотно вступает в общение со взрослыми","Ребенок понимает свои и чужие эмоциональные состояния, демонстрирует примеры эмоциональной поддержки ","Ребенок  откликается на просьбу помочь","Ребенок выразить чувства и эмоции в мимике, пантомимике, действиях, интонации","Ребенок демонстрирует адекватные возрасту способы регуляции эмоциональных состояний","Ребенок ориентируется на общепринятые нормы и правила культуры поведения","Ребенок знает членов своей семьи, ближайших родственников по линии матери и отца","Ребенок имеет представление о способах поддержки родственных связей (переписка, разговор, совместный отдых, традиции, походы в гости и др.)","Ребенок проявляет заботу по отношению к членам своей семьи, оказывает посильную помощь больному члену семьи","Ребенок в совместной деятельности принимает общую цель, договаривается о способах деятельности и материалах, может уступить в конфликтной ситуации","Ребенок проявляет интерес к игровому экспериментированию, развивающим и познавательным играм","Ребенок способен действовать в точном соответствие с игровой задачей и правилами",{"$nulls":14},"обычным шагом, на носках, на пятках, с высоким подниманием колен","приставной, в полуприседе, мелким и широким, перекатом с пятки на носок, гимнастическим","змейкой без ориентиров, в колонне по одному и по два","в колонне по одному, змейкой, с перестроением на ходу в пары, звенья","со сменой ведущих, с пролезанием в обруч, с ловлей и увертыванием, высоко поднимая колени","между расставленными предметами, в заданном темпе, мелким и широким шагом","подпрыгивание, перепрыгивание, спрыгивание","в длину с места","в высоту с разбега","в длину с разбега","со скакалкой",null,null,"построения (по росту, в колонну по одному, в шеренгу, в круг)","в колонну по три, в две шеренги на месте, расхождение из колонны в разные стороны"]
["начало года",{"$f":"'Худ.эст.к 6г ч1. Н.г.'!E16","v":0},{"$f":"'Худ.эст.к 6г ч1. Н.г.'!F16","v":0},{"$f":"'Худ.эст.к 6г ч1. Н.г.'!G16","v":0},{"$f":"'Худ.эст.к 6г ч1. Н.г.'!H16","v":0},{"$f":"'Худ.эст.к 6г ч1. Н.г.'!I16","v":0},{"$f":"'Худ.эст.к 6г ч1. Н.г.'!J16","v":0},{"$f":"'Худ.эст.к 6г ч1. Н.г.'!K16","v":0},{"$f":"'Худ.эст.к 6г ч1. Н.г.'!L16","v":0},{"$f":"'Худ.эст.к 6г ч1. Н.г.'!M16","v":0},{"$f":"'Худ.эст.к 6г ч1. Н.г.'!N16","v":0},{"$f":"'Худ.эст.к 6г ч1. Н.г.'!O16","v":0},{"$f":"'Худ.эст.к 6г ч2. Н.г.'!E16","v":0},{"$f":"'Худ.эст.к 6г ч2. Н.г.'!F16","v":0},{"$f":"'Худ.эст.к 6г ч2. Н.г.'!G16","v":0},{"$f":"'Худ.эст.к 6г ч2. Н.г.'!H16","v":0},{"$f":"'Худ.эст.к 6г ч2. Н.г.'!I16","v":0},{"$f":"'Худ.эст.к 6г ч2. Н.г.'!J16","v":0},{"$f":"'Худ.эст.к 6г ч2. Н.г.'!K16","v":0},{"$f":"'Худ.эст.к 6г ч2. Н.г.'!L16","v":0},{"$f":"'Худ.эст.к 6г ч2. Н.г.'!M16","v":0},{"$f":"'Худ.эст.к 6г ч3. Н.г.'!E16","v":0},{"$f":"'Худ.эст.к 6г ч3. Н.г.'!F16","v":0},{"$f":"'Худ.эст.к 6г ч3. Н.г.'!G16","v":0},{"$f":"'Худ.эст.к 6г ч3. Н.г.'!H16","v":0},{"$f":"'Худ.эст.к 6г ч3. Н.г.'!I16","v":0},{"$f":"'Худ.эст.к 6г ч3. Н.г.'!J16","v":0},{"$f":"'Худ.эст.к 6г ч3. Н.г.'!K16","v":0},{"$f":"'Худ.эст.к 6г ч3. Н.г.'!L16","v":0},{"$f":"'Реч.разв.к 6г ч1. Н.г.'!E15","v":0},{"$f":"'Реч.разв.к 6г ч1. Н.г.'!F15","v":0},{"$f":"'Реч.разв.к 6г ч1. Н.г.'!G15","v":0},{"$f":"'Реч.разв.к 6г ч1. Н.г.'!H15","v":0},{"$f":"'Реч.разв.к 6г ч1. Н.г.'!I15","v":0},{"$f":"'Реч.разв.к 6г ч1. Н.г.'!J15","v":0},{"$f":"'Реч.разв.к 6г ч1. Н.г.'!K15","v":0},{"$f":"'Реч.разв.к 6г ч1. Н.г.'!L15","v":0},{"$f":"'Реч.разв.к 6г ч2. Н.г.'!E15","v":0},{"$f":"'Реч.разв.к 6г ч2. Н.г.'!F15","v":0},{"$f":"'Реч.разв.к 6г ч2. Н.г.'!G15","v":0},{"$f":"'Реч.разв.к 6г ч2. Н.г.'!H15","v":0},{"$f":"'Реч.разв.к 6г ч2. Н.г.'!I15","v":0},{"$f":"'Реч.разв.к 6г ч2. Н.г.'!J15","v":0},{"$f":"'Реч.разв.к 6г ч2. Н.г.'!K15","v":0},{"$f":"'Реч.разв.к 6г ч2. Н.г.'!L15","v":0},{"$f":"'Реч.разв.к 6г ч2. Н.г.'!M15","v":0},{"$f":"'Реч.разв.к 6г ч2. Н.г.'!N15","v":0},{"$f":"'Реч.разв.к 6г ч2. Н.г.'!O15","v":0},{"$f":"'Реч.разв.к 6г ч2. Н.г.'!P15","v":0},{"$f":"'Реч.разв.к 6г ч2. Н.г.'!Q15","v":0},{"$f":"'Позн.разв. к 6г ч1. Н.г.'!E16","v":0},{"$f":"'Позн.разв. к 6г ч1. Н.г.'!F16","v":0},{"$f":"'Позн.разв. к 6г ч1. Н.г.'!G16","v":0},{"$f":"'Позн.разв. к 6г ч1. Н.г.'!H16","v":0},{"$f":"'Позн.разв. к 6г ч1. Н.г.'!I16","v":0},{"$f":"'Позн.разв. к 6г ч1. Н.г.'!J16","v":0},{"$f":"'Позн.разв. к 6г ч1. Н.г.'!K16","v":0},{"$f":"'Позн.разв. к 6г ч1. Н.г.'!L16","v":0},{"$f":"'Позн.разв. к 6г ч1. Н.г.'!M16","v":0},{"$f":"'Позн.разв. к 6г ч1. Н.г.'!N16","v":0},{"$f":"'Позн.разв. к 6г ч1. Н.г.'!O16","v":0},{"$f":"'Позн.разв. к 6г ч1. Н.г.'!P16","v":0},{"$f":"'Позн.разв. к 6г ч1. Н.г.'!Q16","v":0},{"$f":"'Позн.разв. к 6г ч1. Н.г.'!R16","v":0},{"$f":"'Позн.разв. к 6г ч1. Н.г.'!S16","v":0},{"$f":"'Позн.разв. к 6г ч2. Н.г.'!E16","v":0},{"$f":"'Позн.разв. к 6г ч2. Н.г.'!F16","v":0},{"$f":"'Позн.разв. к 6г ч2. Н.г.'!G16","v":0},{"$f":"'Позн.разв. к 6г ч2. Н.г.'!H16","v":0},{"$f":"'Позн.разв. к 6г ч2. Н.г.'!I16","v":0},{"$f":"'Позн.разв. к 6г ч2. Н.г.'!J16","v":0},{"$f":"'Соц.ком.к 6г ч1. Н.г.'!E15","v":0},{"$f":"'Соц.ком.к 6г ч1. Н.г.'!F15","v":0},{"$f":"'Соц.ком.к 6г ч1. Н.г.'!G15","v":0},{"$f":"'Соц.ком.к 6г ч1. Н.г.'!H15","v":0},{"$f":"'Соц.ком.к 6г ч1. Н.г.'!I15","v":0},{"$f":"'Соц.ком.к 6г ч1. Н.г.'!J15","v":0},{"$f":"'Соц.ком.к 6г ч1. Н.г.'!K15","v":0},{"$f":"'Соц.ком.к 6г ч1. Н.г.'!L15","v":0},{"$f":"'Соц.ком.к 6г ч1. Н.г.'!M15","v":0},{"$f":"'Соц.ком.к 6г ч1. Н.г.'!N15","v":0},{"$f":"'Соц.ком.к 6г ч1. Н.г.'!O15","v":0},{"$f":"'Соц.ком.к 6г ч1. Н.г.'!P15","v":0},{"$f":"'Соц.ком.к 6г ч1. Н.г.'!Q15","v":0},{"$f":"'Соц.ком.к 6г ч1. Н.г.'!R15","v":0},{"$f":"'Соц.ком.к 6г ч1. Н.г.'!S15","v":0},{"$f":"'Соц.ком.к 6г ч1. Н.г.'!T15","v":0},{"$f":"'Соц.ком.к 6г ч1. Н.г.'!U15","v":0},{"$f":"'Соц.ком. к 6г ч2. Н.г.'!E15","v":0},{"$f":"'Соц.ком. к 6г ч2. Н.г.'!F15","v":0},{"$f":"'Соц.ком. к 6г ч2. Н.г.'!G15","v":0},{"$f":"'Соц.ком. к 6г ч2. Н.г.'!H15","v":0},{"$f":"'Соц.ком. к 6г ч2. Н.г.'!I15","v":0},{"$f":"'Соц.ком. к 6г ч2. Н.г.'!J15","v":0},{"$f":"'Соц.ком. к 6г ч2. Н.г.'!K15","v":0},{"$f":"'Соц.ком. к 6г ч2. Н.г.'!L15","v":0},{"$f":"'Соц.ком. к 6г ч2. Н.г.'!M15","v":0},{"$f":"'Физ.разв. к 6г ч1. Н.г.'!E16","v":0},{"$f":"'Физ.разв. к 6г ч1. Н.г.'!F16","v":0},{"$f":"'Физ.разв. к 6г ч1. Н.г.'!G16","v":0},{"$f":"'Физ.разв. к 6г ч1. Н.г.'!H16","v":0},{"$f":"'Физ.разв. к 6г ч1. Н.г.'!I16","v":0},{"$f":"'Физ.разв. к 6г ч1. Н.г.'!J16","v":0},{"$f":"'Физ.разв. к 6г ч1. Н.г.'!K16","v":0},{"$f":"'Физ.разв. к 6г ч1. Н.г.'!L16","v":0},{"$f":"'Физ.разв. к 6г ч1. Н.г.'!M16","v":0},{"$f":"'Физ.разв. к 6г ч1. Н.г.'!N16","v":0},{"$f":"'Физ.разв. к 6г ч1. Н.г.'!O16","v":0},{"$f":"'Физ.разв. к 6г ч1. Н.г.'!P16","v":0},{"$f":"'Физ.разв. к 6г ч1. Н.г.'!Q16","v":0},{"$f":"'Физ.разв. к 6г ч1. Н.г.'!R16","v":0},{"$f":"'Физ.разв. к 6г ч1. Н.г.'!S16","v":0},{"$f":"'Физ.разв. к 6г ч1. Н.г.'!T16","v":0},{"$f":"'Физ.разв. к 6г ч1. Н.г.'!U16","v":0},{"$f":"'Физ.разв. к 6г ч1. Н.г.'!V16","v":0},{"$f":"'Физ.разв. к 6г ч1. Н.г.'!W16","v":0},{"$f":"'Физ.разв. к 6г ч1. Н.г.'!X16","v":0},{"$f":"'Физ.разв. к 6г ч2. Н.г.'!E17","v":0},{"$f":"'Физ.разв. к 6г ч2. Н.г.'!F17","v":0},{"$f":"'Физ.разв. к 6г ч2. Н.г.'!G17","v":0},{"$f":"'Физ.разв. к 6г ч2. Н.г.'!H17","v":0},{"$f":"'Физ.разв. к 6г ч2. Н.г.'!I17","v":0},{"$f":"'Физ.разв. к 6г ч2. Н.г.'!J17","v":0},{"$f":"'Физ.разв. к 6г ч2. Н.г.'!K17","v":0},{"$f":"'Физ.разв. к 6г ч2. Н.г.'!L17","v":0},{"$f":"'Физ.разв. к 6г ч2. Н.г.'!M17","v":0},{"$f":"'Физ.разв. к 6г ч2. Н.г.'!N17","v":0},{"$f":"'Физ.разв. к 6г ч2. Н.г.'!O17","v":0},{"$f":"'Физ.разв. к 6г ч2. Н.г.'!P17","v":0},{"$f":"'Физ.разв. к 6г ч2. Н.г.'!Q17","v":0},{"$f":"'Физ.разв. к 6г ч2. Н.г.'!R17","v":0},{"$f":"'Физ.разв. к 6г ч2. Н.г.'!S17","v":0},{"$f":"'Физ.разв. к 6г ч2. Н.г.'!T17","v":0},{"$f":"'Физ.разв. к 6г ч2. Н.г.'!U17","v":0},{"$f":"'Физ.разв. к 6г ч2. Н.г.'!V17","v":0},{"$f":"'Физ.разв. к 6г ч2. Н.г.'!W17","v":0},{"$f":"'Физ.разв. к 6г ч2. Н.г.'!X17","v":0},{"$f":"'Физ.разв. к 6г ч2. Н.г.'!Y17","v":0}]
["конец года",{"$f":"'Худ.эст.к 6г ч1. К.г. '!E16","v":0},{"$f":"'Худ.эст.к 6г ч1. К.г. '!F16","v":0},{"$f":"'Худ.эст.к 6г ч1. К.г. '!G16","v":0},{"$f":"'Худ.эст.к 6г ч1. К.г. '!H16","v":0},{"$f":"'Худ.эст.к 6г ч1. К.г. '!I16","v":0},{"$f":"'Худ.эст.к 6г ч1. К.г. '!J16","v":0},{"$f":"'Худ.эст.к 6г ч1. К.г. '!K16","v":0},{"$f":"'Худ.эст.к 6г ч1. К.г. '!L16","v":0},{"$f":"'Худ.эст.к 6г ч1. К.г. '!M16","v":0},{"$f":"'Худ.эст.к 6г ч1. К.г. '!N16","v":0},{"$f":"'Худ.эст.к 6г ч1. К.г. '!O16","v":0},{"$f":"'Худ.эст.к 6г ч2. К.г. '!E16","v":0},{"$f":"'Худ.эст.к 6г ч2. К.г. '!F16","v":0},{"$f":"'Худ.эст.к 6г ч2. К.г. '!G16","v":0},{"$f":"'Худ.эст.к 6г ч2. К.г. '!H16","v":0},{"$f":"'Худ.эст.к 6г ч2. К.г. '!I16","v":0},{"$f":"'Худ.эст.к 6г ч2. К.г. '!J16","v":0},{"$f":"'Худ.эст.к 6г ч2. К.г. '!K16","v":0},{"$f":"'Худ.эст.к 6г ч2. К.г. '!L16","v":0},{"$f":"'Худ.эст.к 6г ч2. К.г. '!M16","v":0},{"$f":"'Худ.эст.к 6г ч3. К.г. '!E16","v":0},{"$f":"'Худ.эст.к 6г ч3. К.г. '!F16","v":0},{"$f":"'Худ.эст.к 6г ч3. К.г. '!G16","v":0},{"$f":"'Худ.эст.к 6г ч3. К.г. '!H16","v":0},{"$f":"'Худ.эст.к 6г ч3. К.г. '!I16","v":0},{"$f":"'Худ.эст.к 6г ч3. К.г. '!J16","v":0},{"$f":"'Худ.эст.к 6г ч3. К.г. '!K16","v":0},{"$f":"'Худ.эст.к 6г ч3. К.г. '!L16","v":0},{"$f":"'Реч.разв.к 6г ч1. К.г. '!E15","v":0},{"$f":"'Реч.разв.к 6г ч1. К.г. '!F15","v":0},{"$f":"'Реч.разв.к 6г ч1. К.г. '!G15","v":0},{"$f":"'Реч.разв.к 6г ч1. К.г. '!H15","v":0},{"$f":"'Реч.разв.к 6г ч1. К.г. '!I15","v":0},{"$f":"'Реч.разв.к 6г ч1. К.г. '!J15","v":0},{"$f":"'Реч.разв.к 6г ч1. К.г. '!K15","v":0},{"$f":"'Реч.разв.к 6г ч1. К.г. '!L15","v":0},{"$f":"'Реч.разв.к 6г ч2. К.г. '!E15","v":0},{"$f":"'Реч.разв.к 6г ч2. К.г. '!F15","v":0},{"$f":"'Реч.разв.к 6г ч2. К.г. '!G15","v":0},{"$f":"'Реч.разв.к 6г ч2. К.г. '!H15","v":0},{"$f":"'Реч.разв.к 6г ч2. К.г. '!I15","v":0},{"$f":"'Реч.разв.к 6г ч2. К.г. '!J15","v":0},{"$f":"'Реч.разв.к 6г ч2. К.г. '!K15","v":0},{"$f":"'Реч.разв.к 6г ч2. К.г. '!L15","v":0},{"$f":"'Реч.разв.к 6г ч2. К.г. '!M15","v":0},{"$f":"'Реч.разв.к 6г ч2. К.г. '!N15","v":0},{"$f":"'Реч.разв.к 6г ч2. К.г. '!O15","v":0},{"$f":"'Реч.разв.к 6г ч2. К.г. '!P15","v":0},{"$f":"'Реч.разв.к 6г ч2. К.г. '!Q15","v":0},{"$f":"'Позн.разв. к 6г ч1. К.г. '!E16","v":0},{"$f":"'Позн.разв. к 6г ч1. К.г. '!F16","v":0},{"$f":"'Позн.разв. к 6г ч1. К.г. '!G16","v":0},{"$f":"'Позн.разв. к 6г ч1. К.г. '!H16","v":0},{"$f":"'Позн.разв. к 6г ч1. К.г. '!I16","v":0},{"$f":"'Позн.разв. к 6г ч1. К.г. '!J16","v":0},{"$f":"'Позн.разв. к 6г ч1. К.г. '!K16","v":0},{"$f":"'Позн.разв. к 6г ч1. К.г. '!L16","v":0},{"$f":"'Позн.разв. к 6г ч1. К.г. '!M16","v":0},{"$f":"'Позн.разв. к 6г ч1. К.г. '!N16","v":0},{"$f":"'Позн.разв. к 6г ч1. К.г. '!O16","v":0},{"$f":"'Позн.разв. к 6г ч1. К.г. '!P16","v":0},{"$f":"'Позн.разв. к 6г ч1. К.г. '!Q16","v":0},{"$f":"'Позн.разв. к 6г ч1. К.г. '!R16","v":0},{"$f":"'Позн.разв. к 6г ч1. К.г. '!S16","v":0},{"$f":"'Позн.разв. к 6г ч2. К.г. '!E16","v":0},{"$f":"'Позн.разв. к 6г ч2. К.г. '!F16","v":0},{"$f":"'Позн.разв. к 6г ч2. К.г. '!G16","v":0},{"$f":"'Позн.разв. к 6г ч2. К.г. '!H16","v":0},{"$f":"'Позн.разв. к 6г ч2. К.г. '!I16","v":0},{"$f":"'Позн.разв. к 6г ч2. К.г. '!J16","v":0},{"$f":"'Соц.ком.к 6г ч1. К.г. '!$E$15","v":0},{"$f":"'Соц.ком.к 6г ч1. К.г. '!$E$15","v":0},{"$f":"'Соц.ком.к 6г ч1. К.г. '!$E$15","v":0},{"$f":"'Соц.ком.к 6г ч1. К.г. '!$E$15","v":0},{"$f":"'Соц.ком.к 6г ч1. К.г. '!$E$15","v":0},{"$f":"'Соц.ком.к 6г ч1. К.г. '!$E$15","v":0},{"$f":"'Соц.ком.к 6г ч1. К.г. '!$E$15","v":0},{"$f":"'Соц.ком.к 6г ч1. К.г. '!$E$15","v":0},{"$f":"'Соц.ком.к 6г ч1. К.г. '!$E$15","v":0},{"$f":"'Соц.ком.к 6г ч1. К.г. '!$E$15","v":0},{"$f":"'Соц.ком.к 6г ч1. К.г. '!$E$15","v":0},{"$f":"'Соц.ком.к 6г ч1. К.г. '!$E$15","v":0},{"$f":"'Соц.ком.к 6г ч1. К.г. '!$E$15","v":0},{"$f":"'Соц.ком.к 6г ч1. К.г. '!$E$15","v":0},{"$f":"'Соц.ком.к 6г ч1. К.г. '!$E$15","v":0},{"$f":"'Соц.ком.к 6г ч1. К.г. '!$E$15","v":0},{"$f":"'Соц.ком.к 6г ч1. К.г. '!$E$15","v":0},{"$f":"'Соц.ком. к 6г ч2 К.г.'!E15","v":0},{"$f":"'Соц.ком. к 6г ч2 К.г.'!F15","v":0},{"$f":"'Соц.ком. к 6г ч2 К.г.'!G15","v":0},{"$f":"'Соц.ком. к 6г ч2 К.г.'!H15","v":0},{"$f":"'Соц.ком. к 6г ч2 К.г.'!I15","v":0},{"$f":"'Соц.ком. к 6г ч2 К.г.'!J15","v":0},{"$f":"'Соц.ком. к 6г ч2 К.г.'!K15","v":0},{"$f":"'Соц.ком. к 6г ч2 К.г.'!L15","v":0},{"$f":"'Соц.ком. к 6г ч2 К.г.'!M15","v":0},{"$f":"'Физ.разв. к 6г ч1. К.г. '!E16","v":0},{"$f":"'Физ.разв. к 6г ч1. К.г. '!F16","v":0},{"$f":"'Физ.разв. к 6г ч1. К.г. '!G16","v":0},{"$f":"'Физ.разв. к 6г ч1. К.г. '!H16","v":0},{"$f":"'Физ.разв. к 6г ч1. К.г. '!I16","v":0},{"$f":"'Физ.разв. к 6г ч1. К.г. '!J16","v":0},{"$f":"'Физ.разв. к 6г ч1. К.г. '!K16","v":0},{"$f":"'Физ.разв. к 6г ч1. К.г. '!L16","v":0},{"$f":"'Физ.разв. к 6г ч1. К.г. '!M16","v":0},{"$f":"'Физ.разв. к 6г ч1. К.г. '!N16","v":0},{"$f":"'Физ.разв. к 6г ч1. К.г. '!O16","v":0},{"$f":"'Физ.разв. к 6г ч1. К.г. '!P16","v":0},{"$f":"'Физ.разв. к 6г ч1. К.г. '!Q16","v":0},{"$f":"'Физ.разв. к 6г ч1. К.г. '!R16","v":0},{"$f":"'Физ.разв. к 6г ч1. К.г. '!S16","v":0},{"$f":"'Физ.разв. к 6г ч1. К.г. '!T16","v":0},{"$f":"'Физ.разв. к 6г ч1. К.г. '!U16","v":0},{"$f":"'Физ.разв. к 6г ч1. К.г. '!V16","v":0},{"$f":"'Физ.разв. к 6г ч1. К.г. '!W16","v":0},{"$f":"'Физ.разв. к 6г ч1. К.г. '!X16","v":0},{"$f":"'Физ.разв. к 6г ч2. К.г. '!E17","v":0},{"$f":"'Физ.разв. к 6г ч2. К.г. '!F17","v":0},{"$f":"'Физ.разв. к 6г ч2. К.г. '!G17","v":0},{"$f":"'Физ.разв. к 6г ч2. К.г. '!H17","v":0},{"$f":"'Физ.разв. к 6г ч2. К.г. '!I17","v":0},{"$f":"'Физ.разв. к 6г ч2. К.г. '!J17","v":0},{"$f":"'Физ.разв. к 6г ч2. К.г. '!K17","v":0},{"$f":"'Физ.разв. к 6г ч2. К.г. '!L17","v":0},{"$f":"'Физ.разв. к 6г ч2. К.г. '!M17","v":0},{"$f":"'Физ.разв. к 6г ч2. К.г. '!N17","v":0},{"$f":"'Физ.разв. к 6г ч2. К.г. '!O17","v":0},{"$f":"'Физ.разв. к 6г ч2. К.г. '!P17","v":0},{"$f":"'Физ.разв. к 6г ч2. К.г. '!Q17","v":0},{"$f":"'Физ.разв. к 6г ч2. К.г. '!R17","v":0},{"$f":"'Физ.разв. к 6г ч2. К.г. '!S17","v":0},{"$f":"'Физ.разв. к 6г ч2. К.г. '!T17","v":0},{"$f":"'Физ.разв. к 6г ч2. К.г. '!U17","v":0},{"$f":"'Физ.разв. к 6г ч2. К.г. '!V17","v":0},{"$f":"'Физ.разв. к 6г ч2. К.г. '!W17","v":0},{"$f":"'Физ.разв. к 6г ч2. К.г. '!X17","v":0},{"$f":"'Физ.разв. к 6г ч2. К.г. '!Y17","v":0}]

{"sheet":"6","index":33,"n_rows":11,"n_cols":138,"rows_kept":11,"merged":[[4,117,4,122],[4,123,4,126],[4,127,4,129],[4,130,4,132],[4,134,4,137],[5,0,8,0],[5,1,5,11],[5,12,5,19],[5,21,6,26],[5,27,6,28],[5,50,5,52],[5,53,5,55],[5,56,5,64],[5,65,5,66],[5,67,5,70],[5,117,5,118],[5,119,5,122],[5,123,6,123],[5,124,6,124],[5,125,6,125],[5,126,6,126],[5,127,8,127],[5,128,8,128],[5,129,8,129],[5,130,8,130],[5,131,8,131],[5,132,8,132],[5,133,8,133],[5,134,5,137],[6,1,6,4],[6,9,6,10],[6,12,6,13],[6,16,6,17],[6,18,6,19],[6,20,8,20],[6,30,6,31],[6,32,6,36],[6,38,6,43],[6,45,6,49],[6,53,8,53],[6,54,8,54],[6,55,8,55],[6,56,6,58],[6,62,6,64],[6,65,7,66],[6,67,6,68],[6,69,6,70],[6,71,6,87],[6,88,6,90],[6,91,6,95],[6,97,6,98],[6,99,6,101],[6,102,6,104],[6,105,6,107],[6,108,6,112],[6,113,6,114],[6,115,6,116],[6,117,8,117],[6,118,8,118],[6,119,8,119],[6,120,8,120],[6,121,8,121],[6,122,8,122],[6,134,8,134],[6,135,8,135],[6,136,8,136],[6,137,8,137],[7,1,8,1],[7,2,8,2],[7,3,8,3],[7,4,8,4],[7,5,8,5],[7,6,8,6],[7,7,8,7],[7,8,8,8],[7,9,8,9],[7,10,8,10],[7,11,8,11],[7,12,8,12],[7,13,8,13],[7,14,8,14],[7,15,8,15],[7,16,8,16],[7,17,8,17],[7,18,8,18],[7,19,8,19],[7,21,8,21],[7,22,8,22],[7,23,8,23],[7,24,8,24],[7,25,8,25],[7,26,8,26],[7,27,8,27],[7,28,8,28],[7,29,8,29],[7,30,8,30],[7,31,8,31],[7,32,8,32],[7,33,8,33],[7,34,8,34],[7,35,8,35],[7,36,8,36],[7,37,8,37],[7,38,8,38],[7,39,8,39],[7,40,8,40],[7,41,8,41],[7,42,8,42],[7,43,8,43],[7,44,8,44],[7,45,8,45],[7,46,8,46],[7,47,8,47],[7,48,8,48],[7,49,8,49],[7,50,7,52],[7,56,8,56],[7,57,8,57],[7,58,8,58],[7,59,8,59],[7,60,8,60],[7,61,8,61],[7,62,8,62],[7,63,8,63],[7,64,8,64],[7,67,8,67],[7,68,8,68],[7,69,8,69],[7,70,8,70],[7,71,7,72],[7,73,7,74],[7,75,7,76],[7,77,7,80],[7,82,7,84],[7,85,7,87],[7,88,8,88],[7,89,8,89],[7,90,8,90],[7,91,8,91],[7,92,8,92],[7,93,8,93],[7,94,8,94],[7,95,8,95],[7,96,8,96],[7,97,8,97],[7,98,8,98],[7,99,8,99],[7,100,8,100],[7,101,8,101],[7,102,7,104],[7,105,7,107],[7,108,7,112],[7,113,8,113],[7,114,8,114],[7,115,7,116],[7,123,8,123],[7,124,8,124],[7,125,8,125],[7,126,8,126]]}
[]
[]
[]
[]
[{"$nulls":117},"Мелкая моторика",{"$nulls":5},"КГН",{"$nulls":3},"ЗОЖ",null,null,"Подвижные игры",null,null,"Спорт. игры","Спортивные упражнения"]
[{"$f":"Список!B9","v":0},"Музыкальная деятельность",{"$nulls":10},"Изобразительная деятельность",{"$nulls":8},"Приобщение к искусству",{"$nulls":5},"Конструктивная деятельность",{"$nulls":22},"Сенсорные эталоны ",null,null,"Познавательные действия",null,null,"Математические представления",{"$nulls":8},"Окружающий мир",null,"Природа ",{"$nulls":49},"Координация рук и глаз",null,"Графические навыки",{"$nulls":3},"Навыки соблюдения чистоты тела (правила личной гигиены)","Навыки культуры еды (прием пищи) ","Навыки поддержания порядка (правила поведения в быту) ","Навыки ухода за собой (одевание, раздевание) ","Ребенок имеет представление о факторах, положительно/негативно влияющих на здоровье; владеет основными способами укрепления здоровья","Ребенок имеет представление о некоторых видах спорта (9 и больше), роли спорта для укрепления здоровья","Ребенок проявляет заботливое отношение к своему здоровью и здоровью окружающих","Ребенок проявляет доступный возрасту самоконтроль","Ребенок  способен привлечь внимание других детей и организовать знакомую подвижную игру","Ребенок придумывает новые варианты игр, комбинирует движения","Ребенок имеет представление об элементах спортивных игр (городки, баскетбол, бадминтон, футбол), умеет выполнять некоторые виды движений","Ребенок умеет кататься"]
[null,"Слушание",{"$nulls":3},"Пение ","Музыкально-ритмические движения","Песенное творчество","Игра на детских музыкальных инструментах","Театрализованная деятельность",null,"Танцевально-игровое творчество","Рисование ",null,"Лепка ","Аппликация ","Народное ДПИ",null,"Прикладное творчество",null,"Ребенок самостоятельно определяет замысел рисунка, аппликации, лепки, поделки, создает образы и композиционные изображения, использует разнообразные материалы",{"$nulls":8},"Общее речевое развитие","Формирование словаря",null,"Грамматический строй",{"$nulls":4},"Звуковая культура речи","Связная речь",{"$nulls":5},"ЧХЛ","Подготовка к обучению грамоте",{"$nulls":4},"Цвет, оттенки","Форма, геометрические фигуры","Величина","Ребенок охотно участвует в обсуждении проблемы для совместного нахождения способов ее решения, предлагает пути решения, устанавливает закономерности причинно-следственного характера, проявляет любознательность","Ребенок использует математические знания, способы и средства для познания окружающего мира","Ребенок способен к произвольным умственным действиям, логическим операциям анализа, сравнения, обобщения, систематизации, классификации","Количество и счет",null,null,"Ориентировка во времени","Ориентировка в пространстве","Пространственно-количественные связи и отношения","Сравнение",null,null,"Ребенок имеет представления, может показать на картинке и в естественной среде, может рассказать",null,"Объекты живой природы",null,"Объекты неживой природы, природные явления",null,"Сфера социальных отношений",{"$nulls":16},"Область формирования основ гражданственности и патриотизма",null,null,"Сфера трудового воспитания",{"$nulls":4},"Область формирования основ безопасного поведения","Бросание, катание, ловля, метание",null,"Ползанье, лазанье",null,null,"Ходьба",null,null,"Бег",null,null,"Прыжки",{"$nulls":4},"Равновесие",null,"Строевые упражнения",null,"Ребенок может найти выход из лабиринта","Ребенок может нарисовать простой узор, изображение, не отрывая руки","Ребенок может повторить узор с чередующимися элементами","Ребенок закрашивает контурное изображение с множеством мелких деталей, не выходя за контур","Ребенок может соединить точки для получения изображения","Ребенок рисует геометрический орнамент по клеткам",{"$nulls":11},"на санках","на лыжах","на двухколесном велосипеде","на самокате"]
[null,"Ребенок различает жанры музыкальных произведений (песня, танец, марш)","Ребенок узнает мелодию по отдельным фрагментам произведения (вступление, заключение, музыкальная фраза)","Ребенок различает звуки по высоте в пределах квинты","Ребенок различает звучание музыкальных инструментов (клавишно-ударных, струнных)","Ребенок демонстрирует развитые певческие навыки","Ребенок демонстрирует развитые навыки исполнения танцевальных движений","Ребенок может импровизировать мелодию на заданный текст","Ребенок демонстрирует навыки игры на детских музыкальных инструментах","Ребенок имеет представление о различных видах театрального искусства","Ребенок с удовольствие занимается театрализованной деятельностью","Ребенок может придумывать движения к танцам","Ребенок передает в изображении основные свойства предметов (форма, величина, цвет), характерные детали, соотношение предметов и их частей по величине, высоте, расположению относительно друг друга","Ребенок владеет основными способами и приемами рисования различными изобразительными материалами (цветные карандаши, гуашь, акварель, цветные мелки, пастель, сангина, угольный карандаш, фломастеры)","Ребенок лепит с натуры и по представлению знакомые предметы, передавая характерные особенности пластическим, конструктивным и комбинированным способами","Ребенок умеет пользоваться ножницами","Ребенок имеет представление о полхов-майданской, гжельской росписи","Ребенок может нарисовать узор, используя элементы  росписи","Ребенок умеет работать с бумагой (сгибать лист, сглаживать сгибы, надрезать по сгибам)","Ребенок умеет работать с природным и бросовым материалом",null,"Ребенок умеет выделять, называть, группировать произведения по видам искусства: литература, музыка, изобразительное искусство, архитектура, театр, цирк","Ребенок имеет представление о видах изобразительного искусства: графика, декоративно-прикладное искусство, живопись, скульптура, архитектура, фотоискусство","Ребенок имеет представление о жанрах изобразительного искусства: натюрморт, пейзаж, портрет","Ребенок имеет представление о народном искусстве, фольклоре, музыке и художественных промыслах","Ребенок имеет представление о творческих профессиях: художник, композитор, музыкант, актер, артист балета","Ребенок имеет представление о культурно-досуговых местах: театр, музей, библиотека, выставка, кинотеатр, цирк и др.","Ребенок может провести анализ постройки (выделить основные части и характерные детали конструкций)","Ребенок может выполнить постройку по инструкции","Ребенок внятно разговаривает","Ребенок умеет обобщать предметы в группы по существенным признакам","Ребенок демонстрирует богатый словарный запас","Ребенок правильно использует в речи: несклоняемые существительные","Ребенок правильно использует в речи: слова, имеющие только множественное или только единственное число","Ребенок правильно использует в речи: глаголы одеть-надеть","Ребенок правильно использует в речи: существительные множественного числа в родительном падеже","Ребенок правильно образовывает слова с помощью суффикса, приставки","Ребенок правильно произносит сонорные звуки: л-ль, р-рь","Ребенок пересказывает литературные произведения по ролям, по частям, правильно передавая идею и содержание","Ребенок пользуется прямой и косвенной речью","Ребенок составляет короткий описательный рассказ о предметах, объектах и явлениях природы, из личного опыта","Ребенок сочиняет сюжетные рассказы по картине, из личного опыта","Ребенок проявляет речевое творчество: придумывает продолжение и окончание к рассказу, рассказы по аналогии, по плану педагога, по модели","Ребенок владеет первичными приемами аргументации и доказательства","Ребенок проявляет избирательное отношение к произведениям определенной тематики и жанра","Ребенок понимает термины: слово: звук, буква, предложение, гласный звук, согласный звук","Ребенок может провести звуковой анализ слова, разделить на слоги двух-, трехслоговые слова; составляет схему слова","Ребенок различает гласные-согласные звуки","Ребенок определяет твердые-мягкие согласные","Ребенок составляет предложение по модели, определяет количество и последовательность слов в предложении","Ребенок различает и называет",{"$nulls":5},"Ребенок знает/называет/находит среди других цифры 0 -10","Ребенок выполняет количественный и порядковый счет в пределах 0-10","Ребенок знает состав чисел из единиц в пределах 5","Ребенок понимает календарные единицы времени (сутки, неделя, месяц, год)","Ребенок ориентируется на листе бумаги","Ребенок понимает простейшую графическую информацию об отношениях предметов (слева направо, справа налево, снизу вверх, сверху вниз)","Ребенок выделяет сходства и отличия между группами предметов","Ребенок сравнивает предметы по 3-5 признакам","Ребенок группирует предметы по разным основаниям, преимущественно на основе зрительной оценки",null,null,"Ребенок имеет представление о сходстве и различии во внешнем виде и образе жизни объектов животного и растительного мира в разные сезоны года","Ребенок может сравнивать, группировать объекты живой природы по их особенностям, мету обитания, образу жизни, питанию","Ребенок имеет представление о признаках разных времен года","Ребенок наблюдает за явлениями природы, фиксирует результаты наблюдения","Отношение к самому себе",null,"Отношение к сверстникам",null,"Отношение к взрослым",null,"Эмоции",{"$nulls":3},"Поведение","Семья",null,null,"Игровое поведение",null,null,"Ребенок имеет представление о государственных символах России (герб, гимн, флаг)","Ребенок имеет представление о государственных праздниках России","Ребенок знает/может назвать/показать на картинке и в естественной среде достопримечательности населенного пункта, в котором живет","Ребенок имеет представления о разных видах производительного труда (промышленность, строительство, сельское хозяйство)","Ребенок имеет представления о разных видах обслуживающего труда (сфера досуга и отдыха, сфера культуры, медицина, торговля)","Ребенок имеет представление о структуре трудового процесса (мотив, цель, инструменты, оборудование, содержание действий, выбор трудовых действий, результат)","Ребенок имеет элементарные экономические представления (назначение рекламы, денег)","Ребенок охотно участвует в выполнении трудовых поручений, дежурстве; может распределять трудовые обязанности с другими","Ребенок имеет представления/ соблюдает правила поведения в быту, на улице, в природе, в общении с людьми, с животными","Ребенок выполняет различные упражнения с мячом (прокатывание, передача, перебрасывание, ведение, подбрасывание, ловля, забрасывание)","Ребенок выполняет метание в цель, метание в даль предметов разной массы","Ребенок выполняет ползанье разными способами (на четвереньках, на животе)","Ребенок выполняет переползание через несколько предметов подряд, под дугами, в туннеле","Ребенок выполняет лазанье по гимнастической стенке чередующимся шагом","Ребенок выполняет различные виды ходьбы",null,null,"Ребенок выполняет различные виды бега",null,null,"Ребенок выполняет различные виды прыжков",{"$nulls":4},"Ребенок выполняет стойку на одной ноге ","Ребенок выполняет упражнение \"ласточка\" ","Ребенок выполняет различные виды строевых упражнений",{"$nulls":7},"Ребенок выполняет самостоятельно","Ребенок выполняет самостоятельно","Ребенок выполняет самостоятельно","Ребенок выполняет самостоятельно"]
[{"$nulls":50},"Ребенок называет/различает все цвета спектра и ахроматические цвета, оттенки цвета, тоны цвета, теплые и холодные оттенки","Ребенок владеет способами воссоздания фигуры из частей, деления фигуры на части","Ребенок может выстраивать сериационные ряды предметов, различающихся по размеру в возрастающем и убывающем порядке в пределах 10",{"$nulls":12},"о многообразии людей разных национальностей (особенностей внешнего вида, одежды, традиций)","Ребенок имеет представление о многообразии стран и народов мира",{"$nulls":4},"Ребенок может рассказать о себе, выразить собственные потребности, желания","Ребенок имеет представление о некоторых своих правах","Ребенок имеет предпочтения в общении","Ребенок охотно вступает в общение со сверстниками","Ребенок уважительно относится к взрослым, пожилым людям","Ребенок охотно вступает в общение со взрослыми","Ребенок понимает свои и чужие эмоциональные состояния, демонстрирует примеры эмоциональной поддержки ","Ребенок  откликается на просьбу помочь","Ребенок выразить чувства и эмоции в мимике, пантомимике, действиях, интонации","Ребенок демонстрирует адекватные возрасту способы регуляции эмоциональных состояний","Ребенок ориентируется на общепринятые нормы и правила культуры поведения","Ребенок знает членов своей семьи, ближайших родственников по линии матери и отца","Ребенок имеет представление о способах поддержки родственных связей (переписка, разговор, совместный отдых, традиции, походы в гости и др.)","Ребенок проявляет заботу по отношению к членам своей семьи, оказывает посильную помощь больному члену семьи","Ребенок в совместной деятельности принимает общую цель, договаривается о способах деятельности и материалах, может уступить в конфликтной ситуации","Ребенок проявляет интерес к игровому экспериментированию, развивающим и познавательным играм","Ребенок способен действовать в точном соответствие с игровой задачей и правилами",{"$nulls":14},"обычным шагом, на носках, на пятках, с высоким подниманием колен","приставной, в полуприседе, мелким и широким, перекатом с пятки на носок, гимнастическим","змейкой без ориентиров, в колонне по одному и по два","в колонне по одному, змейкой, с перестроением на ходу в пары, звенья","со сменой ведущих, с пролезанием в обруч, с ловлей и увертыванием, высоко поднимая колени","между расставленными предметами, в заданном темпе, мелким и широким шагом","подпрыгивание, перепрыгивание, спрыгивание","в длину с места","в высоту с разбега","в длину с разбега","со скакалкой",null,null,"построения (по росту, в колонну по одному, в шеренгу, в круг)","в колонну по три, в две шеренги на месте, расхождение из колонны в разные стороны"]
["начало года",{"$f":"'Худ.эст.к 6г ч1. Н.г.'!E17","v":0},{"$f":"'Худ.эст.к 6г ч1. Н.г.'!F17","v":0},{"$f":"'Худ.эст.к 6г ч1. Н.г.'!G17","v":0},{"$f":"'Худ.эст.к 6г ч1. Н.г.'!H17","v":0},{"$f":"'Худ.эст.к 6г ч1. Н.г.'!I17","v":0},{"$f":"'Худ.эст.к 6г ч1. Н.г.'!J17","v":0},{"$f":"'Худ.эст.к 6г ч1. Н.г.'!K17","v":0},{"$f":"'Худ.эст.к 6г ч1. Н.г.'!L17","v":0},{"$f":"'Худ.эст.к 6г ч1. Н.г.'!M17","v":0},{"$f":"'Худ.эст.к 6г ч1. Н.г.'!N17","v":0},{"$f":"'Худ.эст.к 6г ч1. Н.г.'!O17","v":0},{"$f":"'Худ.эст.к 6г ч2. Н.г.'!E17","v":0},{"$f":"'Худ.эст.к 6г ч2. Н.г.'!F17","v":0},{"$f":"'Худ.эст.к 6г ч2. Н.г.'!G17","v":0},{"$f":"'Худ.эст.к 6г ч2. Н.г.'!H17","v":0},{"$f":"'Худ.эст.к 6г ч2. Н.г.'!I17","v":0},{"$f":"'Худ.эст.к 6г ч2. Н.г.'!J17","v":0},{"$f":"'Худ.эст.к 6г ч2. Н.г.'!K17","v":0},{"$f":"'Худ.эст.к 6г ч2. Н.г.'!L17","v":0},{"$f":"'Худ.эст.к 6г ч2. Н.г.'!M17","v":0},{"$f":"'Худ.эст.к 6г ч3. Н.г.'!E17","v":0},{"$f":"'Худ.эст.к 6г ч3. Н.г.'!F17","v":0},{"$f":"'Худ.эст.к 6г ч3. Н.г.'!G17","v":0},{"$f":"'Худ.эст.к 6г ч3. Н.г.'!H17","v":0},{"$f":"'Худ.эст.к 6г ч3. Н.г.'!I17","v":0},{"$f":"'Худ.эст.к 6г ч3. Н.г.'!J17","v":0},{"$f":"'Худ.эст.к 6г ч3. Н.г.'!K17","v":0},{"$f":"'Худ.эст.к 6г ч3. Н.г.'!L17","v":0},{"$f":"'Реч.разв.к 6г ч1. Н.г.'!E16","v":0},{"$f":"'Реч.разв.к 6г ч1. Н.г.'!F16","v":0},{"$f":"'Реч.разв.к 6г ч1. Н.г.'!G16","v":0},{"$f":"'Реч.разв.к 6г ч1. Н.г.'!H16","v":0},{"$f":"'Реч.разв.к 6г ч1. Н.г.'!I16","v":0},{"$f":"'Реч.разв.к 6г ч1. Н.г.'!J16","v":0},{"$f":"'Реч.разв.к 6г ч1. Н.г.'!K16","v":0},{"$f":"'Реч.разв.к 6г ч1. Н.г.'!L16","v":0},{"$f":"'Реч.разв.к 6г ч2. Н.г.'!E16","v":0},{"$f":"'Реч.разв.к 6г ч2. Н.г.'!F16","v":0},{"$f":"'Реч.разв.к 6г ч2. Н.г.'!G16","v":0},{"$f":"'Реч.разв.к 6г ч2. Н.г.'!H16","v":0},{"$f":"'Реч.разв.к 6г ч2. Н.г.'!I16","v":0},{"$f":"'Реч.разв.к 6г ч2. Н.г.'!J16","v":0},{"$f":"'Реч.разв.к 6г ч2. Н.г.'!K16","v":0},{"$f":"'Реч.разв.к 6г ч2. Н.г.'!L16","v":0},{"$f":"'Реч.разв.к 6г ч2. Н.г.'!M16","v":0},{"$f":"'Реч.разв.к 6г ч2. Н.г.'!N16","v":0},{"$f":"'Реч.разв.к 6г ч2. Н.г.'!O16","v":0},{"$f":"'Реч.разв.к 6г ч2. Н.г.'!P16","v":0},{"$f":"'Реч.разв.к 6г ч2. Н.г.'!Q16","v":0},{"$f":"'Позн.разв. к 6г ч1. Н.г.'!E17","v":0},{"$f":"'Позн.разв. к 6г ч1. Н.г.'!F17","v":0},{"$f":"'Позн.разв. к 6г ч1. Н.г.'!G17","v":0},{"$f":"'Позн.разв. к 6г ч1. Н.г.'!H17","v":0},{"$f":"'Позн.разв. к 6г ч1. Н.г.'!I17","v":0},{"$f":"'Позн.разв. к 6г ч1. Н.г.'!J17","v":0},{"$f":"'Позн.разв. к 6г ч1. Н.г.'!K17","v":0},{"$f":"'Позн.разв. к 6г ч1. Н.г.'!L17","v":0},{"$f":"'Позн.разв. к 6г ч1. Н.г.'!M17","v":0},{"$f":"'Позн.разв. к 6г ч1. Н.г.'!N17","v":0},{"$f":"'Позн.разв. к 6г ч1. Н.г.'!O17","v":0},{"$f":"'Позн.разв. к 6г ч1. Н.г.'!P17","v":0},{"$f":"'Позн.разв. к 6г ч1. Н.г.'!Q17","v":0},{"$f":"'Позн.разв. к 6г ч1. Н.г.'!R17","v":0},{"$f":"'Позн.разв. к 6г ч1. Н.г.'!S17","v":0},{"$f":"'Позн.разв. к 6г ч2. Н.г.'!E17","v":0},{"$f":"'Позн.разв. к 6г ч2. Н.г.'!F17","v":0},{"$f":"'Позн.разв. к 6г ч2. Н.г.'!G17","v":0},{"$f":"'Позн.разв. к 6г ч2. Н.г.'!H17","v":0},{"$f":"'Позн.разв. к 6г ч2. Н.г.'!I17","v":0},{"$f":"'Позн.разв. к 6г ч2. Н.г.'!J17","v":0},{"$f":"'Соц.ком.к 6г ч1. Н.г.'!E16","v":0},{"$f":"'Соц.ком.к 6г ч1. Н.г.'!F16","v":0},{"$f":"'Соц.ком.к 6г ч1. Н.г.'!G16","v":0},{"$f":"'Соц.ком.к 6г ч1. Н.г.'!H16","v":0},{"$f":"'Соц.ком.к 6г ч1. Н.г.'!I16","v":0},{"$f":"'Соц.ком.к 6г ч1. Н.г.'!J16","v":0},{"$f":"'Соц.ком.к 6г ч1. Н.г.'!K16","v":0},{"$f":"'Соц.ком.к 6г ч1. Н.г.'!L16","v":0},{"$f":"'Соц.ком.к 6г ч1. Н.г.'!M16","v":0},{"$f":"'Соц.ком.к 6г ч1. Н.г.'!N16","v":0},{"$f":"'Соц.ком.к 6г ч1. Н.г.'!O16","v":0},{"$f":"'Соц.ком.к 6г ч1. Н.г.'!P16","v":0},{"$f":"'Соц.ком.к 6г ч1. Н.г.'!Q16","v":0},{"$f":"'Соц.ком.к 6г ч1. Н.г.'!R16","v":0},{"$f":"'Соц.ком.к 6г ч1. Н.г.'!S16","v":0},{"$f":"'Соц.ком.к 6г ч1. Н.г.'!T16","v":0},{"$f":"'Соц.ком.к 6г ч1. Н.г.'!U16","v":0},{"$f":"'Соц.ком. к 6г ч2. Н.г.'!E16","v":0},{"$f":"'Соц.ком. к 6г ч2. Н.г.'!F16","v":0},{"$f":"'Соц.ком. к 6г ч2. Н.г.'!G16","v":0},{"$f":"'Соц.ком. к 6г ч2. Н.г.'!H16","v":0},{"$f":"'Соц.ком. к 6г ч2. Н.г.'!I16","v":0},{"$f":"'Соц.ком. к 6г ч2. Н.г.'!J16","v":0},{"$f":"'Соц.ком. к 6г ч2. Н.г.'!K16","v":0},{"$f":"'Соц.ком. к 6г ч2. Н.г.'!L16","v":0},{"$f":"'Соц.ком. к 6г ч2. Н.г.'!M16","v":0},{"$f":"'Физ.разв. к 6г ч1. Н.г.'!E17","v":0},{"$f":"'Физ.разв. к 6г ч1. Н.г.'!F17","v":0},{"$f":"'Физ.разв. к 6г ч1. Н.г.'!G17","v":0},{"$f":"'Физ.разв. к 6г ч1. Н.г.'!H17","v":0},{"$f":"'Физ.разв. к 6г ч1. Н.г.'!I17","v":0},{"$f":"'Физ.разв. к 6г ч1. Н.г.'!J17","v":0},{"$f":"'Физ.разв. к 6г ч1. Н.г.'!K17","v":0},{"$f":"'Физ.разв. к 6г ч1. Н.г.'!L17","v":0},{"$f":"'Физ.разв. к 6г ч1. Н.г.'!M17","v":0},{"$f":"'Физ.разв. к 6г ч1. Н.г.'!N17","v":0},{"$f":"'Физ.разв. к 6г ч1. Н.г.'!O17","v":0},{"$f":"'Физ.разв. к 6г ч1. Н.г.'!P17","v":0},{"$f":"'Физ.разв. к 6г ч1. Н.г.'!Q17","v":0},{"$f":"'Физ.разв. к 6г ч1. Н.г.'!R17","v":0},{"$f":"'Физ.разв. к 6г ч1. Н.г.'!S17","v":0},{"$f":"'Физ.разв. к 6г ч1. Н.г.'!T17","v":0},{"$f":"'Физ.разв. к 6г ч1. Н.г.'!U17","v":0},{"$f":"'Физ.разв. к 6г ч1. Н.г.'!V17","v":0},{"$f":"'Физ.разв. к 6г ч1. Н.г.'!W17","v":0},{"$f":"'Физ.разв. к 6г ч1. Н.г.'!X17","v":0},{"$f":"'Физ.разв. к 6г ч2. Н.г.'!E18","v":0},{"$f":"'Физ.разв. к 6г ч2. Н.г.'!F18","v":0},{"$f":"'Физ.разв. к 6г ч2. Н.г.'!G18","v":0},{"$f":"'Физ.разв. к 6г ч2. Н.г.'!H18","v":0},{"$f":"'Физ.разв. к 6г ч2. Н.г.'!I18","v":0},{"$f":"'Физ.разв. к 6г ч2. Н.г.'!J18","v":0},{"$f":"'Физ.разв. к 6г ч2. Н.г.'!K18","v":0},{"$f":"'Физ.разв. к 6г ч2. Н.г.'!L18","v":0},{"$f":"'Физ.разв. к 6г ч2. Н.г.'!M18","v":0},{"$f":"'Физ.разв. к 6г ч2. Н.г.'!N18","v":0},{"$f":"'Физ.разв. к 6г ч2. Н.г.'!O18","v":0},{"$f":"'Физ.разв. к 6г ч2. Н.г.'!P18","v":0},{"$f":"'Физ.разв. к 6г ч2. Н.г.'!Q18","v":0},{"$f":"'Физ.разв. к 6г ч2. Н.г.'!R18","v":0},{"$f":"'Физ.разв. к 6г ч2. Н.г.'!S18","v":0},{"$f":"'Физ.разв. к 6г ч2. Н.г.'!T18","v":0},{"$f":"'Физ.разв. к 6г ч2. Н.г.'!U18","v":0},{"$f":"'Физ.разв. к 6г ч2. Н.г.'!V18","v":0},{"$f":"'Физ.разв. к 6г ч2. Н.г.'!W18","v":0},{"$f":"'Физ.разв. к 6г ч2. Н.г.'!X18","v":0},{"$f":"'Физ.разв. к 6г ч2. Н.г.'!Y18","v":0}]
["конец года",{"$f":"'Худ.эст.к 6г ч1. К.г. '!E17","v":0},{"$f":"'Худ.эст.к 6г ч1. К.г. '!F17","v":0},{"$f":"'Худ.эст.к 6г ч1. К.г. '!G17","v":0},{"$f":"'Худ.эст.к 6г ч1. К.г. '!H17","v":0},{"$f":"'Худ.эст.к 6г ч1. К.г. '!I17","v":0},{"$f":"'Худ.эст.к 6г ч1. К.г. '!J17","v":0},{"$f":"'Худ.эст.к 6г ч1. К.г. '!K17","v":0},{"$f":"'Худ.эст.к 6г ч1. К.г. '!L17","v":0},{"$f":"'Худ.эст.к 6г ч1. К.г. '!M17","v":0},{"$f":"'Худ.эст.к 6г ч1. К.г. '!N17","v":0},{"$f":"'Худ.эст.к 6г ч1. К.г. '!O17","v":0},{"$f":"'Худ.эст.к 6г ч2. К.г. '!E17","v":0},{"$f":"'Худ.эст.к 6г ч2. К.г. '!F17","v":0},{"$f":"'Худ.эст.к 6г ч2. К.г. '!G17","v":0},{"$f":"'Худ.эст.к 6г ч2. К.г. '!H17","v":0},{"$f":"'Худ.эст.к 6г ч2. К.г. '!I17","v":0},{"$f":"'Худ.эст.к 6г ч2. К.г. '!J17","v":0},{"$f":"'Худ.эст.к 6г ч2. К.г. '!K17","v":0},{"$f":"'Худ.эст.к 6г ч2. К.г. '!L17","v":0},{"$f":"'Худ.эст.к 6г ч2. К.г. '!M17","v":0},{"$f":"'Худ.эст.к 6г ч3. К.г. '!E17","v":0},{"$f":"'Худ.эст.к 6г ч3. К.г. '!F17","v":0},{"$f":"'Худ.эст.к 6г ч3. К.г. '!G17","v":0},{"$f":"'Худ.эст.к 6г ч3. К.г. '!H17","v":0},{"$f":"'Худ.эст.к 6г ч3. К.г. '!I17","v":0},{"$f":"'Худ.эст.к 6г ч3. К.г. '!J17","v":0},{"$f":"'Худ.эст.к 6г ч3. К.г. '!K17","v":0},{"$f":"'Худ.эст.к 6г ч3. К.г. '!L17","v":0},{"$f":"'Реч.разв.к 6г ч1. К.г. '!E16","v":0},{"$f":"'Реч.разв.к 6г ч1. К.г. '!F16","v":0},{"$f":"'Реч.разв.к 6г ч1. К.г. '!G16","v":0},{"$f":"'Реч.разв.к 6г ч1. К.г. '!H16","v":0},{"$f":"'Реч.разв.к 6г ч1. К.г. '!I16","v":0},{"$f":"'Реч.разв.к 6г ч1. К.г. '!J16","v":0},{"$f":"'Реч.разв.к 6г ч1. К.г. '!K16","v":0},{"$f":"'Реч.разв.к 6г ч1. К.г. '!L16","v":0},{"$f":"'Реч.разв.к 6г ч2. К.г. '!E16","v":0},{"$f":"'Реч.разв.к 6г ч2. К.г. '!F16","v":0},{"$f":"'Реч.разв.к 6г ч2. К.г. '!G16","v":0},{"$f":"'Реч.разв.к 6г ч2. К.г. '!H16","v":0},{"$f":"'Реч.разв.к 6г ч2. К.г. '!I16","v":0},{"$f":"'Реч.разв.к 6г ч2. К.г. '!J16","v":0},{"$f":"'Реч.разв.к 6г ч2. К.г. '!K16","v":0},{"$f":"'Реч.разв.к 6г ч2. К.г. '!L16","v":0},{"$f":"'Реч.разв.к 6г ч2. К.г. '!M16","v":0},{"$f":"'Реч.разв.к 6г ч2. К.г. '!N16","v":0},{"$f":"'Реч.разв.к 6г ч2. К.г. '!O16","v":0},{"$f":"'Реч.разв.к 6г ч2. К.г. '!P16","v":0},{"$f":"'Реч.разв.к 6г ч2. К.г. '!Q16","v":0},{"$f":"'Позн.разв. к 6г ч1. К.г. '!E17","v":0},{"$f":"'Позн.разв. к 6г ч1. К.г. '!F17","v":0},{"$f":"'Позн.разв. к 6г ч1. К.г. '!G17","v":0},{"$f":"'Позн.разв. к 6г ч1. К.г. '!H17","v":0},{"$f":"'Позн.разв. к 6г ч1. К.г. '!I17","v":0},{"$f":"'Позн.разв. к 6г ч1. К.г. '!J17","v":0},{"$f":"'Позн.разв. к 6г ч1. К.г. '!K17","v":0},{"$f":"'Позн.разв. к 6г ч1. К.г. '!L17","v":0},{"$f":"'Позн.разв. к 6г ч1. К.г. '!M17","v":0},{"$f":"'Позн.разв. к 6г ч1. К.г. '!N17","v":0},{"$f":"'Позн.разв. к 6г ч1. К.г. '!O17","v":0},{"$f":"'Позн.разв. к 6г ч1. К.г. '!P17","v":0},{"$f":"'Позн.разв. к 6г ч1. К.г. '!Q17","v":0},{"$f":"'Позн.разв. к 6г ч1. К.г. '!R17","v":0},{"$f":"'Позн.разв. к 6г ч1. К.г. '!S17","v":0},{"$f":"'Позн.разв. к 6г ч2. К.г. '!E17","v":0},{"$f":"'Позн.разв. к 6г ч2. К.г. '!F17","v":0},{"$f":"'Позн.разв. к 6г ч2. К.г. '!G17","v":0},{"$f":"'Позн.разв. к 6г ч2. К.г. '!H17","v":0},{"$f":"'Позн.разв. к 6г ч2. К.г. '!I17","v":0},{"$f":"'Позн.разв. к 6г ч2. К.г. '!J17","v":0},{"$f":"'Соц.ком.к 6г ч1. К.г. '!$E$16","v":0},{"$f":"'Соц.ком.к 6г ч1. К.г. '!$E$16","v":0},{"$f":"'Соц.ком.к 6г ч1. К.г. '!$E$16","v":0},{"$f":"'Соц.ком.к 6г ч1. К.г. '!$E$16","v":0},{"$f":"'Соц.ком.к 6г ч1. К.г. '!$E$16","v":0},{"$f":"'Соц.ком.к 6г ч1. К.г. '!$E$16","v":0},{"$f":"'Соц.ком.к 6г ч1. К.г. '!$E$16","v":0},{"$f":"'Соц.ком.к 6г ч1. К.г. '!$E$16","v":0},{"$f":"'Соц.ком.к 6г ч1. К.г. '!$E$16","v":0},{"$f":"'Соц.ком.к 6г ч1. К.г. '!$E$16","v":0},{"$f":"'Соц.ком.к 6г ч1. К.г. '!$E$16","v":0},{"$f":"'Соц.ком.к 6г ч1. К.г. '!$E$16","v":0},{"$f":"'Соц.ком.к 6г ч1. К.г. '!$E$16","v":0},{"$f":"'Соц.ком.к 6г ч1. К.г. '!$E$16","v":0},{"$f":"'Соц.ком.к 6г ч1. К.г. '!$E$16","v":0},{"$f":"'Соц.ком.к 6г ч1. К.г. '!$E$16","v":0},{"$f":"'Соц.ком.к 6г ч1. К.г. '!$E$16","v":0},{"$f":"'Соц.ком. к 6г ч2 К.г.'!E16","v":0},{"$f":"'Соц.ком. к 6г ч2 К.г.'!F16","v":0},{"$f":"'Соц.ком. к 6г ч2 К.г.'!G16","v":0},{"$f":"'Соц.ком. к 6г ч2 К.г.'!H16","v":0},{"$f":"'Соц.ком. к 6г ч2 К.г.'!I16","v":0},{"$f":"'Соц.ком. к 6г ч2 К.г.'!J16","v":0},{"$f":"'Соц.ком. к 6г ч2 К.г.'!K16","v":0},{"$f":"'Соц.ком. к 6г ч2 К.г.'!L16","v":0},{"$f":"'Соц.ком. к 6г ч2 К.г.'!M16","v":0},{"$f":"'Физ.разв. к 6г ч1. К.г. '!E17","v":0},{"$f":"'Физ.разв. к 6г ч1. К.г. '!F17","v":0},{"$f":"'Физ.разв. к 6г ч1. К.г. '!G17","v":0},{"$f":"'Физ.разв. к 6г ч1. К.г. '!H17","v":0},{"$f":"'Физ.разв. к 6г ч1. К.г. '!I17","v":0},{"$f":"'Физ.разв. к 6г ч1. К.г. '!J17","v":0},{"$f":"'Физ.разв. к 6г ч1. К.г. '!K17","v":0},{"$f":"'Физ.разв. к 6г ч1. К.г. '!L17","v":0},{"$f":"'Физ.разв. к 6г ч1. К.г. '!M17","v":0},{"$f":"'Физ.разв. к 6г ч1. К.г. '!N17","v":0},{"$f":"'Физ.разв. к 6г ч1. К.г. '!O17","v":0},{"$f":"'Физ.разв. к 6г ч1. К.г. '!P17","v":0},{"$f":"'Физ.разв. к 6г ч1. К.г. '!Q17","v":0},{"$f":"'Физ.разв. к 6г ч1. К.г. '!R17","v":0},{"$f":"'Физ.разв. к 6г ч1. К.г. '!S17","v":0},{"$f":"'Физ.разв. к 6г ч1. К.г. '!T17","v":0},{"$f":"'Физ.разв. к 6г ч1. К.г. '!U17","v":0},{"$f":"'Физ.разв. к 6г ч1. К.г. '!V17","v":0},{"$f":"'Физ.разв. к 6г ч1. К.г. '!W17","v":0},{"$f":"'Физ.разв. к 6г ч1. К.г. '!X17","v":0},{"$f":"'Физ.разв. к 6г ч2. К.г. '!E18","v":0},{"$f":"'Физ.разв. к 6г ч2. К.г. '!F18","v":0},{"$f":"'Физ.разв. к 6г ч2. К.г. '!G18","v":0},{"$f":"'Физ.разв. к 6г ч2. К.г. '!H18","v":0},{"$f":"'Физ.разв. к 6г ч2. К.г. '!I18","v":0},{"$f":"'Физ.разв. к 6г ч2. К.г. '!J18","v":0},{"$f":"'Физ.разв. к 6г ч2. К.г. '!K18","v":0},{"$f":"'Физ.разв. к 6г ч2. К.г. '!L18","v":0},{"$f":"'Физ.разв. к 6г ч2. К.г. '!M18","v":0},{"$f":"'Физ.разв. к 6г ч2. К.г. '!N18","v":0},{"$f":"'Физ.разв. к 6г ч2. К.г. '!O18","v":0},{"$f":"'Физ.разв. к 6г ч2. К.г. '!P18","v":0},{"$f":"'Физ.разв. к 6г ч2. К.г. '!Q18","v":0},{"$f":"'Физ.разв. к 6г ч2. К.г. '!R18","v":0},{"$f":"'Физ.разв. к 6г ч2. К.г. '!S18","v":0},{"$f":"'Физ.разв. к 6г ч2. К.г. '!T18","v":0},{"$f":"'Физ.разв. к 6г ч2. К.г. '!U18","v":0},{"$f":"'Физ.разв. к 6г ч2. К.г. '!V18","v":0},{"$f":"'Физ.разв. к 6г ч2. К.г. '!W18","v":0},{"$f":"'Физ.разв. к 6г ч2. К.г. '!X18","v":0},{"$f":"'Физ.разв. к 6г ч2. К.г. '!Y18","v":0}]

{"sheet":"7","index":34,"n_rows":11,"n_cols":138,"rows_kept":11,"merged":[[4,117,4,122],[4,123,4,126],[4,127,4,129],[4,130,4,132],[4,134,4,137],[5,0,8,0],[5,1,5,11],[5,12,5,19],[5,21,6,26],[5,27,6,28],[5,50,5,52],[5,53,5,55],[5,56,5,64],[5,65,5,66],[5,67,5,70],[5,117,5,118],[5,119,5,122],[5,123,6,123],[5,124,6,124],[5,125,6,125],[5,126,6,126],[5,127,8,127],[5,128,8,128],[5,129,8,129],[5,130,8,130],[5,131,8,131],[5,132,8,132],[5,133,8,133],[5,134,5,137],[6,1,6,4],[6,9,6,10],[6,12,6,13],[6,16,6,17],[6,18,6,19],[6,20,8,20],[6,30,6,31],[6,32,6,36],[6,38,6,43],[6,45,6,49],[6,53,8,53],[6,54,8,54],[6,55,8,55],[6,56,6,58],[6,62,6,64],[6,65,7,66],[6,67,6,68],[6,69,6,70],[6,71,6,87],[6,88,6,90],[6,91,6,95],[6,97,6,98],[6,99,6,101],[6,102,6,104],[6,105,6,107],[6,108,6,112],[6,113,6,114],[6,115,6,116],[6,117,8,117],[6,118,8,118],[6,119,8,119],[6,120,8,120],[6,121,8,121],[6,122,8,122],[6,134,8,134],[6,135,8,135],[6,136,8,136],[6,137,8,137],[7,1,8,1],[7,2,8,2],[7,3,8,3],[7,4,8,4],[7,5,8,5],[7,6,8,6],[7,7,8,7],[7,8,8,8],[7,9,8,9],[7,10,8,10],[7,11,8,11],[7,12,8,12],[7,13,8,13],[7,14,8,14],[7,15,8,15],[7,16,8,16],[7,17,8,17],[7,18,8,18],[7,19,8,19],[7,21,8,21],[7,22,8,22],[7,23,8,23],[7,24,8,24],[7,25,8,25],[7,26,8,26],[7,27,8,27],[7,28,8,28],[7,29,8,29],[7,30,8,30],[7,31,8,31],[7,32,8,32],[7,33,8,33],[7,34,8,34],[7,35,8,35],[7,36,8,36],[7,37,8,37],[7,38,8,38],[7,39,8,39],[7,40,8,40],[7,41,8,41],[7,42,8,42],[7,43,8,43],[7,44,8,44],[7,45,8,45],[7,46,8,46],[7,47,8,47],[7,48,8,48],[7,49,8,49],[7,50,7,52],[7,56,8,56],[7,57,8,57],[7,58,8,58],[7,59,8,59],[7,60,8,60],[7,61,8,61],[7,62,8,62],[7,63,8,63],[7,64,8,64],[7,67,8,67],[7,68,8,68],[7,69,8,69],[7,70,8,70],[7,71,7,72],[7,73,7,74],[7,75,7,76],[7,77,7,80],[7,82,7,84],[7,85,7,87],[7,88,8,88],[7,89,8,89],[7,90,8,90],[7,91,8,91],[7,92,8,92],[7,93,8,93],[7,94,8,94],[7,95,8,95],[7,96,8,96],[7,97,8,97],[7,98,8,98],[7,99,8,99],[7,100,8,100],[7,101,8,101],[7,102,7,104],[7,105,7,107],[7,108,7,112],[7,113,8,113],[7,114,8,114],[7,115,7,116],[7,123,8,123],[7,124,8,124],[7,125,8,125],[7,126,8,126]]}
[]
[]
[]
[]
[{"$nulls":117},"Мелкая моторика",{"$nulls":5},"КГН",{"$nulls":3},"ЗОЖ",null,null,"Подвижные игры",null,null,"Спорт. игры","Спортивные упражнения"]
[{"$f":"Список!B10","v":0},"Музыкальная деятельность",{"$nulls":10},"Изобразительная деятельность",{"$nulls":8},"Приобщение к искусству",{"$nulls":5},"Конструктивная деятельность",{"$nulls":22},"Сенсорные эталоны ",null,null,"Познавательные действия",null,null,"Математические представления",{"$nulls":8},"Окружающий мир",null,"Природа ",{"$nulls":49},"Координация рук и глаз",null,"Графические навыки",{"$nulls":3},"Навыки соблюдения чистоты тела (правила личной гигиены)","Навыки культуры еды (прием пищи) ","Навыки поддержания порядка (правила поведения в быту) ","Навыки ухода за собой (одевание, раздевание) ","Ребенок имеет представление о факторах, положительно/негативно влияющих на здоровье; владеет основными способами укрепления здоровья","Ребенок имеет представление о некоторых видах спорта (9 и больше), роли спорта для укрепления здоровья","Ребенок проявляет заботливое отношение к своему здоровью и здоровью окружающих","Ребенок проявляет доступный возрасту самоконтроль","Ребенок  способен привлечь внимание других детей и организовать знакомую подвижную игру","Ребенок придумывает новые варианты игр, комбинирует движения","Ребенок имеет представление об элементах спортивных игр (городки, баскетбол, бадминтон, футбол), умеет выполнять некоторые виды движений","Ребенок умеет кататься"]
[null,"Слушание",{"$nulls":3},"Пение ","Музыкально-ритмические движения","Песенное творчество","Игра на детских музыкальных инструментах","Театрализованная деятельность",null,"Танцевально-игровое творчество","Рисование ",null,"Лепка ","Аппликация ","Народное ДПИ",null,"Прикладное творчество",null,"Ребенок самостоятельно определяет замысел рисунка, аппликации, лепки, поделки, создает образы и композиционные изображения, использует разнообразные материалы",{"$nulls":8},"Общее речевое развитие","Формирование словаря",null,"Грамматический строй",{"$nulls":4},"Звуковая культура речи","Связная речь",{"$nulls":5},"ЧХЛ","Подготовка к обучению грамоте",{"$nulls":4},"Цвет, оттенки","Форма, геометрические фигуры","Величина","Ребенок охотно участвует в обсуждении проблемы для совместного нахождения способов ее решения, предлагает пути решения, устанавливает закономерности причинно-следственного характера, проявляет любознательность","Ребенок использует математические знания, способы и средства для познания окружающего мира","Ребенок способен к произвольным умственным действиям, логическим операциям анализа, сравнения, обобщения, систематизации, классификации","Количество и счет",null,null,"Ориентировка во времени","Ориентировка в пространстве","Пространственно-количественные связи и отношения","Сравнение",null,null,"Ребенок имеет представления, может показать на картинке и в естественной среде, может рассказать",null,"Объекты живой природы",null,"Объекты неживой природы, природные явления",null,"Сфера социальных отношений",{"$nulls":16},"Область формирования основ гражданственности и патриотизма",null,null,"Сфера трудового воспитания",{"$nulls":4},"Область формирования основ безопасного поведения","Бросание, катание, ловля, метание",null,"Ползанье, лазанье",null,null,"Ходьба",null,null,"Бег",null,null,"Прыжки",{"$nulls":4},"Равновесие",null,"Строевые упражнения",null,"Ребенок может найти выход из лабиринта","Ребенок может нарисовать простой узор, изображение, не отрывая руки","Ребенок может повторить узор с чередующимися элементами","Ребенок закрашивает контурное изображение с множеством мелких деталей, не выходя за контур","Ребенок может соединить точки для получения изображения","Ребенок рисует геометрический орнамент по клеткам",{"$nulls":11},"на санках","на лыжах","на двухколесном велосипеде","на самокате"]
[null,"Ребенок различает жанры музыкальных произведений (песня, танец, марш)","Ребенок узнает мелодию по отдельным фрагментам произведения (вступление, заключение, музыкальная фраза)","Ребенок различает звуки по высоте в пределах квинты","Ребенок различает звучание музыкальных инструментов (клавишно-ударных, струнных)","Ребенок демонстрирует развитые певческие навыки","Ребенок демонстрирует развитые навыки исполнения танцевальных движений","Ребенок может импровизировать мелодию на заданный текст","Ребенок демонстрирует навыки игры на детских музыкальных инструментах","Ребенок имеет представление о различных видах театрального искусства","Ребенок с удовольствие занимается театрализованной деятельностью","Ребенок может придумывать движения к танцам","Ребенок передает в изображении основные свойства предметов (форма, величина, цвет), характерные детали, соотношение предметов и их частей по величине, высоте, расположению относительно друг друга","Ребенок владеет основными способами и приемами рисования различными изобразительными материалами (цветные карандаши, гуашь, акварель, цветные мелки, пастель, сангина, угольный карандаш, фломастеры)","Ребенок лепит с натуры и по представлению знакомые предметы, передавая характерные особенности пластическим, конструктивным и комбинированным способами","Ребенок умеет пользоваться ножницами","Ребенок имеет представление о полхов-майданской, гжельской росписи","Ребенок может нарисовать узор, используя элементы  росписи","Ребенок умеет работать с бумагой (сгибать лист, сглаживать сгибы, надрезать по сгибам)","Ребенок умеет работать с природным и бросовым материалом",null,"Ребенок умеет выделять, называть, группировать произведения по видам искусства: литература, музыка, изобразительное искусство, архитектура, театр, цирк","Ребенок имеет представление о видах изобразительного искусства: графика, декоративно-прикладное искусство, живопись, скульптура, архитектура, фотоискусство","Ребенок имеет представление о жанрах изобразительного искусства: натюрморт, пейзаж, портрет","Ребенок имеет представление о народном искусстве, фольклоре, музыке и художественных промыслах","Ребенок имеет представление о творческих профессиях: художник, композитор, музыкант, актер, артист балета","Ребенок имеет представление о культурно-досуговых местах: театр, музей, библиотека, выставка, кинотеатр, цирк и др.","Ребенок может провести анализ постройки (выделить основные части и характерные детали конструкций)","Ребенок может выполнить постройку по инструкции","Ребенок внятно разговаривает","Ребенок умеет обобщать предметы в группы по существенным признакам","Ребенок демонстрирует богатый словарный запас","Ребенок правильно использует в речи: несклоняемые существительные","Ребенок правильно использует в речи: слова, имеющие только множественное или только единственное число","Ребенок правильно использует в речи: глаголы одеть-надеть","Ребенок правильно использует в речи: существительные множественного числа в родительном падеже","Ребенок правильно образовывает слова с помощью суффикса, приставки","Ребенок правильно произносит сонорные звуки: л-ль, р-рь","Ребенок пересказывает литературные произведения по ролям, по частям, правильно передавая идею и содержание","Ребенок пользуется прямой и косвенной речью","Ребенок составляет короткий описательный рассказ о предметах, объектах и явлениях природы, из личного опыта","Ребенок сочиняет сюжетные рассказы по картине, из личного опыта","Ребенок проявляет речевое творчество: придумывает продолжение и окончание к рассказу, рассказы по аналогии, по плану педагога, по модели","Ребенок владеет первичными приемами аргументации и доказательства","Ребенок проявляет избирательное отношение к произведениям определенной тематики и жанра","Ребенок понимает термины: слово: звук, буква, предложение, гласный звук, согласный звук","Ребенок может провести звуковой анализ слова, разделить на слоги двух-, трехслоговые слова; составляет схему слова","Ребенок различает гласные-согласные звуки","Ребенок определяет твердые-мягкие согласные","Ребенок составляет предложение по модели, определяет количество и последовательность слов в предложении","Ребенок различает и называет",{"$nulls":5},"Ребенок знает/называет/находит среди других цифры 0 -10","Ребенок выполняет количественный и порядковый счет в пределах 0-10","Ребенок знает состав чисел из единиц в пределах 5","Ребенок понимает календарные единицы времени (сутки, неделя, месяц, год)","Ребенок ориентируется на листе бумаги","Ребенок понимает простейшую графическую информацию об отношениях предметов (слева направо, справа налево, снизу вверх, сверху вниз)","Ребенок выделяет сходства и отличия между группами предметов","Ребенок сравнивает предметы по 3-5 признакам","Ребенок группирует предметы по разным основаниям, преимущественно на основе зрительной оценки",null,null,"Ребенок имеет представление о сходстве и различии во внешнем виде и образе жизни объектов животного и растительного мира в разные сезоны года","Ребенок может сравнивать, группировать объекты живой природы по их особенностям, мету обитания, образу жизни, питанию","Ребенок имеет представление о признаках разных времен года","Ребенок наблюдает за явлениями природы, фиксирует результаты наблюдения","Отношение к самому себе",null,"Отношение к сверстникам",null,"Отношение к взрослым",null,"Эмоции",{"$nulls":3},"Поведение","Семья",null,null,"Игровое поведение",null,null,"Ребенок имеет представление о государственных символах России (герб, гимн, флаг)","Ребенок имеет представление о государственных праздниках России","Ребенок знает/может назвать/показать на картинке и в естественной среде достопримечательности населенного пункта, в котором живет","Ребенок имеет представления о разных видах производительного труда (промышленность, строительство, сельское хозяйство)","Ребенок имеет представления о разных видах обслуживающего труда (сфера досуга и отдыха, сфера культуры, медицина, торговля)","Ребенок имеет представление о структуре трудового процесса (мотив, цель, инструменты, оборудование, содержание действий, выбор трудовых действий, результат)","Ребенок имеет элементарные экономические представления (назначение рекламы, денег)","Ребенок охотно участвует в выполнении трудовых поручений, дежурстве; может распределять трудовые обязанности с другими","Ребенок имеет представления/ соблюдает правила поведения в быту, на улице, в природе, в общении с людьми, с животными","Ребенок выполняет различные упражнения с мячом (прокатывание, передача, перебрасывание, ведение, подбрасывание, ловля, забрасывание)","Ребенок выполняет метание в цель, метание в даль предметов разной массы","Ребенок выполняет ползанье разными способами (на четвереньках, на животе)","Ребенок выполняет переползание через несколько предметов подряд, под дугами, в туннеле","Ребенок выполняет лазанье по гимнастической стенке чередующимся шагом","Ребенок выполняет различные виды ходьбы",null,null,"Ребенок выполняет различные виды бега",null,null,"Ребенок выполняет различные виды прыжков",{"$nulls":4},"Ребенок выполняет стойку на одной ноге ","Ребенок выполняет упражнение \"ласточка\" ","Ребенок выполняет различные виды строевых упражнений",{"$nulls":7},"Ребенок выполняет самостоятельно","Ребенок выполняет самостоятельно","Ребенок выполняет самостоятельно","Ребенок выполняет самостоятельно"]
[{"$nulls":50},"Ребенок называет/различает все цвета спектра и ахроматические цвета, оттенки цвета, тоны цвета, теплые и холодные оттенки","Ребенок владеет способами воссоздания фигуры из частей, деления фигуры на части","Ребенок может выстраивать сериационные ряды предметов, различающихся по размеру в возрастающем и убывающем порядке в пределах 10",{"$nulls":12},"о многообразии людей разных национальностей (особенностей внешнего вида, одежды, традиций)","Ребенок имеет представление о многообразии стран и народов мира",{"$nulls":4},"Ребенок может рассказать о себе, выразить собственные потребности, желания","Ребенок имеет представление о некоторых своих правах","Ребенок имеет предпочтения в общении","Ребенок охотно вступает в общение со сверстниками","Ребенок уважительно относится к взрослым, пожилым людям","Ребенок охотно вступает в общение со взрослыми","Ребенок понимает свои и чужие эмоциональные состояния, демонстрирует примеры эмоциональной поддержки ","Ребенок  откликается на просьбу помочь","Ребенок выразить чувства и эмоции в мимике, пантомимике, действиях, интонации","Ребенок демонстрирует адекватные возрасту способы регуляции эмоциональных состояний","Ребенок ориентируется на общепринятые нормы и правила культуры поведения","Ребенок знает членов своей семьи, ближайших родственников по линии матери и отца","Ребенок имеет представление о способах поддержки родственных связей (переписка, разговор, совместный отдых, традиции, походы в гости и др.)","Ребенок проявляет заботу по отношению к членам своей семьи, оказывает посильную помощь больному члену семьи","Ребенок в совместной деятельности принимает общую цель, договаривается о способах деятельности и материалах, может уступить в конфликтной ситуации","Ребенок проявляет интерес к игровому экспериментированию, развивающим и познавательным играм","Ребенок способен действовать в точном соответствие с игровой задачей и правилами",{"$nulls":14},"обычным шагом, на носках, на пятках, с высоким подниманием колен","приставной, в полуприседе, мелким и широким, перекатом с пятки на носок, гимнастическим","змейкой без ориентиров, в колонне по одному и по два","в колонне по одному, змейкой, с перестроением на ходу в пары, звенья","со сменой ведущих, с пролезанием в обруч, с ловлей и увертыванием, высоко поднимая колени","между расставленными предметами, в заданном темпе, мелким и широким шагом","подпрыгивание, перепрыгивание, спрыгивание","в длину с места","в высоту с разбега","в длину с разбега","со скакалкой",null,null,"построения (по росту, в колонну по одному, в шеренгу, в круг)","в колонну по три, в две шеренги на месте, расхождение из колонны в разные стороны"]
["начало года",{"$f":"'Худ.эст.к 6г ч1. Н.г.'!E18","v":0},{"$f":"'Худ.эст.к 6г ч1. Н.г.'!F18","v":0},{"$f":"'Худ.эст.к 6г ч1. Н.г.'!G18","v":0},{"$f":"'Худ.эст.к 6г ч1. Н.г.'!H18","v":0},{"$f":"'Худ.эст.к 6г ч1. Н.г.'!I18","v":0},{"$f":"'Худ.эст.к 6г ч1. Н.г.'!J18","v":0},{"$f":"'Худ.эст.к 6г ч1. Н.г.'!K18","v":0},{"$f":"'Худ.эст.к 6г ч1. Н.г.'!L18","v":0},{"$f":"'Худ.эст.к 6г ч1. Н.г.'!M18","v":0},{"$f":"'Худ.эст.к 6г ч1. Н.г.'!N18","v":0},{"$f":"'Худ.эст.к 6г ч1. Н.г.'!O18","v":0},{"$f":"'Худ.эст.к 6г ч2. Н.г.'!E18","v":0},{"$f":"'Худ.эст.к 6г ч2. Н.г.'!F18","v":0},{"$f":"'Худ.эст.к 6г ч2. Н.г.'!G18","v":0},{"$f":"'Худ.эст.к 6г ч2. Н.г.'!H18","v":0},{"$f":"'Худ.эст.к 6г ч2. Н.г.'!I18","v":0},{"$f":"'Худ.эст.к 6г ч2. Н.г.'!J18","v":0},{"$f":"'Худ.эст.к 6г ч2. Н.г.'!K18","v":0},{"$f":"'Худ.эст.к 6г ч2. Н.г.'!L18","v":0},{"$f":"'Худ.эст.к 6г ч2. Н.г.'!M18","v":0},{"$f":"'Худ.эст.к 6г ч3. Н.г.'!E18","v":0},{"$f":"'Худ.эст.к 6г ч3. Н.г.'!F18","v":0},{"$f":"'Худ.эст.к 6г ч3. Н.г.'!G18","v":0},{"$f":"'Худ.эст.к 6г ч3. Н.г.'!H18","v":0},{"$f":"'Худ.эст.к 6г ч3. Н.г.'!I18","v":0},{"$f":"'Худ.эст.к 6г ч3. Н.г.'!J18","v":0},{"$f":"'Худ.эст.к 6г ч3. Н.г.'!K18","v":0},{"$f":"'Худ.эст.к 6г ч3. Н.г.'!L18","v":0},{"$f":"'Реч.разв.к 6г ч1. Н.г.'!E17","v":0},{"$f":"'Реч.разв.к 6г ч1. Н.г.'!F17","v":0},{"$f":"'Реч.разв.к 6г ч1. Н.г.'!G17","v":0},{"$f":"'Реч.разв.к 6г ч1. Н.г.'!H17","v":0},{"$f":"'Реч.разв.к 6г ч1. Н.г.'!I17","v":0},{"$f":"'Реч.разв.к 6г ч1. Н.г.'!J17","v":0},{"$f":"'Реч.разв.к 6г ч1. Н.г.'!K17","v":0},{"$f":"'Реч.разв.к 6г ч1. Н.г.'!L17","v":0},{"$f":"'Реч.разв.к 6г ч2. Н.г.'!E17","v":0},{"$f":"'Реч.разв.к 6г ч2. Н.г.'!F17","v":0},{"$f":"'Реч.разв.к 6г ч2. Н.г.'!G17","v":0},{"$f":"'Реч.разв.к 6г ч2. Н.г.'!H17","v":0},{"$f":"'Реч.разв.к 6г ч2. Н.г.'!I17","v":0},{"$f":"'Реч.разв.к 6г ч2. Н.г.'!J17","v":0},{"$f":"'Реч.разв.к 6г ч2. Н.г.'!K17","v":0},{"$f":"'Реч.разв.к 6г ч2. Н.г.'!L17","v":0},{"$f":"'Реч.разв.к 6г ч2. Н.г.'!M17","v":0},{"$f":"'Реч.разв.к 6г ч2. Н.г.'!N17","v":0},{"$f":"'Реч.разв.к 6г ч2. Н.г.'!O17","v":0},{"$f":"'Реч.разв.к 6г ч2. Н.г.'!P17","v":0},{"$f":"'Реч.разв.к 6г ч2. Н.г.'!Q17","v":0},{"$f":"'Позн.разв. к 6г ч1. Н.г.'!E18","v":0},{"$f":"'Позн.разв. к 6г ч1. Н.г.'!F18","v":0},{"$f":"'Позн.разв. к 6г ч1. Н.г.'!G18","v":0},{"$f":"'Позн.разв. к 6г ч1. Н.г.'!H18","v":0},{"$f":"'Позн.разв. к 6г ч1. Н.г.'!I18","v":0},{"$f":"'Позн.разв. к 6г ч1. Н.г.'!J18","v":0},{"$f":"'Позн.разв. к 6г ч1. Н.г.'!K18","v":0},{"$f":"'Позн.разв. к 6г ч1. Н.г.'!L18","v":0},{"$f":"'Позн.разв. к 6г ч1. Н.г.'!M18","v":0},{"$f":"'Позн.разв. к 6г ч1. Н.г.'!N18","v":0},{"$f":"'Позн.разв. к 6г ч1. Н.г.'!O18","v":0},{"$f":"'Позн.разв. к 6г ч1. Н.г.'!P18","v":0},{"$f":"'Позн.разв. к 6г ч1. Н.г.'!Q18","v":0},{"$f":"'Позн.разв. к 6г ч1. Н.г.'!R18","v":0},{"$f":"'Позн.разв. к 6г ч1. Н.г.'!S18","v":0},{"$f":"'Позн.разв. к 6г ч2. Н.г.'!E18","v":0},{"$f":"'Позн.разв. к 6г ч2. Н.г.'!F18","v":0},{"$f":"'Позн.разв. к 6г ч2. Н.г.'!G18","v":0},{"$f":"'Позн.разв. к 6г ч2. Н.г.'!H18","v":0},{"$f":"'Позн.разв. к 6г ч2. Н.г.'!I18","v":0},{"$f":"'Позн.разв. к 6г ч2. Н.г.'!J18","v":0},{"$f":"'Соц.ком.к 6г ч1. Н.г.'!E17","v":0},{"$f":"'Соц.ком.к 6г ч1. Н.г.'!F17","v":0},{"$f":"'Соц.ком.к 6г ч1. Н.г.'!G17","v":0},{"$f":"'Соц.ком.к 6г ч1. Н.г.'!H17","v":0},{"$f":"'Соц.ком.к 6г ч1. Н.г.'!I17","v":0},{"$f":"'Соц.ком.к 6г ч1. Н.г.'!J17","v":0},{"$f":"'Соц.ком.к 6г ч1. Н.г.'!K17","v":0},{"$f":"'Соц.ком.к 6г ч1. Н.г.'!L17","v":0},{"$f":"'Соц.ком.к 6г ч1. Н.г.'!M17","v":0},{"$f":"'Соц.ком.к 6г ч1. Н.г.'!N17","v":0},{"$f":"'Соц.ком.к 6г ч1. Н.г.'!O17","v":0},{"$f":"'Соц.ком.к 6г ч1. Н.г.'!P17","v":0},{"$f":"'Соц.ком.к 6г ч1. Н.г.'!Q17","v":0},{"$f":"'Соц.ком.к 6г ч1. Н.г.'!R17","v":0},{"$f":"'Соц.ком.к 6г ч1. Н.г.'!S17","v":0},{"$f":"'Соц.ком.к 6г ч1. Н.г.'!T17","v":0},{"$f":"'Соц.ком.к 6г ч1. Н.г.'!U17","v":0},{"$f":"'Соц.ком. к 6г ч2. Н.г.'!E17","v":0},{"$f":"'Соц.ком. к 6г ч2. Н.г.'!F17","v":0},{"$f":"'Соц.ком. к 6г ч2. Н.г.'!G17","v":0},{"$f":"'Соц.ком. к 6г ч2. Н.г.'!H17","v":0},{"$f":"'Соц.ком. к 6г ч2. Н.г.'!I17","v":0},{"$f":"'Соц.ком. к 6г ч2. Н.г.'!J17","v":0},{"$f":"'Соц.ком. к 6г ч2. Н.г.'!K17","v":0},{"$f":"'Соц.ком. к 6г ч2. Н.г.'!L17","v":0},{"$f":"'Соц.ком. к 6г ч2. Н.г.'!M17","v":0},{"$f":"'Физ.разв. к 6г ч1. Н.г.'!E18","v":0},{"$f":"'Физ.разв. к 6г ч1. Н.г.'!F18","v":0},{"$f":"'Физ.разв. к 6г ч1. Н.г.'!G18","v":0},{"$f":"'Физ.разв. к 6г ч1. Н.г.'!H18","v":0},{"$f":"'Физ.разв. к 6г ч1. Н.г.'!I18","v":0},{"$f":"'Физ.разв. к 6г ч1. Н.г.'!J18","v":0},{"$f":"'Физ.разв. к 6г ч1. Н.г.'!K18","v":0},{"$f":"'Физ.разв. к 6г ч1. Н.г.'!L18","v":0},{"$f":"'Физ.разв. к 6г ч1. Н.г.'!M18","v":0},{"$f":"'Физ.разв. к 6г ч1. Н.г.'!N18","v":0},{"$f":"'Физ.разв. к 6г ч1. Н.г.'!O18","v":0},{"$f":"'Физ.разв. к 6г ч1. Н.г.'!P18","v":0},{"$f":"'Физ.разв. к 6г ч1. Н.г.'!Q18","v":0},{"$f":"'Физ.разв. к 6г ч1. Н.г.'!R18","v":0},{"$f":"'Физ.разв. к 6г ч1. Н.г.'!S18","v":0},{"$f":"'Физ.разв. к 6г ч1. Н.г.'!T18","v":0},{"$f":"'Физ.разв. к 6г ч1. Н.г.'!U18","v":0},{"$f":"'Физ.разв. к 6г ч1. Н.г.'!V18","v":0},{"$f":"'Физ.разв. к 6г ч1. Н.г.'!W18","v":0},{"$f":"'Физ.разв. к 6г ч1. Н.г.'!X18","v":0},{"$f":"'Физ.разв. к 6г ч2. Н.г.'!E19","v":0},{"$f":"'Физ.разв. к 6г ч2. Н.г.'!F19","v":0},{"$f":"'Физ.разв. к 6г ч2. Н.г.'!G19","v":0},{"$f":"'Физ.разв. к 6г ч2. Н.г.'!H19","v":0},{"$f":"'Физ.разв. к 6г ч2. Н.г.'!I19","v":0},{"$f":"'Физ.разв. к 6г ч2. Н.г.'!J19","v":0},{"$f":"'Физ.разв. к 6г ч2. Н.г.'!K19","v":0},{"$f":"'Физ.разв. к 6г ч2. Н.г.'!L19","v":0},{"$f":"'Физ.разв. к 6г ч2. Н.г.'!M19","v":0},{"$f":"'Физ.разв. к 6г ч2. Н.г.'!N19","v":0},{"$f":"'Физ.разв. к 6г ч2. Н.г.'!O19","v":0},{"$f":"'Физ.разв. к 6г ч2. Н.г.'!P19","v":0},{"$f":"'Физ.разв. к 6г ч2. Н.г.'!Q19","v":0},{"$f":"'Физ.разв. к 6г ч2. Н.г.'!R19","v":0},{"$f":"'Физ.разв. к 6г ч2. Н.г.'!S19","v":0},{"$f":"'Физ.разв. к 6г ч2. Н.г.'!T19","v":0},{"$f":"'Физ.разв. к 6г ч2. Н.г.'!U19","v":0},{"$f":"'Физ.разв. к 6г ч2. Н.г.'!V19","v":0},{"$f":"'Физ.разв. к 6г ч2. Н.г.'!W19","v":0},{"$f":"'Физ.разв. к 6г ч2. Н.г.'!X19","v":0},{"$f":"'Физ.разв. к 6г ч2. Н.г.'!Y19","v":0}]
["конец года",{"$f":"'Худ.эст.к 6г ч1. К.г. '!E18","v":0},{"$f":"'Худ.эст.к 6г ч1. К.г. '!F18","v":0},{"$f":"'Худ.эст.к 6г ч1. К.г. '!G18","v":0},{"$f":"'Худ.эст.к 6г ч1. К.г. '!H18","v":0},{"$f":"'Худ.эст.к 6г ч1. К.г. '!I18","v":0},{"$f":"'Худ.эст.к 6г ч1. К.г. '!J18","v":0},{"$f":"'Худ.эст.к 6г ч1. К.г. '!K18","v":0},{"$f":"'Худ.эст.к 6г ч1. К.г. '!L18","v":0},{"$f":"'Худ.эст.к 6г ч1. К.г. '!M18","v":0},{"$f":"'Худ.эст.к 6г ч1. К.г. '!N18","v":0},{"$f":"'Худ.эст.к 6г ч1. К.г. '!O18","v":0},{"$f":"'Худ.эст.к 6г ч2. К.г. '!E18","v":0},{"$f":"'Худ.эст.к 6г ч2. К.г. '!F18","v":0},{"$f":"'Худ.эст.к 6г ч2. К.г. '!G18","v":0},{"$f":"'Худ.эст.к 6г ч2. К.г. '!H18","v":0},{"$f":"'Худ.эст.к 6г ч2. К.г. '!I18","v":0},{"$f":"'Худ.эст.к 6г ч2. К.г. '!J18","v":0},{"$f":"'Худ.эст.к 6г ч2. К.г. '!K18","v":0},{"$f":"'Худ.эст.к 6г ч2. К.г. '!L18","v":0},{"$f":"'Худ.эст.к 6г ч2. К.г. '!M18","v":0},{"$f":"'Худ.эст.к 6г ч3. К.г. '!E18","v":0},{"$f":"'Худ.эст.к 6г ч3. К.г. '!F18","v":0},{"$f":"'Худ.эст.к 6г ч3. К.г. '!G18","v":0},{"$f":"'Худ.эст.к 6г ч3. К.г. '!H18","v":0},{"$f":"'Худ.эст.к 6г ч3. К.г. '!I18","v":0},{"$f":"'Худ.эст.к 6г ч3. К.г. '!J18","v":0},{"$f":"'Худ.эст.к 6г ч3. К.г. '!K18","v":0},{"$f":"'Худ.эст.к 6г ч3. К.г. '!L18","v":0},{"$f":"'Реч.разв.к 6г ч1. К.г. '!E17","v":0},{"$f":"'Реч.разв.к 6г ч1. К.г. '!F17","v":0},{"$f":"'Реч.разв.к 6г ч1. К.г. '!G17","v":0},{"$f":"'Реч.разв.к 6г ч1. К.г. '!H17","v":0},{"$f":"'Реч.разв.к 6г ч1. К.г. '!I17","v":0},{"$f":"'Реч.разв.к 6г ч1. К.г. '!J17","v":0},{"$f":"'Реч.разв.к 6г ч1. К.г. '!K17","v":0},{"$f":"'Реч.разв.к 6г ч1. К.г. '!L17","v":0},{"$f":"'Реч.разв.к 6г ч2. К.г. '!E17","v":0},{"$f":"'Реч.разв.к 6г ч2. К.г. '!F17","v":0},{"$f":"'Реч.разв.к 6г ч2. К.г. '!G17","v":0},{"$f":"'Реч.разв.к 6г ч2. К.г. '!H17","v":0},{"$f":"'Реч.разв.к 6г ч2. К.г. '!I17","v":0},{"$f":"'Реч.разв.к 6г ч2. К.г. '!J17","v":0},{"$f":"'Реч.разв.к 6г ч2. К.г. '!K17","v":0},{"$f":"'Реч.разв.к 6г ч2. К.г. '!L17","v":0},{"$f":"'Реч.разв.к 6г ч2. К.г. '!M17","v":0},{"$f":"'Реч.разв.к 6г ч2. К.г. '!N17","v":0},{"$f":"'Реч.разв.к 6г ч2. К.г. '!O17","v":0},{"$f":"'Реч.разв.к 6г ч2. К.г. '!P17","v":0},{"$f":"'Реч.разв.к 6г ч2. К.г. '!Q17","v":0},{"$f":"'Позн.разв. к 6г ч1. К.г. '!E18","v":0},{"$f":"'Позн.разв. к 6г ч1. К.г. '!F18","v":0},{"$f":"'Позн.разв. к 6г ч1. К.г. '!G18","v":0},{"$f":"'Позн.разв. к 6г ч1. К.г. '!H18","v":0},{"$f":"'Позн.разв. к 6г ч1. К.г. '!I18","v":0},{"$f":"'Позн.разв. к 6г ч1. К.г. '!J18","v":0},{"$f":"'Позн.разв. к 6г ч1. К.г. '!K18","v":0},{"$f":"'Позн.разв. к 6г ч1. К.г. '!L18","v":0},{"$f":"'Позн.разв. к 6г ч1. К.г. '!M18","v":0},{"$f":"'Позн.разв. к 6г ч1. К.г. '!N18","v":0},{"$f":"'Позн.разв. к 6г ч1. К.г. '!O18","v":0},{"$f":"'Позн.разв. к 6г ч1. К.г. '!P18","v":0},{"$f":"'Позн.разв. к 6г ч1. К.г. '!Q18","v":0},{"$f":"'Позн.разв. к 6г ч1. К.г. '!R18","v":0},{"$f":"'Позн.разв. к 6г ч1. К.г. '!S18","v":0},{"$f":"'Позн.разв. к 6г ч2. К.г. '!E18","v":0},{"$f":"'Позн.разв. к 6г ч2. К.г. '!F18","v":0},{"$f":"'Позн.разв. к 6г ч2. К.г. '!G18","v":0},{"$f":"'Позн.разв. к 6г ч2. К.г. '!H18","v":0},{"$f":"'Позн.разв. к 6г ч2. К.г. '!I18","v":0},{"$f":"'Позн.разв. к 6г ч2. К.г. '!J18","v":0},{"$f":"'Соц.ком.к 6г ч1. К.г. '!$E$17","v":0},{"$f":"'Соц.ком.к 6г ч1. К.г. '!$E$17","v":0},{"$f":"'Соц.ком.к 6г ч1. К.г. '!$E$17","v":0},{"$f":"'Соц.ком.к 6г ч1. К.г. '!$E$17","v":0},{"$f":"'Соц.ком.к 6г ч1. К.г. '!$E$17","v":0},{"$f":"'Соц.ком.к 6г ч1. К.г. '!$E$17","v":0},{"$f":"'Соц.ком.к 6г ч1. К.г. '!$E$17","v":0},{"$f":"'Соц.ком.к 6г ч1. К.г. '!$E$17","v":0},{"$f":"'Соц.ком.к 6г ч1. К.г. '!$E$17","v":0},{"$f":"'Соц.ком.к 6г ч1. К.г. '!$E$17","v":0},{"$f":"'Соц.ком.к 6г ч1. К.г. '!$E$17","v":0},{"$f":"'Соц.ком.к 6г ч1. К.г. '!$E$17","v":0},{"$f":"'Соц.ком.к 6г ч1. К.г. '!$E$17","v":0},{"$f":"'Соц.ком.к 6г ч1. К.г. '!$E$17","v":0},{"$f":"'Соц.ком.к 6г ч1. К.г. '!$E$17","v":0},{"$f":"'Соц.ком.к 6г ч1. К.г. '!$E$17","v":0},{"$f":"'Соц.ком.к 6г ч1. К.г. '!$E$17","v":0},{"$f":"'Соц.ком. к 6г ч2 К.г.'!E17","v":0},{"$f":"'Соц.ком. к 6г ч2 К.г.'!F17","v":0},{"$f":"'Соц.ком. к 6г ч2 К.г.'!G17","v":0},{"$f":"'Соц.ком. к 6г ч2 К.г.'!H17","v":0},{"$f":"'Соц.ком. к 6г ч2 К.г.'!I17","v":0},{"$f":"'Соц.ком. к 6г ч2 К.г.'!J17","v":0},{"$f":"'Соц.ком. к 6г ч2 К.г.'!K17","v":0},{"$f":"'Соц.ком. к 6г ч2 К.г.'!L17","v":0},{"$f":"'Соц.ком. к 6г ч2 К.г.'!M17","v":0},{"$f":"'Физ.разв. к 6г ч1. К.г. '!E18","v":0},{"$f":"'Физ.разв. к 6г ч1. К.г. '!F18","v":0},{"$f":"'Физ.разв. к 6г ч1. К.г. '!G18","v":0},{"$f":"'Физ.разв. к 6г ч1. К.г. '!H18","v":0},{"$f":"'Физ.разв. к 6г ч1. К.г. '!I18","v":0},{"$f":"'Физ.разв. к 6г ч1. К.г. '!J18","v":0},{"$f":"'Физ.разв. к 6г ч1. К.г. '!K18","v":0},{"$f":"'Физ.разв. к 6г ч1. К.г. '!L18","v":0},{"$f":"'Физ.разв. к 6г ч1. К.г. '!M18","v":0},{"$f":"'Физ.разв. к 6г ч1. К.г. '!N18","v":0},{"$f":"'Физ.разв. к 6г ч1. К.г. '!O18","v":0},{"$f":"'Физ.разв. к 6г ч1. К.г. '!P18","v":0},{"$f":"'Физ.разв. к 6г ч1. К.г. '!Q18","v":0},{"$f":"'Физ.разв. к 6г ч1. К.г. '!R18","v":0},{"$f":"'Физ.разв. к 6г ч1. К.г. '!S18","v":0},{"$f":"'Физ.разв. к 6г ч1. К.г. '!T18","v":0},{"$f":"'Физ.разв. к 6г ч1. К.г. '!U18","v":0},{"$f":"'Физ.разв. к 6г ч1. К.г. '!V18","v":0},{"$f":"'Физ.разв. к 6г ч1. К.г. '!W18","v":0},{"$f":"'Физ.разв. к 6г ч1. К.г. '!X18","v":0},{"$f":"'Физ.разв. к 6г ч2. К.г. '!E19","v":0},{"$f":"'Физ.разв. к 6г ч2. К.г. '!F19","v":0},{"$f":"'Физ.разв. к 6г ч2. К.г. '!G19","v":0},{"$f":"'Физ.разв. к 6г ч2. К.г. '!H19","v":0},{"$f":"'Физ.разв. к 6г ч2. К.г. '!I19","v":0},{"$f":"'Физ.разв. к 6г ч2. К.г. '!J19","v":0},{"$f":"'Физ.разв. к 6г ч2. К.г. '!K19","v":0},{"$f":"'Физ.разв. к 6г ч2. К.г. '!L19","v":0},{"$f":"'Физ.разв. к 6г ч2. К.г. '!M19","v":0},{"$f":"'Физ.разв. к 6г ч2. К.г. '!N19","v":0},{"$f":"'Физ.разв. к 6г ч2. К.г. '!O19","v":0},{"$f":"'Физ.разв. к 6г ч2. К.г. '!P19","v":0},{"$f":"'Физ.разв. к 6г ч2. К.г. '!Q19","v":0},{"$f":"'Физ.разв. к 6г ч2. К.г. '!R19","v":0},{"$f":"'Физ.разв. к 6г ч2. К.г. '!S19","v":0},{"$f":"'Физ.разв. к 6г ч2. К.г. '!T19","v":0},{"$f":"'Физ.разв. к 6г ч2. К.г. '!U19","v":0},{"$f":"'Физ.разв. к 6г ч2. К.г. '!V19","v":0},{"$f":"'Физ.разв. к 6г ч2. К.г. '!W19","v":0},{"$f":"'Физ.разв. к 6г ч2. К.г. '!X19","v":0},{"$f":"'Физ.разв. к 6г ч2. К.г. '!Y19","v":0}]

{"sheet":"8","index":35,"n_rows":11,"n_cols":138,"rows_kept":11,"merged":[[4,117,4,122],[4,123,4,126],[4,127,4,129],[4,130,4,132],[4,134,4,137],[5,0,8,0],[5,1,5,11],[5,12,5,19],[5,21,6,26],[5,27,6,28],[5,50,5,52],[5,53,5,55],[5,56,5,64],[5,65,5,66],[5,67,5,70],[5,117,5,118],[5,119,5,122],[5,123,6,123],[5,124,6,124],[5,125,6,125],[5,126,6,126],[5,127,8,127],[5,128,8,128],[5,129,8,129],[5,130,8,130],[5,131,8,131],[5,132,8,132],[5,133,8,133],[5,134,5,137],[6,1,6,4],[6,9,6,10],[6,12,6,13],[6,16,6,17],[6,18,6,19],[6,20,8,20],[6,30,6,31],[6,32,6,36],[6,38,6,43],[6,45,6,49],[6,53,8,53],[6,54,8,54],[6,55,8,55],[6,56,6,58],[6,62,6,64],[6,65,7,66],[6,67,6,68],[6,69,6,70],[6,71,6,87],[6,88,6,90],[6,91,6,95],[6,97,6,98],[6,99,6,101],[6,102,6,104],[6,105,6,107],[6,108,6,112],[6,113,6,114],[6,115,6,116],[6,117,8,117],[6,118,8,118],[6,119,8,119],[6,120,8,120],[6,121,8,121],[6,122,8,122],[6,134,8,134],[6,135,8,135],[6,136,8,136],[6,137,8,137],[7,1,8,1],[7,2,8,2],[7,3,8,3],[7,4,8,4],[7,5,8,5],[7,6,8,6],[7,7,8,7],[7,8,8,8],[7,9,8,9],[7,10,8,10],[7,11,8,11],[7,12,8,12],[7,13,8,13],[7,14,8,14],[7,15,8,15],[7,16,8,16],[7,17,8,17],[7,18,8,18],[7,19,8,19],[7,21,8,21],[7,22,8,22],[7,23,8,23],[7,24,8,24],[7,25,8,25],[7,26,8,26],[7,27,8,27],[7,28,8,28],[7,29,8,29],[7,30,8,30],[7,31,8,31],[7,32,8,32],[7,33,8,33],[7,34,8,34],[7,35,8,35],[7,36,8,36],[7,37,8,37],[7,38,8,38],[7,39,8,39],[7,40,8,40],[7,41,8,41],[7,42,8,42],[7,43,8,43],[7,44,8,44],[7,45,8,45],[7,46,8,46],[7,47,8,47],[7,48,8,48],[7,49,8,49],[7,50,7,52],[7,56,8,56],[7,57,8,57],[7,58,8,58],[7,59,8,59],[7,60,8,60],[7,61,8,61],[7,62,8,62],[7,63,8,63],[7,64,8,64],[7,67,8,67],[7,68,8,68],[7,69,8,69],[7,70,8,70],[7,71,7,72],[7,73,7,74],[7,75,7,76],[7,77,7,80],[7,82,7,84],[7,85,7,87],[7,88,8,88],[7,89,8,89],[7,90,8,90],[7,91,8,91],[7,92,8,92],[7,93,8,93],[7,94,8,94],[7,95,8,95],[7,96,8,96],[7,97,8,97],[7,98,8,98],[7,99,8,99],[7,100,8,100],[7,101,8,101],[7,102,7,104],[7,105,7,107],[7,108,7,112],[7,113,8,113],[7,114,8,114],[7,115,7,116],[7,123,8,123],[7,124,8,124],[7,125,8,125],[7,126,8,126]]}
[]
[]
[]
[]
[{"$nulls":117},"Мелкая моторика",{"$nulls":5},"КГН",{"$nulls":3},"ЗОЖ",null,null,"Подвижные игры",null,null,"Спорт. игры","Спортивные упражнения"]
[{"$f":"Список!B11","v":0},"Музыкальная деятельность",{"$nulls":10},"Изобразительная деятельность",{"$nulls":8},"Приобщение к искусству",{"$nulls":5},"Конструктивная деятельность",{"$nulls":22},"Сенсорные эталоны ",null,null,"Познавательные действия",null,null,"Математические представления",{"$nulls":8},"Окружающий мир",null,"Природа ",{"$nulls":49},"Координация рук и глаз",null,"Графические навыки",{"$nulls":3},"Навыки соблюдения чистоты тела (правила личной гигиены)","Навыки культуры еды (прием пищи) ","Навыки поддержания порядка (правила поведения в быту) ","Навыки ухода за собой (одевание, раздевание) ","Ребенок имеет представление о факторах, положительно/негативно влияющих на здоровье; владеет основными способами укрепления здоровья","Ребенок имеет представление о некоторых видах спорта (9 и больше), роли спорта для укрепления здоровья","Ребенок проявляет заботливое отношение к своему здоровью и здоровью окружающих","Ребенок проявляет доступный возрасту самоконтроль","Ребенок  способен привлечь внимание других детей и организовать знакомую подвижную игру","Ребенок придумывает новые варианты игр, комбинирует движения","Ребенок имеет представление об элементах спортивных игр (городки, баскетбол, бадминтон, футбол), умеет выполнять некоторые виды движений","Ребенок умеет кататься"]
[null,"Слушание",{"$nulls":3},"Пение ","Музыкально-ритмические движения","Песенное творчество","Игра на детских музыкальных инструментах","Театрализованная деятельность",null,"Танцевально-игровое творчество","Рисование ",null,"Лепка ","Аппликация ","Народное ДПИ",null,"Прикладное творчество",null,"Ребенок самостоятельно определяет замысел рисунка, аппликации, лепки, поделки, создает образы и композиционные изображения, использует разнообразные материалы",{"$nulls":8},"Общее речевое развитие","Формирование словаря",null,"Грамматический строй",{"$nulls":4},"Звуковая культура речи","Связная речь",{"$nulls":5},"ЧХЛ","Подготовка к обучению грамоте",{"$nulls":4},"Цвет, оттенки","Форма, геометрические фигуры","Величина","Ребенок охотно участвует в обсуждении проблемы для совместного нахождения способов ее решения, предлагает пути решения, устанавливает закономерности причинно-следственного характера, проявляет любознательность","Ребенок использует математические знания, способы и средства для познания окружающего мира","Ребенок способен к произвольным умственным действиям, логическим операциям анализа, сравнения, обобщения, систематизации, классификации","Количество и счет",null,null,"Ориентировка во времени","Ориентировка в пространстве","Пространственно-количественные связи и отношения","Сравнение",null,null,"Ребенок имеет представления, может показать на картинке и в естественной среде, может рассказать",null,"Объекты живой природы",null,"Объекты неживой природы, природные явления",null,"Сфера социальных отношений",{"$nulls":16},"Область формирования основ гражданственности и патриотизма",null,null,"Сфера трудового воспитания",{"$nulls":4},"Область формирования основ безопасного поведения","Бросание, катание, ловля, метание",null,"Ползанье, лазанье",null,null,"Ходьба",null,null,"Бег",null,null,"Прыжки",{"$nulls":4},"Равновесие",null,"Строевые упражнения",null,"Ребенок может найти выход из лабиринта","Ребенок может нарисовать простой узор, изображение, не отрывая руки","Ребенок может повторить узор с чередующимися элементами","Ребенок закрашивает контурное изображение с множеством мелких деталей, не выходя за контур","Ребенок может соединить точки для получения изображения","Ребенок рисует геометрический орнамент по клеткам",{"$nulls":11},"на санках","на лыжах","на двухколесном велосипеде","на самокате"]
[null,"Ребенок различает жанры музыкальных произведений (песня, танец, марш)","Ребенок узнает мелодию по отдельным фрагментам произведения (вступление, заключение, музыкальная фраза)","Ребенок различает звуки по высоте в пределах квинты","Ребенок различает звучание музыкальных инструментов (клавишно-ударных, струнных)","Ребенок демонстрирует развитые певческие навыки","Ребенок демонстрирует развитые навыки исполнения танцевальных движений","Ребенок может импровизировать мелодию на заданный текст","Ребенок демонстрирует навыки игры на детских музыкальных инструментах","Ребенок имеет представление о различных видах театрального искусства","Ребенок с удовольствие занимается театрализованной деятельностью","Ребенок может придумывать движения к танцам","Ребенок передает в изображении основные свойства предметов (форма, величина, цвет), характерные детали, соотношение предметов и их частей по величине, высоте, расположению относительно друг друга","Ребенок владеет основными способами и приемами рисования различными изобразительными материалами (цветные карандаши, гуашь, акварель, цветные мелки, пастель, сангина, угольный карандаш, фломастеры)","Ребенок лепит с натуры и по представлению знакомые предметы, передавая характерные особенности пластическим, конструктивным и комбинированным способами","Ребенок умеет пользоваться ножницами","Ребенок имеет представление о полхов-майданской, гжельской росписи","Ребенок может нарисовать узор, используя элементы  росписи","Ребенок умеет работать с бумагой (сгибать лист, сглаживать сгибы, надрезать по сгибам)","Ребенок умеет работать с природным и бросовым материалом",null,"Ребенок умеет выделять, называть, группировать произведения по видам искусства: литература, музыка, изобразительное искусство, архитектура, театр, цирк","Ребенок имеет представление о видах изобразительного искусства: графика, декоративно-прикладное искусство, живопись, скульптура, архитектура, фотоискусство","Ребенок имеет представление о жанрах изобразительного искусства: натюрморт, пейзаж, портрет","Ребенок имеет представление о народном искусстве, фольклоре, музыке и художественных промыслах","Ребенок имеет представление о творческих профессиях: художник, композитор, музыкант, актер, артист балета","Ребенок имеет представление о культурно-досуговых местах: театр, музей, библиотека, выставка, кинотеатр, цирк и др.","Ребенок может провести анализ постройки (выделить основные части и характерные детали конструкций)","Ребенок может выполнить постройку по инструкции","Ребенок внятно разговаривает","Ребенок умеет обобщать предметы в группы по существенным признакам","Ребенок демонстрирует богатый словарный запас","Ребенок правильно использует в речи: несклоняемые существительные","Ребенок правильно использует в речи: слова, имеющие только множественное или только единственное число","Ребенок правильно использует в речи: глаголы одеть-надеть","Ребенок правильно использует в речи: существительные множественного числа в родительном падеже","Ребенок правильно образовывает слова с помощью суффикса, приставки","Ребенок правильно произносит сонорные звуки: л-ль, р-рь","Ребенок пересказывает литературные произведения по ролям, по частям, правильно передавая идею и содержание","Ребенок пользуется прямой и косвенной речью","Ребенок составляет короткий описательный рассказ о предметах, объектах и явлениях природы, из личного опыта","Ребенок сочиняет сюжетные рассказы по картине, из личного опыта","Ребенок проявляет речевое творчество: придумывает продолжение и окончание к рассказу, рассказы по аналогии, по плану педагога, по модели","Ребенок владеет первичными приемами аргументации и доказательства","Ребенок проявляет избирательное отношение к произведениям определенной тематики и жанра","Ребенок понимает термины: слово: звук, буква, предложение, гласный звук, согласный звук","Ребенок может провести звуковой анализ слова, разделить на слоги двух-, трехслоговые слова; составляет схему слова","Ребенок различает гласные-согласные звуки","Ребенок определяет твердые-мягкие согласные","Ребенок составляет предложение по модели, определяет количество и последовательность слов в предложении","Ребенок различает и называет",{"$nulls":5},"Ребенок знает/называет/находит среди других цифры 0 -10","Ребенок выполняет количественный и порядковый счет в пределах 0-10","Ребенок знает состав чисел из единиц в пределах 5","Ребенок понимает календарные единицы времени (сутки, неделя, месяц, год)","Ребенок ориентируется на листе бумаги","Ребенок понимает простейшую графическую информацию об отношениях предметов (слева направо, справа налево, снизу вверх, сверху вниз)","Ребенок выделяет сходства и отличия между группами предметов","Ребенок сравнивает предметы по 3-5 признакам","Ребенок группирует предметы по разным основаниям, преимущественно на основе зрительной оценки",null,null,"Ребенок имеет представление о сходстве и различии во внешнем виде и образе жизни объектов животного и растительного мира в разные сезоны года","Ребенок может сравнивать, группировать объекты живой природы по их особенностям, мету обитания, образу жизни, питанию","Ребенок имеет представление о признаках разных времен года","Ребенок наблюдает за явлениями природы, фиксирует результаты наблюдения","Отношение к самому себе",null,"Отношение к сверстникам",null,"Отношение к взрослым",null,"Эмоции",{"$nulls":3},"Поведение","Семья",null,null,"Игровое поведение",null,null,"Ребенок имеет представление о государственных символах России (герб, гимн, флаг)","Ребенок имеет представление о государственных праздниках России","Ребенок знает/может назвать/показать на картинке и в естественной среде достопримечательности населенного пункта, в котором живет","Ребенок имеет представления о разных видах производительного труда (промышленность, строительство, сельское хозяйство)","Ребенок имеет представления о разных видах обслуживающего труда (сфера досуга и отдыха, сфера культуры, медицина, торговля)","Ребенок имеет представление о структуре трудового процесса (мотив, цель, инструменты, оборудование, содержание действий, выбор трудовых действий, результат)","Ребенок имеет элементарные экономические представления (назначение рекламы, денег)","Ребенок охотно участвует в выполнении трудовых поручений, дежурстве; может распределять трудовые обязанности с другими","Ребенок имеет представления/ соблюдает правила поведения в быту, на улице, в природе, в общении с людьми, с животными","Ребенок выполняет различные упражнения с мячом (прокатывание, передача, перебрасывание, ведение, подбрасывание, ловля, забрасывание)","Ребенок выполняет метание в цель, метание в даль предметов разной массы","Ребенок выполняет ползанье разными способами (на четвереньках, на животе)","Ребенок выполняет переползание через несколько предметов подряд, под дугами, в туннеле","Ребенок выполняет лазанье по гимнастической стенке чередующимся шагом","Ребенок выполняет различные виды ходьбы",null,null,"Ребенок выполняет различные виды бега",null,null,"Ребенок выполняет различные виды прыжков",{"$nulls":4},"Ребенок выполняет стойку на одной ноге ","Ребенок выполняет упражнение \"ласточка\" ","Ребенок выполняет различные виды строевых упражнений",{"$nulls":7},"Ребенок выполняет самостоятельно","Ребенок выполняет самостоятельно","Ребенок выполняет самостоятельно","Ребенок выполняет самостоятельно"]
[{"$nulls":50},"Ребенок называет/различает все цвета спектра и ахроматические цвета, оттенки цвета, тоны цвета, теплые и холодные оттенки","Ребенок владеет способами воссоздания фигуры из частей, деления фигуры на части","Ребенок может выстраивать сериационные ряды предметов, различающихся по размеру в возрастающем и убывающем порядке в пределах 10",{"$nulls":12},"о многообразии людей разных национальностей (особенностей внешнего вида, одежды, традиций)","Ребенок имеет представление о многообразии стран и народов мира",{"$nulls":4},"Ребенок может рассказать о себе, выразить собственные потребности, желания","Ребенок имеет представление о некоторых своих правах","Ребенок имеет предпочтения в общении","Ребенок охотно вступает в общение со сверстниками","Ребенок уважительно относится к взрослым, пожилым людям","Ребенок охотно вступает в общение со взрослыми","Ребенок понимает свои и чужие эмоциональные состояния, демонстрирует примеры эмоциональной поддержки ","Ребенок  откликается на просьбу помочь","Ребенок выразить чувства и эмоции в мимике, пантомимике, действиях, интонации","Ребенок демонстрирует адекватные возрасту способы регуляции эмоциональных состояний","Ребенок ориентируется на общепринятые нормы и правила культуры поведения","Ребенок знает членов своей семьи, ближайших родственников по линии матери и отца","Ребенок имеет представление о способах поддержки родственных связей (переписка, разговор, совместный отдых, традиции, походы в гости и др.)","Ребенок проявляет заботу по отношению к членам своей семьи, оказывает посильную помощь больному члену семьи","Ребенок в совместной деятельности принимает общую цель, договаривается о способах деятельности и материалах, может уступить в конфликтной ситуации","Ребенок проявляет интерес к игровому экспериментированию, развивающим и познавательным играм","Ребенок способен действовать в точном соответствие с игровой задачей и правилами",{"$nulls":14},"обычным шагом, на носках, на пятках, с высоким подниманием колен","приставной, в полуприседе, мелким и широким, перекатом с пятки на носок, гимнастическим","змейкой без ориентиров, в колонне по одному и по два","в колонне по одному, змейкой, с перестроением на ходу в пары, звенья","со сменой ведущих, с пролезанием в обруч, с ловлей и увертыванием, высоко поднимая колени","между расставленными предметами, в заданном темпе, мелким и широким шагом","подпрыгивание, перепрыгивание, спрыгивание","в длину с места","в высоту с разбега","в длину с разбега","со скакалкой",null,null,"построения (по росту, в колонну по одному, в шеренгу, в круг)","в колонну по три, в две шеренги на месте, расхождение из колонны в разные стороны"]
["начало года",{"$f":"'Худ.эст.к 6г ч1. Н.г.'!E19","v":0},{"$f":"'Худ.эст.к 6г ч1. Н.г.'!F19","v":0},{"$f":"'Худ.эст.к 6г ч1. Н.г.'!G19","v":0},{"$f":"'Худ.эст.к 6г ч1. Н.г.'!H19","v":0},{"$f":"'Худ.эст.к 6г ч1. Н.г.'!I19","v":0},{"$f":"'Худ.эст.к 6г ч1. Н.г.'!J19","v":0},{"$f":"'Худ.эст.к 6г ч1. Н.г.'!K19","v":0},{"$f":"'Худ.эст.к 6г ч1. Н.г.'!L19","v":0},{"$f":"'Худ.эст.к 6г ч1. Н.г.'!M19","v":0},{"$f":"'Худ.эст.к 6г ч1. Н.г.'!N19","v":0},{"$f":"'Худ.эст.к 6г ч1. Н.г.'!O19","v":0},{"$f":"'Худ.эст.к 6г ч2. Н.г.'!E19","v":0},{"$f":"'Худ.эст.к 6г ч2. Н.г.'!F19","v":0},{"$f":"'Худ.эст.к 6г ч2. Н.г.'!G19","v":0},{"$f":"'Худ.эст.к 6г ч2. Н.г.'!H19","v":0},{"$f":"'Худ.эст.к 6г ч2. Н.г.'!I19","v":0},{"$f":"'Худ.эст.к 6г ч2. Н.г.'!J19","v":0},{"$f":"'Худ.эст.к 6г ч2. Н.г.'!K19","v":0},{"$f":"'Худ.эст.к 6г ч2. Н.г.'!L19","v":0},{"$f":"'Худ.эст.к 6г ч2. Н.г.'!M19","v":0},{"$f":"'Худ.эст.к 6г ч3. Н.г.'!E19","v":0},{"$f":"'Худ.эст.к 6г ч3. Н.г.'!F19","v":0},{"$f":"'Худ.эст.к 6г ч3. Н.г.'!G19","v":0},{"$f":"'Худ.эст.к 6г ч3. Н.г.'!H19","v":0},{"$f":"'Худ.эст.к 6г ч3. Н.г.'!I19","v":0},{"$f":"'Худ.эст.к 6г ч3. Н.г.'!J19","v":0},{"$f":"'Худ.эст.к 6г ч3. Н.г.'!K19","v":0},{"$f":"'Худ.эст.к 6г ч3. Н.г.'!L19","v":0},{"$f":"'Реч.разв.к 6г ч1. Н.г.'!E18","v":0},{"$f":"'Реч.разв.к 6г ч1. Н.г.'!F18","v":0},{"$f":"'Реч.разв.к 6г ч1. Н.г.'!G18","v":0},{"$f":"'Реч.разв.к 6г ч1. Н.г.'!H18","v":0},{"$f":"'Реч.разв.к 6г ч1. Н.г.'!I18","v":0},{"$f":"'Реч.разв.к 6г ч1. Н.г.'!J18","v":0},{"$f":"'Реч.разв.к 6г ч1. Н.г.'!K18","v":0},{"$f":"'Реч.разв.к 6г ч1. Н.г.'!L18","v":0},{"$f":"'Реч.разв.к 6г ч2. Н.г.'!E18","v":0},{"$f":"'Реч.разв.к 6г ч2. Н.г.'!F18","v":0},{"$f":"'Реч.разв.к 6г ч2. Н.г.'!G18","v":0},{"$f":"'Реч.разв.к 6г ч2. Н.г.'!H18","v":0},{"$f":"'Реч.разв.к 6г ч2. Н.г.'!I18","v":0},{"$f":"'Реч.разв.к 6г ч2. Н.г.'!J18","v":0},{"$f":"'Реч.разв.к 6г ч2. Н.г.'!K18","v":0},{"$f":"'Реч.разв.к 6г ч2. Н.г.'!L18","v":0},{"$f":"'Реч.разв.к 6г ч2. Н.г.'!M18","v":0},{"$f":"'Реч.разв.к 6г ч2. Н.г.'!N18","v":0},{"$f":"'Реч.разв.к 6г ч2. Н.г.'!O18","v":0},{"$f":"'Реч.разв.к 6г ч2. Н.г.'!P18","v":0},{"$f":"'Реч.разв.к 6г ч2. Н.г.'!Q18","v":0},{"$f":"'Позн.разв. к 6г ч1. Н.г.'!E19","v":0},{"$f":"'Позн.разв. к 6г ч1. Н.г.'!F19","v":0},{"$f":"'Позн.разв. к 6г ч1. Н.г.'!G19","v":0},{"$f":"'Позн.разв. к 6г ч1. Н.г.'!H19","v":0},{"$f":"'Позн.разв. к 6г ч1. Н.г.'!I19","v":0},{"$f":"'Позн.разв. к 6г ч1. Н.г.'!J19","v":0},{"$f":"'Позн.разв. к 6г ч1. Н.г.'!K19","v":0},{"$f":"'Позн.разв. к 6г ч1. Н.г.'!L19","v":0},{"$f":"'Позн.разв. к 6г ч1. Н.г.'!M19","v":0},{"$f":"'Позн.разв. к 6г ч1. Н.г.'!N19","v":0},{"$f":"'Позн.разв. к 6г ч1. Н.г.'!O19","v":0},{"$f":"'Позн.разв. к 6г ч1. Н.г.'!P19","v":0},{"$f":"'Позн.разв. к 6г ч1. Н.г.'!Q19","v":0},{"$f":"'Позн.разв. к 6г ч1. Н.г.'!R19","v":0},{"$f":"'Позн.разв. к 6г ч1. Н.г.'!S19","v":0},{"$f":"'Позн.разв. к 6г ч2. Н.г.'!E19","v":0},{"$f":"'Позн.разв. к 6г ч2. Н.г.'!F19","v":0},{"$f":"'Позн.разв. к 6г ч2. Н.г.'!G19","v":0},{"$f":"'Позн.разв. к 6г ч2. Н.г.'!H19","v":0},{"$f":"'Позн.разв. к 6г ч2. Н.г.'!I19","v":0},{"$f":"'Позн.разв. к 6г ч2. Н.г.'!J19","v":0},{"$f":"'Соц.ком.к 6г ч1. Н.г.'!E18","v":0},{"$f":"'Соц.ком.к 6г ч1. Н.г.'!F18","v":0},{"$f":"'Соц.ком.к 6г ч1. Н.г.'!G18","v":0},{"$f":"'Соц.ком.к 6г ч1. Н.г.'!H18","v":0},{"$f":"'Соц.ком.к 6г ч1. Н.г.'!I18","v":0},{"$f":"'Соц.ком.к 6г ч1. Н.г.'!J18","v":0},{"$f":"'Соц.ком.к 6г ч1. Н.г.'!K18","v":0},{"$f":"'Соц.ком.к 6г ч1. Н.г.'!L18","v":0},{"$f":"'Соц.ком.к 6г ч1. Н.г.'!M18","v":0},{"$f":"'Соц.ком.к 6г ч1. Н.г.'!N18","v":0},{"$f":"'Соц.ком.к 6г ч1. Н.г.'!O18","v":0},{"$f":"'Соц.ком.к 6г ч1. Н.г.'!P18","v":0},{"$f":"'Соц.ком.к 6г ч1. Н.г.'!Q18","v":0},{"$f":"'Соц.ком.к 6г ч1. Н.г.'!R18","v":0},{"$f":"'Соц.ком.к 6г ч1. Н.г.'!S18","v":0},{"$f":"'Соц.ком.к 6г ч1. Н.г.'!T18","v":0},{"$f":"'Соц.ком.к 6г ч1. Н.г.'!U18","v":0},{"$f":"'Соц.ком. к 6г ч2. Н.г.'!E18","v":0},{"$f":"'Соц.ком. к 6г ч2. Н.г.'!F18","v":0},{"$f":"'Соц.ком. к 6г ч2. Н.г.'!G18","v":0},{"$f":"'Соц.ком. к 6г ч2. Н.г.'!H18","v":0},{"$f":"'Соц.ком. к 6г ч2. Н.г.'!I18","v":0},{"$f":"'Соц.ком. к 6г ч2. Н.г.'!J18","v":0},{"$f":"'Соц.ком. к 6г ч2. Н.г.'!K18","v":0},{"$f":"'Соц.ком. к 6г ч2. Н.г.'!L18","v":0},{"$f":"'Соц.ком. к 6г ч2. Н.г.'!M18","v":0},{"$f":"'Физ.разв. к 6г ч1. Н.г.'!E19","v":0},{"$f":"'Физ.разв. к 6г ч1. Н.г.'!F19","v":0},{"$f":"'Физ.разв. к 6г ч1. Н.г.'!G19","v":0},{"$f":"'Физ.разв. к 6г ч1. Н.г.'!H19","v":0},{"$f":"'Физ.разв. к 6г ч1. Н.г.'!I19","v":0},{"$f":"'Физ.разв. к 6г ч1. Н.г.'!J19","v":0},{"$f":"'Физ.разв. к 6г ч1. Н.г.'!K19","v":0},{"$f":"'Физ.разв. к 6г ч1. Н.г.'!L19","v":0},{"$f":"'Физ.разв. к 6г ч1. Н.г.'!M19","v":0},{"$f":"'Физ.разв. к 6г ч1. Н.г.'!N19","v":0},{"$f":"'Физ.разв. к 6г ч1. Н.г.'!O19","v":0},{"$f":"'Физ.разв. к 6г ч1. Н.г.'!P19","v":0},{"$f":"'Физ.разв. к 6г ч1. Н.г.'!Q19","v":0},{"$f":"'Физ.разв. к 6г ч1. Н.г.'!R19","v":0},{"$f":"'Физ.разв. к 6г ч1. Н.г.'!S19","v":0},{"$f":"'Физ.разв. к 6г ч1. Н.г.'!T19","v":0},{"$f":"'Физ.разв. к 6г ч1. Н.г.'!U19","v":0},{"$f":"'Физ.разв. к 6г ч1. Н.г.'!V19","v":0},{"$f":"'Физ.разв. к 6г ч1. Н.г.'!W19","v":0},{"$f":"'Физ.разв. к 6г ч1. Н.г.'!X19","v":0},{"$f":"'Физ.разв. к 6г ч2. Н.г.'!E20","v":0},{"$f":"'Физ.разв. к 6г ч2. Н.г.'!F20","v":0},{"$f":"'Физ.разв. к 6г ч2. Н.г.'!G20","v":0},{"$f":"'Физ.разв. к 6г ч2. Н.г.'!H20","v":0},{"$f":"'Физ.разв. к 6г ч2. Н.г.'!I20","v":0},{"$f":"'Физ.разв. к 6г ч2. Н.г.'!J20","v":0},{"$f":"'Физ.разв. к 6г ч2. Н.г.'!K20","v":0},{"$f":"'Физ.разв. к 6г ч2. Н.г.'!L20","v":0},{"$f":"'Физ.разв. к 6г ч2. Н.г.'!M20","v":0},{"$f":"'Физ.разв. к 6г ч2. Н.г.'!N20","v":0},{"$f":"'Физ.разв. к 6г ч2. Н.г.'!O20","v":0},{"$f":"'Физ.разв. к 6г ч2. Н.г.'!P20","v":0},{"$f":"'Физ.разв. к 6г ч2. Н.г.'!Q20","v":0},{"$f":"'Физ.разв. к 6г ч2. Н.г.'!R20","v":0},{"$f":"'Физ.разв. к 6г ч2. Н.г.'!S20","v":0},{"$f":"'Физ.разв. к 6г ч2. Н.г.'!T20","v":0},{"$f":"'Физ.разв. к 6г ч2. Н.г.'!U20","v":0},{"$f":"'Физ.разв. к 6г ч2. Н.г.'!V20","v":0},{"$f":"'Физ.разв. к 6г ч2. Н.г.'!W20","v":0},{"$f":"'Физ.разв. к 6г ч2. Н.г.'!X20","v":0},{"$f":"'Физ.разв. к 6г ч2. Н.г.'!Y20","v":0}]
["конец года",{"$f":"'Худ.эст.к 6г ч1. К.г. '!E19","v":0},{"$f":"'Худ.эст.к 6г ч1. К.г. '!F19","v":0},{"$f":"'Худ.эст.к 6г ч1. К.г. '!G19","v":0},{"$f":"'Худ.эст.к 6г ч1. К.г. '!H19","v":0},{"$f":"'Худ.эст.к 6г ч1. К.г. '!I19","v":0},{"$f":"'Худ.эст.к 6г ч1. К.г. '!J19","v":0},{"$f":"'Худ.эст.к 6г ч1. К.г. '!K19","v":0},{"$f":"'Худ.эст.к 6г ч1. К.г. '!L19","v":0},{"$f":"'Худ.эст.к 6г ч1. К.г. '!M19","v":0},{"$f":"'Худ.эст.к 6г ч1. К.г. '!N19","v":0},{"$f":"'Худ.эст.к 6г ч1. К.г. '!O19","v":0},{"$f":"'Худ.эст.к 6г ч2. К.г. '!E19","v":0},{"$f":"'Худ.эст.к 6г ч2. К.г. '!F19","v":0},{"$f":"'Худ.эст.к 6г ч2. К.г. '!G19","v":0},{"$f":"'Худ.эст.к 6г ч2. К.г. '!H19","v":0},{"$f":"'Худ.эст.к 6г ч2. К.г. '!I19","v":0},{"$f":"'Худ.эст.к 6г ч2. К.г. '!J19","v":0},{"$f":"'Худ.эст.к 6г ч2. К.г. '!K19","v":0},{"$f":"'Худ.эст.к 6г ч2. К.г. '!L19","v":0},{"$f":"'Худ.эст.к 6г ч2. К.г. '!M19","v":0},{"$f":"'Худ.эст.к 6г ч3. К.г. '!E19","v":0},{"$f":"'Худ.эст.к 6г ч3. К.г. '!F19","v":0},{"$f":"'Худ.эст.к 6г ч3. К.г. '!G19","v":0},{"$f":"'Худ.эст.к 6г ч3. К.г. '!H19","v":0},{"$f":"'Худ.эст.к 6г ч3. К.г. '!I19","v":0},{"$f":"'Худ.эст.к 6г ч3. К.г. '!J19","v":0},{"$f":"'Худ.эст.к 6г ч3. К.г. '!K19","v":0},{"$f":"'Худ.эст.к 6г ч3. К.г. '!L19","v":0},{"$f":"'Реч.разв.к 6г ч1. К.г. '!E18","v":0},{"$f":"'Реч.разв.к 6г ч1. К.г. '!F18","v":0},{"$f":"'Реч.разв.к 6г ч1. К.г. '!G18","v":0},{"$f":"'Реч.разв.к 6г ч1. К.г. '!H18","v":0},{"$f":"'Реч.разв.к 6г ч1. К.г. '!I18","v":0},{"$f":"'Реч.разв.к 6г ч1. К.г. '!J18","v":0},{"$f":"'Реч.разв.к 6г ч1. К.г. '!K18","v":0},{"$f":"'Реч.разв.к 6г ч1. К.г. '!L18","v":0},{"$f":"'Реч.разв.к 6г ч2. К.г. '!E18","v":0},{"$f":"'Реч.разв.к 6г ч2. К.г. '!F18","v":0},{"$f":"'Реч.разв.к 6г ч2. К.г. '!G18","v":0},{"$f":"'Реч.разв.к 6г ч2. К.г. '!H18","v":0},{"$f":"'Реч.разв.к 6г ч2. К.г. '!I18","v":0},{"$f":"'Реч.разв.к 6г ч2. К.г. '!J18","v":0},{"$f":"'Реч.разв.к 6г ч2. К.г. '!K18","v":0},{"$f":"'Реч.разв.к 6г ч2. К.г. '!L18","v":0},{"$f":"'Реч.разв.к 6г ч2. К.г. '!M18","v":0},{"$f":"'Реч.разв.к 6г ч2. К.г. '!N18","v":0},{"$f":"'Реч.разв.к 6г ч2. К.г. '!O18","v":0},{"$f":"'Реч.разв.к 6г ч2. К.г. '!P18","v":0},{"$f":"'Реч.разв.к 6г ч2. К.г. '!Q18","v":0},{"$f":"'Позн.разв. к 6г ч1. К.г. '!E19","v":0},{"$f":"'Позн.разв. к 6г ч1. К.г. '!F19","v":0},{"$f":"'Позн.разв. к 6г ч1. К.г. '!G19","v":0},{"$f":"'Позн.разв. к 6г ч1. К.г. '!H19","v":0},{"$f":"'Позн.разв. к 6г ч1. К.г. '!I19","v":0},{"$f":"'Позн.разв. к 6г ч1. К.г. '!J19","v":0},{"$f":"'Позн.разв. к 6г ч1. К.г. '!K19","v":0},{"$f":"'Позн.разв. к 6г ч1. К.г. '!L19","v":0},{"$f":"'Позн.разв. к 6г ч1. К.г. '!M19","v":0},{"$f":"'Позн.разв. к 6г ч1. К.г. '!N19","v":0},{"$f":"'Позн.разв. к 6г ч1. К.г. '!O19","v":0},{"$f":"'Позн.разв. к 6г ч1. К.г. '!P19","v":0},{"$f":"'Позн.разв. к 6г ч1. К.г. '!Q19","v":0},{"$f":"'Позн.разв. к 6г ч1. К.г. '!R19","v":0},{"$f":"'Позн.разв. к 6г ч1. К.г. '!S19","v":0},{"$f":"'Позн.разв. к 6г ч2. К.г. '!E19","v":0},{"$f":"'Позн.разв. к 6г ч2. К.г. '!F19","v":0},{"$f":"'Позн.разв. к 6г ч2. К.г. '!G19","v":0},{"$f":"'Позн.разв. к 6г ч2. К.г. '!H19","v":0},{"$f":"'Позн.разв. к 6г ч2. К.г. '!I19","v":0},{"$f":"'Позн.разв. к 6г ч2. К.г. '!J19","v":0},{"$f":"'Соц.ком.к 6г ч1. К.г. '!$E$18","v":0},{"$f":"'Соц.ком.к 6г ч1. К.г. '!$E$18","v":0},{"$f":"'Соц.ком.к 6г ч1. К.г. '!$E$18","v":0},{"$f":"'Соц.ком.к 6г ч1. К.г. '!$E$18","v":0},{"$f":"'Соц.ком.к 6г ч1. К.г. '!$E$18","v":0},{"$f":"'Соц.ком.к 6г ч1. К.г. '!$E$18","v":0},{"$f":"'Соц.ком.к 6г ч1. К.г. '!$E$18","v":0},{"$f":"'Соц.ком.к 6г ч1. К.г. '!$E$18","v":0},{"$f":"'Соц.ком.к 6г ч1. К.г. '!$E$18","v":0},{"$f":"'Соц.ком.к 6г ч1. К.г. '!$E$18","v":0},{"$f":"'Соц.ком.к 6г ч1. К.г. '!$E$18","v":0},{"$f":"'Соц.ком.к 6г ч1. К.г. '!$E$18","v":0},{"$f":"'Соц.ком.к 6г ч1. К.г. '!$E$18","v":0},{"$f":"'Соц.ком.к 6г ч1. К.г. '!$E$18","v":0},{"$f":"'Соц.ком.к 6г ч1. К.г. '!$E$18","v":0},{"$f":"'Соц.ком.к 6г ч1. К.г. '!$E$18","v":0},{"$f":"'Соц.ком.к 6г ч1. К.г. '!$E$18","v":0},{"$f":"'Соц.ком. к 6г ч2 К.г.'!E18","v":0},{"$f":"'Соц.ком. к 6г ч2 К.г.'!F18","v":0},{"$f":"'Соц.ком. к 6г ч2 К.г.'!G18","v":0},{"$f":"'Соц.ком. к 6г ч2 К.г.'!H18","v":0},{"$f":"'Соц.ком. к 6г ч2 К.г.'!I18","v":0},{"$f":"'Соц.ком. к 6г ч2 К.г.'!J18","v":0},{"$f":"'Соц.ком. к 6г ч2 К.г.'!K18","v":0},{"$f":"'Соц.ком. к 6г ч2 К.г.'!L18","v":0},{"$f":"'Соц.ком. к 6г ч2 К.г.'!M18","v":0},{"$f":"'Физ.разв. к 6г ч1. К.г. '!E19","v":0},{"$f":"'Физ.разв. к 6г ч1. К.г. '!F19","v":0},{"$f":"'Физ.разв. к 6г ч1. К.г. '!G19","v":0},{"$f":"'Физ.разв. к 6г ч1. К.г. '!H19","v":0},{"$f":"'Физ.разв. к 6г ч1. К.г. '!I19","v":0},{"$f":"'Физ.разв. к 6г ч1. К.г. '!J19","v":0},{"$f":"'Физ.разв. к 6г ч1. К.г. '!K19","v":0},{"$f":"'Физ.разв. к 6г ч1. К.г. '!L19","v":0},{"$f":"'Физ.разв. к 6г ч1. К.г. '!M19","v":0},{"$f":"'Физ.разв. к 6г ч1. К.г. '!N19","v":0},{"$f":"'Физ.разв. к 6г ч1. К.г. '!O19","v":0},{"$f":"'Физ.разв. к 6г ч1. К.г. '!P19","v":0},{"$f":"'Физ.разв. к 6г ч1. К.г. '!Q19","v":0},{"$f":"'Физ.разв. к 6г ч1. К.г. '!R19","v":0},{"$f":"'Физ.разв. к 6г ч1. К.г. '!S19","v":0},{"$f":"'Физ.разв. к 6г ч1. К.г. '!T19","v":0},{"$f":"'Физ.разв. к 6г ч1. К.г. '!U19","v":0},{"$f":"'Физ.разв. к 6г ч1. К.г. '!V19","v":0},{"$f":"'Физ.разв. к 6г ч1. К.г. '!W19","v":0},{"$f":"'Физ.разв. к 6г ч1. К.г. '!X19","v":0},{"$f":"'Физ.разв. к 6г ч2. К.г. '!E20","v":0},{"$f":"'Физ.разв. к 6г ч2. К.г. '!F20","v":0},{"$f":"'Физ.разв. к 6г ч2. К.г. '!G20","v":0},{"$f":"'Физ.разв. к 6г ч2. К.г. '!H20","v":0},{"$f":"'Физ.разв. к 6г ч2. К.г. '!I20","v":0},{"$f":"'Физ.разв. к 6г ч2. К.г. '!J20","v":0},{"$f":"'Физ.разв. к 6г ч2. К.г. '!K20","v":0},{"$f":"'Физ.разв. к 6г ч2. К.г. '!L20","v":0},{"$f":"'Физ.разв. к 6г ч2. К.г. '!M20","v":0},{"$f":"'Физ.разв. к 6г ч2. К.г. '!N20","v":0},{"$f":"'Физ.разв. к 6г ч2. К.г. '!O20","v":0},{"$f":"'Физ.разв. к 6г ч2. К.г. '!P20","v":0},{"$f":"'Физ.разв. к 6г ч2. К.г. '!Q20","v":0},{"$f":"'Физ.разв. к 6г ч2. К.г. '!R20","v":0},{"$f":"'Физ.разв. к 6г ч2. К.г. '!S20","v":0},{"$f":"'Физ.разв. к 6г ч2. К.г. '!T20","v":0},{"$f":"'Физ.разв. к 6г ч2. К.г. '!U20","v":0},{"$f":"'Физ.разв. к 6г ч2. К.г. '!V20","v":0},{"$f":"'Физ.разв. к 6г ч2. К.г. '!W20","v":0},{"$f":"'Физ.разв. к 6г ч2. К.г. '!X20","v":0},{"$f":"'Физ.разв. к 6г ч2. К.г. '!Y20","v":0}]

{"sheet":"9","index":36,"n_rows":11,"n_cols":138,"rows_kept":11,"merged":[[4,117,4,122],[4,123,4,126],[4,127,4,129],[4,130,4,132],[4,134,4,137],[5,0,8,0],[5,1,5,11],[5,12,5,19],[5,21,6,26],[5,27,6,28],[5,50,5,52],[5,53,5,55],[5,56,5,64],[5,65,5,66],[5,67,5,70],[5,117,5,118],[5,119,5,122],[5,123,6,123],[5,124,6,124],[5,125,6,125],[5,126,6,126],[5,127,8,127],[5,128,8,128],[5,129,8,129],[5,130,8,130],[5,131,8,131],[5,132,8,132],[5,133,8,133],[5,134,5,137],[6,1,6,4],[6,9,6,10],[6,12,6,13],[6,16,6,17],[6,18,6,19],[6,20,8,20],[6,30,6,31],[6,32,6,36],[6,38,6,43],[6,45,6,49],[6,53,8,53],[6,54,8,54],[6,55,8,55],[6,56,6,58],[6,62,6,64],[6,65,7,66],[6,67,6,68],[6,69,6,70],[6,71,6,87],[6,88,6,90],[6,91,6,95],[6,97,6,98],[6,99,6,101],[6,102,6,104],[6,105,6,107],[6,108,6,112],[6,113,6,114],[6,115,6,116],[6,117,8,117],[6,118,8,118],[6,119,8,119],[6,120,8,120],[6,121,8,121],[6,122,8,122],[6,134,8,134],[6,135,8,135],[6,136,8,136],[6,137,8,137],[7,1,8,1],[7,2,8,2],[7,3,8,3],[7,4,8,4],[7,5,8,5],[7,6,8,6],[7,7,8,7],[7,8,8,8],[7,9,8,9],[7,10,8,10],[7,11,8,11],[7,12,8,12],[7,13,8,13],[7,14,8,14],[7,15,8,15],[7,16,8,16],[7,17,8,17],[7,18,8,18],[7,19,8,19],[7,21,8,21],[7,22,8,22],[7,23,8,23],[7,24,8,24],[7,25,8,25],[7,26,8,26],[7,27,8,27],[7,28,8,28],[7,29,8,29],[7,30,8,30],[7,31,8,31],[7,32,8,32],[7,33,8,33],[7,34,8,34],[7,35,8,35],[7,36,8,36],[7,37,8,37],[7,38,8,38],[7,39,8,39],[7,40,8,40],[7,41,8,41],[7,42,8,42],[7,43,8,43],[7,44,8,44],[7,45,8,45],[7,46,8,46],[7,47,8,47],[7,48,8,48],[7,49,8,49],[7,50,7,52],[7,56,8,56],[7,57,8,57],[7,58,8,58],[7,59,8,59],[7,60,8,60],[7,61,8,61],[7,62,8,62],[7,63,8,63],[7,64,8,64],[7,67,8,67],[7,68,8,68],[7,69,8,69],[7,70,8,70],[7,71,7,72],[7,73,7,74],[7,75,7,76],[7,77,7,80],[7,82,7,84],[7,85,7,87],[7,88,8,88],[7,89,8,89],[7,90,8,90],[7,91,8,91],[7,92,8,92],[7,93,8,93],[7,94,8,94],[7,95,8,95],[7,96,8,96],[7,97,8,97],[7,98,8,98],[7,99,8,99],[7,100,8,100],[7,101,8,101],[7,102,7,104],[7,105,7,107],[7,108,7,112],[7,113,8,113],[7,114,8,114],[7,115,7,116],[7,123,8,123],[7,124,8,124],[7,125,8,125],[7,126,8,126]]}
[]
[]
[]
[]
[{"$nulls":117},"Мелкая моторика",{"$nulls":5},"КГН",{"$nulls":3},"ЗОЖ",null,null,"Подвижные игры",null,null,"Спорт. игры","Спортивные упражнения"]
[{"$f":"Список!B12","v":0},"Музыкальная деятельность",{"$nulls":10},"Изобразительная деятельность",{"$nulls":8},"Приобщение к искусству",{"$nulls":5},"Конструктивная деятельность",{"$nulls":22},"Сенсорные эталоны ",null,null,"Познавательные действия",null,null,"Математические представления",{"$nulls":8},"Окружающий мир",null,"Природа ",{"$nulls":49},"Координация рук и глаз",null,"Графические навыки",{"$nulls":3},"Навыки соблюдения чистоты тела (правила личной гигиены)","Навыки культуры еды (прием пищи) ","Навыки поддержания порядка (правила поведения в быту) ","Навыки ухода за собой (одевание, раздевание) ","Ребенок имеет представление о факторах, положительно/негативно влияющих на здоровье; владеет основными способами укрепления здоровья","Ребенок имеет представление о некоторых видах спорта (9 и больше), роли спорта для укрепления здоровья","Ребенок проявляет заботливое отношение к своему здоровью и здоровью окружающих","Ребенок проявляет доступный возрасту самоконтроль","Ребенок  способен привлечь внимание других детей и организовать знакомую подвижную игру","Ребенок придумывает новые варианты игр, комбинирует движения","Ребенок имеет представление об элементах спортивных игр (городки, баскетбол, бадминтон, футбол), умеет выполнять некоторые виды движений","Ребенок умеет кататься"]
[null,"Слушание",{"$nulls":3},"Пение ","Музыкально-ритмические движения","Песенное творчество","Игра на детских музыкальных инструментах","Театрализованная деятельность",null,"Танцевально-игровое творчество","Рисование ",null,"Лепка ","Аппликация ","Народное ДПИ",null,"Прикладное творчество",null,"Ребенок самостоятельно определяет замысел рисунка, аппликации, лепки, поделки, создает образы и композиционные изображения, использует разнообразные материалы",{"$nulls":8},"Общее речевое развитие","Формирование словаря",null,"Грамматический строй",{"$nulls":4},"Звуковая культура речи","Связная речь",{"$nulls":5},"ЧХЛ","Подготовка к обучению грамоте",{"$nulls":4},"Цвет, оттенки","Форма, геометрические фигуры","Величина","Ребенок охотно участвует в обсуждении проблемы для совместного нахождения способов ее решения, предлагает пути решения, устанавливает закономерности причинно-следственного характера, проявляет любознательность","Ребенок использует математические знания, способы и средства для познания окружающего мира","Ребенок способен к произвольным умственным действиям, логическим операциям анализа, сравнения, обобщения, систематизации, классификации","Количество и счет",null,null,"Ориентировка во времени","Ориентировка в пространстве","Пространственно-количественные связи и отношения","Сравнение",null,null,"Ребенок имеет представления, может показать на картинке и в естественной среде, может рассказать",null,"Объекты живой природы",null,"Объекты неживой природы, природные явления",null,"Сфера социальных отношений",{"$nulls":16},"Область формирования основ гражданственности и патриотизма",null,null,"Сфера трудового воспитания",{"$nulls":4},"Область формирования основ безопасного поведения","Бросание, катание, ловля, метание",null,"Ползанье, лазанье",null,null,"Ходьба",null,null,"Бег",null,null,"Прыжки",{"$nulls":4},"Равновесие",null,"Строевые упражнения",null,"Ребенок может найти выход из лабиринта","Ребенок может нарисовать простой узор, изображение, не отрывая руки","Ребенок может повторить узор с чередующимися элементами","Ребенок закрашивает контурное изображение с множеством мелких деталей, не выходя за контур","Ребенок может соединить точки для получения изображения","Ребенок рисует геометрический орнамент по клеткам",{"$nulls":11},"на санках","на лыжах","на двухколесном велосипеде","на самокате"]
[null,"Ребенок различает жанры музыкальных произведений (песня, танец, марш)","Ребенок узнает мелодию по отдельным фрагментам произведения (вступление, заключение, музыкальная фраза)","Ребенок различает звуки по высоте в пределах квинты","Ребенок различает звучание музыкальных инструментов (клавишно-ударных, струнных)","Ребенок демонстрирует развитые певческие навыки","Ребенок демонстрирует развитые навыки исполнения танцевальных движений","Ребенок может импровизировать мелодию на заданный текст","Ребенок демонстрирует навыки игры на детских музыкальных инструментах","Ребенок имеет представление о различных видах театрального искусства","Ребенок с удовольствие занимается театрализованной деятельностью","Ребенок может придумывать движения к танцам","Ребенок передает в изображении основные свойства предметов (форма, величина, цвет), характерные детали, соотношение предметов и их частей по величине, высоте, расположению относительно друг друга","Ребенок владеет основными способами и приемами рисования различными изобразительными материалами (цветные карандаши, гуашь, акварель, цветные мелки, пастель, сангина, угольный карандаш, фломастеры)","Ребенок лепит с натуры и по представлению знакомые предметы, передавая характерные особенности пластическим, конструктивным и комбинированным способами","Ребенок умеет пользоваться ножницами","Ребенок имеет представление о полхов-майданской, гжельской росписи","Ребенок может нарисовать узор, используя элементы  росписи","Ребенок умеет работать с бумагой (сгибать лист, сглаживать сгибы, надрезать по сгибам)","Ребенок умеет работать с природным и бросовым материалом",null,"Ребенок умеет выделять, называть, группировать произведения по видам искусства: литература, музыка, изобразительное искусство, архитектура, театр, цирк","Ребенок имеет представление о видах изобразительного искусства: графика, декоративно-прикладное искусство, живопись, скульптура, архитектура, фотоискусство","Ребенок имеет представление о жанрах изобразительного искусства: натюрморт, пейзаж, портрет","Ребенок имеет представление о народном искусстве, фольклоре, музыке и художественных промыслах","Ребенок имеет представление о творческих профессиях: художник, композитор, музыкант, актер, артист балета","Ребенок имеет представление о культурно-досуговых местах: театр, музей, библиотека, выставка, кинотеатр, цирк и др.","Ребенок может провести анализ постройки (выделить основные части и характерные детали конструкций)","Ребенок может выполнить постройку по инструкции","Ребенок внятно разговаривает","Ребенок умеет обобщать предметы в группы по существенным признакам","Ребенок демонстрирует богатый словарный запас","Ребенок правильно использует в речи: несклоняемые существительные","Ребенок правильно использует в речи: слова, имеющие только множественное или только единственное число","Ребенок правильно использует в речи: глаголы одеть-надеть","Ребенок правильно использует в речи: существительные множественного числа в родительном падеже","Ребенок правильно образовывает слова с помощью суффикса, приставки","Ребенок правильно произносит сонорные звуки: л-ль, р-рь","Ребенок пересказывает литературные произведения по ролям, по частям, правильно передавая идею и содержание","Ребенок пользуется прямой и косвенной речью","Ребенок составляет короткий описательный рассказ о предметах, объектах и явлениях природы, из личного опыта","Ребенок сочиняет сюжетные рассказы по картине, из личного опыта","Ребенок проявляет речевое творчество: придумывает продолжение и окончание к рассказу, рассказы по аналогии, по плану педагога, по модели","Ребенок владеет первичными приемами аргументации и доказательства","Ребенок проявляет избирательное отношение к произведениям определенной тематики и жанра","Ребенок понимает термины: слово: звук, буква, предложение, гласный звук, согласный звук","Ребенок может провести звуковой анализ слова, разделить на слоги двух-, трехслоговые слова; составляет схему слова","Ребенок различает гласные-согласные звуки","Ребенок определяет твердые-мягкие согласные","Ребенок составляет предложение по модели, определяет количество и последовательность слов в предложении","Ребенок различает и называет",{"$nulls":5},"Ребенок знает/называет/находит среди других цифры 0 -10","Ребенок выполняет количественный и порядковый счет в пределах 0-10","Ребенок знает состав чисел из единиц в пределах 5","Ребенок понимает календарные единицы времени (сутки, неделя, месяц, год)","Ребенок ориентируется на листе бумаги","Ребенок понимает простейшую графическую информацию об отношениях предметов (слева направо, справа налево, снизу вверх, сверху вниз)","Ребенок выделяет сходства и отличия между группами предметов","Ребенок сравнивает предметы по 3-5 признакам","Ребенок группирует предметы по разным основаниям, преимущественно на основе зрительной оценки",null,null,"Ребенок имеет представление о сходстве и различии во внешнем виде и образе жизни объектов животного и растительного мира в разные сезоны года","Ребенок может сравнивать, группировать объекты живой природы по их особенностям, мету обитания, образу жизни, питанию","Ребенок имеет представление о признаках разных времен года","Ребенок наблюдает за явлениями природы, фиксирует результаты наблюдения","Отношение к самому себе",null,"Отношение к сверстникам",null,"Отношение к взрослым",null,"Эмоции",{"$nulls":3},"Поведение","Семья",null,null,"Игровое поведение",null,null,"Ребенок имеет представление о государственных символах России (герб, гимн, флаг)","Ребенок имеет представление о государственных праздниках России","Ребенок знает/может назвать/показать на картинке и в естественной среде достопримечательности населенного пункта, в котором живет","Ребенок имеет представления о разных видах производительного труда (промышленность, строительство, сельское хозяйство)","Ребенок имеет представления о разных видах обслуживающего труда (сфера досуга и отдыха, сфера культуры, медицина, торговля)","Ребенок имеет представление о структуре трудового процесса (мотив, цель, инструменты, оборудование, содержание действий, выбор трудовых действий, результат)","Ребенок имеет элементарные экономические представления (назначение рекламы, денег)","Ребенок охотно участвует в выполнении трудовых поручений, дежурстве; может распределять трудовые обязанности с другими","Ребенок имеет представления/ соблюдает правила поведения в быту, на улице, в природе, в общении с людьми, с животными","Ребенок выполняет различные упражнения с мячом (прокатывание, передача, перебрасывание, ведение, подбрасывание, ловля, забрасывание)","Ребенок выполняет метание в цель, метание в даль предметов разной массы","Ребенок выполняет ползанье разными способами (на четвереньках, на животе)","Ребенок выполняет переползание через несколько предметов подряд, под дугами, в туннеле","Ребенок выполняет лазанье по гимнастической стенке чередующимся шагом","Ребенок выполняет различные виды ходьбы",null,null,"Ребенок выполняет различные виды бега",null,null,"Ребенок выполняет различные виды прыжков",{"$nulls":4},"Ребенок выполняет стойку на одной ноге ","Ребенок выполняет упражнение \"ласточка\" ","Ребенок выполняет различные виды строевых упражнений",{"$nulls":7},"Ребенок выполняет самостоятельно","Ребенок выполняет самостоятельно","Ребенок выполняет самостоятельно","Ребенок выполняет самостоятельно"]
[{"$nulls":50},"Ребенок называет/различает все цвета спектра и ахроматические цвета, оттенки цвета, тоны цвета, теплые и холодные оттенки","Ребенок владеет способами воссоздания фигуры из частей, деления фигуры на части","Ребенок может выстраивать сериационные ряды предметов, различающихся по размеру в возрастающем и убывающем порядке в пределах 10",{"$nulls":12},"о многообразии людей разных национальностей (особенностей внешнего вида, одежды, традиций)","Ребенок имеет представление о многообразии стран и народов мира",{"$nulls":4},"Ребенок может рассказать о себе, выразить собственные потребности, желания","Ребенок имеет представление о некоторых своих правах","Ребенок имеет предпочтения в общении","Ребенок охотно вступает в общение со сверстниками","Ребенок уважительно относится к взрослым, пожилым людям","Ребенок охотно вступает в общение со взрослыми","Ребенок понимает свои и чужие эмоциональные состояния, демонстрирует примеры эмоциональной поддержки ","Ребенок  откликается на просьбу помочь","Ребенок выразить чувства и эмоции в мимике, пантомимике, действиях, интонации","Ребенок демонстрирует адекватные возрасту способы регуляции эмоциональных состояний","Ребенок ориентируется на общепринятые нормы и правила культуры поведения","Ребенок знает членов своей семьи, ближайших родственников по линии матери и отца","Ребенок имеет представление о способах поддержки родственных связей (переписка, разговор, совместный отдых, традиции, походы в гости и др.)","Ребенок проявляет заботу по отношению к членам своей семьи, оказывает посильную помощь больному члену семьи","Ребенок в совместной деятельности принимает общую цель, договаривается о способах деятельности и материалах, может уступить в конфликтной ситуации","Ребенок проявляет интерес к игровому экспериментированию, развивающим и познавательным играм","Ребенок способен действовать в точном соответствие с игровой задачей и правилами",{"$nulls":14},"обычным шагом, на носках, на пятках, с высоким подниманием колен","приставной, в полуприседе, мелким и широким, перекатом с пятки на носок, гимнастическим","змейкой без ориентиров, в колонне по одному и по два","в колонне по одному, змейкой, с перестроением на ходу в пары, звенья","со сменой ведущих, с пролезанием в обруч, с ловлей и увертыванием, высоко поднимая колени","между расставленными предметами, в заданном темпе, мелким и широким шагом","подпрыгивание, перепрыгивание, спрыгивание","в длину с места","в высоту с разбега","в длину с разбега","со скакалкой",null,null,"построения (по росту, в колонну по одному, в шеренгу, в круг)","в колонну по три, в две шеренги на месте, расхождение из колонны в разные стороны"]
["начало года",{"$f":"'Худ.эст.к 6г ч1. Н.г.'!E20","v":0},{"$f":"'Худ.эст.к 6г ч1. Н.г.'!F20","v":0},{"$f":"'Худ.эст.к 6г ч1. Н.г.'!G20","v":0},{"$f":"'Худ.эст.к 6г ч1. Н.г.'!H20","v":0},{"$f":"'Худ.эст.к 6г ч1. Н.г.'!I20","v":0},{"$f":"'Худ.эст.к 6г ч1. Н.г.'!J20","v":0},{"$f":"'Худ.эст.к 6г ч1. Н.г.'!K20","v":0},{"$f":"'Худ.эст.к 6г ч1. Н.г.'!L20","v":0},{"$f":"'Худ.эст.к 6г ч1. Н.г.'!M20","v":0},{"$f":"'Худ.эст.к 6г ч1. Н.г.'!N20","v":0},{"$f":"'Худ.эст.к 6г ч1. Н.г.'!O20","v":0},{"$f":"'Худ.эст.к 6г ч2. Н.г.'!E20","v":0},{"$f":"'Худ.эст.к 6г ч2. Н.г.'!F20","v":0},{"$f":"'Худ.эст.к 6г ч2. Н.г.'!G20","v":0},{"$f":"'Худ.эст.к 6г ч2. Н.г.'!H20","v":0},{"$f":"'Худ.эст.к 6г ч2. Н.г.'!I20","v":0},{"$f":"'Худ.эст.к 6г ч2. Н.г.'!J20","v":0},{"$f":"'Худ.эст.к 6г ч2. Н.г.'!K20","v":0},{"$f":"'Худ.эст.к 6г ч2. Н.г.'!L20","v":0},{"$f":"'Худ.эст.к 6г ч2. Н.г.'!M20","v":0},{"$f":"'Худ.эст.к 6г ч3. Н.г.'!E20","v":0},{"$f":"'Худ.эст.к 6г ч3. Н.г.'!F20","v":0},{"$f":"'Худ.эст.к 6г ч3. Н.г.'!G20","v":0},{"$f":"'Худ.эст.к 6г ч3. Н.г.'!H20","v":0},{"$f":"'Худ.эст.к 6г ч3. Н.г.'!I20","v":0},{"$f":"'Худ.эст.к 6г ч3. Н.г.'!J20","v":0},{"$f":"'Худ.эст.к 6г ч3. Н.г.'!K20","v":0},{"$f":"'Худ.эст.к 6г ч3. Н.г.'!L20","v":0},{"$f":"'Реч.разв.к 6г ч1. Н.г.'!E19","v":0},{"$f":"'Реч.разв.к 6г ч1. Н.г.'!F19","v":0},{"$f":"'Реч.разв.к 6г ч1. Н.г.'!G19","v":0},{"$f":"'Реч.разв.к 6г ч1. Н.г.'!H19","v":0},{"$f":"'Реч.разв.к 6г ч1. Н.г.'!I19","v":0},{"$f":"'Реч.разв.к 6г ч1. Н.г.'!J19","v":0},{"$f":"'Реч.разв.к 6г ч1. Н.г.'!K19","v":0},{"$f":"'Реч.разв.к 6г ч1. Н.г.'!L19","v":0},{"$f":"'Реч.разв.к 6г ч2. Н.г.'!E19","v":0},{"$f":"'Реч.разв.к 6г ч2. Н.г.'!F19","v":0},{"$f":"'Реч.разв.к 6г ч2. Н.г.'!G19","v":0},{"$f":"'Реч.разв.к 6г ч2. Н.г.'!H19","v":0},{"$f":"'Реч.разв.к 6г ч2. Н.г.'!I19","v":0},{"$f":"'Реч.разв.к 6г ч2. Н.г.'!J19","v":0},{"$f":"'Реч.разв.к 6г ч2. Н.г.'!K19","v":0},{"$f":"'Реч.разв.к 6г ч2. Н.г.'!L19","v":0},{"$f":"'Реч.разв.к 6г ч2. Н.г.'!M19","v":0},{"$f":"'Реч.разв.к 6г ч2. Н.г.'!N19","v":0},{"$f":"'Реч.разв.к 6г ч2. Н.г.'!O19","v":0},{"$f":"'Реч.разв.к 6г ч2. Н.г.'!P19","v":0},{"$f":"'Реч.разв.к 6г ч2. Н.г.'!Q19","v":0},{"$f":"'Позн.разв. к 6г ч1. Н.г.'!E20","v":0},{"$f":"'Позн.разв. к 6г ч1. Н.г.'!F20","v":0},{"$f":"'Позн.разв. к 6г ч1. Н.г.'!G20","v":0},{"$f":"'Позн.разв. к 6г ч1. Н.г.'!H20","v":0},{"$f":"'Позн.разв. к 6г ч1. Н.г.'!I20","v":0},{"$f":"'Позн.разв. к 6г ч1. Н.г.'!J20","v":0},{"$f":"'Позн.разв. к 6г ч1. Н.г.'!K20","v":0},{"$f":"'Позн.разв. к 6г ч1. Н.г.'!L20","v":0},{"$f":"'Позн.разв. к 6г ч1. Н.г.'!M20","v":0},{"$f":"'Позн.разв. к 6г ч1. Н.г.'!N20","v":0},{"$f":"'Позн.разв. к 6г ч1. Н.г.'!O20","v":0},{"$f":"'Позн.разв. к 6г ч1. Н.г.'!P20","v":0},{"$f":"'Позн.разв. к 6г ч1. Н.г.'!Q20","v":0},{"$f":"'Позн.разв. к 6г ч1. Н.г.'!R20","v":0},{"$f":"'Позн.разв. к 6г ч1. Н.г.'!S20","v":0},{"$f":"'Позн.разв. к 6г ч2. Н.г.'!E20","v":0},{"$f":"'Позн.разв. к 6г ч2. Н.г.'!F20","v":0},{"$f":"'Позн.разв. к 6г ч2. Н.г.'!G20","v":0},{"$f":"'Позн.разв. к 6г ч2. Н.г.'!H20","v":0},{"$f":"'Позн.разв. к 6г ч2. Н.г.'!I20","v":0},{"$f":"'Позн.разв. к 6г ч2. Н.г.'!J20","v":0},{"$f":"'Соц.ком.к 6г ч1. Н.г.'!E19","v":0},{"$f":"'Соц.ком.к 6г ч1. Н.г.'!F19","v":0},{"$f":"'Соц.ком.к 6г ч1. Н.г.'!G19","v":0},{"$f":"'Соц.ком.к 6г ч1. Н.г.'!H19","v":0},{"$f":"'Соц.ком.к 6г ч1. Н.г.'!I19","v":0},{"$f":"'Соц.ком.к 6г ч1. Н.г.'!J19","v":0},{"$f":"'Соц.ком.к 6г ч1. Н.г.'!K19","v":0},{"$f":"'Соц.ком.к 6г ч1. Н.г.'!L19","v":0},{"$f":"'Соц.ком.к 6г ч1. Н.г.'!M19","v":0},{"$f":"'Соц.ком.к 6г ч1. Н.г.'!N19","v":0},{"$f":"'Соц.ком.к 6г ч1. Н.г.'!O19","v":0},{"$f":"'Соц.ком.к 6г ч1. Н.г.'!P19","v":0},{"$f":"'Соц.ком.к 6г ч1. Н.г.'!Q19","v":0},{"$f":"'Соц.ком.к 6г ч1. Н.г.'!R19","v":0},{"$f":"'Соц.ком.к 6г ч1. Н.г.'!S19","v":0},{"$f":"'Соц.ком.к 6г ч1. Н.г.'!T19","v":0},{"$f":"'Соц.ком.к 6г ч1. Н.г.'!U19","v":0},{"$f":"'Соц.ком. к 6г ч2. Н.г.'!E19","v":0},{"$f":"'Соц.ком. к 6г ч2. Н.г.'!F19","v":0},{"$f":"'Соц.ком. к 6г ч2. Н.г.'!G19","v":0},{"$f":"'Соц.ком. к 6г ч2. Н.г.'!H19","v":0},{"$f":"'Соц.ком. к 6г ч2. Н.г.'!I19","v":0},{"$f":"'Соц.ком. к 6г ч2. Н.г.'!J19","v":0},{"$f":"'Соц.ком. к 6г ч2. Н.г.'!K19","v":0},{"$f":"'Соц.ком. к 6г ч2. Н.г.'!L19","v":0},{"$f":"'Соц.ком. к 6г ч2. Н.г.'!M19","v":0},{"$f":"'Физ.разв. к 6г ч1. Н.г.'!E20","v":0},{"$f":"'Физ.разв. к 6г ч1. Н.г.'!F20","v":0},{"$f":"'Физ.разв. к 6г ч1. Н.г.'!G20","v":0},{"$f":"'Физ.разв. к 6г ч1. Н.г.'!H20","v":0},{"$f":"'Физ.разв. к 6г ч1. Н.г.'!I20","v":0},{"$f":"'Физ.разв. к 6г ч1. Н.г.'!J20","v":0},{"$f":"'Физ.разв. к 6г ч1. Н.г.'!K20","v":0},{"$f":"'Физ.разв. к 6г ч1. Н.г.'!L20","v":0},{"$f":"'Физ.разв. к 6г ч1. Н.г.'!M20","v":0},{"$f":"'Физ.разв. к 6г ч1. Н.г.'!N20","v":0},{"$f":"'Физ.разв. к 6г ч1. Н.г.'!O20","v":0},{"$f":"'Физ.разв. к 6г ч1. Н.г.'!P20","v":0},{"$f":"'Физ.разв. к 6г ч1. Н.г.'!Q20","v":0},{"$f":"'Физ.разв. к 6г ч1. Н.г.'!R20","v":0},{"$f":"'Физ.разв. к 6г ч1. Н.г.'!S20","v":0},{"$f":"'Физ.разв. к 6г ч1. Н.г.'!T20","v":0},{"$f":"'Физ.разв. к 6г ч1. Н.г.'!U20","v":0},{"$f":"'Физ.разв. к 6г ч1. Н.г.'!V20","v":0},{"$f":"'Физ.разв. к 6г ч1. Н.г.'!W20","v":0},{"$f":"'Физ.разв. к 6г ч1. Н.г.'!X20","v":0},{"$f":"'Физ.разв. к 6г ч2. Н.г.'!E21","v":0},{"$f":"'Физ.разв. к 6г ч2. Н.г.'!F21","v":0},{"$f":"'Физ.разв. к 6г ч2. Н.г.'!G21","v":0},{"$f":"'Физ.разв. к 6г ч2. Н.г.'!H21","v":0},{"$f":"'Физ.разв. к 6г ч2. Н.г.'!I21","v":0},{"$f":"'Физ.разв. к 6г ч2. Н.г.'!J21","v":0},{"$f":"'Физ.разв. к 6г ч2. Н.г.'!K21","v":0},{"$f":"'Физ.разв. к 6г ч2. Н.г.'!L21","v":0},{"$f":"'Физ.разв. к 6г ч2. Н.г.'!M21","v":0},{"$f":"'Физ.разв. к 6г ч2. Н.г.'!N21","v":0},{"$f":"'Физ.разв. к 6г ч2. Н.г.'!O21","v":0},{"$f":"'Физ.разв. к 6г ч2. Н.г.'!P21","v":0},{"$f":"'Физ.разв. к 6г ч2. Н.г.'!Q21","v":0},{"$f":"'Физ.разв. к 6г ч2. Н.г.'!R21","v":0},{"$f":"'Физ.разв. к 6г ч2. Н.г.'!S21","v":0},{"$f":"'Физ.разв. к 6г ч2. Н.г.'!T21","v":0},{"$f":"'Физ.разв. к 6г ч2. Н.г.'!U21","v":0},{"$f":"'Физ.разв. к 6г ч2. Н.г.'!V21","v":0},{"$f":"'Физ.разв. к 6г ч2. Н.г.'!W21","v":0},{"$f":"'Физ.разв. к 6г ч2. Н.г.'!X21","v":0},{"$f":"'Физ.разв. к 6г ч2. Н.г.'!Y21","v":0}]
["конец года",{"$f":"'Худ.эст.к 6г ч1. К.г. '!E20","v":0},{"$f":"'Худ.эст.к 6г ч1. К.г. '!F20","v":0},{"$f":"'Худ.эст.к 6г ч1. К.г. '!G20","v":0},{"$f":"'Худ.эст.к 6г ч1. К.г. '!H20","v":0},{"$f":"'Худ.эст.к 6г ч1. К.г. '!I20","v":0},{"$f":"'Худ.эст.к 6г ч1. К.г. '!J20","v":0},{"$f":"'Худ.эст.к 6г ч1. К.г. '!K20","v":0},{"$f":"'Худ.эст.к 6г ч1. К.г. '!L20","v":0},{"$f":"'Худ.эст.к 6г ч1. К.г. '!M20","v":0},{"$f":"'Худ.эст.к 6г ч1. К.г. '!N20","v":0},{"$f":"'Худ.эст.к 6г ч1. К.г. '!O20","v":0},{"$f":"'Худ.эст.к 6г ч2. К.г. '!E20","v":0},{"$f":"'Худ.эст.к 6г ч2. К.г. '!F20","v":0},{"$f":"'Худ.эст.к 6г ч2. К.г. '!G20","v":0},{"$f":"'Худ.эст.к 6г ч2. К.г. '!H20","v":0},{"$f":"'Худ.эст.к 6г ч2. К.г. '!I20","v":0},{"$f":"'Худ.эст.к 6г ч2. К.г. '!J20","v":0},{"$f":"'Худ.эст.к 6г ч2. К.г. '!K20","v":0},{"$f":"'Худ.эст.к 6г ч2. К.г. '!L20","v":0},{"$f":"'Худ.эст.к 6г ч2. К.г. '!M20","v":0},{"$f":"'Худ.эст.к 6г ч3. К.г. '!E20","v":0},{"$f":"'Худ.эст.к 6г ч3. К.г. '!F20","v":0},{"$f":"'Худ.эст.к 6г ч3. К.г. '!G20","v":0},{"$f":"'Худ.эст.к 6г ч3. К.г. '!H20","v":0},{"$f":"'Худ.эст.к 6г ч3. К.г. '!I20","v":0},{"$f":"'Худ.эст.к 6г ч3. К.г. '!J20","v":0},{"$f":"'Худ.эст.к 6г ч3. К.г. '!K20","v":0},{"$f":"'Худ.эст.к 6г ч3. К.г. '!L20","v":0},{"$f":"'Реч.разв.к 6г ч1. К.г. '!E19","v":0},{"$f":"'Реч.разв.к 6г ч1. К.г. '!F19","v":0},{"$f":"'Реч.разв.к 6г ч1. К.г. '!G19","v":0},{"$f":"'Реч.разв.к 6г ч1. К.г. '!H19","v":0},{"$f":"'Реч.разв.к 6г ч1. К.г. '!I19","v":0},{"$f":"'Реч.разв.к 6г ч1. К.г. '!J19","v":0},{"$f":"'Реч.разв.к 6г ч1. К.г. '!K19","v":0},{"$f":"'Реч.разв.к 6г ч1. К.г. '!L19","v":0},{"$f":"'Реч.разв.к 6г ч2. К.г. '!E19","v":0},{"$f":"'Реч.разв.к 6г ч2. К.г. '!F19","v":0},{"$f":"'Реч.разв.к 6г ч2. К.г. '!G19","v":0},{"$f":"'Реч.разв.к 6г ч2. К.г. '!H19","v":0},{"$f":"'Реч.разв.к 6г ч2. К.г. '!I19","v":0},{"$f":"'Реч.разв.к 6г ч2. К.г. '!J19","v":0},{"$f":"'Реч.разв.к 6г ч2. К.г. '!K19","v":0},{"$f":"'Реч.разв.к 6г ч2. К.г. '!L19","v":0},{"$f":"'Реч.разв.к 6г ч2. К.г. '!M19","v":0},{"$f":"'Реч.разв.к 6г ч2. К.г. '!N19","v":0},{"$f":"'Реч.разв.к 6г ч2. К.г. '!O19","v":0},{"$f":"'Реч.разв.к 6г ч2. К.г. '!P19","v":0},{"$f":"'Реч.разв.к 6г ч2. К.г. '!Q19","v":0},{"$f":"'Позн.разв. к 6г ч1. К.г. '!E20","v":0},{"$f":"'Позн.разв. к 6г ч1. К.г. '!F20","v":0},{"$f":"'Позн.разв. к 6г ч1. К.г. '!G20","v":0},{"$f":"'Позн.разв. к 6г ч1. К.г. '!H20","v":0},{"$f":"'Позн.разв. к 6г ч1. К.г. '!I20","v":0},{"$f":"'Позн.разв. к 6г ч1. К.г. '!J20","v":0},{"$f":"'Позн.разв. к 6г ч1. К.г. '!K20","v":0},{"$f":"'Позн.разв. к 6г ч1. К.г. '!L20","v":0},{"$f":"'Позн.разв. к 6г ч1. К.г. '!M20","v":0},{"$f":"'Позн.разв. к 6г ч1. К.г. '!N20","v":0},{"$f":"'Позн.разв. к 6г ч1. К.г. '!O20","v":0},{"$f":"'Позн.разв. к 6г ч1. К.г. '!P20","v":0},{"$f":"'Позн.разв. к 6г ч1. К.г. '!Q20","v":0},{"$f":"'Позн.разв. к 6г ч1. К.г. '!R20","v":0},{"$f":"'Позн.разв. к 6г ч1. К.г. '!S20","v":0},{"$f":"'Позн.разв. к 6г ч2. К.г. '!E20","v":0},{"$f":"'Позн.разв. к 6г ч2. К.г. '!F20","v":0},{"$f":"'Позн.разв. к 6г ч2. К.г. '!G20","v":0},{"$f":"'Позн.разв. к 6г ч2. К.г. '!H20","v":0},{"$f":"'Позн.разв. к 6г ч2. К.г. '!I20","v":0},{"$f":"'Позн.разв. к 6г ч2. К.г. '!J20","v":0},{"$f":"'Соц.ком.к 6г ч1. К.г. '!$E$19","v":0},{"$f":"'Соц.ком.к 6г ч1. К.г. '!$E$19","v":0},{"$f":"'Соц.ком.к 6г ч1. К.г. '!$E$19","v":0},{"$f":"'Соц.ком.к 6г ч1. К.г. '!$E$19","v":0},{"$f":"'Соц.ком.к 6г ч1. К.г. '!$E$19","v":0},{"$f":"'Соц.ком.к 6г ч1. К.г. '!$E$19","v":0},{"$f":"'Соц.ком.к 6г ч1. К.г. '!$E$19","v":0},{"$f":"'Соц.ком.к 6г ч1. К.г. '!$E$19","v":0},{"$f":"'Соц.ком.к 6г ч1. К.г. '!$E$19","v":0},{"$f":"'Соц.ком.к 6г ч1. К.г. '!$E$19","v":0},{"$f":"'Соц.ком.к 6г ч1. К.г. '!$E$19","v":0},{"$f":"'Соц.ком.к 6г ч1. К.г. '!$E$19","v":0},{"$f":"'Соц.ком.к 6г ч1. К.г. '!$E$19","v":0},{"$f":"'Соц.ком.к 6г ч1. К.г. '!$E$19","v":0},{"$f":"'Соц.ком.к 6г ч1. К.г. '!$E$19","v":0},{"$f":"'Соц.ком.к 6г ч1. К.г. '!$E$19","v":0},{"$f":"'Соц.ком.к 6г ч1. К.г. '!$E$19","v":0},{"$f":"'Соц.ком. к 6г ч2 К.г.'!E19","v":0},{"$f":"'Соц.ком. к 6г ч2 К.г.'!F19","v":0},{"$f":"'Соц.ком. к 6г ч2 К.г.'!G19","v":0},{"$f":"'Соц.ком. к 6г ч2 К.г.'!H19","v":0},{"$f":"'Соц.ком. к 6г ч2 К.г.'!I19","v":0},{"$f":"'Соц.ком. к 6г ч2 К.г.'!J19","v":0},{"$f":"'Соц.ком. к 6г ч2 К.г.'!K19","v":0},{"$f":"'Соц.ком. к 6г ч2 К.г.'!L19","v":0},{"$f":"'Соц.ком. к 6г ч2 К.г.'!M19","v":0},{"$f":"'Физ.разв. к 6г ч1. К.г. '!E20","v":0},{"$f":"'Физ.разв. к 6г ч1. К.г. '!F20","v":0},{"$f":"'Физ.разв. к 6г ч1. К.г. '!G20","v":0},{"$f":"'Физ.разв. к 6г ч1. К.г. '!H20","v":0},{"$f":"'Физ.разв. к 6г ч1. К.г. '!I20","v":0},{"$f":"'Физ.разв. к 6г ч1. К.г. '!J20","v":0},{"$f":"'Физ.разв. к 6г ч1. К.г. '!K20","v":0},{"$f":"'Физ.разв. к 6г ч1. К.г. '!L20","v":0},{"$f":"'Физ.разв. к 6г ч1. К.г. '!M20","v":0},{"$f":"'Физ.разв. к 6г ч1. К.г. '!N20","v":0},{"$f":"'Физ.разв. к 6г ч1. К.г. '!O20","v":0},{"$f":"'Физ.разв. к 6г ч1. К.г. '!P20","v":0},{"$f":"'Физ.разв. к 6г ч1. К.г. '!Q20","v":0},{"$f":"'Физ.разв. к 6г ч1. К.г. '!R20","v":0},{"$f":"'Физ.разв. к 6г ч1. К.г. '!S20","v":0},{"$f":"'Физ.разв. к 6г ч1. К.г. '!T20","v":0},{"$f":"'Физ.разв. к 6г ч1. К.г. '!U20","v":0},{"$f":"'Физ.разв. к 6г ч1. К.г. '!V20","v":0},{"$f":"'Физ.разв. к 6г ч1. К.г. '!W20","v":0},{"$f":"'Физ.разв. к 6г ч1. К.г. '!X20","v":0},{"$f":"'Физ.разв. к 6г ч2. К.г. '!E21","v":0},{"$f":"'Физ.разв. к 6г ч2. К.г. '!F21","v":0},{"$f":"'Физ.разв. к 6г ч2. К.г. '!G21","v":0},{"$f":"'Физ.разв. к 6г ч2. К.г. '!H21","v":0},{"$f":"'Физ.разв. к 6г ч2. К.г. '!I21","v":0},{"$f":"'Физ.разв. к 6г ч2. К.г. '!J21","v":0},{"$f":"'Физ.разв. к 6г ч2. К.г. '!K21","v":0},{"$f":"'Физ.разв. к 6г ч2. К.г. '!L21","v":0},{"$f":"'Физ.разв. к 6г ч2. К.г. '!M21","v":0},{"$f":"'Физ.разв. к 6г ч2. К.г. '!N21","v":0},{"$f":"'Физ.разв. к 6г ч2. К.г. '!O21","v":0},{"$f":"'Физ.разв. к 6г ч2. К.г. '!P21","v":0},{"$f":"'Физ.разв. к 6г ч2. К.г. '!Q21","v":0},{"$f":"'Физ.разв. к 6г ч2. К.г. '!R21","v":0},{"$f":"'Физ.разв. к 6г ч2. К.г. '!S21","v":0},{"$f":"'Физ.разв. к 6г ч2. К.г. '!T21","v":0},{"$f":"'Физ.разв. к 6г ч2. К.г. '!U21","v":0},{"$f":"'Физ.разв. к 6г ч2. К.г. '!V21","v":0},{"$f":"'Физ.разв. к 6г ч2. К.г. '!W21","v":0},{"$f":"'Физ.разв. к 6г ч2. К.г. '!X21","v":0},{"$f":"'Физ.разв. к 6г ч2. К.г. '!Y21","v":0}]

{"sheet":"10","index":37,"n_rows":11,"n_cols":138,"rows_kept":11,"merged":[[4,117,4,122],[4,123,4,126],[4,127,4,129],[4,130,4,132],[4,134,4,137],[5,0,8,0],[5,1,5,11],[5,12,5,19],[5,21,6,26],[5,27,6,28],[5,50,5,52],[5,53,5,55],[5,56,5,64],[5,65,5,66],[5,67,5,70],[5,117,5,118],[5,119,5,122],[5,123,6,123],[5,124,6,124],[5,125,6,125],[5,126,6,126],[5,127,8,127],[5,128,8,128],[5,129,8,129],[5,130,8,130],[5,131,8,131],[5,132,8,132],[5,133,8,133],[5,134,5,137],[6,1,6,4],[6,9,6,10],[6,12,6,13],[6,16,6,17],[6,18,6,19],[6,20,8,20],[6,30,6,31],[6,32,6,36],[6,38,6,43],[6,45,6,49],[6,53,8,53],[6,54,8,54],[6,55,8,55],[6,56,6,58],[6,62,6,64],[6,65,7,66],[6,67,6,68],[6,69,6,70],[6,71,6,87],[6,88,6,90],[6,91,6,95],[6,97,6,98],[6,99,6,101],[6,102,6,104],[6,105,6,107],[6,108,6,112],[6,113,6,114],[6,115,6,116],[6,117,8,117],[6,118,8,118],[6,119,8,119],[6,120,8,120],[6,121,8,121],[6,122,8,122],[6,134,8,134],[6,135,8,135],[6,136,8,136],[6,137,8,137],[7,1,8,1],[7,2,8,2],[7,3,8,3],[7,4,8,4],[7,5,8,5],[7,6,8,6],[7,7,8,7],[7,8,8,8],[7,9,8,9],[7,10,8,10],[7,11,8,11],[7,12,8,12],[7,13,8,13],[7,14,8,14],[7,15,8,15],[7,16,8,16],[7,17,8,17],[7,18,8,18],[7,19,8,19],[7,21,8,21],[7,22,8,22],[7,23,8,23],[7,24,8,24],[7,25,8,25],[7,26,8,26],[7,27,8,27],[7,28,8,28],[7,29,8,29],[7,30,8,30],[7,31,8,31],[7,32,8,32],[7,33,8,33],[7,34,8,34],[7,35,8,35],[7,36,8,36],[7,37,8,37],[7,38,8,38],[7,39,8,39],[7,40,8,40],[7,41,8,41],[7,42,8,42],[7,43,8,43],[7,44,8,44],[7,45,8,45],[7,46,8,46],[7,47,8,47],[7,48,8,48],[7,49,8,49],[7,50,7,52],[7,56,8,56],[7,57,8,57],[7,58,8,58],[7,59,8,59],[7,60,8,60],[7,61,8,61],[7,62,8,62],[7,63,8,63],[7,64,8,64],[7,67,8,67],[7,68,8,68],[7,69,8,69],[7,70,8,70],[7,71,7,72],[7,73,7,74],[7,75,7,76],[7,77,7,80],[7,82,7,84],[7,85,7,87],[7,88,8,88],[7,89,8,89],[7,90,8,90],[7,91,8,91],[7,92,8,92],[7,93,8,93],[7,94,8,94],[7,95,8,95],[7,96,8,96],[7,97,8,97],[7,98,8,98],[7,99,8,99],[7,100,8,100],[7,101,8,101],[7,102,7,104],[7,105,7,107],[7,108,7,112],[7,113,8,113],[7,114,8,114],[7,115,7,116],[7,123,8,123],[7,124,8,124],[7,125,8,125],[7,126,8,126]]}
[]
[]
[]
[]
[{"$nulls":117},"Мелкая моторика",{"$nulls":5},"КГН",{"$nulls":3},"ЗОЖ",null,null,"Подвижные игры",null,null,"Спорт. игры","Спортивные упражнения"]
[{"$f":"Список!B13","v":0},"Музыкальная деятельность",{"$nulls":10},"Изобразительная деятельность",{"$nulls":8},"Приобщение к искусству",{"$nulls":5},"Конструктивная деятельность",{"$nulls":22},"Сенсорные эталоны ",null,null,"Познавательные действия",null,null,"Математические представления",{"$nulls":8},"Окружающий мир",null,"Природа ",{"$nulls":49},"Координация рук и глаз",null,"Графические навыки",{"$nulls":3},"Навыки соблюдения чистоты тела (правила личной гигиены)","Навыки культуры еды (прием пищи) ","Навыки поддержания порядка (правила поведения в быту) ","Навыки ухода за собой (одевание, раздевание) ","Ребенок имеет представление о факторах, положительно/негативно влияющих на здоровье; владеет основными способами укрепления здоровья","Ребенок имеет представление о некоторых видах спорта (9 и больше), роли спорта для укрепления здоровья","Ребенок проявляет заботливое отношение к своему здоровью и здоровью окружающих","Ребенок проявляет доступный возрасту самоконтроль","Ребенок  способен привлечь внимание других детей и организовать знакомую подвижную игру","Ребенок придумывает новые варианты игр, комбинирует движения","Ребенок имеет представление об элементах спортивных игр (городки, баскетбол, бадминтон, футбол), умеет выполнять некоторые виды движений","Ребенок умеет кататься"]
[null,"Слушание",{"$nulls":3},"Пение ","Музыкально-ритмические движения","Песенное творчество","Игра на детских музыкальных инструментах","Театрализованная деятельность",null,"Танцевально-игровое творчество","Рисование ",null,"Лепка ","Аппликация ","Народное ДПИ",null,"Прикладное творчество",null,"Ребенок самостоятельно определяет замысел рисунка, аппликации, лепки, поделки, создает образы и композиционные изображения, использует разнообразные материалы",{"$nulls":8},"Общее речевое развитие","Формирование словаря",null,"Грамматический строй",{"$nulls":4},"Звуковая культура речи","Связная речь",{"$nulls":5},"ЧХЛ","Подготовка к обучению грамоте",{"$nulls":4},"Цвет, оттенки","Форма, геометрические фигуры","Величина","Ребенок охотно участвует в обсуждении проблемы для совместного нахождения способов ее решения, предлагает пути решения, устанавливает закономерности причинно-следственного характера, проявляет любознательность","Ребенок использует математические знания, способы и средства для познания окружающего мира","Ребенок способен к произвольным умственным действиям, логическим операциям анализа, сравнения, обобщения, систематизации, классификации","Количество и счет",null,null,"Ориентировка во времени","Ориентировка в пространстве","Пространственно-количественные связи и отношения","Сравнение",null,null,"Ребенок имеет представления, может показать на картинке и в естественной среде, может рассказать",null,"Объекты живой природы",null,"Объекты неживой природы, природные явления",null,"Сфера социальных отношений",{"$nulls":16},"Область формирования основ гражданственности и патриотизма",null,null,"Сфера трудового воспитания",{"$nulls":4},"Область формирования основ безопасного поведения","Бросание, катание, ловля, метание",null,"Ползанье, лазанье",null,null,"Ходьба",null,null,"Бег",null,null,"Прыжки",{"$nulls":4},"Равновесие",null,"Строевые упражнения",null,"Ребенок может найти выход из лабиринта","Ребенок может нарисовать простой узор, изображение, не отрывая руки","Ребенок может повторить узор с чередующимися элементами","Ребенок закрашивает контурное изображение с множеством мелких деталей, не выходя за контур","Ребенок может соединить точки для получения изображения","Ребенок рисует геометрический орнамент по клеткам",{"$nulls":11},"на санках","на лыжах","на двухколесном велосипеде","на самокате"]
[null,"Ребенок различает жанры музыкальных произведений (песня, танец, марш)","Ребенок узнает мелодию по отдельным фрагментам произведения (вступление, заключение, музыкальная фраза)","Ребенок различает звуки по высоте в пределах квинты","Ребенок различает звучание музыкальных инструментов (клавишно-ударных, струнных)","Ребенок демонстрирует развитые певческие навыки","Ребенок демонстрирует развитые навыки исполнения танцевальных движений","Ребенок может импровизировать мелодию на заданный текст","Ребенок демонстрирует навыки игры на детских музыкальных инструментах","Ребенок имеет представление о различных видах театрального искусства","Ребенок с удовольствие занимается театрализованной деятельностью","Ребенок может придумывать движения к танцам","Ребенок передает в изображении основные свойства предметов (форма, величина, цвет), характерные детали, соотношение предметов и их частей по величине, высоте, расположению относительно друг друга","Ребенок владеет основными способами и приемами рисования различными изобразительными материалами (цветные карандаши, гуашь, акварель, цветные мелки, пастель, сангина, угольный карандаш, фломастеры)","Ребенок лепит с натуры и по представлению знакомые предметы, передавая характерные особенности пластическим, конструктивным и комбинированным способами","Ребенок умеет пользоваться ножницами","Ребенок имеет представление о полхов-майданской, гжельской росписи","Ребенок может нарисовать узор, используя элементы  росписи","Ребенок умеет работать с бумагой (сгибать лист, сглаживать сгибы, надрезать по сгибам)","Ребенок умеет работать с природным и бросовым материалом",null,"Ребенок умеет выделять, называть, группировать произведения по видам искусства: литература, музыка, изобразительное искусство, архитектура, театр, цирк","Ребенок имеет представление о видах изобразительного искусства: графика, декоративно-прикладное искусство, живопись, скульптура, архитектура, фотоискусство","Ребенок имеет представление о жанрах изобразительного искусства: натюрморт, пейзаж, портрет","Ребенок имеет представление о народном искусстве, фольклоре, музыке и художественных промыслах","Ребенок имеет представление о творческих профессиях: художник, композитор, музыкант, актер, артист балета","Ребенок имеет представление о культурно-досуговых местах: театр, музей, библиотека, выставка, кинотеатр, цирк и др.","Ребенок может провести анализ постройки (выделить основные части и характерные детали конструкций)","Ребенок может выполнить постройку по инструкции","Ребенок внятно разговаривает","Ребенок умеет обобщать предметы в группы по существенным признакам","Ребенок демонстрирует богатый словарный запас","Ребенок правильно использует в речи: несклоняемые существительные","Ребенок правильно использует в речи: слова, имеющие только множественное или только единственное число","Ребенок правильно использует в речи: глаголы одеть-надеть","Ребенок правильно использует в речи: существительные множественного числа в родительном падеже","Ребенок правильно образовывает слова с помощью суффикса, приставки","Ребенок правильно произносит сонорные звуки: л-ль, р-рь","Ребенок пересказывает литературные произведения по ролям, по частям, правильно передавая идею и содержание","Ребенок пользуется прямой и косвенной речью","Ребенок составляет короткий описательный рассказ о предметах, объектах и явлениях природы, из личного опыта","Ребенок сочиняет сюжетные рассказы по картине, из личного опыта","Ребенок проявляет речевое творчество: придумывает продолжение и окончание к рассказу, рассказы по аналогии, по плану педагога, по модели","Ребенок владеет первичными приемами аргументации и доказательства","Ребенок проявляет избирательное отношение к произведениям определенной тематики и жанра","Ребенок понимает термины: слово: звук, буква, предложение, гласный звук, согласный звук","Ребенок может провести звуковой анализ слова, разделить на слоги двух-, трехслоговые слова; составляет схему слова","Ребенок различает гласные-согласные звуки","Ребенок определяет твердые-мягкие согласные","Ребенок составляет предложение по модели, определяет количество и последовательность слов в предложении","Ребенок различает и называет",{"$nulls":5},"Ребенок знает/называет/находит среди других цифры 0 -10","Ребенок выполняет количественный и порядковый счет в пределах 0-10","Ребенок знает состав чисел из единиц в пределах 5","Ребенок понимает календарные единицы времени (сутки, неделя, месяц, год)","Ребенок ориентируется на листе бумаги","Ребенок понимает простейшую графическую информацию об отношениях предметов (слева направо, справа налево, снизу вверх, сверху вниз)","Ребенок выделяет сходства и отличия между группами предметов","Ребенок сравнивает предметы по 3-5 признакам","Ребенок группирует предметы по разным основаниям, преимущественно на основе зрительной оценки",null,null,"Ребенок имеет представление о сходстве и различии во внешнем виде и образе жизни объектов животного и растительного мира в разные сезоны года","Ребенок может сравнивать, группировать объекты живой природы по их особенностям, мету обитания, образу жизни, питанию","Ребенок имеет представление о признаках разных времен года","Ребенок наблюдает за явлениями природы, фиксирует результаты наблюдения","Отношение к самому себе",null,"Отношение к сверстникам",null,"Отношение к взрослым",null,"Эмоции",{"$nulls":3},"Поведение","Семья",null,null,"Игровое поведение",null,null,"Ребенок имеет представление о государственных символах России (герб, гимн, флаг)","Ребенок имеет представление о государственных праздниках России","Ребенок знает/может назвать/показать на картинке и в естественной среде достопримечательности населенного пункта, в котором живет","Ребенок имеет представления о разных видах производительного труда (промышленность, строительство, сельское хозяйство)","Ребенок имеет представления о разных видах обслуживающего труда (сфера досуга и отдыха, сфера культуры, медицина, торговля)","Ребенок имеет представление о структуре трудового процесса (мотив, цель, инструменты, оборудование, содержание действий, выбор трудовых действий, результат)","Ребенок имеет элементарные экономические представления (назначение рекламы, денег)","Ребенок охотно участвует в выполнении трудовых поручений, дежурстве; может распределять трудовые обязанности с другими","Ребенок имеет представления/ соблюдает правила поведения в быту, на улице, в природе, в общении с людьми, с животными","Ребенок выполняет различные упражнения с мячом (прокатывание, передача, перебрасывание, ведение, подбрасывание, ловля, забрасывание)","Ребенок выполняет метание в цель, метание в даль предметов разной массы","Ребенок выполняет ползанье разными способами (на четвереньках, на животе)","Ребенок выполняет переползание через несколько предметов подряд, под дугами, в туннеле","Ребенок выполняет лазанье по гимнастической стенке чередующимся шагом","Ребенок выполняет различные виды ходьбы",null,null,"Ребенок выполняет различные виды бега",null,null,"Ребенок выполняет различные виды прыжков",{"$nulls":4},"Ребенок выполняет стойку на одной ноге ","Ребенок выполняет упражнение \"ласточка\" ","Ребенок выполняет различные виды строевых упражнений",{"$nulls":7},"Ребенок выполняет самостоятельно","Ребенок выполняет самостоятельно","Ребенок выполняет самостоятельно","Ребенок выполняет самостоятельно"]
[{"$nulls":50},"Ребенок называет/различает все цвета спектра и ахроматические цвета, оттенки цвета, тоны цвета, теплые и холодные оттенки","Ребенок владеет способами воссоздания фигуры из частей, деления фигуры на части","Ребенок может выстраивать сериационные ряды предметов, различающихся по размеру в возрастающем и убывающем порядке в пределах 10",{"$nulls":12},"о многообразии людей разных национальностей (особенностей внешнего вида, одежды, традиций)","Ребенок имеет представление о многообразии стран и народов мира",{"$nulls":4},"Ребенок может рассказать о себе, выразить собственные потребности, желания","Ребенок имеет представление о некоторых своих правах","Ребенок имеет предпочтения в общении","Ребенок охотно вступает в общение со сверстниками","Ребенок уважительно относится к взрослым, пожилым людям","Ребенок охотно вступает в общение со взрослыми","Ребенок понимает свои и чужие эмоциональные состояния, демонстрирует примеры эмоциональной поддержки ","Ребенок  откликается на просьбу помочь","Ребенок выразить чувства и эмоции в мимике, пантомимике, действиях, интонации","Ребенок демонстрирует адекватные возрасту способы регуляции эмоциональных состояний","Ребенок ориентируется на общепринятые нормы и правила культуры поведения","Ребенок знает членов своей семьи, ближайших родственников по линии матери и отца","Ребенок имеет представление о способах поддержки родственных связей (переписка, разговор, совместный отдых, традиции, походы в гости и др.)","Ребенок проявляет заботу по отношению к членам своей семьи, оказывает посильную помощь больному члену семьи","Ребенок в совместной деятельности принимает общую цель, договаривается о способах деятельности и материалах, может уступить в конфликтной ситуации","Ребенок проявляет интерес к игровому экспериментированию, развивающим и познавательным играм","Ребенок способен действовать в точном соответствие с игровой задачей и правилами",{"$nulls":14},"обычным шагом, на носках, на пятках, с высоким подниманием колен","приставной, в полуприседе, мелким и широким, перекатом с пятки на носок, гимнастическим","змейкой без ориентиров, в колонне по одному и по два","в колонне по одному, змейкой, с перестроением на ходу в пары, звенья","со сменой ведущих, с пролезанием в обруч, с ловлей и увертыванием, высоко поднимая колени","между расставленными предметами, в заданном темпе, мелким и широким шагом","подпрыгивание, перепрыгивание, спрыгивание","в длину с места","в высоту с разбега","в длину с разбега","со скакалкой",null,null,"построения (по росту, в колонну по одному, в шеренгу, в круг)","в колонну по три, в две шеренги на месте, расхождение из колонны в разные стороны"]
["начало года",{"$f":"'Худ.эст.к 6г ч1. Н.г.'!E21","v":0},{"$f":"'Худ.эст.к 6г ч1. Н.г.'!F21","v":0},{"$f":"'Худ.эст.к 6г ч1. Н.г.'!G21","v":0},{"$f":"'Худ.эст.к 6г ч1. Н.г.'!H21","v":0},{"$f":"'Худ.эст.к 6г ч1. Н.г.'!I21","v":0},{"$f":"'Худ.эст.к 6г ч1. Н.г.'!J21","v":0},{"$f":"'Худ.эст.к 6г ч1. Н.г.'!K21","v":0},{"$f":"'Худ.эст.к 6г ч1. Н.г.'!L21","v":0},{"$f":"'Худ.эст.к 6г ч1. Н.г.'!M21","v":0},{"$f":"'Худ.эст.к 6г ч1. Н.г.'!N21","v":0},{"$f":"'Худ.эст.к 6г ч1. Н.г.'!O21","v":0},{"$f":"'Худ.эст.к 6г ч2. Н.г.'!E21","v":0},{"$f":"'Худ.эст.к 6г ч2. Н.г.'!F21","v":0},{"$f":"'Худ.эст.к 6г ч2. Н.г.'!G21","v":0},{"$f":"'Худ.эст.к 6г ч2. Н.г.'!H21","v":0},{"$f":"'Худ.эст.к 6г ч2. Н.г.'!I21","v":0},{"$f":"'Худ.эст.к 6г ч2. Н.г.'!J21","v":0},{"$f":"'Худ.эст.к 6г ч2. Н.г.'!K21","v":0},{"$f":"'Худ.эст.к 6г ч2. Н.г.'!L21","v":0},{"$f":"'Худ.эст.к 6г ч2. Н.г.'!M21","v":0},{"$f":"'Худ.эст.к 6г ч3. Н.г.'!E21","v":0},{"$f":"'Худ.эст.к 6г ч3. Н.г.'!F21","v":0},{"$f":"'Худ.эст.к 6г ч3. Н.г.'!G21","v":0},{"$f":"'Худ.эст.к 6г ч3. Н.г.'!H21","v":0},{"$f":"'Худ.эст.к 6г ч3. Н.г.'!I21","v":0},{"$f":"'Худ.эст.к 6г ч3. Н.г.'!J21","v":0},{"$f":"'Худ.эст.к 6г ч3. Н.г.'!K21","v":0},{"$f":"'Худ.эст.к 6г ч3. Н.г.'!L21","v":0},{"$f":"'Реч.разв.к 6г ч1. Н.г.'!E20","v":0},{"$f":"'Реч.разв.к 6г ч1. Н.г.'!F20","v":0},{"$f":"'Реч.разв.к 6г ч1. Н.г.'!G20","v":0},{"$f":"'Реч.разв.к 6г ч1. Н.г.'!H20","v":0},{"$f":"'Реч.разв.к 6г ч1. Н.г.'!I20","v":0},{"$f":"'Реч.разв.к 6г ч1. Н.г.'!J20","v":0},{"$f":"'Реч.разв.к 6г ч1. Н.г.'!K20","v":0},{"$f":"'Реч.разв.к 6г ч1. Н.г.'!L20","v":0},{"$f":"'Реч.разв.к 6г ч2. Н.г.'!E20","v":0},{"$f":"'Реч.разв.к 6г ч2. Н.г.'!F20","v":0},{"$f":"'Реч.разв.к 6г ч2. Н.г.'!G20","v":0},{"$f":"'Реч.разв.к 6г ч2. Н.г.'!H20","v":0},{"$f":"'Реч.разв.к 6г ч2. Н.г.'!I20","v":0},{"$f":"'Реч.разв.к 6г ч2. Н.г.'!J20","v":0},{"$f":"'Реч.разв.к 6г ч2. Н.г.'!K20","v":0},{"$f":"'Реч.разв.к 6г ч2. Н.г.'!L20","v":0},{"$f":"'Реч.разв.к 6г ч2. Н.г.'!M20","v":0},{"$f":"'Реч.разв.к 6г ч2. Н.г.'!N20","v":0},{"$f":"'Реч.разв.к 6г ч2. Н.г.'!O20","v":0},{"$f":"'Реч.разв.к 6г ч2. Н.г.'!P20","v":0},{"$f":"'Реч.разв.к 6г ч2. Н.г.'!Q20","v":0},{"$f":"'Позн.разв. к 6г ч1. Н.г.'!E21","v":0},{"$f":"'Позн.разв. к 6г ч1. Н.г.'!F21","v":0},{"$f":"'Позн.разв. к 6г ч1. Н.г.'!G21","v":0},{"$f":"'Позн.разв. к 6г ч1. Н.г.'!H21","v":0},{"$f":"'Позн.разв. к 6г ч1. Н.г.'!I21","v":0},{"$f":"'Позн.разв. к 6г ч1. Н.г.'!J21","v":0},{"$f":"'Позн.разв. к 6г ч1. Н.г.'!K21","v":0},{"$f":"'Позн.разв. к 6г ч1. Н.г.'!L21","v":0},{"$f":"'Позн.разв. к 6г ч1. Н.г.'!M21","v":0},{"$f":"'Позн.разв. к 6г ч1. Н.г.'!N21","v":0},{"$f":"'Позн.разв. к 6г ч1. Н.г.'!O21","v":0},{"$f":"'Позн.разв. к 6г ч1. Н.г.'!P21","v":0},{"$f":"'Позн.разв. к 6г ч1. Н.г.'!Q21","v":0},{"$f":"'Позн.разв. к 6г ч1. Н.г.'!R21","v":0},{"$f":"'Позн.разв. к 6г ч1. Н.г.'!S21","v":0},{"$f":"'Позн.разв. к 6г ч2. Н.г.'!E21","v":0},{"$f":"'Позн.разв. к 6г ч2. Н.г.'!F21","v":0},{"$f":"'Позн.разв. к 6г ч2. Н.г.'!G21","v":0},{"$f":"'Позн.разв. к 6г ч2. Н.г.'!H21","v":0},{"$f":"'Позн.разв. к 6г ч2. Н.г.'!I21","v":0},{"$f":"'Позн.разв. к 6г ч2. Н.г.'!J21","v":0},{"$f":"'Соц.ком.к 6г ч1. Н.г.'!E20","v":0},{"$f":"'Соц.ком.к 6г ч1. Н.г.'!F20","v":0},{"$f":"'Соц.ком.к 6г ч1. Н.г.'!G20","v":0},{"$f":"'Соц.ком.к 6г ч1. Н.г.'!H20","v":0},{"$f":"'Соц.ком.к 6г ч1. Н.г.'!I20","v":0},{"$f":"'Соц.ком.к 6г ч1. Н.г.'!J20","v":0},{"$f":"'Соц.ком.к 6г ч1. Н.г.'!K20","v":0},{"$f":"'Соц.ком.к 6г ч1. Н.г.'!L20","v":0},{"$f":"'Соц.ком.к 6г ч1. Н.г.'!M20","v":0},{"$f":"'Соц.ком.к 6г ч1. Н.г.'!N20","v":0},{"$f":"'Соц.ком.к 6г ч1. Н.г.'!O20","v":0},{"$f":"'Соц.ком.к 6г ч1. Н.г.'!P20","v":0},{"$f":"'Соц.ком.к 6г ч1. Н.г.'!Q20","v":0},{"$f":"'Соц.ком.к 6г ч1. Н.г.'!R20","v":0},{"$f":"'Соц.ком.к 6г ч1. Н.г.'!S20","v":0},{"$f":"'Соц.ком.к 6г ч1. Н.г.'!T20","v":0},{"$f":"'Соц.ком.к 6г ч1. Н.г.'!U20","v":0},{"$f":"'Соц.ком. к 6г ч2. Н.г.'!E20","v":0},{"$f":"'Соц.ком. к 6г ч2. Н.г.'!F20","v":0},{"$f":"'Соц.ком. к 6г ч2. Н.г.'!G20","v":0},{"$f":"'Соц.ком. к 6г ч2. Н.г.'!H20","v":0},{"$f":"'Соц.ком. к 6г ч2. Н.г.'!I20","v":0},{"$f":"'Соц.ком. к 6г ч2. Н.г.'!J20","v":0},{"$f":"'Соц.ком. к 6г ч2. Н.г.'!K20","v":0},{"$f":"'Соц.ком. к 6г ч2. Н.г.'!L20","v":0},{"$f":"'Соц.ком. к 6г ч2. Н.г.'!M20","v":0},{"$f":"'Физ.разв. к 6г ч1. Н.г.'!E21","v":0},{"$f":"'Физ.разв. к 6г ч1. Н.г.'!F21","v":0},{"$f":"'Физ.разв. к 6г ч1. Н.г.'!G21","v":0},{"$f":"'Физ.разв. к 6г ч1. Н.г.'!H21","v":0},{"$f":"'Физ.разв. к 6г ч1. Н.г.'!I21","v":0},{"$f":"'Физ.разв. к 6г ч1. Н.г.'!J21","v":0},{"$f":"'Физ.разв. к 6г ч1. Н.г.'!K21","v":0},{"$f":"'Физ.разв. к 6г ч1. Н.г.'!L21","v":0},{"$f":"'Физ.разв. к 6г ч1. Н.г.'!M21","v":0},{"$f":"'Физ.разв. к 6г ч1. Н.г.'!N21","v":0},{"$f":"'Физ.разв. к 6г ч1. Н.г.'!O21","v":0},{"$f":"'Физ.разв. к 6г ч1. Н.г.'!P21","v":0},{"$f":"'Физ.разв. к 6г ч1. Н.г.'!Q21","v":0},{"$f":"'Физ.разв. к 6г ч1. Н.г.'!R21","v":0},{"$f":"'Физ.разв. к 6г ч1. Н.г.'!S21","v":0},{"$f":"'Физ.разв. к 6г ч1. Н.г.'!T21","v":0},{"$f":"'Физ.разв. к 6г ч1. Н.г.'!U21","v":0},{"$f":"'Физ.разв. к 6г ч1. Н.г.'!V21","v":0},{"$f":"'Физ.разв. к 6г ч1. Н.г.'!W21","v":0},{"$f":"'Физ.разв. к 6г ч1. Н.г.'!X21","v":0},{"$f":"'Физ.разв. к 6г ч2. Н.г.'!E22","v":0},{"$f":"'Физ.разв. к 6г ч2. Н.г.'!F22","v":0},{"$f":"'Физ.разв. к 6г ч2. Н.г.'!G22","v":0},{"$f":"'Физ.разв. к 6г ч2. Н.г.'!H22","v":0},{"$f":"'Физ.разв. к 6г ч2. Н.г.'!I22","v":0},{"$f":"'Физ.разв. к 6г ч2. Н.г.'!J22","v":0},{"$f":"'Физ.разв. к 6г ч2. Н.г.'!K22","v":0},{"$f":"'Физ.разв. к 6г ч2. Н.г.'!L22","v":0},{"$f":"'Физ.разв. к 6г ч2. Н.г.'!M22","v":0},{"$f":"'Физ.разв. к 6г ч2. Н.г.'!N22","v":0},{"$f":"'Физ.разв. к 6г ч2. Н.г.'!O22","v":0},{"$f":"'Физ.разв. к 6г ч2. Н.г.'!P22","v":0},{"$f":"'Физ.разв. к 6г ч2. Н.г.'!Q22","v":0},{"$f":"'Физ.разв. к 6г ч2. Н.г.'!R22","v":0},{"$f":"'Физ.разв. к 6г ч2. Н.г.'!S22","v":0},{"$f":"'Физ.разв. к 6г ч2. Н.г.'!T22","v":0},{"$f":"'Физ.разв. к 6г ч2. Н.г.'!U22","v":0},{"$f":"'Физ.разв. к 6г ч2. Н.г.'!V22","v":0},{"$f":"'Физ.разв. к 6г ч2. Н.г.'!W22","v":0},{"$f":"'Физ.разв. к 6г ч2. Н.г.'!X22","v":0},{"$f":"'Физ.разв. к 6г ч2. Н.г.'!Y22","v":0}]
["конец года",{"$f":"'Худ.эст.к 6г ч1. К.г. '!E21","v":0},{"$f":"'Худ.эст.к 6г ч1. К.г. '!F21","v":0},{"$f":"'Худ.эст.к 6г ч1. К.г. '!G21","v":0},{"$f":"'Худ.эст.к 6г ч1. К.г. '!H21","v":0},{"$f":"'Худ.эст.к 6г ч1. К.г. '!I21","v":0},{"$f":"'Худ.эст.к 6г ч1. К.г. '!J21","v":0},{"$f":"'Худ.эст.к 6г ч1. К.г. '!K21","v":0},{"$f":"'Худ.эст.к 6г ч1. К.г. '!L21","v":0},{"$f":"'Худ.эст.к 6г ч1. К.г. '!M21","v":0},{"$f":"'Худ.эст.к 6г ч1. К.г. '!N21","v":0},{"$f":"'Худ.эст.к 6г ч1. К.г. '!O21","v":0},{"$f":"'Худ.эст.к 6г ч2. К.г. '!E21","v":0},{"$f":"'Худ.эст.к 6г ч2. К.г. '!F21","v":0},{"$f":"'Худ.эст.к 6г ч2. К.г. '!G21","v":0},{"$f":"'Худ.эст.к 6г ч2. К.г. '!H21","v":0},{"$f":"'Худ.эст.к 6г ч2. К.г. '!I21","v":0},{"$f":"'Худ.эст.к 6г ч2. К.г. '!J21","v":0},{"$f":"'Худ.эст.к 6г ч2. К.г. '!K21","v":0},{"$f":"'Худ.эст.к 6г ч2. К.г. '!L21","v":0},{"$f":"'Худ.эст.к 6г ч2. К.г. '!M21","v":0},{"$f":"'Худ.эст.к 6г ч3. К.г. '!E21","v":0},{"$f":"'Худ.эст.к 6г ч3. К.г. '!F21","v":0},{"$f":"'Худ.эст.к 6г ч3. К.г. '!G21","v":0},{"$f":"'Худ.эст.к 6г ч3. К.г. '!H21","v":0},{"$f":"'Худ.эст.к 6г ч3. К.г. '!I21","v":0},{"$f":"'Худ.эст.к 6г ч3. К.г. '!J21","v":0},{"$f":"'Худ.эст.к 6г ч3. К.г. '!K21","v":0},{"$f":"'Худ.эст.к 6г ч3. К.г. '!L21","v":0},{"$f":"'Реч.разв.к 6г ч1. К.г. '!E20","v":0},{"$f":"'Реч.разв.к 6г ч1. К.г. '!F20","v":0},{"$f":"'Реч.разв.к 6г ч1. К.г. '!G20","v":0},{"$f":"'Реч.разв.к 6г ч1. К.г. '!H20","v":0},{"$f":"'Реч.разв.к 6г ч1. К.г. '!I20","v":0},{"$f":"'Реч.разв.к 6г ч1. К.г. '!J20","v":0},{"$f":"'Реч.разв.к 6г ч1. К.г. '!K20","v":0},{"$f":"'Реч.разв.к 6г ч1. К.г. '!L20","v":0},{"$f":"'Реч.разв.к 6г ч2. К.г. '!E20","v":0},{"$f":"'Реч.разв.к 6г ч2. К.г. '!F20","v":0},{"$f":"'Реч.разв.к 6г ч2. К.г. '!G20","v":0},{"$f":"'Реч.разв.к 6г ч2. К.г. '!H20","v":0},{"$f":"'Реч.разв.к 6г ч2. К.г. '!I20","v":0},{"$f":"'Реч.разв.к 6г ч2. К.г. '!J20","v":0},{"$f":"'Реч.разв.к 6г ч2. К.г. '!K20","v":0},{"$f":"'Реч.разв.к 6г ч2. К.г. '!L20","v":0},{"$f":"'Реч.разв.к 6г ч2. К.г. '!M20","v":0},{"$f":"'Реч.разв.к 6г ч2. К.г. '!N20","v":0},{"$f":"'Реч.разв.к 6г ч2. К.г. '!O20","v":0},{"$f":"'Реч.разв.к 6г ч2. К.г. '!P20","v":0},{"$f":"'Реч.разв.к 6г ч2. К.г. '!Q20","v":0},{"$f":"'Позн.разв. к 6г ч1. К.г. '!E21","v":0},{"$f":"'Позн.разв. к 6г ч1. К.г. '!F21","v":0},{"$f":"'Позн.разв. к 6г ч1. К.г. '!G21","v":0},{"$f":"'Позн.разв. к 6г ч1. К.г. '!H21","v":0},{"$f":"'Позн.разв. к 6г ч1. К.г. '!I21","v":0},{"$f":"'Позн.разв. к 6г ч1. К.г. '!J21","v":0},{"$f":"'Позн.разв. к 6г ч1. К.г. '!K21","v":0},{"$f":"'Позн.разв. к 6г ч1. К.г. '!L21","v":0},{"$f":"'Позн.разв. к 6г ч1. К.г. '!M21","v":0},{"$f":"'Позн.разв. к 6г ч1. К.г. '!N21","v":0},{"$f":"'Позн.разв. к 6г ч1. К.г. '!O21","v":0},{"$f":"'Позн.разв. к 6г ч1. К.г. '!P21","v":0},{"$f":"'Позн.разв. к 6г ч1. К.г. '!Q21","v":0},{"$f":"'Позн.разв. к 6г ч1. К.г. '!R21","v":0},{"$f":"'Позн.разв. к 6г ч1. К.г. '!S21","v":0},{"$f":"'Позн.разв. к 6г ч2. К.г. '!E21","v":0},{"$f":"'Позн.разв. к 6г ч2. К.г. '!F21","v":0},{"$f":"'Позн.разв. к 6г ч2. К.г. '!G21","v":0},{"$f":"'Позн.разв. к 6г ч2. К.г. '!H21","v":0},{"$f":"'Позн.разв. к 6г ч2. К.г. '!I21","v":0},{"$f":"'Позн.разв. к 6г ч2. К.г. '!J21","v":0},{"$f":"'Соц.ком.к 6г ч1. К.г. '!$E$20","v":0},{"$f":"'Соц.ком.к 6г ч1. К.г. '!$E$20","v":0},{"$f":"'Соц.ком.к 6г ч1. К.г. '!$E$20","v":0},{"$f":"'Соц.ком.к 6г ч1. К.г. '!$E$20","v":0},{"$f":"'Соц.ком.к 6г ч1. К.г. '!$E$20","v":0},{"$f":"'Соц.ком.к 6г ч1. К.г. '!$E$20","v":0},{"$f":"'Соц.ком.к 6г ч1. К.г. '!$E$20","v":0},{"$f":"'Соц.ком.к 6г ч1. К.г. '!$E$20","v":0},{"$f":"'Соц.ком.к 6г ч1. К.г. '!$E$20","v":0},{"$f":"'Соц.ком.к 6г ч1. К.г. '!$E$20","v":0},{"$f":"'Соц.ком.к 6г ч1. К.г. '!$E$20","v":0},{"$f":"'Соц.ком.к 6г ч1. К.г. '!$E$20","v":0},{"$f":"'Соц.ком.к 6г ч1. К.г. '!$E$20","v":0},{"$f":"'Соц.ком.к 6г ч1. К.г. '!$E$20","v":0},{"$f":"'Соц.ком.к 6г ч1. К.г. '!$E$20","v":0},{"$f":"'Соц.ком.к 6г ч1. К.г. '!$E$20","v":0},{"$f":"'Соц.ком.к 6г ч1. К.г. '!$E$20","v":0},{"$f":"'Соц.ком. к 6г ч2 К.г.'!E20","v":0},{"$f":"'Соц.ком. к 6г ч2 К.г.'!F20","v":0},{"$f":"'Соц.ком. к 6г ч2 К.г.'!G20","v":0},{"$f":"'Соц.ком. к 6г ч2 К.г.'!H20","v":0},{"$f":"'Соц.ком. к 6г ч2 К.г.'!I20","v":0},{"$f":"'Соц.ком. к 6г ч2 К.г.'!J20","v":0},{"$f":"'Соц.ком. к 6г ч2 К.г.'!K20","v":0},{"$f":"'Соц.ком. к 6г ч2 К.г.'!L20","v":0},{"$f":"'Соц.ком. к 6г ч2 К.г.'!M20","v":0},{"$f":"'Физ.разв. к 6г ч1. К.г. '!E21","v":0},{"$f":"'Физ.разв. к 6г ч1. К.г. '!F21","v":0},{"$f":"'Физ.разв. к 6г ч1. К.г. '!G21","v":0},{"$f":"'Физ.разв. к 6г ч1. К.г. '!H21","v":0},{"$f":"'Физ.разв. к 6г ч1. К.г. '!I21","v":0},{"$f":"'Физ.разв. к 6г ч1. К.г. '!J21","v":0},{"$f":"'Физ.разв. к 6г ч1. К.г. '!K21","v":0},{"$f":"'Физ.разв. к 6г ч1. К.г. '!L21","v":0},{"$f":"'Физ.разв. к 6г ч1. К.г. '!M21","v":0},{"$f":"'Физ.разв. к 6г ч1. К.г. '!N21","v":0},{"$f":"'Физ.разв. к 6г ч1. К.г. '!O21","v":0},{"$f":"'Физ.разв. к 6г ч1. К.г. '!P21","v":0},{"$f":"'Физ.разв. к 6г ч1. К.г. '!Q21","v":0},{"$f":"'Физ.разв. к 6г ч1. К.г. '!R21","v":0},{"$f":"'Физ.разв. к 6г ч1. К.г. '!S21","v":0},{"$f":"'Физ.разв. к 6г ч1. К.г. '!T21","v":0},{"$f":"'Физ.разв. к 6г ч1. К.г. '!U21","v":0},{"$f":"'Физ.разв. к 6г ч1. К.г. '!V21","v":0},{"$f":"'Физ.разв. к 6г ч1. К.г. '!W21","v":0},{"$f":"'Физ.разв. к 6г ч1. К.г. '!X21","v":0},{"$f":"'Физ.разв. к 6г ч2. К.г. '!E22","v":0},{"$f":"'Физ.разв. к 6г ч2. К.г. '!F22","v":0},{"$f":"'Физ.разв. к 6г ч2. К.г. '!G22","v":0},{"$f":"'Физ.разв. к 6г ч2. К.г. '!H22","v":0},{"$f":"'Физ.разв. к 6г ч2. К.г. '!I22","v":0},{"$f":"'Физ.разв. к 6г ч2. К.г. '!J22","v":0},{"$f":"'Физ.разв. к 6г ч2. К.г. '!K22","v":0},{"$f":"'Физ.разв. к 6г ч2. К.г. '!L22","v":0},{"$f":"'Физ.разв. к 6г ч2. К.г. '!M22","v":0},{"$f":"'Физ.разв. к 6г ч2. К.г. '!N22","v":0},{"$f":"'Физ.разв. к 6г ч2. К.г. '!O22","v":0},{"$f":"'Физ.разв. к 6г ч2. К.г. '!P22","v":0},{"$f":"'Физ.разв. к 6г ч2. К.г. '!Q22","v":0},{"$f":"'Физ.разв. к 6г ч2. К.г. '!R22","v":0},{"$f":"'Физ.разв. к 6г ч2. К.г. '!S22","v":0},{"$f":"'Физ.разв. к 6г ч2. К.г. '!T22","v":0},{"$f":"'Физ.разв. к 6г ч2. К.г. '!U22","v":0},{"$f":"'Физ.разв. к 6г ч2. К.г. '!V22","v":0},{"$f":"'Физ.разв. к 6г ч2. К.г. '!W22","v":0},{"$f":"'Физ.разв. к 6г ч2. К.г. '!X22","v":0},{"$f":"'Физ.разв. к 6г ч2. К.г. '!Y22","v":0}]

{"sheet":"11","index":38,"n_rows":11,"n_cols":138,"rows_kept":11,"merged":[[4,117,4,122],[4,123,4,126],[4,127,4,129],[4,130,4,132],[4,134,4,137],[5,0,8,0],[5,1,5,11],[5,12,5,19],[5,21,6,26],[5,27,6,28],[5,50,5,52],[5,53,5,55],[5,56,5,64],[5,65,5,66],[5,67,5,70],[5,117,5,118],[5,119,5,122],[5,123,6,123],[5,124,6,124],[5,125,6,125],[5,126,6,126],[5,127,8,127],[5,128,8,128],[5,129,8,129],[5,130,8,130],[5,131,8,131],[5,132,8,132],[5,133,8,133],[5,134,5,137],[6,1,6,4],[6,9,6,10],[6,12,6,13],[6,16,6,17],[6,18,6,19],[6,20,8,20],[6,30,6,31],[6,32,6,36],[6,38,6,43],[6,45,6,49],[6,53,8,53],[6,54,8,54],[6,55,8,55],[6,56,6,58],[6,62,6,64],[6,65,7,66],[6,67,6,68],[6,69,6,70],[6,71,6,87],[6,88,6,90],[6,91,6,95],[6,97,6,98],[6,99,6,101],[6,102,6,104],[6,105,6,107],[6,108,6,112],[6,113,6,114],[6,115,6,116],[6,117,8,117],[6,118,8,118],[6,119,8,119],[6,120,8,120],[6,121,8,121],[6,122,8,122],[6,134,8,134],[6,135,8,135],[6,136,8,136],[6,137,8,137],[7,1,8,1],[7,2,8,2],[7,3,8,3],[7,4,8,4],[7,5,8,5],[7,6,8,6],[7,7,8,7],[7,8,8,8],[7,9,8,9],[7,10,8,10],[7,11,8,11],[7,12,8,12],[7,13,8,13],[7,14,8,14],[7,15,8,15],[7,16,8,16],[7,17,8,17],[7,18,8,18],[7,19,8,19],[7,21,8,21],[7,22,8,22],[7,23,8,23],[7,24,8,24],[7,25,8,25],[7,26,8,26],[7,27,8,27],[7,28,8,28],[7,29,8,29],[7,30,8,30],[7,31,8,31],[7,32,8,32],[7,33,8,33],[7,34,8,34],[7,35,8,35],[7,36,8,36],[7,37,8,37],[7,38,8,38],[7,39,8,39],[7,40,8,40],[7,41,8,41],[7,42,8,42],[7,43,8,43],[7,44,8,44],[7,45,8,45],[7,46,8,46],[7,47,8,47],[7,48,8,48],[7,49,8,49],[7,50,7,52],[7,56,8,56],[7,57,8,57],[7,58,8,58],[7,59,8,59],[7,60,8,60],[7,61,8,61],[7,62,8,62],[7,63,8,63],[7,64,8,64],[7,67,8,67],[7,68,8,68],[7,69,8,69],[7,70,8,70],[7,71,7,72],[7,73,7,74],[7,75,7,76],[7,77,7,80],[7,82,7,84],[7,85,7,87],[7,88,8,88],[7,89,8,89],[7,90,8,90],[7,91,8,91],[7,92,8,92],[7,93,8,93],[7,94,8,94],[7,95,8,95],[7,96,8,96],[7,97,8,97],[7,98,8,98],[7,99,8,99],[7,100,8,100],[7,101,8,101],[7,102,7,104],[7,105,7,107],[7,108,7,112],[7,113,8,113],[7,114,8,114],[7,115,7,116],[7,123,8,123],[7,124,8,124],[7,125,8,125],[7,126,8,126]]}
[]
[]
[]
[]
[{"$nulls":117},"Мелкая моторика",{"$nulls":5},"КГН",{"$nulls":3},"ЗОЖ",null,null,"Подвижные игры",null,null,"Спорт. игры","Спортивные упражнения"]
[{"$f":"Список!B14","v":0},"Музыкальная деятельность",{"$nulls":10},"Изобразительная деятельность",{"$nulls":8},"Приобщение к искусству",{"$nulls":5},"Конструктивная деятельность",{"$nulls":22},"Сенсорные эталоны ",null,null,"Познавательные действия",null,null,"Математические представления",{"$nulls":8},"Окружающий мир",null,"Природа ",{"$nulls":49},"Координация рук и глаз",null,"Графические навыки",{"$nulls":3},"Навыки соблюдения чистоты тела (правила личной гигиены)","Навыки культуры еды (прием пищи) ","Навыки поддержания порядка (правила поведения в быту) ","Навыки ухода за собой (одевание, раздевание) ","Ребенок имеет представление о факторах, положительно/негативно влияющих на здоровье; владеет основными способами укрепления здоровья","Ребенок имеет представление о некоторых видах спорта (9 и больше), роли спорта для укрепления здоровья","Ребенок проявляет заботливое отношение к своему здоровью и здоровью окружающих","Ребенок проявляет доступный возрасту самоконтроль","Ребенок  способен привлечь внимание других детей и организовать знакомую подвижную игру","Ребенок придумывает новые варианты игр, комбинирует движения","Ребенок имеет представление об элементах спортивных игр (городки, баскетбол, бадминтон, футбол), умеет выполнять некоторые виды движений","Ребенок умеет кататься"]
[null,"Слушание",{"$nulls":3},"Пение ","Музыкально-ритмические движения","Песенное творчество","Игра на детских музыкальных инструментах","Театрализованная деятельность",null,"Танцевально-игровое творчество","Рисование ",null,"Лепка ","Аппликация ","Народное ДПИ",null,"Прикладное творчество",null,"Ребенок самостоятельно определяет замысел рисунка, аппликации, лепки, поделки, создает образы и композиционные изображения, использует разнообразные материалы",{"$nulls":8},"Общее речевое развитие","Формирование словаря",null,"Грамматический строй",{"$nulls":4},"Звуковая культура речи","Связная речь",{"$nulls":5},"ЧХЛ","Подготовка к обучению грамоте",{"$nulls":4},"Цвет, оттенки","Форма, геометрические фигуры","Величина","Ребенок охотно участвует в обсуждении проблемы для совместного нахождения способов ее решения, предлагает пути решения, устанавливает закономерности причинно-следственного характера, проявляет любознательность","Ребенок использует математические знания, способы и средства для познания окружающего мира","Ребенок способен к произвольным умственным действиям, логическим операциям анализа, сравнения, обобщения, систематизации, классификации","Количество и счет",null,null,"Ориентировка во времени","Ориентировка в пространстве","Пространственно-количественные связи и отношения","Сравнение",null,null,"Ребенок имеет представления, может показать на картинке и в естественной среде, может рассказать",null,"Объекты живой природы",null,"Объекты неживой природы, природные явления",null,"Сфера социальных отношений",{"$nulls":16},"Область формирования основ гражданственности и патриотизма",null,null,"Сфера трудового воспитания",{"$nulls":4},"Область формирования основ безопасного поведения","Бросание, катание, ловля, метание",null,"Ползанье, лазанье",null,null,"Ходьба",null,null,"Бег",null,null,"Прыжки",{"$nulls":4},"Равновесие",null,"Строевые упражнения",null,"Ребенок может найти выход из лабиринта","Ребенок может нарисовать простой узор, изображение, не отрывая руки","Ребенок может повторить узор с чередующимися элементами","Ребенок закрашивает контурное изображение с множеством мелких деталей, не выходя за контур","Ребенок может соединить точки для получения изображения","Ребенок рисует геометрический орнамент по клеткам",{"$nulls":11},"на санках","на лыжах","на двухколесном велосипеде","на самокате"]
[null,"Ребенок различает жанры музыкальных произведений (песня, танец, марш)","Ребенок узнает мелодию по отдельным фрагментам произведения (вступление, заключение, музыкальная фраза)","Ребенок различает звуки по высоте в пределах квинты","Ребенок различает звучание музыкальных инструментов (клавишно-ударных, струнных)","Ребенок демонстрирует развитые певческие навыки","Ребенок демонстрирует развитые навыки исполнения танцевальных движений","Ребенок может импровизировать мелодию на заданный текст","Ребенок демонстрирует навыки игры на детских музыкальных инструментах","Ребенок имеет представление о различных видах театрального искусства","Ребенок с удовольствие занимается театрализованной деятельностью","Ребенок может придумывать движения к танцам","Ребенок передает в изображении основные свойства предметов (форма, величина, цвет), характерные детали, соотношение предметов и их частей по величине, высоте, расположению относительно друг друга","Ребенок владеет основными способами и приемами рисования различными изобразительными материалами (цветные карандаши, гуашь, акварель, цветные мелки, пастель, сангина, угольный карандаш, фломастеры)","Ребенок лепит с натуры и по представлению знакомые предметы, передавая характерные особенности пластическим, конструктивным и комбинированным способами","Ребенок умеет пользоваться ножницами","Ребенок имеет представление о полхов-майданской, гжельской росписи","Ребенок может нарисовать узор, используя элементы  росписи","Ребенок умеет работать с бумагой (сгибать лист, сглаживать сгибы, надрезать по сгибам)","Ребенок умеет работать с природным и бросовым материалом",null,"Ребенок умеет выделять, называть, группировать произведения по видам искусства: литература, музыка, изобразительное искусство, архитектура, театр, цирк","Ребенок имеет представление о видах изобразительного искусства: графика, декоративно-прикладное искусство, живопись, скульптура, архитектура, фотоискусство","Ребенок имеет представление о жанрах изобразительного искусства: натюрморт, пейзаж, портрет","Ребенок имеет представление о народном искусстве, фольклоре, музыке и художественных промыслах","Ребенок имеет представление о творческих профессиях: художник, композитор, музыкант, актер, артист балета","Ребенок имеет представление о культурно-досуговых местах: театр, музей, библиотека, выставка, кинотеатр, цирк и др.","Ребенок может провести анализ постройки (выделить основные части и характерные детали конструкций)","Ребенок может выполнить постройку по инструкции","Ребенок внятно разговаривает","Ребенок умеет обобщать предметы в группы по существенным признакам","Ребенок демонстрирует богатый словарный запас","Ребенок правильно использует в речи: несклоняемые существительные","Ребенок правильно использует в речи: слова, имеющие только множественное или только единственное число","Ребенок правильно использует в речи: глаголы одеть-надеть","Ребенок правильно использует в речи: существительные множественного числа в родительном падеже","Ребенок правильно образовывает слова с помощью суффикса, приставки","Ребенок правильно произносит сонорные звуки: л-ль, р-рь","Ребенок пересказывает литературные произведения по ролям, по частям, правильно передавая идею и содержание","Ребенок пользуется прямой и косвенной речью","Ребенок составляет короткий описательный рассказ о предметах, объектах и явлениях природы, из личного опыта","Ребенок сочиняет сюжетные рассказы по картине, из личного опыта","Ребенок проявляет речевое творчество: придумывает продолжение и окончание к рассказу, рассказы по аналогии, по плану педагога, по модели","Ребенок владеет первичными приемами аргументации и доказательства","Ребенок проявляет избирательное отношение к произведениям определенной тематики и жанра","Ребенок понимает термины: слово: звук, буква, предложение, гласный звук, согласный звук","Ребенок может провести звуковой анализ слова, разделить на слоги двух-, трехслоговые слова; составляет схему слова","Ребенок различает гласные-согласные звуки","Ребенок определяет твердые-мягкие согласные","Ребенок составляет предложение по модели, определяет количество и последовательность слов в предложении","Ребенок различает и называет",{"$nulls":5},"Ребенок знает/называет/находит среди других цифры 0 -10","Ребенок выполняет количественный и порядковый счет в пределах 0-10","Ребенок знает состав чисел из единиц в пределах 5","Ребенок понимает календарные единицы времени (сутки, неделя, месяц, год)","Ребенок ориентируется на листе бумаги","Ребенок понимает простейшую графическую информацию об отношениях предметов (слева направо, справа налево, снизу вверх, сверху вниз)","Ребенок выделяет сходства и отличия между группами предметов","Ребенок сравнивает предметы по 3-5 признакам","Ребенок группирует предметы по разным основаниям, преимущественно на основе зрительной оценки",null,null,"Ребенок имеет представление о сходстве и различии во внешнем виде и образе жизни объектов животного и растительного мира в разные сезоны года","Ребенок может сравнивать, группировать объекты живой природы по их особенностям, мету обитания, образу жизни, питанию","Ребенок имеет представление о признаках разных времен года","Ребенок наблюдает за явлениями природы, фиксирует результаты наблюдения","Отношение к самому себе",null,"Отношение к сверстникам",null,"Отношение к взрослым",null,"Эмоции",{"$nulls":3},"Поведение","Семья",null,null,"Игровое поведение",null,null,"Ребенок имеет представление о государственных символах России (герб, гимн, флаг)","Ребенок имеет представление о государственных праздниках России","Ребенок знает/может назвать/показать на картинке и в естественной среде достопримечательности населенного пункта, в котором живет","Ребенок имеет представления о разных видах производительного труда (промышленность, строительство, сельское хозяйство)","Ребенок имеет представления о разных видах обслуживающего труда (сфера досуга и отдыха, сфера культуры, медицина, торговля)","Ребенок имеет представление о структуре трудового процесса (мотив, цель, инструменты, оборудование, содержание действий, выбор трудовых действий, результат)","Ребенок имеет элементарные экономические представления (назначение рекламы, денег)","Ребенок охотно участвует в выполнении трудовых поручений, дежурстве; может распределять трудовые обязанности с другими","Ребенок имеет представления/ соблюдает правила поведения в быту, на улице, в природе, в общении с людьми, с животными","Ребенок выполняет различные упражнения с мячом (прокатывание, передача, перебрасывание, ведение, подбрасывание, ловля, забрасывание)","Ребенок выполняет метание в цель, метание в даль предметов разной массы","Ребенок выполняет ползанье разными способами (на четвереньках, на животе)","Ребенок выполняет переползание через несколько предметов подряд, под дугами, в туннеле","Ребенок выполняет лазанье по гимнастической стенке чередующимся шагом","Ребенок выполняет различные виды ходьбы",null,null,"Ребенок выполняет различные виды бега",null,null,"Ребенок выполняет различные виды прыжков",{"$nulls":4},"Ребенок выполняет стойку на одной ноге ","Ребенок выполняет упражнение \"ласточка\" ","Ребенок выполняет различные виды строевых упражнений",{"$nulls":7},"Ребенок выполняет самостоятельно","Ребенок выполняет самостоятельно","Ребенок выполняет самостоятельно","Ребенок выполняет самостоятельно"]
[{"$nulls":50},"Ребенок называет/различает все цвета спектра и ахроматические цвета, оттенки цвета, тоны цвета, теплые и холодные оттенки","Ребенок владеет способами воссоздания фигуры из частей, деления фигуры на части","Ребенок может выстраивать сериационные ряды предметов, различающихся по размеру в возрастающем и убывающем порядке в пределах 10",{"$nulls":12},"о многообразии людей разных национальностей (особенностей внешнего вида, одежды, традиций)","Ребенок имеет представление о многообразии стран и народов мира",{"$nulls":4},"Ребенок может рассказать о себе, выразить собственные потребности, желания","Ребенок имеет представление о некоторых своих правах","Ребенок имеет предпочтения в общении","Ребенок охотно вступает в общение со сверстниками","Ребенок уважительно относится к взрослым, пожилым людям","Ребенок охотно вступает в общение со взрослыми","Ребенок понимает свои и чужие эмоциональные состояния, демонстрирует примеры эмоциональной поддержки ","Ребенок  откликается на просьбу помочь","Ребенок выразить чувства и эмоции в мимике, пантомимике, действиях, интонации","Ребенок демонстрирует адекватные возрасту способы регуляции эмоциональных состояний","Ребенок ориентируется на общепринятые нормы и правила культуры поведения","Ребенок знает членов своей семьи, ближайших родственников по линии матери и отца","Ребенок имеет представление о способах поддержки родственных связей (переписка, разговор, совместный отдых, традиции, походы в гости и др.)","Ребенок проявляет заботу по отношению к членам своей семьи, оказывает посильную помощь больному члену семьи","Ребенок в совместной деятельности принимает общую цель, договаривается о способах деятельности и материалах, может уступить в конфликтной ситуации","Ребенок проявляет интерес к игровому экспериментированию, развивающим и познавательным играм","Ребенок способен действовать в точном соответствие с игровой задачей и правилами",{"$nulls":14},"обычным шагом, на носках, на пятках, с высоким подниманием колен","приставной, в полуприседе, мелким и широким, перекатом с пятки на носок, гимнастическим","змейкой без ориентиров, в колонне по одному и по два","в колонне по одному, змейкой, с перестроением на ходу в пары, звенья","со сменой ведущих, с пролезанием в обруч, с ловлей и увертыванием, высоко поднимая колени","между расставленными предметами, в заданном темпе, мелким и широким шагом","подпрыгивание, перепрыгивание, спрыгивание","в длину с места","в высоту с разбега","в длину с разбега","со скакалкой",null,null,"построения (по росту, в колонну по одному, в шеренгу, в круг)","в колонну по три, в две шеренги на месте, расхождение из колонны в разные стороны"]
["начало года",{"$f":"'Худ.эст.к 6г ч1. Н.г.'!E22","v":0},{"$f":"'Худ.эст.к 6г ч1. Н.г.'!F22","v":0},{"$f":"'Худ.эст.к 6г ч1. Н.г.'!G22","v":0},{"$f":"'Худ.эст.к 6г ч1. Н.г.'!H22","v":0},{"$f":"'Худ.эст.к 6г ч1. Н.г.'!I22","v":0},{"$f":"'Худ.эст.к 6г ч1. Н.г.'!J22","v":0},{"$f":"'Худ.эст.к 6г ч1. Н.г.'!K22","v":0},{"$f":"'Худ.эст.к 6г ч1. Н.г.'!L22","v":0},{"$f":"'Худ.эст.к 6г ч1. Н.г.'!M22","v":0},{"$f":"'Худ.эст.к 6г ч1. Н.г.'!N22","v":0},{"$f":"'Худ.эст.к 6г ч1. Н.г.'!O22","v":0},{"$f":"'Худ.эст.к 6г ч2. Н.г.'!E22","v":0},{"$f":"'Худ.эст.к 6г ч2. Н.г.'!F22","v":0},{"$f":"'Худ.эст.к 6г ч2. Н.г.'!G22","v":0},{"$f":"'Худ.эст.к 6г ч2. Н.г.'!H22","v":0},{"$f":"'Худ.эст.к 6г ч2. Н.г.'!I22","v":0},{"$f":"'Худ.эст.к 6г ч2. Н.г.'!J22","v":0},{"$f":"'Худ.эст.к 6г ч2. Н.г.'!K22","v":0},{"$f":"'Худ.эст.к 6г ч2. Н.г.'!L22","v":0},{"$f":"'Худ.эст.к 6г ч2. Н.г.'!M22","v":0},{"$f":"'Худ.эст.к 6г ч3. Н.г.'!E22","v":0},{"$f":"'Худ.эст.к 6г ч3. Н.г.'!F22","v":0},{"$f":"'Худ.эст.к 6г ч3. Н.г.'!G22","v":0},{"$f":"'Худ.эст.к 6г ч3. Н.г.'!H22","v":0},{"$f":"'Худ.эст.к 6г ч3. Н.г.'!I22","v":0},{"$f":"'Худ.эст.к 6г ч3. Н.г.'!J22","v":0},{"$f":"'Худ.эст.к 6г ч3. Н.г.'!K22","v":0},{"$f":"'Худ.эст.к 6г ч3. Н.г.'!L22","v":0},{"$f":"'Реч.разв.к 6г ч1. Н.г.'!E21","v":0},{"$f":"'Реч.разв.к 6г ч1. Н.г.'!F21","v":0},{"$f":"'Реч.разв.к 6г ч1. Н.г.'!G21","v":0},{"$f":"'Реч.разв.к 6г ч1. Н.г.'!H21","v":0},{"$f":"'Реч.разв.к 6г ч1. Н.г.'!I21","v":0},{"$f":"'Реч.разв.к 6г ч1. Н.г.'!J21","v":0},{"$f":"'Реч.разв.к 6г ч1. Н.г.'!K21","v":0},{"$f":"'Реч.разв.к 6г ч1. Н.г.'!L21","v":0},{"$f":"'Реч.разв.к 6г ч2. Н.г.'!E21","v":0},{"$f":"'Реч.разв.к 6г ч2. Н.г.'!F21","v":0},{"$f":"'Реч.разв.к 6г ч2. Н.г.'!G21","v":0},{"$f":"'Реч.разв.к 6г ч2. Н.г.'!H21","v":0},{"$f":"'Реч.разв.к 6г ч2. Н.г.'!I21","v":0},{"$f":"'Реч.разв.к 6г ч2. Н.г.'!J21","v":0},{"$f":"'Реч.разв.к 6г ч2. Н.г.'!K21","v":0},{"$f":"'Реч.разв.к 6г ч2. Н.г.'!L21","v":0},{"$f":"'Реч.разв.к 6г ч2. Н.г.'!M21","v":0},{"$f":"'Реч.разв.к 6г ч2. Н.г.'!N21","v":0},{"$f":"'Реч.разв.к 6г ч2. Н.г.'!O21","v":0},{"$f":"'Реч.разв.к 6г ч2. Н.г.'!P21","v":0},{"$f":"'Реч.разв.к 6г ч2. Н.г.'!Q21","v":0},{"$f":"'Позн.разв. к 6г ч1. Н.г.'!E22","v":0},{"$f":"'Позн.разв. к 6г ч1. Н.г.'!F22","v":0},{"$f":"'Позн.разв. к 6г ч1. Н.г.'!G22","v":0},{"$f":"'Позн.разв. к 6г ч1. Н.г.'!H22","v":0},{"$f":"'Позн.разв. к 6г ч1. Н.г.'!I22","v":0},{"$f":"'Позн.разв. к 6г ч1. Н.г.'!J22","v":0},{"$f":"'Позн.разв. к 6г ч1. Н.г.'!K22","v":0},{"$f":"'Позн.разв. к 6г ч1. Н.г.'!L22","v":0},{"$f":"'Позн.разв. к 6г ч1. Н.г.'!M22","v":0},{"$f":"'Позн.разв. к 6г ч1. Н.г.'!N22","v":0},{"$f":"'Позн.разв. к 6г ч1. Н.г.'!O22","v":0},{"$f":"'Позн.разв. к 6г ч1. Н.г.'!P22","v":0},{"$f":"'Позн.разв. к 6г ч1. Н.г.'!Q22","v":0},{"$f":"'Позн.разв. к 6г ч1. Н.г.'!R22","v":0},{"$f":"'Позн.разв. к 6г ч1. Н.г.'!S22","v":0},{"$f":"'Позн.разв. к 6г ч2. Н.г.'!E22","v":0},{"$f":"'Позн.разв. к 6г ч2. Н.г.'!F22","v":0},{"$f":"'Позн.разв. к 6г ч2. Н.г.'!G22","v":0},{"$f":"'Позн.разв. к 6г ч2. Н.г.'!H22","v":0},{"$f":"'Позн.разв. к 6г ч2. Н.г.'!I22","v":0},{"$f":"'Позн.разв. к 6г ч2. Н.г.'!J22","v":0},{"$f":"'Соц.ком.к 6г ч1. Н.г.'!E21","v":0},{"$f":"'Соц.ком.к 6г ч1. Н.г.'!F21","v":0},{"$f":"'Соц.ком.к 6г ч1. Н.г.'!G21","v":0},{"$f":"'Соц.ком.к 6г ч1. Н.г.'!H21","v":0},{"$f":"'Соц.ком.к 6г ч1. Н.г.'!I21","v":0},{"$f":"'Соц.ком.к 6г ч1. Н.г.'!J21","v":0},{"$f":"'Соц.ком.к 6г ч1. Н.г.'!K21","v":0},{"$f":"'Соц.ком.к 6г ч1. Н.г.'!L21","v":0},{"$f":"'Соц.ком.к 6г ч1. Н.г.'!M21","v":0},{"$f":"'Соц.ком.к 6г ч1. Н.г.'!N21","v":0},{"$f":"'Соц.ком.к 6г ч1. Н.г.'!O21","v":0},{"$f":"'Соц.ком.к 6г ч1. Н.г.'!P21","v":0},{"$f":"'Соц.ком.к 6г ч1. Н.г.'!Q21","v":0},{"$f":"'Соц.ком.к 6г ч1. Н.г.'!R21","v":0},{"$f":"'Соц.ком.к 6г ч1. Н.г.'!S21","v":0},{"$f":"'Соц.ком.к 6г ч1. Н.г.'!T21","v":0},{"$f":"'Соц.ком.к 6г ч1. Н.г.'!U21","v":0},{"$f":"'Соц.ком. к 6г ч2. Н.г.'!E21","v":0},{"$f":"'Соц.ком. к 6г ч2. Н.г.'!F21","v":0},{"$f":"'Соц.ком. к 6г ч2. Н.г.'!G21","v":0},{"$f":"'Соц.ком. к 6г ч2. Н.г.'!H21","v":0},{"$f":"'Соц.ком. к 6г ч2. Н.г.'!I21","v":0},{"$f":"'Соц.ком. к 6г ч2. Н.г.'!J21","v":0},{"$f":"'Соц.ком. к 6г ч2. Н.г.'!K21","v":0},{"$f":"'Соц.ком. к 6г ч2. Н.г.'!L21","v":0},{"$f":"'Соц.ком. к 6г ч2. Н.г.'!M21","v":0},{"$f":"'Физ.разв. к 6г ч1. Н.г.'!E22","v":0},{"$f":"'Физ.разв. к 6г ч1. Н.г.'!F22","v":0},{"$f":"'Физ.разв. к 6г ч1. Н.г.'!G22","v":0},{"$f":"'Физ.разв. к 6г ч1. Н.г.'!H22","v":0},{"$f":"'Физ.разв. к 6г ч1. Н.г.'!I22","v":0},{"$f":"'Физ.разв. к 6г ч1. Н.г.'!J22","v":0},{"$f":"'Физ.разв. к 6г ч1. Н.г.'!K22","v":0},{"$f":"'Физ.разв. к 6г ч1. Н.г.'!L22","v":0},{"$f":"'Физ.разв. к 6г ч1. Н.г.'!M22","v":0},{"$f":"'Физ.разв. к 6г ч1. Н.г.'!N22","v":0},{"$f":"'Физ.разв. к 6г ч1. Н.г.'!O22","v":0},{"$f":"'Физ.разв. к 6г ч1. Н.г.'!P22","v":0},{"$f":"'Физ.разв. к 6г ч1. Н.г.'!Q22","v":0},{"$f":"'Физ.разв. к 6г ч1. Н.г.'!R22","v":0},{"$f":"'Физ.разв. к 6г ч1. Н.г.'!S22","v":0},{"$f":"'Физ.разв. к 6г ч1. Н.г.'!T22","v":0},{"$f":"'Физ.разв. к 6г ч1. Н.г.'!U22","v":0},{"$f":"'Физ.разв. к 6г ч1. Н.г.'!V22","v":0},{"$f":"'Физ.разв. к 6г ч1. Н.г.'!W22","v":0},{"$f":"'Физ.разв. к 6г ч1. Н.г.'!X22","v":0},{"$f":"'Физ.разв. к 6г ч2. Н.г.'!E23","v":0},{"$f":"'Физ.разв. к 6г ч2. Н.г.'!F23","v":0},{"$f":"'Физ.разв. к 6г ч2. Н.г.'!G23","v":0},{"$f":"'Физ.разв. к 6г ч2. Н.г.'!H23","v":0},{"$f":"'Физ.разв. к 6г ч2. Н.г.'!I23","v":0},{"$f":"'Физ.разв. к 6г ч2. Н.г.'!J23","v":0},{"$f":"'Физ.разв. к 6г ч2. Н.г.'!K23","v":0},{"$f":"'Физ.разв. к 6г ч2. Н.г.'!L23","v":0},{"$f":"'Физ.разв. к 6г ч2. Н.г.'!M23","v":0},{"$f":"'Физ.разв. к 6г ч2. Н.г.'!N23","v":0},{"$f":"'Физ.разв. к 6г ч2. Н.г.'!O23","v":0},{"$f":"'Физ.разв. к 6г ч2. Н.г.'!P23","v":0},{"$f":"'Физ.разв. к 6г ч2. Н.г.'!Q23","v":0},{"$f":"'Физ.разв. к 6г ч2. Н.г.'!R23","v":0},{"$f":"'Физ.разв. к 6г ч2. Н.г.'!S23","v":0},{"$f":"'Физ.разв. к 6г ч2. Н.г.'!T23","v":0},{"$f":"'Физ.разв. к 6г ч2. Н.г.'!U23","v":0},{"$f":"'Физ.разв. к 6г ч2. Н.г.'!V23","v":0},{"$f":"'Физ.разв. к 6г ч2. Н.г.'!W23","v":0},{"$f":"'Физ.разв. к 6г ч2. Н.г.'!X23","v":0},{"$f":"'Физ.разв. к 6г ч2. Н.г.'!Y23","v":0}]
["конец года",{"$f":"'Худ.эст.к 6г ч1. К.г. '!E22","v":0},{"$f":"'Худ.эст.к 6г ч1. К.г. '!F22","v":0},{"$f":"'Худ.эст.к 6г ч1. К.г. '!G22","v":0},{"$f":"'Худ.эст.к 6г ч1. К.г. '!H22","v":0},{"$f":"'Худ.эст.к 6г ч1. К.г. '!I22","v":0},{"$f":"'Худ.эст.к 6г ч1. К.г. '!J22","v":0},{"$f":"'Худ.эст.к 6г ч1. К.г. '!K22","v":0},{"$f":"'Худ.эст.к 6г ч1. К.г. '!L22","v":0},{"$f":"'Худ.эст.к 6г ч1. К.г. '!M22","v":0},{"$f":"'Худ.эст.к 6г ч1. К.г. '!N22","v":0},{"$f":"'Худ.эст.к 6г ч1. К.г. '!O22","v":0},{"$f":"'Худ.эст.к 6г ч2. К.г. '!E22","v":0},{"$f":"'Худ.эст.к 6г ч2. К.г. '!F22","v":0},{"$f":"'Худ.эст.к 6г ч2. К.г. '!G22","v":0},{"$f":"'Худ.эст.к 6г ч2. К.г. '!H22","v":0},{"$f":"'Худ.эст.к 6г ч2. К.г. '!I22","v":0},{"$f":"'Худ.эст.к 6г ч2. К.г. '!J22","v":0},{"$f":"'Худ.эст.к 6г ч2. К.г. '!K22","v":0},{"$f":"'Худ.эст.к 6г ч2. К.г. '!L22","v":0},{"$f":"'Худ.эст.к 6г ч2. К.г. '!M22","v":0},{"$f":"'Худ.эст.к 6г ч3. К.г. '!E22","v":0},{"$f":"'Худ.эст.к 6г ч3. К.г. '!F22","v":0},{"$f":"'Худ.эст.к 6г ч3. К.г. '!G22","v":0},{"$f":"'Худ.эст.к 6г ч3. К.г. '!H22","v":0},{"$f":"'Худ.эст.к 6г ч3. К.г. '!I22","v":0},{"$f":"'Худ.эст.к 6г ч3. К.г. '!J22","v":0},{"$f":"'Худ.эст.к 6г ч3. К.г. '!K22","v":0},{"$f":"'Худ.эст.к 6г ч3. К.г. '!L22","v":0},{"$f":"'Реч.разв.к 6г ч1. К.г. '!E21","v":0},{"$f":"'Реч.разв.к 6г ч1. К.г. '!F21","v":0},{"$f":"'Реч.разв.к 6г ч1. К.г. '!G21","v":0},{"$f":"'Реч.разв.к 6г ч1. К.г. '!H21","v":0},{"$f":"'Реч.разв.к 6г ч1. К.г. '!I21","v":0},{"$f":"'Реч.разв.к 6г ч1. К.г. '!J21","v":0},{"$f":"'Реч.разв.к 6г ч1. К.г. '!K21","v":0},{"$f":"'Реч.разв.к 6г ч1. К.г. '!L21","v":0},{"$f":"'Реч.разв.к 6г ч2. К.г. '!E21","v":0},{"$f":"'Реч.разв.к 6г ч2. К.г. '!F21","v":0},{"$f":"'Реч.разв.к 6г ч2. К.г. '!G21","v":0},{"$f":"'Реч.разв.к 6г ч2. К.г. '!H21","v":0},{"$f":"'Реч.разв.к 6г ч2. К.г. '!I21","v":0},{"$f":"'Реч.разв.к 6г ч2. К.г. '!J21","v":0},{"$f":"'Реч.разв.к 6г ч2. К.г. '!K21","v":0},{"$f":"'Реч.разв.к 6г ч2. К.г. '!L21","v":0},{"$f":"'Реч.разв.к 6г ч2. К.г. '!M21","v":0},{"$f":"'Реч.разв.к 6г ч2. К.г. '!N21","v":0},{"$f":"'Реч.разв.к 6г ч2. К.г. '!O21","v":0},{"$f":"'Реч.разв.к 6г ч2. К.г. '!P21","v":0},{"$f":"'Реч.разв.к 6г ч2. К.г. '!Q21","v":0},{"$f":"'Позн.разв. к 6г ч1. К.г. '!E22","v":0},{"$f":"'Позн.разв. к 6г ч1. К.г. '!F22","v":0},{"$f":"'Позн.разв. к 6г ч1. К.г. '!G22","v":0},{"$f":"'Позн.разв. к 6г ч1. К.г. '!H22","v":0},{"$f":"'Позн.разв. к 6г ч1. К.г. '!I22","v":0},{"$f":"'Позн.разв. к 6г ч1. К.г. '!J22","v":0},{"$f":"'Позн.разв. к 6г ч1. К.г. '!K22","v":0},{"$f":"'Позн.разв. к 6г ч1. К.г. '!L22","v":0},{"$f":"'Позн.разв. к 6г ч1. К.г. '!M22","v":0},{"$f":"'Позн.разв. к 6г ч1. К.г. '!N22","v":0},{"$f":"'Позн.разв. к 6г ч1. К.г. '!O22","v":0},{"$f":"'Позн.разв. к 6г ч1. К.г. '!P22","v":0},{"$f":"'Позн.разв. к 6г ч1. К.г. '!Q22","v":0},{"$f":"'Позн.разв. к 6г ч1. К.г. '!R22","v":0},{"$f":"'Позн.разв. к 6г ч1. К.г. '!S22","v":0},{"$f":"'Позн.разв. к 6г ч2. К.г. '!E22","v":0},{"$f":"'Позн.разв. к 6г ч2. К.г. '!F22","v":0},{"$f":"'Позн.разв. к 6г ч2. К.г. '!G22","v":0},{"$f":"'Позн.разв. к 6г ч2. К.г. '!H22","v":0},{"$f":"'Позн.разв. к 6г ч2. К.г. '!I22","v":0},{"$f":"'Позн.разв. к 6г ч2. К.г. '!J22","v":0},{"$f":"'Соц.ком.к 6г ч1. К.г. '!$E$21","v":0},{"$f":"'Соц.ком.к 6г ч1. К.г. '!$E$21","v":0},{"$f":"'Соц.ком.к 6г ч1. К.г. '!$E$21","v":0},{"$f":"'Соц.ком.к 6г ч1. К.г. '!$E$21","v":0},{"$f":"'Соц.ком.к 6г ч1. К.г. '!$E$21","v":0},{"$f":"'Соц.ком.к 6г ч1. К.г. '!$E$21","v":0},{"$f":"'Соц.ком.к 6г ч1. К.г. '!$E$21","v":0},{"$f":"'Соц.ком.к 6г ч1. К.г. '!$E$21","v":0},{"$f":"'Соц.ком.к 6г ч1. К.г. '!$E$21","v":0},{"$f":"'Соц.ком.к 6г ч1. К.г. '!$E$21","v":0},{"$f":"'Соц.ком.к 6г ч1. К.г. '!$E$21","v":0},{"$f":"'Соц.ком.к 6г ч1. К.г. '!$E$21","v":0},{"$f":"'Соц.ком.к 6г ч1. К.г. '!$E$21","v":0},{"$f":"'Соц.ком.к 6г ч1. К.г. '!$E$21","v":0},{"$f":"'Соц.ком.к 6г ч1. К.г. '!$E$21","v":0},{"$f":"'Соц.ком.к 6г ч1. К.г. '!$E$21","v":0},{"$f":"'Соц.ком.к 6г ч1. К.г. '!$E$21","v":0},{"$f":"'Соц.ком. к 6г ч2 К.г.'!E21","v":0},{"$f":"'Соц.ком. к 6г ч2 К.г.'!F21","v":0},{"$f":"'Соц.ком. к 6г ч2 К.г.'!G21","v":0},{"$f":"'Соц.ком. к 6г ч2 К.г.'!H21","v":0},{"$f":"'Соц.ком. к 6г ч2 К.г.'!I21","v":0},{"$f":"'Соц.ком. к 6г ч2 К.г.'!J21","v":0},{"$f":"'Соц.ком. к 6г ч2 К.г.'!K21","v":0},{"$f":"'Соц.ком. к 6г ч2 К.г.'!L21","v":0},{"$f":"'Соц.ком. к 6г ч2 К.г.'!M21","v":0},{"$f":"'Физ.разв. к 6г ч1. К.г. '!E22","v":0},{"$f":"'Физ.разв. к 6г ч1. К.г. '!F22","v":0},{"$f":"'Физ.разв. к 6г ч1. К.г. '!G22","v":0},{"$f":"'Физ.разв. к 6г ч1. К.г. '!H22","v":0},{"$f":"'Физ.разв. к 6г ч1. К.г. '!I22","v":0},{"$f":"'Физ.разв. к 6г ч1. К.г. '!J22","v":0},{"$f":"'Физ.разв. к 6г ч1. К.г. '!K22","v":0},{"$f":"'Физ.разв. к 6г ч1. К.г. '!L22","v":0},{"$f":"'Физ.разв. к 6г ч1. К.г. '!M22","v":0},{"$f":"'Физ.разв. к 6г ч1. К.г. '!N22","v":0},{"$f":"'Физ.разв. к 6г ч1. К.г. '!O22","v":0},{"$f":"'Физ.разв. к 6г ч1. К.г. '!P22","v":0},{"$f":"'Физ.разв. к 6г ч1. К.г. '!Q22","v":0},{"$f":"'Физ.разв. к 6г ч1. К.г. '!R22","v":0},{"$f":"'Физ.разв. к 6г ч1. К.г. '!S22","v":0},{"$f":"'Физ.разв. к 6г ч1. К.г. '!T22","v":0},{"$f":"'Физ.разв. к 6г ч1. К.г. '!U22","v":0},{"$f":"'Физ.разв. к 6г ч1. К.г. '!V22","v":0},{"$f":"'Физ.разв. к 6г ч1. К.г. '!W22","v":0},{"$f":"'Физ.разв. к 6г ч1. К.г. '!X22","v":0},{"$f":"'Физ.разв. к 6г ч2. К.г. '!E23","v":0},{"$f":"'Физ.разв. к 6г ч2. К.г. '!F23","v":0},{"$f":"'Физ.разв. к 6г ч2. К.г. '!G23","v":0},{"$f":"'Физ.разв. к 6г ч2. К.г. '!H23","v":0},{"$f":"'Физ.разв. к 6г ч2. К.г. '!I23","v":0},{"$f":"'Физ.разв. к 6г ч2. К.г. '!J23","v":0},{"$f":"'Физ.разв. к 6г ч2. К.г. '!K23","v":0},{"$f":"'Физ.разв. к 6г ч2. К.г. '!L23","v":0},{"$f":"'Физ.разв. к 6г ч2. К.г. '!M23","v":0},{"$f":"'Физ.разв. к 6г ч2. К.г. '!N23","v":0},{"$f":"'Физ.разв. к 6г ч2. К.г. '!O23","v":0},{"$f":"'Физ.разв. к 6г ч2. К.г. '!P23","v":0},{"$f":"'Физ.разв. к 6г ч2. К.г. '!Q23","v":0},{"$f":"'Физ.разв. к 6г ч2. К.г. '!R23","v":0},{"$f":"'Физ.разв. к 6г ч2. К.г. '!S23","v":0},{"$f":"'Физ.разв. к 6г ч2. К.г. '!T23","v":0},{"$f":"'Физ.разв. к 6г ч2. К.г. '!U23","v":0},{"$f":"'Физ.разв. к 6г ч2. К.г. '!V23","v":0},{"$f":"'Физ.разв. к 6г ч2. К.г. '!W23","v":0},{"$f":"'Физ.разв. к 6г ч2. К.г. '!X23","v":0},{"$f":"'Физ.разв. к 6г ч2. К.г. '!Y23","v":0}]

{"sheet":"12","index":39,"n_rows":11,"n_cols":138,"rows_kept":11,"merged":[[4,117,4,122],[4,123,4,126],[4,127,4,129],[4,130,4,132],[4,134,4,137],[5,0,8,0],[5,1,5,11],[5,12,5,19],[5,21,6,26],[5,27,6,28],[5,50,5,52],[5,53,5,55],[5,56,5,64],[5,65,5,66],[5,67,5,70],[5,117,5,118],[5,119,5,122],[5,123,6,123],[5,124,6,124],[5,125,6,125],[5,126,6,126],[5,127,8,127],[5,128,8,128],[5,129,8,129],[5,130,8,130],[5,131,8,131],[5,132,8,132],[5,133,8,133],[5,134,5,137],[6,1,6,4],[6,9,6,10],[6,12,6,13],[6,16,6,17],[6,18,6,19],[6,20,8,20],[6,30,6,31],[6,32,6,36],[6,38,6,43],[6,45,6,49],[6,53,8,53],[6,54,8,54],[6,55,8,55],[6,56,6,58],[6,62,6,64],[6,65,7,66],[6,67,6,68],[6,69,6,70],[6,71,6,87],[6,88,6,90],[6,91,6,95],[6,97,6,98],[6,99,6,101],[6,102,6,104],[6,105,6,107],[6,108,6,112],[6,113,6,114],[6,115,6,116],[6,117,8,117],[6,118,8,118],[6,119,8,119],[6,120,8,120],[6,121,8,121],[6,122,8,122],[6,134,8,134],[6,135,8,135],[6,136,8,136],[6,137,8,137],[7,1,8,1],[7,2,8,2],[7,3,8,3],[7,4,8,4],[7,5,8,5],[7,6,8,6],[7,7,8,7],[7,8,8,8],[7,9,8,9],[7,10,8,10],[7,11,8,11],[7,12,8,12],[7,13,8,13],[7,14,8,14],[7,15,8,15],[7,16,8,16],[7,17,8,17],[7,18,8,18],[7,19,8,19],[7,21,8,21],[7,22,8,22],[7,23,8,23],[7,24,8,24],[7,25,8,25],[7,26,8,26],[7,27,8,27],[7,28,8,28],[7,29,8,29],[7,30,8,30],[7,31,8,31],[7,32,8,32],[7,33,8,33],[7,34,8,34],[7,35,8,35],[7,36,8,36],[7,37,8,37],[7,38,8,38],[7,39,8,39],[7,40,8,40],[7,41,8,41],[7,42,8,42],[7,43,8,43],[7,44,8,44],[7,45,8,45],[7,46,8,46],[7,47,8,47],[7,48,8,48],[7,49,8,49],[7,50,7,52],[7,56,8,56],[7,57,8,57],[7,58,8,58],[7,59,8,59],[7,60,8,60],[7,61,8,61],[7,62,8,62],[7,63,8,63],[7,64,8,64],[7,67,8,67],[7,68,8,68],[7,69,8,69],[7,70,8,70],[7,71,7,72],[7,73,7,74],[7,75,7,76],[7,77,7,80],[7,82,7,84],[7,85,7,87],[7,88,8,88],[7,89,8,89],[7,90,8,90],[7,91,8,91],[7,92,8,92],[7,93,8,93],[7,94,8,94],[7,95,8,95],[7,96,8,96],[7,97,8,97],[7,98,8,98],[7,99,8,99],[7,100,8,100],[7,101,8,101],[7,102,7,104],[7,105,7,107],[7,108,7,112],[7,113,8,113],[7,114,8,114],[7,115,7,116],[7,123,8,123],[7,124,8,124],[7,125,8,125],[7,126,8,126]]}
[]
[]
[]
[]
[{"$nulls":117},"Мелкая моторика",{"$nulls":5},"КГН",{"$nulls":3},"ЗОЖ",null,null,"Подвижные игры",null,null,"Спорт. игры","Спортивные упражнения"]
[{"$f":"Список!B15","v":0},"Музыкальная деятельность",{"$nulls":10},"Изобразительная деятельность",{"$nulls":8},"Приобщение к искусству",{"$nulls":5},"Конструктивная деятельность",{"$nulls":22},"Сенсорные эталоны ",null,null,"Познавательные действия",null,null,"Математические представления",{"$nulls":8},"Окружающий мир",null,"Природа ",{"$nulls":49},"Координация рук и глаз",null,"Графические навыки",{"$nulls":3},"Навыки соблюдения чистоты тела (правила личной гигиены)","Навыки культуры еды (прием пищи) ","Навыки поддержания порядка (правила поведения в быту) ","Навыки ухода за собой (одевание, раздевание) ","Ребенок имеет представление о факторах, положительно/негативно влияющих на здоровье; владеет основными способами укрепления здоровья","Ребенок имеет представление о некоторых видах спорта (9 и больше), роли спорта для укрепления здоровья","Ребенок проявляет заботливое отношение к своему здоровью и здоровью окружающих","Ребенок проявляет доступный возрасту самоконтроль","Ребенок  способен привлечь внимание других детей и организовать знакомую подвижную игру","Ребенок придумывает новые варианты игр, комбинирует движения","Ребенок имеет представление об элементах спортивных игр (городки, баскетбол, бадминтон, футбол), умеет выполнять некоторые виды движений","Ребенок умеет кататься"]
[null,"Слушание",{"$nulls":3},"Пение ","Музыкально-ритмические движения","Песенное творчество","Игра на детских музыкальных инструментах","Театрализованная деятельность",null,"Танцевально-игровое творчество","Рисование ",null,"Лепка ","Аппликация ","Народное ДПИ",null,"Прикладное творчество",null,"Ребенок самостоятельно определяет замысел рисунка, аппликации, лепки, поделки, создает образы и композиционные изображения, использует разнообразные материалы",{"$nulls":8},"Общее речевое развитие","Формирование словаря",null,"Грамматический строй",{"$nulls":4},"Звуковая культура речи","Связная речь",{"$nulls":5},"ЧХЛ","Подготовка к обучению грамоте",{"$nulls":4},"Цвет, оттенки","Форма, геометрические фигуры","Величина","Ребенок охотно участвует в обсуждении проблемы для совместного нахождения способов ее решения, предлагает пути решения, устанавливает закономерности причинно-следственного характера, проявляет любознательность","Ребенок использует математические знания, способы и средства для познания окружающего мира","Ребенок способен к произвольным умственным действиям, логическим операциям анализа, сравнения, обобщения, систематизации, классификации","Количество и счет",null,null,"Ориентировка во времени","Ориентировка в пространстве","Пространственно-количественные связи и отношения","Сравнение",null,null,"Ребенок имеет представления, может показать на картинке и в естественной среде, может рассказать",null,"Объекты живой природы",null,"Объекты неживой природы, природные явления",null,"Сфера социальных отношений",{"$nulls":16},"Область формирования основ гражданственности и патриотизма",null,null,"Сфера трудового воспитания",{"$nulls":4},"Область формирования основ безопасного поведения","Бросание, катание, ловля, метание",null,"Ползанье, лазанье",null,null,"Ходьба",null,null,"Бег",null,null,"Прыжки",{"$nulls":4},"Равновесие",null,"Строевые упражнения",null,"Ребенок может найти выход из лабиринта","Ребенок может нарисовать простой узор, изображение, не отрывая руки","Ребенок может повторить узор с чередующимися элементами","Ребенок закрашивает контурное изображение с множеством мелких деталей, не выходя за контур","Ребенок может соединить точки для получения изображения","Ребенок рисует геометрический орнамент по клеткам",{"$nulls":11},"на санках","на лыжах","на двухколесном велосипеде","на самокате"]
[null,"Ребенок различает жанры музыкальных произведений (песня, танец, марш)","Ребенок узнает мелодию по отдельным фрагментам произведения (вступление, заключение, музыкальная фраза)","Ребенок различает звуки по высоте в пределах квинты","Ребенок различает звучание музыкальных инструментов (клавишно-ударных, струнных)","Ребенок демонстрирует развитые певческие навыки","Ребенок демонстрирует развитые навыки исполнения танцевальных движений","Ребенок может импровизировать мелодию на заданный текст","Ребенок демонстрирует навыки игры на детских музыкальных инструментах","Ребенок имеет представление о различных видах театрального искусства","Ребенок с удовольствие занимается театрализованной деятельностью","Ребенок может придумывать движения к танцам","Ребенок передает в изображении основные свойства предметов (форма, величина, цвет), характерные детали, соотношение предметов и их частей по величине, высоте, расположению относительно друг друга","Ребенок владеет основными способами и приемами рисования различными изобразительными материалами (цветные карандаши, гуашь, акварель, цветные мелки, пастель, сангина, угольный карандаш, фломастеры)","Ребенок лепит с натуры и по представлению знакомые предметы, передавая характерные особенности пластическим, конструктивным и комбинированным способами","Ребенок умеет пользоваться ножницами","Ребенок имеет представление о полхов-майданской, гжельской росписи","Ребенок может нарисовать узор, используя элементы  росписи","Ребенок умеет работать с бумагой (сгибать лист, сглаживать сгибы, надрезать по сгибам)","Ребенок умеет работать с природным и бросовым материалом",null,"Ребенок умеет выделять, называть, группировать произведения по видам искусства: литература, музыка, изобразительное искусство, архитектура, театр, цирк","Ребенок имеет представление о видах изобразительного искусства: графика, декоративно-прикладное искусство, живопись, скульптура, архитектура, фотоискусство","Ребенок имеет представление о жанрах изобразительного искусства: натюрморт, пейзаж, портрет","Ребенок имеет представление о народном искусстве, фольклоре, музыке и художественных промыслах","Ребенок имеет представление о творческих профессиях: художник, композитор, музыкант, актер, артист балета","Ребенок имеет представление о культурно-досуговых местах: театр, музей, библиотека, выставка, кинотеатр, цирк и др.","Ребенок может провести анализ постройки (выделить основные части и характерные детали конструкций)","Ребенок может выполнить постройку по инструкции","Ребенок внятно разговаривает","Ребенок умеет обобщать предметы в группы по существенным признакам","Ребенок демонстрирует богатый словарный запас","Ребенок правильно использует в речи: несклоняемые существительные","Ребенок правильно использует в речи: слова, имеющие только множественное или только единственное число","Ребенок правильно использует в речи: глаголы одеть-надеть","Ребенок правильно использует в речи: существительные множественного числа в родительном падеже","Ребенок правильно образовывает слова с помощью суффикса, приставки","Ребенок правильно произносит сонорные звуки: л-ль, р-рь","Ребенок пересказывает литературные произведения по ролям, по частям, правильно передавая идею и содержание","Ребенок пользуется прямой и косвенной речью","Ребенок составляет короткий описательный рассказ о предметах, объектах и явлениях природы, из личного опыта","Ребенок сочиняет сюжетные рассказы по картине, из личного опыта","Ребенок проявляет речевое творчество: придумывает продолжение и окончание к рассказу, рассказы по аналогии, по плану педагога, по модели","Ребенок владеет первичными приемами аргументации и доказательства","Ребенок проявляет избирательное отношение к произведениям определенной тематики и жанра","Ребенок понимает термины: слово: звук, буква, предложение, гласный звук, согласный звук","Ребенок может провести звуковой анализ слова, разделить на слоги двух-, трехслоговые слова; составляет схему слова","Ребенок различает гласные-согласные звуки","Ребенок определяет твердые-мягкие согласные","Ребенок составляет предложение по модели, определяет количество и последовательность слов в предложении","Ребенок различает и называет",{"$nulls":5},"Ребенок знает/называет/находит среди других цифры 0 -10","Ребенок выполняет количественный и порядковый счет в пределах 0-10","Ребенок знает состав чисел из единиц в пределах 5","Ребенок понимает календарные единицы времени (сутки, неделя, месяц, год)","Ребенок ориентируется на листе бумаги","Ребенок понимает простейшую графическую информацию об отношениях предметов (слева направо, справа налево, снизу вверх, сверху вниз)","Ребенок выделяет сходства и отличия между группами предметов","Ребенок сравнивает предметы по 3-5 признакам","Ребенок группирует предметы по разным основаниям, преимущественно на основе зрительной оценки",null,null,"Ребенок имеет представление о сходстве и различии во внешнем виде и образе жизни объектов животного и растительного мира в разные сезоны года","Ребенок может сравнивать, группировать объекты живой природы по их особенностям, мету обитания, образу жизни, питанию","Ребенок имеет представление о признаках разных времен года","Ребенок наблюдает за явлениями природы, фиксирует результаты наблюдения","Отношение к самому себе",null,"Отношение к сверстникам",null,"Отношение к взрослым",null,"Эмоции",{"$nulls":3},"Поведение","Семья",null,null,"Игровое поведение",null,null,"Ребенок имеет представление о государственных символах России (герб, гимн, флаг)","Ребенок имеет представление о государственных праздниках России","Ребенок знает/может назвать/показать на картинке и в естественной среде достопримечательности населенного пункта, в котором живет","Ребенок имеет представления о разных видах производительного труда (промышленность, строительство, сельское хозяйство)","Ребенок имеет представления о разных видах обслуживающего труда (сфера досуга и отдыха, сфера культуры, медицина, торговля)","Ребенок имеет представление о структуре трудового процесса (мотив, цель, инструменты, оборудование, содержание действий, выбор трудовых действий, результат)","Ребенок имеет элементарные экономические представления (назначение рекламы, денег)","Ребенок охотно участвует в выполнении трудовых поручений, дежурстве; может распределять трудовые обязанности с другими","Ребенок имеет представления/ соблюдает правила поведения в быту, на улице, в природе, в общении с людьми, с животными","Ребенок выполняет различные упражнения с мячом (прокатывание, передача, перебрасывание, ведение, подбрасывание, ловля, забрасывание)","Ребенок выполняет метание в цель, метание в даль предметов разной массы","Ребенок выполняет ползанье разными способами (на четвереньках, на животе)","Ребенок выполняет переползание через несколько предметов подряд, под дугами, в туннеле","Ребенок выполняет лазанье по гимнастической стенке чередующимся шагом","Ребенок выполняет различные виды ходьбы",null,null,"Ребенок выполняет различные виды бега",null,null,"Ребенок выполняет различные виды прыжков",{"$nulls":4},"Ребенок выполняет стойку на одной ноге ","Ребенок выполняет упражнение \"ласточка\" ","Ребенок выполняет различные виды строевых упражнений",{"$nulls":7},"Ребенок выполняет самостоятельно","Ребенок выполняет самостоятельно","Ребенок выполняет самостоятельно","Ребенок выполняет самостоятельно"]
[{"$nulls":50},"Ребенок называет/различает все цвета спектра и ахроматические цвета, оттенки цвета, тоны цвета, теплые и холодные оттенки","Ребенок владеет способами воссоздания фигуры из частей, деления фигуры на части","Ребенок может выстраивать сериационные ряды предметов, различающихся по размеру в возрастающем и убывающем порядке в пределах 10",{"$nulls":12},"о многообразии людей разных национальностей (особенностей внешнего вида, одежды, традиций)","Ребенок имеет представление о многообразии стран и народов мира",{"$nulls":4},"Ребенок может рассказать о себе, выразить собственные потребности, желания","Ребенок имеет представление о некоторых своих правах","Ребенок имеет предпочтения в общении","Ребенок охотно вступает в общение со сверстниками","Ребенок уважительно относится к взрослым, пожилым людям","Ребенок охотно вступает в общение со взрослыми","Ребенок понимает свои и чужие эмоциональные состояния, демонстрирует примеры эмоциональной поддержки ","Ребенок  откликается на просьбу помочь","Ребенок выразить чувства и эмоции в мимике, пантомимике, действиях, интонации","Ребенок демонстрирует адекватные возрасту способы регуляции эмоциональных состояний","Ребенок ориентируется на общепринятые нормы и правила культуры поведения","Ребенок знает членов своей семьи, ближайших родственников по линии матери и отца","Ребенок имеет представление о способах поддержки родственных связей (переписка, разговор, совместный отдых, традиции, походы в гости и др.)","Ребенок проявляет заботу по отношению к членам своей семьи, оказывает посильную помощь больному члену семьи","Ребенок в совместной деятельности принимает общую цель, договаривается о способах деятельности и материалах, может уступить в конфликтной ситуации","Ребенок проявляет интерес к игровому экспериментированию, развивающим и познавательным играм","Ребенок способен действовать в точном соответствие с игровой задачей и правилами",{"$nulls":14},"обычным шагом, на носках, на пятках, с высоким подниманием колен","приставной, в полуприседе, мелким и широким, перекатом с пятки на носок, гимнастическим","змейкой без ориентиров, в колонне по одному и по два","в колонне по одному, змейкой, с перестроением на ходу в пары, звенья","со сменой ведущих, с пролезанием в обруч, с ловлей и увертыванием, высоко поднимая колени","между расставленными предметами, в заданном темпе, мелким и широким шагом","подпрыгивание, перепрыгивание, спрыгивание","в длину с места","в высоту с разбега","в длину с разбега","со скакалкой",null,null,"построения (по росту, в колонну по одному, в шеренгу, в круг)","в колонну по три, в две шеренги на месте, расхождение из колонны в разные стороны"]
["начало года",{"$f":"'Худ.эст.к 6г ч1. Н.г.'!E23","v":0},{"$f":"'Худ.эст.к 6г ч1. Н.г.'!F23","v":0},{"$f":"'Худ.эст.к 6г ч1. Н.г.'!G23","v":0},{"$f":"'Худ.эст.к 6г ч1. Н.г.'!H23","v":0},{"$f":"'Худ.эст.к 6г ч1. Н.г.'!I23","v":0},{"$f":"'Худ.эст.к 6г ч1. Н.г.'!J23","v":0},{"$f":"'Худ.эст.к 6г ч1. Н.г.'!K23","v":0},{"$f":"'Худ.эст.к 6г ч1. Н.г.'!L23","v":0},{"$f":"'Худ.эст.к 6г ч1. Н.г.'!M23","v":0},{"$f":"'Худ.эст.к 6г ч1. Н.г.'!N23","v":0},{"$f":"'Худ.эст.к 6г ч1. Н.г.'!O23","v":0},{"$f":"'Худ.эст.к 6г ч2. Н.г.'!E23","v":0},{"$f":"'Худ.эст.к 6г ч2. Н.г.'!F23","v":0},{"$f":"'Худ.эст.к 6г ч2. Н.г.'!G23","v":0},{"$f":"'Худ.эст.к 6г ч2. Н.г.'!H23","v":0},{"$f":"'Худ.эст.к 6г ч2. Н.г.'!I23","v":0},{"$f":"'Худ.эст.к 6г ч2. Н.г.'!J23","v":0},{"$f":"'Худ.эст.к 6г ч2. Н.г.'!K23","v":0},{"$f":"'Худ.эст.к 6г ч2. Н.г.'!L23","v":0},{"$f":"'Худ.эст.к 6г ч2. Н.г.'!M23","v":0},{"$f":"'Худ.эст.к 6г ч3. Н.г.'!E23","v":0},{"$f":"'Худ.эст.к 6г ч3. Н.г.'!F23","v":0},{"$f":"'Худ.эст.к 6г ч3. Н.г.'!G23","v":0},{"$f":"'Худ.эст.к 6г ч3. Н.г.'!H23","v":0},{"$f":"'Худ.эст.к 6г ч3. Н.г.'!I23","v":0},{"$f":"'Худ.эст.к 6г ч3. Н.г.'!J23","v":0},{"$f":"'Худ.эст.к 6г ч3. Н.г.'!K23","v":0},{"$f":"'Худ.эст.к 6г ч3. Н.г.'!L23","v":0},{"$f":"'Реч.разв.к 6г ч1. Н.г.'!E22","v":0},{"$f":"'Реч.разв.к 6г ч1. Н.г.'!F22","v":0},{"$f":"'Реч.разв.к 6г ч1. Н.г.'!G22","v":0},{"$f":"'Реч.разв.к 6г ч1. Н.г.'!H22","v":0},{"$f":"'Реч.разв.к 6г ч1. Н.г.'!I22","v":0},{"$f":"'Реч.разв.к 6г ч1. Н.г.'!J22","v":0},{"$f":"'Реч.разв.к 6г ч1. Н.г.'!K22","v":0},{"$f":"'Реч.разв.к 6г ч1. Н.г.'!L22","v":0},{"$f":"'Реч.разв.к 6г ч2. Н.г.'!E22","v":0},{"$f":"'Реч.разв.к 6г ч2. Н.г.'!F22","v":0},{"$f":"'Реч.разв.к 6г ч2. Н.г.'!G22","v":0},{"$f":"'Реч.разв.к 6г ч2. Н.г.'!H22","v":0},{"$f":"'Реч.разв.к 6г ч2. Н.г.'!I22","v":0},{"$f":"'Реч.разв.к 6г ч2. Н.г.'!J22","v":0},{"$f":"'Реч.разв.к 6г ч2. Н.г.'!K22","v":0},{"$f":"'Реч.разв.к 6г ч2. Н.г.'!L22","v":0},{"$f":"'Реч.разв.к 6г ч2. Н.г.'!M22","v":0},{"$f":"'Реч.разв.к 6г ч2. Н.г.'!N22","v":0},{"$f":"'Реч.разв.к 6г ч2. Н.г.'!O22","v":0},{"$f":"'Реч.разв.к 6г ч2. Н.г.'!P22","v":0},{"$f":"'Реч.разв.к 6г ч2. Н.г.'!Q22","v":0},{"$f":"'Позн.разв. к 6г ч1. Н.г.'!E23","v":0},{"$f":"'Позн.разв. к 6г ч1. Н.г.'!F23","v":0},{"$f":"'Позн.разв. к 6г ч1. Н.г.'!G23","v":0},{"$f":"'Позн.разв. к 6г ч1. Н.г.'!H23","v":0},{"$f":"'Позн.разв. к 6г ч1. Н.г.'!I23","v":0},{"$f":"'Позн.разв. к 6г ч1. Н.г.'!J23","v":0},{"$f":"'Позн.разв. к 6г ч1. Н.г.'!K23","v":0},{"$f":"'Позн.разв. к 6г ч1. Н.г.'!L23","v":0},{"$f":"'Позн.разв. к 6г ч1. Н.г.'!M23","v":0},{"$f":"'Позн.разв. к 6г ч1. Н.г.'!N23","v":0},{"$f":"'Позн.разв. к 6г ч1. Н.г.'!O23","v":0},{"$f":"'Позн.разв. к 6г ч1. Н.г.'!P23","v":0},{"$f":"'Позн.разв. к 6г ч1. Н.г.'!Q23","v":0},{"$f":"'Позн.разв. к 6г ч1. Н.г.'!R23","v":0},{"$f":"'Позн.разв. к 6г ч1. Н.г.'!S23","v":0},{"$f":"'Позн.разв. к 6г ч2. Н.г.'!E23","v":0},{"$f":"'Позн.разв. к 6г ч2. Н.г.'!F23","v":0},{"$f":"'Позн.разв. к 6г ч2. Н.г.'!G23","v":0},{"$f":"'Позн.разв. к 6г ч2. Н.г.'!H23","v":0},{"$f":"'Позн.разв. к 6г ч2. Н.г.'!I23","v":0},{"$f":"'Позн.разв. к 6г ч2. Н.г.'!J23","v":0},{"$f":"'Соц.ком.к 6г ч1. Н.г.'!E22","v":0},{"$f":"'Соц.ком.к 6г ч1. Н.г.'!F22","v":0},{"$f":"'Соц.ком.к 6г ч1. Н.г.'!G22","v":0},{"$f":"'Соц.ком.к 6г ч1. Н.г.'!H22","v":0},{"$f":"'Соц.ком.к 6г ч1. Н.г.'!I22","v":0},{"$f":"'Соц.ком.к 6г ч1. Н.г.'!J22","v":0},{"$f":"'Соц.ком.к 6г ч1. Н.г.'!K22","v":0},{"$f":"'Соц.ком.к 6г ч1. Н.г.'!L22","v":0},{"$f":"'Соц.ком.к 6г ч1. Н.г.'!M22","v":0},{"$f":"'Соц.ком.к 6г ч1. Н.г.'!N22","v":0},{"$f":"'Соц.ком.к 6г ч1. Н.г.'!O22","v":0},{"$f":"'Соц.ком.к 6г ч1. Н.г.'!P22","v":0},{"$f":"'Соц.ком.к 6г ч1. Н.г.'!Q22","v":0},{"$f":"'Соц.ком.к 6г ч1. Н.г.'!R22","v":0},{"$f":"'Соц.ком.к 6г ч1. Н.г.'!S22","v":0},{"$f":"'Соц.ком.к 6г ч1. Н.г.'!T22","v":0},{"$f":"'Соц.ком.к 6г ч1. Н.г.'!U22","v":0},{"$f":"'Соц.ком. к 6г ч2. Н.г.'!E22","v":0},{"$f":"'Соц.ком. к 6г ч2. Н.г.'!F22","v":0},{"$f":"'Соц.ком. к 6г ч2. Н.г.'!G22","v":0},{"$f":"'Соц.ком. к 6г ч2. Н.г.'!H22","v":0},{"$f":"'Соц.ком. к 6г ч2. Н.г.'!I22","v":0},{"$f":"'Соц.ком. к 6г ч2. Н.г.'!J22","v":0},{"$f":"'Соц.ком. к 6г ч2. Н.г.'!K22","v":0},{"$f":"'Соц.ком. к 6г ч2. Н.г.'!L22","v":0},{"$f":"'Соц.ком. к 6г ч2. Н.г.'!M22","v":0},{"$f":"'Физ.разв. к 6г ч1. Н.г.'!E23","v":0},{"$f":"'Физ.разв. к 6г ч1. Н.г.'!F23","v":0},{"$f":"'Физ.разв. к 6г ч1. Н.г.'!G23","v":0},{"$f":"'Физ.разв. к 6г ч1. Н.г.'!H23","v":0},{"$f":"'Физ.разв. к 6г ч1. Н.г.'!I23","v":0},{"$f":"'Физ.разв. к 6г ч1. Н.г.'!J23","v":0},{"$f":"'Физ.разв. к 6г ч1. Н.г.'!K23","v":0},{"$f":"'Физ.разв. к 6г ч1. Н.г.'!L23","v":0},{"$f":"'Физ.разв. к 6г ч1. Н.г.'!M23","v":0},{"$f":"'Физ.разв. к 6г ч1. Н.г.'!N23","v":0},{"$f":"'Физ.разв. к 6г ч1. Н.г.'!O23","v":0},{"$f":"'Физ.разв. к 6г ч1. Н.г.'!P23","v":0},{"$f":"'Физ.разв. к 6г ч1. Н.г.'!Q23","v":0},{"$f":"'Физ.разв. к 6г ч1. Н.г.'!R23","v":0},{"$f":"'Физ.разв. к 6г ч1. Н.г.'!S23","v":0},{"$f":"'Физ.разв. к 6г ч1. Н.г.'!T23","v":0},{"$f":"'Физ.разв. к 6г ч1. Н.г.'!U23","v":0},{"$f":"'Физ.разв. к 6г ч1. Н.г.'!V23","v":0},{"$f":"'Физ.разв. к 6г ч1. Н.г.'!W23","v":0},{"$f":"'Физ.разв. к 6г ч1. Н.г.'!X23","v":0},{"$f":"'Физ.разв. к 6г ч2. Н.г.'!E24","v":0},{"$f":"'Физ.разв. к 6г ч2. Н.г.'!F24","v":0},{"$f":"'Физ.разв. к 6г ч2. Н.г.'!G24","v":0},{"$f":"'Физ.разв. к 6г ч2. Н.г.'!H24","v":0},{"$f":"'Физ.разв. к 6г ч2. Н.г.'!I24","v":0},{"$f":"'Физ.разв. к 6г ч2. Н.г.'!J24","v":0},{"$f":"'Физ.разв. к 6г ч2. Н.г.'!K24","v":0},{"$f":"'Физ.разв. к 6г ч2. Н.г.'!L24","v":0},{"$f":"'Физ.разв. к 6г ч2. Н.г.'!M24","v":0},{"$f":"'Физ.разв. к 6г ч2. Н.г.'!N24","v":0},{"$f":"'Физ.разв. к 6г ч2. Н.г.'!O24","v":0},{"$f":"'Физ.разв. к 6г ч2. Н.г.'!P24","v":0},{"$f":"'Физ.разв. к 6г ч2. Н.г.'!Q24","v":0},{"$f":"'Физ.разв. к 6г ч2. Н.г.'!R24","v":0},{"$f":"'Физ.разв. к 6г ч2. Н.г.'!S24","v":0},{"$f":"'Физ.разв. к 6г ч2. Н.г.'!T24","v":0},{"$f":"'Физ.разв. к 6г ч2. Н.г.'!U24","v":0},{"$f":"'Физ.разв. к 6г ч2. Н.г.'!V24","v":0},{"$f":"'Физ.разв. к 6г ч2. Н.г.'!W24","v":0},{"$f":"'Физ.разв. к 6г ч2. Н.г.'!X24","v":0},{"$f":"'Физ.разв. к 6г ч2. Н.г.'!Y24","v":0}]
["конец года",{"$f":"'Худ.эст.к 6г ч1. К.г. '!E23","v":0},{"$f":"'Худ.эст.к 6г ч1. К.г. '!F23","v":0},{"$f":"'Худ.эст.к 6г ч1. К.г. '!G23","v":0},{"$f":"'Худ.эст.к 6г ч1. К.г. '!H23","v":0},{"$f":"'Худ.эст.к 6г ч1. К.г. '!I23","v":0},{"$f":"'Худ.эст.к 6г ч1. К.г. '!J23","v":0},{"$f":"'Худ.эст.к 6г ч1. К.г. '!K23","v":0},{"$f":"'Худ.эст.к 6г ч1. К.г. '!L23","v":0},{"$f":"'Худ.эст.к 6г ч1. К.г. '!M23","v":0},{"$f":"'Худ.эст.к 6г ч1. К.г. '!N23","v":0},{"$f":"'Худ.эст.к 6г ч1. К.г. '!O23","v":0},{"$f":"'Худ.эст.к 6г ч2. К.г. '!E23","v":0},{"$f":"'Худ.эст.к 6г ч2. К.г. '!F23","v":0},{"$f":"'Худ.эст.к 6г ч2. К.г. '!G23","v":0},{"$f":"'Худ.эст.к 6г ч2. К.г. '!H23","v":0},{"$f":"'Худ.эст.к 6г ч2. К.г. '!I23","v":0},{"$f":"'Худ.эст.к 6г ч2. К.г. '!J23","v":0},{"$f":"'Худ.эст.к 6г ч2. К.г. '!K23","v":0},{"$f":"'Худ.эст.к 6г ч2. К.г. '!L23","v":0},{"$f":"'Худ.эст.к 6г ч2. К.г. '!M23","v":0},{"$f":"'Худ.эст.к 6г ч3. К.г. '!E23","v":0},{"$f":"'Худ.эст.к 6г ч3. К.г. '!F23","v":0},{"$f":"'Худ.эст.к 6г ч3. К.г. '!G23","v":0},{"$f":"'Худ.эст.к 6г ч3. К.г. '!H23","v":0},{"$f":"'Худ.эст.к 6г ч3. К.г. '!I23","v":0},{"$f":"'Худ.эст.к 6г ч3. К.г. '!J23","v":0},{"$f":"'Худ.эст.к 6г ч3. К.г. '!K23","v":0},{"$f":"'Худ.эст.к 6г ч3. К.г. '!L23","v":0},{"$f":"'Реч.разв.к 6г ч1. К.г. '!E22","v":0},{"$f":"'Реч.разв.к 6г ч1. К.г. '!F22","v":0},{"$f":"'Реч.разв.к 6г ч1. К.г. '!G22","v":0},{"$f":"'Реч.разв.к 6г ч1. К.г. '!H22","v":0},{"$f":"'Реч.разв.к 6г ч1. К.г. '!I22","v":0},{"$f":"'Реч.разв.к 6г ч1. К.г. '!J22","v":0},{"$f":"'Реч.разв.к 6г ч1. К.г. '!K22","v":0},{"$f":"'Реч.разв.к 6г ч1. К.г. '!L22","v":0},{"$f":"'Реч.разв.к 6г ч2. К.г. '!E22","v":0},{"$f":"'Реч.разв.к 6г ч2. К.г. '!F22","v":0},{"$f":"'Реч.разв.к 6г ч2. К.г. '!G22","v":0},{"$f":"'Реч.разв.к 6г ч2. К.г. '!H22","v":0},{"$f":"'Реч.разв.к 6г ч2. К.г. '!I22","v":0},{"$f":"'Реч.разв.к 6г ч2. К.г. '!J22","v":0},{"$f":"'Реч.разв.к 6г ч2. К.г. '!K22","v":0},{"$f":"'Реч.разв.к 6г ч2. К.г. '!L22","v":0},{"$f":"'Реч.разв.к 6г ч2. К.г. '!M22","v":0},{"$f":"'Реч.разв.к 6г ч2. К.г. '!N22","v":0},{"$f":"'Реч.разв.к 6г ч2. К.г. '!O22","v":0},{"$f":"'Реч.разв.к 6г ч2. К.г. '!P22","v":0},{"$f":"'Реч.разв.к 6г ч2. К.г. '!Q22","v":0},{"$f":"'Позн.разв. к 6г ч1. К.г. '!E23","v":0},{"$f":"'Позн.разв. к 6г ч1. К.г. '!F23","v":0},{"$f":"'Позн.разв. к 6г ч1. К.г. '!G23","v":0},{"$f":"'Позн.разв. к 6г ч1. К.г. '!H23","v":0},{"$f":"'Позн.разв. к 6г ч1. К.г. '!I23","v":0},{"$f":"'Позн.разв. к 6г ч1. К.г. '!J23","v":0},{"$f":"'Позн.разв. к 6г ч1. К.г. '!K23","v":0},{"$f":"'Позн.разв. к 6г ч1. К.г. '!L23","v":0},{"$f":"'Позн.разв. к 6г ч1. К.г. '!M23","v":0},{"$f":"'Позн.разв. к 6г ч1. К.г. '!N23","v":0},{"$f":"'Позн.разв. к 6г ч1. К.г. '!O23","v":0},{"$f":"'Позн.разв. к 6г ч1. К.г. '!P23","v":0},{"$f":"'Позн.разв. к 6г ч1. К.г. '!Q23","v":0},{"$f":"'Позн.разв. к 6г ч1. К.г. '!R23","v":0},{"$f":"'Позн.разв. к 6г ч1. К.г. '!S23","v":0},{"$f":"'Позн.разв. к 6г ч2. К.г. '!E23","v":0},{"$f":"'Позн.разв. к 6г ч2. К.г. '!F23","v":0},{"$f":"'Позн.разв. к 6г ч2. К.г. '!G23","v":0},{"$f":"'Позн.разв. к 6г ч2. К.г. '!H23","v":0},{"$f":"'Позн.разв. к 6г ч2. К.г. '!I23","v":0},{"$f":"'Позн.разв. к 6г ч2. К.г. '!J23","v":0},{"$f":"'Соц.ком.к 6г ч1. К.г. '!$E$22","v":0},{"$f":"'Соц.ком.к 6г ч1. К.г. '!$E$22","v":0},{"$f":"'Соц.ком.к 6г ч1. К.г. '!$E$22","v":0},{"$f":"'Соц.ком.к 6г ч1. К.г. '!$E$22","v":0},{"$f":"'Соц.ком.к 6г ч1. К.г. '!$E$22","v":0},{"$f":"'Соц.ком.к 6г ч1. К.г. '!$E$22","v":0},{"$f":"'Соц.ком.к 6г ч1. К.г. '!$E$22","v":0},{"$f":"'Соц.ком.к 6г ч1. К.г. '!$E$22","v":0},{"$f":"'Соц.ком.к 6г ч1. К.г. '!$E$22","v":0},{"$f":"'Соц.ком.к 6г ч1. К.г. '!$E$22","v":0},{"$f":"'Соц.ком.к 6г ч1. К.г. '!$E$22","v":0},{"$f":"'Соц.ком.к 6г ч1. К.г. '!$E$22","v":0},{"$f":"'Соц.ком.к 6г ч1. К.г. '!$E$22","v":0},{"$f":"'Соц.ком.к 6г ч1. К.г. '!$E$22","v":0},{"$f":"'Соц.ком.к 6г ч1. К.г. '!$E$22","v":0},{"$f":"'Соц.ком.к 6г ч1. К.г. '!$E$22","v":0},{"$f":"'Соц.ком.к 6г ч1. К.г. '!$E$22","v":0},{"$f":"'Соц.ком. к 6г ч2 К.г.'!E22","v":0},{"$f":"'Соц.ком. к 6г ч2 К.г.'!F22","v":0},{"$f":"'Соц.ком. к 6г ч2 К.г.'!G22","v":0},{"$f":"'Соц.ком. к 6г ч2 К.г.'!H22","v":0},{"$f":"'Соц.ком. к 6г ч2 К.г.'!I22","v":0},{"$f":"'Соц.ком. к 6г ч2 К.г.'!J22","v":0},{"$f":"'Соц.ком. к 6г ч2 К.г.'!K22","v":0},{"$f":"'Соц.ком. к 6г ч2 К.г.'!L22","v":0},{"$f":"'Соц.ком. к 6г ч2 К.г.'!M22","v":0},{"$f":"'Физ.разв. к 6г ч1. К.г. '!E23","v":0},{"$f":"'Физ.разв. к 6г ч1. К.г. '!F23","v":0},{"$f":"'Физ.разв. к 6г ч1. К.г. '!G23","v":0},{"$f":"'Физ.разв. к 6г ч1. К.г. '!H23","v":0},{"$f":"'Физ.разв. к 6г ч1. К.г. '!I23","v":0},{"$f":"'Физ.разв. к 6г ч1. К.г. '!J23","v":0},{"$f":"'Физ.разв. к 6г ч1. К.г. '!K23","v":0},{"$f":"'Физ.разв. к 6г ч1. К.г. '!L23","v":0},{"$f":"'Физ.разв. к 6г ч1. К.г. '!M23","v":0},{"$f":"'Физ.разв. к 6г ч1. К.г. '!N23","v":0},{"$f":"'Физ.разв. к 6г ч1. К.г. '!O23","v":0},{"$f":"'Физ.разв. к 6г ч1. К.г. '!P23","v":0},{"$f":"'Физ.разв. к 6г ч1. К.г. '!Q23","v":0},{"$f":"'Физ.разв. к 6г ч1. К.г. '!R23","v":0},{"$f":"'Физ.разв. к 6г ч1. К.г. '!S23","v":0},{"$f":"'Физ.разв. к 6г ч1. К.г. '!T23","v":0},{"$f":"'Физ.разв. к 6г ч1. К.г. '!U23","v":0},{"$f":"'Физ.разв. к 6г ч1. К.г. '!V23","v":0},{"$f":"'Физ.разв. к 6г ч1. К.г. '!W23","v":0},{"$f":"'Физ.разв. к 6г ч1. К.г. '!X23","v":0},{"$f":"'Физ.разв. к 6г ч2. К.г. '!E24","v":0},{"$f":"'Физ.разв. к 6г ч2. К.г. '!F24","v":0},{"$f":"'Физ.разв. к 6г ч2. К.г. '!G24","v":0},{"$f":"'Физ.разв. к 6г ч2. К.г. '!H24","v":0},{"$f":"'Физ.разв. к 6г ч2. К.г. '!I24","v":0},{"$f":"'Физ.разв. к 6г ч2. К.г. '!J24","v":0},{"$f":"'Физ.разв. к 6г ч2. К.г. '!K24","v":0},{"$f":"'Физ.разв. к 6г ч2. К.г. '!L24","v":0},{"$f":"'Физ.разв. к 6г ч2. К.г. '!M24","v":0},{"$f":"'Физ.разв. к 6г ч2. К.г. '!N24","v":0},{"$f":"'Физ.разв. к 6г ч2. К.г. '!O24","v":0},{"$f":"'Физ.разв. к 6г ч2. К.г. '!P24","v":0},{"$f":"'Физ.разв. к 6г ч2. К.г. '!Q24","v":0},{"$f":"'Физ.разв. к 6г ч2. К.г. '!R24","v":0},{"$f":"'Физ.разв. к 6г ч2. К.г. '!S24","v":0},{"$f":"'Физ.разв. к 6г ч2. К.г. '!T24","v":0},{"$f":"'Физ.разв. к 6г ч2. К.г. '!U24","v":0},{"$f":"'Физ.разв. к 6г ч2. К.г. '!V24","v":0},{"$f":"'Физ.разв. к 6г ч2. К.г. '!W24","v":0},{"$f":"'Физ.разв. к 6г ч2. К.г. '!X24","v":0},{"$f":"'Физ.разв. к 6г ч2. К.г. '!Y24","v":0}]

{"sheet":"13","index":40,"n_rows":11,"n_cols":138,"rows_kept":11,"merged":[[4,117,4,122],[4,123,4,126],[4,127,4,129],[4,130,4,132],[4,134,4,137],[5,0,8,0],[5,1,5,11],[5,12,5,19],[5,21,6,26],[5,27,6,28],[5,50,5,52],[5,53,5,55],[5,56,5,64],[5,65,5,66],[5,67,5,70],[5,117,5,118],[5,119,5,122],[5,123,6,123],[5,124,6,124],[5,125,6,125],[5,126,6,126],[5,127,8,127],[5,128,8,128],[5,129,8,129],[5,130,8,130],[5,131,8,131],[5,132,8,132],[5,133,8,133],[5,134,5,137],[6,1,6,4],[6,9,6,10],[6,12,6,13],[6,16,6,17],[6,18,6,19],[6,20,8,20],[6,30,6,31],[6,32,6,36],[6,38,6,43],[6,45,6,49],[6,53,8,53],[6,54,8,54],[6,55,8,55],[6,56,6,58],[6,62,6,64],[6,65,7,66],[6,67,6,68],[6,69,6,70],[6,71,6,87],[6,88,6,90],[6,91,6,95],[6,97,6,98],[6,99,6,101],[6,102,6,104],[6,105,6,107],[6,108,6,112],[6,113,6,114],[6,115,6,116],[6,117,8,117],[6,118,8,118],[6,119,8,119],[6,120,8,120],[6,121,8,121],[6,122,8,122],[6,134,8,134],[6,135,8,135],[6,136,8,136],[6,137,8,137],[7,1,8,1],[7,2,8,2],[7,3,8,3],[7,4,8,4],[7,5,8,5],[7,6,8,6],[7,7,8,7],[7,8,8,8],[7,9,8,9],[7,10,8,10],[7,11,8,11],[7,12,8,12],[7,13,8,13],[7,14,8,14],[7,15,8,15],[7,16,8,16],[7,17,8,17],[7,18,8,18],[7,19,8,19],[7,21,8,21],[7,22,8,22],[7,23,8,23],[7,24,8,24],[7,25,8,25],[7,26,8,26],[7,27,8,27],[7,28,8,28],[7,29,8,29],[7,30,8,30],[7,31,8,31],[7,32,8,32],[7,33,8,33],[7,34,8,34],[7,35,8,35],[7,36,8,36],[7,37,8,37],[7,38,8,38],[7,39,8,39],[7,40,8,40],[7,41,8,41],[7,42,8,42],[7,43,8,43],[7,44,8,44],[7,45,8,45],[7,46,8,46],[7,47,8,47],[7,48,8,48],[7,49,8,49],[7,50,7,52],[7,56,8,56],[7,57,8,57],[7,58,8,58],[7,59,8,59],[7,60,8,60],[7,61,8,61],[7,62,8,62],[7,63,8,63],[7,64,8,64],[7,67,8,67],[7,68,8,68],[7,69,8,69],[7,70,8,70],[7,71,7,72],[7,73,7,74],[7,75,7,76],[7,77,7,80],[7,82,7,84],[7,85,7,87],[7,88,8,88],[7,89,8,89],[7,90,8,90],[7,91,8,91],[7,92,8,92],[7,93,8,93],[7,94,8,94],[7,95,8,95],[7,96,8,96],[7,97,8,97],[7,98,8,98],[7,99,8,99],[7,100,8,100],[7,101,8,101],[7,102,7,104],[7,105,7,107],[7,108,7,112],[7,113,8,113],[7,114,8,114],[7,115,7,116],[7,123,8,123],[7,124,8,124],[7,125,8,125],[7,126,8,126]]}
[]
[]
[]
[]
[{"$nulls":117},"Мелкая моторика",{"$nulls":5},"КГН",{"$nulls":3},"ЗОЖ",null,null,"Подвижные игры",null,null,"Спорт. игры","Спортивные упражнения"]
[{"$f":"Список!B16","v":0},"Музыкальная деятельность",{"$nulls":10},"Изобразительная деятельность",{"$nulls":8},"Приобщение к искусству",{"$nulls":5},"Конструктивная деятельность",{"$nulls":22},"Сенсорные эталоны ",null,null,"Познавательные действия",null,null,"Математические представления",{"$nulls":8},"Окружающий мир",null,"Природа ",{"$nulls":49},"Координация рук и глаз",null,"Графические навыки",{"$nulls":3},"Навыки соблюдения чистоты тела (правила личной гигиены)","Навыки культуры еды (прием пищи) ","Навыки поддержания порядка (правила поведения в быту) ","Навыки ухода за собой (одевание, раздевание) ","Ребенок имеет представление о факторах, положительно/негативно влияющих на здоровье; владеет основными способами укрепления здоровья","Ребенок имеет представление о некоторых видах спорта (9 и больше), роли спорта для укрепления здоровья","Ребенок проявляет заботливое отношение к своему здоровью и здоровью окружающих","Ребенок проявляет доступный возрасту самоконтроль","Ребенок  способен привлечь внимание других детей и организовать знакомую подвижную игру","Ребенок придумывает новые варианты игр, комбинирует движения","Ребенок имеет представление об элементах спортивных игр (городки, баскетбол, бадминтон, футбол), умеет выполнять некоторые виды движений","Ребенок умеет кататься"]
[null,"Слушание",{"$nulls":3},"Пение ","Музыкально-ритмические движения","Песенное творчество","Игра на детских музыкальных инструментах","Театрализованная деятельность",null,"Танцевально-игровое творчество","Рисование ",null,"Лепка ","Аппликация ","Народное ДПИ",null,"Прикладное творчество",null,"Ребенок самостоятельно определяет замысел рисунка, аппликации, лепки, поделки, создает образы и композиционные изображения, использует разнообразные материалы",{"$nulls":8},"Общее речевое развитие","Формирование словаря",null,"Грамматический строй",{"$nulls":4},"Звуковая культура речи","Связная речь",{"$nulls":5},"ЧХЛ","Подготовка к обучению грамоте",{"$nulls":4},"Цвет, оттенки","Форма, геометрические фигуры","Величина","Ребенок охотно участвует в обсуждении проблемы для совместного нахождения способов ее решения, предлагает пути решения, устанавливает закономерности причинно-следственного характера, проявляет любознательность","Ребенок использует математические знания, способы и средства для познания окружающего мира","Ребенок способен к произвольным умственным действиям, логическим операциям анализа, сравнения, обобщения, систематизации, классификации","Количество и счет",null,null,"Ориентировка во времени","Ориентировка в пространстве","Пространственно-количественные связи и отношения","Сравнение",null,null,"Ребенок имеет представления, может показать на картинке и в естественной среде, может рассказать",null,"Объекты живой природы",null,"Объекты неживой природы, природные явления",null,"Сфера социальных отношений",{"$nulls":16},"Область формирования основ гражданственности и патриотизма",null,null,"Сфера трудового воспитания",{"$nulls":4},"Область формирования основ безопасного поведения","Бросание, катание, ловля, метание",null,"Ползанье, лазанье",null,null,"Ходьба",null,null,"Бег",null,null,"Прыжки",{"$nulls":4},"Равновесие",null,"Строевые упражнения",null,"Ребенок может найти выход из лабиринта","Ребенок может нарисовать простой узор, изображение, не отрывая руки","Ребенок может повторить узор с чередующимися элементами","Ребенок закрашивает контурное изображение с множеством мелких деталей, не выходя за контур","Ребенок может соединить точки для получения изображения","Ребенок рисует геометрический орнамент по клеткам",{"$nulls":11},"на санках","на лыжах","на двухколесном велосипеде","на самокате"]
[null,"Ребенок различает жанры музыкальных произведений (песня, танец, марш)","Ребенок узнает мелодию по отдельным фрагментам произведения (вступление, заключение, музыкальная фраза)","Ребенок различает звуки по высоте в пределах квинты","Ребенок различает звучание музыкальных инструментов (клавишно-ударных, струнных)","Ребенок демонстрирует развитые певческие навыки","Ребенок демонстрирует развитые навыки исполнения танцевальных движений","Ребенок может импровизировать мелодию на заданный текст","Ребенок демонстрирует навыки игры на детских музыкальных инструментах","Ребенок имеет представление о различных видах театрального искусства","Ребенок с удовольствие занимается театрализованной деятельностью","Ребенок может придумывать движения к танцам","Ребенок передает в изображении основные свойства предметов (форма, величина, цвет), характерные детали, соотношение предметов и их частей по величине, высоте, расположению относительно друг друга","Ребенок владеет основными способами и приемами рисования различными изобразительными материалами (цветные карандаши, гуашь, акварель, цветные мелки, пастель, сангина, угольный карандаш, фломастеры)","Ребенок лепит с натуры и по представлению знакомые предметы, передавая характерные особенности пластическим, конструктивным и комбинированным способами","Ребенок умеет пользоваться ножницами","Ребенок имеет представление о полхов-майданской, гжельской росписи","Ребенок может нарисовать узор, используя элементы  росписи","Ребенок умеет работать с бумагой (сгибать лист, сглаживать сгибы, надрезать по сгибам)","Ребенок умеет работать с природным и бросовым материалом",null,"Ребенок умеет выделять, называть, группировать произведения по видам искусства: литература, музыка, изобразительное искусство, архитектура, театр, цирк","Ребенок имеет представление о видах изобразительного искусства: графика, декоративно-прикладное искусство, живопись, скульптура, архитектура, фотоискусство","Ребенок имеет представление о жанрах изобразительного искусства: натюрморт, пейзаж, портрет","Ребенок имеет представление о народном искусстве, фольклоре, музыке и художественных промыслах","Ребенок имеет представление о творческих профессиях: художник, композитор, музыкант, актер, артист балета","Ребенок имеет представление о культурно-досуговых местах: театр, музей, библиотека, выставка, кинотеатр, цирк и др.","Ребенок может провести анализ постройки (выделить основные части и характерные детали конструкций)","Ребенок может выполнить постройку по инструкции","Ребенок внятно разговаривает","Ребенок умеет обобщать предметы в группы по существенным признакам","Ребенок демонстрирует богатый словарный запас","Ребенок правильно использует в речи: несклоняемые существительные","Ребенок правильно использует в речи: слова, имеющие только множественное или только единственное число","Ребенок правильно использует в речи: глаголы одеть-надеть","Ребенок правильно использует в речи: существительные множественного числа в родительном падеже","Ребенок правильно образовывает слова с помощью суффикса, приставки","Ребенок правильно произносит сонорные звуки: л-ль, р-рь","Ребенок пересказывает литературные произведения по ролям, по частям, правильно передавая идею и содержание","Ребенок пользуется прямой и косвенной речью","Ребенок составляет короткий описательный рассказ о предметах, объектах и явлениях природы, из личного опыта","Ребенок сочиняет сюжетные рассказы по картине, из личного опыта","Ребенок проявляет речевое творчество: придумывает продолжение и окончание к рассказу, рассказы по аналогии, по плану педагога, по модели","Ребенок владеет первичными приемами аргументации и доказательства","Ребенок проявляет избирательное отношение к произведениям определенной тематики и жанра","Ребенок понимает термины: слово: звук, буква, предложение, гласный звук, согласный звук","Ребенок может провести звуковой анализ слова, разделить на слоги двух-, трехслоговые слова; составляет схему слова","Ребенок различает гласные-согласные звуки","Ребенок определяет твердые-мягкие согласные","Ребенок составляет предложение по модели, определяет количество и последовательность слов в предложении","Ребенок различает и называет",{"$nulls":5},"Ребенок знает/называет/находит среди других цифры 0 -10","Ребенок выполняет количественный и порядковый счет в пределах 0-10","Ребенок знает состав чисел из единиц в пределах 5","Ребенок понимает календарные единицы времени (сутки, неделя, месяц, год)","Ребенок ориентируется на листе бумаги","Ребенок понимает простейшую графическую информацию об отношениях предметов (слева направо, справа налево, снизу вверх, сверху вниз)","Ребенок выделяет сходства и отличия между группами предметов","Ребенок сравнивает предметы по 3-5 признакам","Ребенок группирует предметы по разным основаниям, преимущественно на основе зрительной оценки",null,null,"Ребенок имеет представление о сходстве и различии во внешнем виде и образе жизни объектов животного и растительного мира в разные сезоны года","Ребенок может сравнивать, группировать объекты живой природы по их особенностям, мету обитания, образу жизни, питанию","Ребенок имеет представление о признаках разных времен года","Ребенок наблюдает за явлениями природы, фиксирует результаты наблюдения","Отношение к самому себе",null,"Отношение к сверстникам",null,"Отношение к взрослым",null,"Эмоции",{"$nulls":3},"Поведение","Семья",null,null,"Игровое поведение",null,null,"Ребенок имеет представление о государственных символах России (герб, гимн, флаг)","Ребенок имеет представление о государственных праздниках России","Ребенок знает/может назвать/показать на картинке и в естественной среде достопримечательности населенного пункта, в котором живет","Ребенок имеет представления о разных видах производительного труда (промышленность, строительство, сельское хозяйство)","Ребенок имеет представления о разных видах обслуживающего труда (сфера досуга и отдыха, сфера культуры, медицина, торговля)","Ребенок имеет представление о структуре трудового процесса (мотив, цель, инструменты, оборудование, содержание действий, выбор трудовых действий, результат)","Ребенок имеет элементарные экономические представления (назначение рекламы, денег)","Ребенок охотно участвует в выполнении трудовых поручений, дежурстве; может распределять трудовые обязанности с другими","Ребенок имеет представления/ соблюдает правила поведения в быту, на улице, в природе, в общении с людьми, с животными","Ребенок выполняет различные упражнения с мячом (прокатывание, передача, перебрасывание, ведение, подбрасывание, ловля, забрасывание)","Ребенок выполняет метание в цель, метание в даль предметов разной массы","Ребенок выполняет ползанье разными способами (на четвереньках, на животе)","Ребенок выполняет переползание через несколько предметов подряд, под дугами, в туннеле","Ребенок выполняет лазанье по гимнастической стенке чередующимся шагом","Ребенок выполняет различные виды ходьбы",null,null,"Ребенок выполняет различные виды бега",null,null,"Ребенок выполняет различные виды прыжков",{"$nulls":4},"Ребенок выполняет стойку на одной ноге ","Ребенок выполняет упражнение \"ласточка\" ","Ребенок выполняет различные виды строевых упражнений",{"$nulls":7},"Ребенок выполняет самостоятельно","Ребенок выполняет самостоятельно","Ребенок выполняет самостоятельно","Ребенок выполняет самостоятельно"]
[{"$nulls":50},"Ребенок называет/различает все цвета спектра и ахроматические цвета, оттенки цвета, тоны цвета, теплые и холодные оттенки","Ребенок владеет способами воссоздания фигуры из частей, деления фигуры на части","Ребенок может выстраивать сериационные ряды предметов, различающихся по размеру в возрастающем и убывающем порядке в пределах 10",{"$nulls":12},"о многообразии людей разных национальностей (особенностей внешнего вида, одежды, традиций)","Ребенок имеет представление о многообразии стран и народов мира",{"$nulls":4},"Ребенок может рассказать о себе, выразить собственные потребности, желания","Ребенок имеет представление о некоторых своих правах","Ребенок имеет предпочтения в общении","Ребенок охотно вступает в общение со сверстниками","Ребенок уважительно относится к взрослым, пожилым людям","Ребенок охотно вступает в общение со взрослыми","Ребенок понимает свои и чужие эмоциональные состояния, демонстрирует примеры эмоциональной поддержки ","Ребенок  откликается на просьбу помочь","Ребенок выразить чувства и эмоции в мимике, пантомимике, действиях, интонации","Ребенок демонстрирует адекватные возрасту способы регуляции эмоциональных состояний","Ребенок ориентируется на общепринятые нормы и правила культуры поведения","Ребенок знает членов своей семьи, ближайших родственников по линии матери и отца","Ребенок имеет представление о способах поддержки родственных связей (переписка, разговор, совместный отдых, традиции, походы в гости и др.)","Ребенок проявляет заботу по отношению к членам своей семьи, оказывает посильную помощь больному члену семьи","Ребенок в совместной деятельности принимает общую цель, договаривается о способах деятельности и материалах, может уступить в конфликтной ситуации","Ребенок проявляет интерес к игровому экспериментированию, развивающим и познавательным играм","Ребенок способен действовать в точном соответствие с игровой задачей и правилами",{"$nulls":14},"обычным шагом, на носках, на пятках, с высоким подниманием колен","приставной, в полуприседе, мелким и широким, перекатом с пятки на носок, гимнастическим","змейкой без ориентиров, в колонне по одному и по два","в колонне по одному, змейкой, с перестроением на ходу в пары, звенья","со сменой ведущих, с пролезанием в обруч, с ловлей и увертыванием, высоко поднимая колени","между расставленными предметами, в заданном темпе, мелким и широким шагом","подпрыгивание, перепрыгивание, спрыгивание","в длину с места","в высоту с разбега","в длину с разбега","со скакалкой",null,null,"построения (по росту, в колонну по одному, в шеренгу, в круг)","в колонну по три, в две шеренги на месте, расхождение из колонны в разные стороны"]
["начало года",{"$f":"'Худ.эст.к 6г ч1. Н.г.'!E24","v":0},{"$f":"'Худ.эст.к 6г ч1. Н.г.'!F24","v":0},{"$f":"'Худ.эст.к 6г ч1. Н.г.'!G24","v":0},{"$f":"'Худ.эст.к 6г ч1. Н.г.'!H24","v":0},{"$f":"'Худ.эст.к 6г ч1. Н.г.'!I24","v":0},{"$f":"'Худ.эст.к 6г ч1. Н.г.'!J24","v":0},{"$f":"'Худ.эст.к 6г ч1. Н.г.'!K24","v":0},{"$f":"'Худ.эст.к 6г ч1. Н.г.'!L24","v":0},{"$f":"'Худ.эст.к 6г ч1. Н.г.'!M24","v":0},{"$f":"'Худ.эст.к 6г ч1. Н.г.'!N24","v":0},{"$f":"'Худ.эст.к 6г ч1. Н.г.'!O24","v":0},{"$f":"'Худ.эст.к 6г ч2. Н.г.'!E24","v":0},{"$f":"'Худ.эст.к 6г ч2. Н.г.'!F24","v":0},{"$f":"'Худ.эст.к 6г ч2. Н.г.'!G24","v":0},{"$f":"'Худ.эст.к 6г ч2. Н.г.'!H24","v":0},{"$f":"'Худ.эст.к 6г ч2. Н.г.'!I24","v":0},{"$f":"'Худ.эст.к 6г ч2. Н.г.'!J24","v":0},{"$f":"'Худ.эст.к 6г ч2. Н.г.'!K24","v":0},{"$f":"'Худ.эст.к 6г ч2. Н.г.'!L24","v":0},{"$f":"'Худ.эст.к 6г ч2. Н.г.'!M24","v":0},{"$f":"'Худ.эст.к 6г ч3. Н.г.'!E24","v":0},{"$f":"'Худ.эст.к 6г ч3. Н.г.'!F24","v":0},{"$f":"'Худ.эст.к 6г ч3. Н.г.'!G24","v":0},{"$f":"'Худ.эст.к 6г ч3. Н.г.'!H24","v":0},{"$f":"'Худ.эст.к 6г ч3. Н.г.'!I24","v":0},{"$f":"'Худ.эст.к 6г ч3. Н.г.'!J24","v":0},{"$f":"'Худ.эст.к 6г ч3. Н.г.'!K24","v":0},{"$f":"'Худ.эст.к 6г ч3. Н.г.'!L24","v":0},{"$f":"'Реч.разв.к 6г ч1. Н.г.'!E23","v":0},{"$f":"'Реч.разв.к 6г ч1. Н.г.'!F23","v":0},{"$f":"'Реч.разв.к 6г ч1. Н.г.'!G23","v":0},{"$f":"'Реч.разв.к 6г ч1. Н.г.'!H23","v":0},{"$f":"'Реч.разв.к 6г ч1. Н.г.'!I23","v":0},{"$f":"'Реч.разв.к 6г ч1. Н.г.'!J23","v":0},{"$f":"'Реч.разв.к 6г ч1. Н.г.'!K23","v":0},{"$f":"'Реч.разв.к 6г ч1. Н.г.'!L23","v":0},{"$f":"'Реч.разв.к 6г ч2. Н.г.'!E23","v":0},{"$f":"'Реч.разв.к 6г ч2. Н.г.'!F23","v":0},{"$f":"'Реч.разв.к 6г ч2. Н.г.'!G23","v":0},{"$f":"'Реч.разв.к 6г ч2. Н.г.'!H23","v":0},{"$f":"'Реч.разв.к 6г ч2. Н.г.'!I23","v":0},{"$f":"'Реч.разв.к 6г ч2. Н.г.'!J23","v":0},{"$f":"'Реч.разв.к 6г ч2. Н.г.'!K23","v":0},{"$f":"'Реч.разв.к 6г ч2. Н.г.'!L23","v":0},{"$f":"'Реч.разв.к 6г ч2. Н.г.'!M23","v":0},{"$f":"'Реч.разв.к 6г ч2. Н.г.'!N23","v":0},{"$f":"'Реч.разв.к 6г ч2. Н.г.'!O23","v":0},{"$f":"'Реч.разв.к 6г ч2. Н.г.'!P23","v":0},{"$f":"'Реч.разв.к 6г ч2. Н.г.'!Q23","v":0},{"$f":"'Позн.разв. к 6г ч1. Н.г.'!E24","v":0},{"$f":"'Позн.разв. к 6г ч1. Н.г.'!F24","v":0},{"$f":"'Позн.разв. к 6г ч1. Н.г.'!G24","v":0},{"$f":"'Позн.разв. к 6г ч1. Н.г.'!H24","v":0},{"$f":"'Позн.разв. к 6г ч1. Н.г.'!I24","v":0},{"$f":"'Позн.разв. к 6г ч1. Н.г.'!J24","v":0},{"$f":"'Позн.разв. к 6г ч1. Н.г.'!K24","v":0},{"$f":"'Позн.разв. к 6г ч1. Н.г.'!L24","v":0},{"$f":"'Позн.разв. к 6г ч1. Н.г.'!M24","v":0},{"$f":"'Позн.разв. к 6г ч1. Н.г.'!N24","v":0},{"$f":"'Позн.разв. к 6г ч1. Н.г.'!O24","v":0},{"$f":"'Позн.разв. к 6г ч1. Н.г.'!P24","v":0},{"$f":"'Позн.разв. к 6г ч1. Н.г.'!Q24","v":0},{"$f":"'Позн.разв. к 6г ч1. Н.г.'!R24","v":0},{"$f":"'Позн.разв. к 6г ч1. Н.г.'!S24","v":0},{"$f":"'Позн.разв. к 6г ч2. Н.г.'!E24","v":0},{"$f":"'Позн.разв. к 6г ч2. Н.г.'!F24","v":0},{"$f":"'Позн.разв. к 6г ч2. Н.г.'!G24","v":0},{"$f":"'Позн.разв. к 6г ч2. Н.г.'!H24","v":0},{"$f":"'Позн.разв. к 6г ч2. Н.г.'!I24","v":0},{"$f":"'Позн.разв. к 6г ч2. Н.г.'!J24","v":0},{"$f":"'Соц.ком.к 6г ч1. Н.г.'!E23","v":0},{"$f":"'Соц.ком.к 6г ч1. Н.г.'!F23","v":0},{"$f":"'Соц.ком.к 6г ч1. Н.г.'!G23","v":0},{"$f":"'Соц.ком.к 6г ч1. Н.г.'!H23","v":0},{"$f":"'Соц.ком.к 6г ч1. Н.г.'!I23","v":0},{"$f":"'Соц.ком.к 6г ч1. Н.г.'!J23","v":0},{"$f":"'Соц.ком.к 6г ч1. Н.г.'!K23","v":0},{"$f":"'Соц.ком.к 6г ч1. Н.г.'!L23","v":0},{"$f":"'Соц.ком.к 6г ч1. Н.г.'!M23","v":0},{"$f":"'Соц.ком.к 6г ч1. Н.г.'!N23","v":0},{"$f":"'Соц.ком.к 6г ч1. Н.г.'!O23","v":0},{"$f":"'Соц.ком.к 6г ч1. Н.г.'!P23","v":0},{"$f":"'Соц.ком.к 6г ч1. Н.г.'!Q23","v":0},{"$f":"'Соц.ком.к 6г ч1. Н.г.'!R23","v":0},{"$f":"'Соц.ком.к 6г ч1. Н.г.'!S23","v":0},{"$f":"'Соц.ком.к 6г ч1. Н.г.'!T23","v":0},{"$f":"'Соц.ком.к 6г ч1. Н.г.'!U23","v":0},{"$f":"'Соц.ком. к 6г ч2. Н.г.'!E23","v":0},{"$f":"'Соц.ком. к 6г ч2. Н.г.'!F23","v":0},{"$f":"'Соц.ком. к 6г ч2. Н.г.'!G23","v":0},{"$f":"'Соц.ком. к 6г ч2. Н.г.'!H23","v":0},{"$f":"'Соц.ком. к 6г ч2. Н.г.'!I23","v":0},{"$f":"'Соц.ком. к 6г ч2. Н.г.'!J23","v":0},{"$f":"'Соц.ком. к 6г ч2. Н.г.'!K23","v":0},{"$f":"'Соц.ком. к 6г ч2. Н.г.'!L23","v":0},{"$f":"'Соц.ком. к 6г ч2. Н.г.'!M23","v":0},{"$f":"'Физ.разв. к 6г ч1. Н.г.'!E24","v":0},{"$f":"'Физ.разв. к 6г ч1. Н.г.'!F24","v":0},{"$f":"'Физ.разв. к 6г ч1. Н.г.'!G24","v":0},{"$f":"'Физ.разв. к 6г ч1. Н.г.'!H24","v":0},{"$f":"'Физ.разв. к 6г ч1. Н.г.'!I24","v":0},{"$f":"'Физ.разв. к 6г ч1. Н.г.'!J24","v":0},{"$f":"'Физ.разв. к 6г ч1. Н.г.'!K24","v":0},{"$f":"'Физ.разв. к 6г ч1. Н.г.'!L24","v":0},{"$f":"'Физ.разв. к 6г ч1. Н.г.'!M24","v":0},{"$f":"'Физ.разв. к 6г ч1. Н.г.'!N24","v":0},{"$f":"'Физ.разв. к 6г ч1. Н.г.'!O24","v":0},{"$f":"'Физ.разв. к 6г ч1. Н.г.'!P24","v":0},{"$f":"'Физ.разв. к 6г ч1. Н.г.'!Q24","v":0},{"$f":"'Физ.разв. к 6г ч1. Н.г.'!R24","v":0},{"$f":"'Физ.разв. к 6г ч1. Н.г.'!S24","v":0},{"$f":"'Физ.разв. к 6г ч1. Н.г.'!T24","v":0},{"$f":"'Физ.разв. к 6г ч1. Н.г.'!U24","v":0},{"$f":"'Физ.разв. к 6г ч1. Н.г.'!V24","v":0},{"$f":"'Физ.разв. к 6г ч1. Н.г.'!W24","v":0},{"$f":"'Физ.разв. к 6г ч1. Н.г.'!X24","v":0},{"$f":"'Физ.разв. к 6г ч2. Н.г.'!E25","v":0},{"$f":"'Физ.разв. к 6г ч2. Н.г.'!F25","v":0},{"$f":"'Физ.разв. к 6г ч2. Н.г.'!G25","v":0},{"$f":"'Физ.разв. к 6г ч2. Н.г.'!H25","v":0},{"$f":"'Физ.разв. к 6г ч2. Н.г.'!I25","v":0},{"$f":"'Физ.разв. к 6г ч2. Н.г.'!J25","v":0},{"$f":"'Физ.разв. к 6г ч2. Н.г.'!K25","v":0},{"$f":"'Физ.разв. к 6г ч2. Н.г.'!L25","v":0},{"$f":"'Физ.разв. к 6г ч2. Н.г.'!M25","v":0},{"$f":"'Физ.разв. к 6г ч2. Н.г.'!N25","v":0},{"$f":"'Физ.разв. к 6г ч2. Н.г.'!O25","v":0},{"$f":"'Физ.разв. к 6г ч2. Н.г.'!P25","v":0},{"$f":"'Физ.разв. к 6г ч2. Н.г.'!Q25","v":0},{"$f":"'Физ.разв. к 6г ч2. Н.г.'!R25","v":0},{"$f":"'Физ.разв. к 6г ч2. Н.г.'!S25","v":0},{"$f":"'Физ.разв. к 6г ч2. Н.г.'!T25","v":0},{"$f":"'Физ.разв. к 6г ч2. Н.г.'!U25","v":0},{"$f":"'Физ.разв. к 6г ч2. Н.г.'!V25","v":0},{"$f":"'Физ.разв. к 6г ч2. Н.г.'!W25","v":0},{"$f":"'Физ.разв. к 6г ч2. Н.г.'!X25","v":0},{"$f":"'Физ.разв. к 6г ч2. Н.г.'!Y25","v":0}]
["конец года",{"$f":"'Худ.эст.к 6г ч1. К.г. '!E24","v":0},{"$f":"'Худ.эст.к 6г ч1. К.г. '!F24","v":0},{"$f":"'Худ.эст.к 6г ч1. К.г. '!G24","v":0},{"$f":"'Худ.эст.к 6г ч1. К.г. '!H24","v":0},{"$f":"'Худ.эст.к 6г ч1. К.г. '!I24","v":0},{"$f":"'Худ.эст.к 6г ч1. К.г. '!J24","v":0},{"$f":"'Худ.эст.к 6г ч1. К.г. '!K24","v":0},{"$f":"'Худ.эст.к 6г ч1. К.г. '!L24","v":0},{"$f":"'Худ.эст.к 6г ч1. К.г. '!M24","v":0},{"$f":"'Худ.эст.к 6г ч1. К.г. '!N24","v":0},{"$f":"'Худ.эст.к 6г ч1. К.г. '!O24","v":0},{"$f":"'Худ.эст.к 6г ч2. К.г. '!E24","v":0},{"$f":"'Худ.эст.к 6г ч2. К.г. '!F24","v":0},{"$f":"'Худ.эст.к 6г ч2. К.г. '!G24","v":0},{"$f":"'Худ.эст.к 6г ч2. К.г. '!H24","v":0},{"$f":"'Худ.эст.к 6г ч2. К.г. '!I24","v":0},{"$f":"'Худ.эст.к 6г ч2. К.г. '!J24","v":0},{"$f":"'Худ.эст.к 6г ч2. К.г. '!K24","v":0},{"$f":"'Худ.эст.к 6г ч2. К.г. '!L24","v":0},{"$f":"'Худ.эст.к 6г ч2. К.г. '!M24","v":0},{"$f":"'Худ.эст.к 6г ч3. К.г. '!E24","v":0},{"$f":"'Худ.эст.к 6г ч3. К.г. '!F24","v":0},{"$f":"'Худ.эст.к 6г ч3. К.г. '!G24","v":0},{"$f":"'Худ.эст.к 6г ч3. К.г. '!H24","v":0},{"$f":"'Худ.эст.к 6г ч3. К.г. '!I24","v":0},{"$f":"'Худ.эст.к 6г ч3. К.г. '!J24","v":0},{"$f":"'Худ.эст.к 6г ч3. К.г. '!K24","v":0},{"$f":"'Худ.эст.к 6г ч3. К.г. '!L24","v":0},{"$f":"'Реч.разв.к 6г ч1. К.г. '!E23","v":0},{"$f":"'Реч.разв.к 6г ч1. К.г. '!F23","v":0},{"$f":"'Реч.разв.к 6г ч1. К.г. '!G23","v":0},{"$f":"'Реч.разв.к 6г ч1. К.г. '!H23","v":0},{"$f":"'Реч.разв.к 6г ч1. К.г. '!I23","v":0},{"$f":"'Реч.разв.к 6г ч1. К.г. '!J23","v":0},{"$f":"'Реч.разв.к 6г ч1. К.г. '!K23","v":0},{"$f":"'Реч.разв.к 6г ч1. К.г. '!L23","v":0},{"$f":"'Реч.разв.к 6г ч2. К.г. '!E23","v":0},{"$f":"'Реч.разв.к 6г ч2. К.г. '!F23","v":0},{"$f":"'Реч.разв.к 6г ч2. К.г. '!G23","v":0},{"$f":"'Реч.разв.к 6г ч2. К.г. '!H23","v":0},{"$f":"'Реч.разв.к 6г ч2. К.г. '!I23","v":0},{"$f":"'Реч.разв.к 6г ч2. К.г. '!J23","v":0},{"$f":"'Реч.разв.к 6г ч2. К.г. '!K23","v":0},{"$f":"'Реч.разв.к 6г ч2. К.г. '!L23","v":0},{"$f":"'Реч.разв.к 6г ч2. К.г. '!M23","v":0},{"$f":"'Реч.разв.к 6г ч2. К.г. '!N23","v":0},{"$f":"'Реч.разв.к 6г ч2. К.г. '!O23","v":0},{"$f":"'Реч.разв.к 6г ч2. К.г. '!P23","v":0},{"$f":"'Реч.разв.к 6г ч2. К.г. '!Q23","v":0},{"$f":"'Позн.разв. к 6г ч1. К.г. '!E24","v":0},{"$f":"'Позн.разв. к 6г ч1. К.г. '!F24","v":0},{"$f":"'Позн.разв. к 6г ч1. К.г. '!G24","v":0},{"$f":"'Позн.разв. к 6г ч1. К.г. '!H24","v":0},{"$f":"'Позн.разв. к 6г ч1. К.г. '!I24","v":0},{"$f":"'Позн.разв. к 6г ч1. К.г. '!J24","v":0},{"$f":"'Позн.разв. к 6г ч1. К.г. '!K24","v":0},{"$f":"'Позн.разв. к 6г ч1. К.г. '!L24","v":0},{"$f":"'Позн.разв. к 6г ч1. К.г. '!M24","v":0},{"$f":"'Позн.разв. к 6г ч1. К.г. '!N24","v":0},{"$f":"'Позн.разв. к 6г ч1. К.г. '!O24","v":0},{"$f":"'Позн.разв. к 6г ч1. К.г. '!P24","v":0},{"$f":"'Позн.разв. к 6г ч1. К.г. '!Q24","v":0},{"$f":"'Позн.разв. к 6г ч1. К.г. '!R24","v":0},{"$f":"'Позн.разв. к 6г ч1. К.г. '!S24","v":0},{"$f":"'Позн.разв. к 6г ч2. К.г. '!E24","v":0},{"$f":"'Позн.разв. к 6г ч2. К.г. '!F24","v":0},{"$f":"'Позн.разв. к 6г ч2. К.г. '!G24","v":0},{"$f":"'Позн.разв. к 6г ч2. К.г. '!H24","v":0},{"$f":"'Позн.разв. к 6г ч2. К.г. '!I24","v":0},{"$f":"'Позн.разв. к 6г ч2. К.г. '!J24","v":0},{"$f":"'Соц.ком.к 6г ч1. К.г. '!$E$23","v":0},{"$f":"'Соц.ком.к 6г ч1. К.г. '!$E$23","v":0},{"$f":"'Соц.ком.к 6г ч1. К.г. '!$E$23","v":0},{"$f":"'Соц.ком.к 6г ч1. К.г. '!$E$23","v":0},{"$f":"'Соц.ком.к 6г ч1. К.г. '!$E$23","v":0},{"$f":"'Соц.ком.к 6г ч1. К.г. '!$E$23","v":0},{"$f":"'Соц.ком.к 6г ч1. К.г. '!$E$23","v":0},{"$f":"'Соц.ком.к 6г ч1. К.г. '!$E$23","v":0},{"$f":"'Соц.ком.к 6г ч1. К.г. '!$E$23","v":0},{"$f":"'Соц.ком.к 6г ч1. К.г. '!$E$23","v":0},{"$f":"'Соц.ком.к 6г ч1. К.г. '!$E$23","v":0},{"$f":"'Соц.ком.к 6г ч1. К.г. '!$E$23","v":0},{"$f":"'Соц.ком.к 6г ч1. К.г. '!$E$23","v":0},{"$f":"'Соц.ком.к 6г ч1. К.г. '!$E$23","v":0},{"$f":"'Соц.ком.к 6г ч1. К.г. '!$E$23","v":0},{"$f":"'Соц.ком.к 6г ч1. К.г. '!$E$23","v":0},{"$f":"'Соц.ком.к 6г ч1. К.г. '!$E$23","v":0},{"$f":"'Соц.ком. к 6г ч2 К.г.'!E23","v":0},{"$f":"'Соц.ком. к 6г ч2 К.г.'!F23","v":0},{"$f":"'Соц.ком. к 6г ч2 К.г.'!G23","v":0},{"$f":"'Соц.ком. к 6г ч2 К.г.'!H23","v":0},{"$f":"'Соц.ком. к 6г ч2 К.г.'!I23","v":0},{"$f":"'Соц.ком. к 6г ч2 К.г.'!J23","v":0},{"$f":"'Соц.ком. к 6г ч2 К.г.'!K23","v":0},{"$f":"'Соц.ком. к 6г ч2 К.г.'!L23","v":0},{"$f":"'Соц.ком. к 6г ч2 К.г.'!M23","v":0},{"$f":"'Физ.разв. к 6г ч1. К.г. '!E24","v":0},{"$f":"'Физ.разв. к 6г ч1. К.г. '!F24","v":0},{"$f":"'Физ.разв. к 6г ч1. К.г. '!G24","v":0},{"$f":"'Физ.разв. к 6г ч1. К.г. '!H24","v":0},{"$f":"'Физ.разв. к 6г ч1. К.г. '!I24","v":0},{"$f":"'Физ.разв. к 6г ч1. К.г. '!J24","v":0},{"$f":"'Физ.разв. к 6г ч1. К.г. '!K24","v":0},{"$f":"'Физ.разв. к 6г ч1. К.г. '!L24","v":0},{"$f":"'Физ.разв. к 6г ч1. К.г. '!M24","v":0},{"$f":"'Физ.разв. к 6г ч1. К.г. '!N24","v":0},{"$f":"'Физ.разв. к 6г ч1. К.г. '!O24","v":0},{"$f":"'Физ.разв. к 6г ч1. К.г. '!P24","v":0},{"$f":"'Физ.разв. к 6г ч1. К.г. '!Q24","v":0},{"$f":"'Физ.разв. к 6г ч1. К.г. '!R24","v":0},{"$f":"'Физ.разв. к 6г ч1. К.г. '!S24","v":0},{"$f":"'Физ.разв. к 6г ч1. К.г. '!T24","v":0},{"$f":"'Физ.разв. к 6г ч1. К.г. '!U24","v":0},{"$f":"'Физ.разв. к 6г ч1. К.г. '!V24","v":0},{"$f":"'Физ.разв. к 6г ч1. К.г. '!W24","v":0},{"$f":"'Физ.разв. к 6г ч1. К.г. '!X24","v":0},{"$f":"'Физ.разв. к 6г ч2. К.г. '!E25","v":0},{"$f":"'Физ.разв. к 6г ч2. К.г. '!F25","v":0},{"$f":"'Физ.разв. к 6г ч2. К.г. '!G25","v":0},{"$f":"'Физ.разв. к 6г ч2. К.г. '!H25","v":0},{"$f":"'Физ.разв. к 6г ч2. К.г. '!I25","v":0},{"$f":"'Физ.разв. к 6г ч2. К.г. '!J25","v":0},{"$f":"'Физ.разв. к 6г ч2. К.г. '!K25","v":0},{"$f":"'Физ.разв. к 6г ч2. К.г. '!L25","v":0},{"$f":"'Физ.разв. к 6г ч2. К.г. '!M25","v":0},{"$f":"'Физ.разв. к 6г ч2. К.г. '!N25","v":0},{"$f":"'Физ.разв. к 6г ч2. К.г. '!O25","v":0},{"$f":"'Физ.разв. к 6г ч2. К.г. '!P25","v":0},{"$f":"'Физ.разв. к 6г ч2. К.г. '!Q25","v":0},{"$f":"'Физ.разв. к 6г ч2. К.г. '!R25","v":0},{"$f":"'Физ.разв. к 6г ч2. К.г. '!S25","v":0},{"$f":"'Физ.разв. к 6г ч2. К.г. '!T25","v":0},{"$f":"'Физ.разв. к 6г ч2. К.г. '!U25","v":0},{"$f":"'Физ.разв. к 6г ч2. К.г. '!V25","v":0},{"$f":"'Физ.разв. к 6г ч2. К.г. '!W25","v":0},{"$f":"'Физ.разв. к 6г ч2. К.г. '!X25","v":0},{"$f":"'Физ.разв. к 6г ч2. К.г. '!Y25","v":0}]

{"sheet":"14","index":41,"n_rows":11,"n_cols":138,"rows_kept":11,"merged":[[4,117,4,122],[4,123,4,126],[4,127,4,129],[4,130,4,132],[4,134,4,137],[5,0,8,0],[5,1,5,11],[5,12,5,19],[5,21,6,26],[5,27,6,28],[5,50,5,52],[5,53,5,55],[5,56,5,64],[5,65,5,66],[5,67,5,70],[5,117,5,118],[5,119,5,122],[5,123,6,123],[5,124,6,124],[5,125,6,125],[5,126,6,126],[5,127,8,127],[5,128,8,128],[5,129,8,129],[5,130,8,130],[5,131,8,131],[5,132,8,132],[5,133,8,133],[5,134,5,137],[6,1,6,4],[6,9,6,10],[6,12,6,13],[6,16,6,17],[6,18,6,19],[6,20,8,20],[6,30,6,31],[6,32,6,36],[6,38,6,43],[6,45,6,49],[6,53,8,53],[6,54,8,54],[6,55,8,55],[6,56,6,58],[6,62,6,64],[6,65,7,66],[6,67,6,68],[6,69,6,70],[6,71,6,87],[6,88,6,90],[6,91,6,95],[6,97,6,98],[6,99,6,101],[6,102,6,104],[6,105,6,107],[6,108,6,112],[6,113,6,114],[6,115,6,116],[6,117,8,117],[6,118,8,118],[6,119,8,119],[6,120,8,120],[6,121,8,121],[6,122,8,122],[6,134,8,134],[6,135,8,135],[6,136,8,136],[6,137,8,137],[7,1,8,1],[7,2,8,2],[7,3,8,3],[7,4,8,4],[7,5,8,5],[7,6,8,6],[7,7,8,7],[7,8,8,8],[7,9,8,9],[7,10,8,10],[7,11,8,11],[7,12,8,12],[7,13,8,13],[7,14,8,14],[7,15,8,15],[7,16,8,16],[7,17,8,17],[7,18,8,18],[7,19,8,19],[7,21,8,21],[7,22,8,22],[7,23,8,23],[7,24,8,24],[7,25,8,25],[7,26,8,26],[7,27,8,27],[7,28,8,28],[7,29,8,29],[7,30,8,30],[7,31,8,31],[7,32,8,32],[7,33,8,33],[7,34,8,34],[7,35,8,35],[7,36,8,36],[7,37,8,37],[7,38,8,38],[7,39,8,39],[7,40,8,40],[7,41,8,41],[7,42,8,42],[7,43,8,43],[7,44,8,44],[7,45,8,45],[7,46,8,46],[7,47,8,47],[7,48,8,48],[7,49,8,49],[7,50,7,52],[7,56,8,56],[7,57,8,57],[7,58,8,58],[7,59,8,59],[7,60,8,60],[7,61,8,61],[7,62,8,62],[7,63,8,63],[7,64,8,64],[7,67,8,67],[7,68,8,68],[7,69,8,69],[7,70,8,70],[7,71,7,72],[7,73,7,74],[7,75,7,76],[7,77,7,80],[7,82,7,84],[7,85,7,87],[7,88,8,88],[7,89,8,89],[7,90,8,90],[7,91,8,91],[7,92,8,92],[7,93,8,93],[7,94,8,94],[7,95,8,95],[7,96,8,96],[7,97,8,97],[7,98,8,98],[7,99,8,99],[7,100,8,100],[7,101,8,101],[7,102,7,104],[7,105,7,107],[7,108,7,112],[7,113,8,113],[7,114,8,114],[7,115,7,116],[7,123,8,123],[7,124,8,124],[7,125,8,125],[7,126,8,126]]}
[]
[]
[]
[]
[{"$nulls":117},"Мелкая моторика",{"$nulls":5},"КГН",{"$nulls":3},"ЗОЖ",null,null,"Подвижные игры",null,null,"Спорт. игры","Спортивные упражнения"]
[{"$f":"Список!B17","v":0},"Музыкальная деятельность",{"$nulls":10},"Изобразительная деятельность",{"$nulls":8},"Приобщение к искусству",{"$nulls":5},"Конструктивная деятельность",{"$nulls":22},"Сенсорные эталоны ",null,null,"Познавательные действия",null,null,"Математические представления",{"$nulls":8},"Окружающий мир",null,"Природа ",{"$nulls":49},"Координация рук и глаз",null,"Графические навыки",{"$nulls":3},"Навыки соблюдения чистоты тела (правила личной гигиены)","Навыки культуры еды (прием пищи) ","Навыки поддержания порядка (правила поведения в быту) ","Навыки ухода за собой (одевание, раздевание) ","Ребенок имеет представление о факторах, положительно/негативно влияющих на здоровье; владеет основными способами укрепления здоровья","Ребенок имеет представление о некоторых видах спорта (9 и больше), роли спорта для укрепления здоровья","Ребенок проявляет заботливое отношение к своему здоровью и здоровью окружающих","Ребенок проявляет доступный возрасту самоконтроль","Ребенок  способен привлечь внимание других детей и организовать знакомую подвижную игру","Ребенок придумывает новые варианты игр, комбинирует движения","Ребенок имеет представление об элементах спортивных игр (городки, баскетбол, бадминтон, футбол), умеет выполнять некоторые виды движений","Ребенок умеет кататься"]
[null,"Слушание",{"$nulls":3},"Пение ","Музыкально-ритмические движения","Песенное творчество","Игра на детских музыкальных инструментах","Театрализованная деятельность",null,"Танцевально-игровое творчество","Рисование ",null,"Лепка ","Аппликация ","Народное ДПИ",null,"Прикладное творчество",null,"Ребенок самостоятельно определяет замысел рисунка, аппликации, лепки, поделки, создает образы и композиционные изображения, использует разнообразные материалы",{"$nulls":8},"Общее речевое развитие","Формирование словаря",null,"Грамматический строй",{"$nulls":4},"Звуковая культура речи","Связная речь",{"$nulls":5},"ЧХЛ","Подготовка к обучению грамоте",{"$nulls":4},"Цвет, оттенки","Форма, геометрические фигуры","Величина","Ребенок охотно участвует в обсуждении проблемы для совместного нахождения способов ее решения, предлагает пути решения, устанавливает закономерности причинно-следственного характера, проявляет любознательность","Ребенок использует математические знания, способы и средства для познания окружающего мира","Ребенок способен к произвольным умственным действиям, логическим операциям анализа, сравнения, обобщения, систематизации, классификации","Количество и счет",null,null,"Ориентировка во времени","Ориентировка в пространстве","Пространственно-количественные связи и отношения","Сравнение",null,null,"Ребенок имеет представления, может показать на картинке и в естественной среде, может рассказать",null,"Объекты живой природы",null,"Объекты неживой природы, природные явления",null,"Сфера социальных отношений",{"$nulls":16},"Область формирования основ гражданственности и патриотизма",null,null,"Сфера трудового воспитания",{"$nulls":4},"Область формирования основ безопасного поведения","Бросание, катание, ловля, метание",null,"Ползанье, лазанье",null,null,"Ходьба",null,null,"Бег",null,null,"Прыжки",{"$nulls":4},"Равновесие",null,"Строевые упражнения",null,"Ребенок может найти выход из лабиринта","Ребенок может нарисовать простой узор, изображение, не отрывая руки","Ребенок может повторить узор с чередующимися элементами","Ребенок закрашивает контурное изображение с множеством мелких деталей, не выходя за контур","Ребенок может соединить точки для получения изображения","Ребенок рисует геометрический орнамент по клеткам",{"$nulls":11},"на санках","на лыжах","на двухколесном велосипеде","на самокате"]
[null,"Ребенок различает жанры музыкальных произведений (песня, танец, марш)","Ребенок узнает мелодию по отдельным фрагментам произведения (вступление, заключение, музыкальная фраза)","Ребенок различает звуки по высоте в пределах квинты","Ребенок различает звучание музыкальных инструментов (клавишно-ударных, струнных)","Ребенок демонстрирует развитые певческие навыки","Ребенок демонстрирует развитые навыки исполнения танцевальных движений","Ребенок может импровизировать мелодию на заданный текст","Ребенок демонстрирует навыки игры на детских музыкальных инструментах","Ребенок имеет представление о различных видах театрального искусства","Ребенок с удовольствие занимается театрализованной деятельностью","Ребенок может придумывать движения к танцам","Ребенок передает в изображении основные свойства предметов (форма, величина, цвет), характерные детали, соотношение предметов и их частей по величине, высоте, расположению относительно друг друга","Ребенок владеет основными способами и приемами рисования различными изобразительными материалами (цветные карандаши, гуашь, акварель, цветные мелки, пастель, сангина, угольный карандаш, фломастеры)","Ребенок лепит с натуры и по представлению знакомые предметы, передавая характерные особенности пластическим, конструктивным и комбинированным способами","Ребенок умеет пользоваться ножницами","Ребенок имеет представление о полхов-майданской, гжельской росписи","Ребенок может нарисовать узор, используя элементы  росписи","Ребенок умеет работать с бумагой (сгибать лист, сглаживать сгибы, надрезать по сгибам)","Ребенок умеет работать с природным и бросовым материалом",null,"Ребенок умеет выделять, называть, группировать произведения по видам искусства: литература, музыка, изобразительное искусство, архитектура, театр, цирк","Ребенок имеет представление о видах изобразительного искусства: графика, декоративно-прикладное искусство, живопись, скульптура, архитектура, фотоискусство","Ребенок имеет представление о жанрах изобразительного искусства: натюрморт, пейзаж, портрет","Ребенок имеет представление о народном искусстве, фольклоре, музыке и художественных промыслах","Ребенок имеет представление о творческих профессиях: художник, композитор, музыкант, актер, артист балета","Ребенок имеет представление о культурно-досуговых местах: театр, музей, библиотека, выставка, кинотеатр, цирк и др.","Ребенок может провести анализ постройки (выделить основные части и характерные детали конструкций)","Ребенок может выполнить постройку по инструкции","Ребенок внятно разговаривает","Ребенок умеет обобщать предметы в группы по существенным признакам","Ребенок демонстрирует богатый словарный запас","Ребенок правильно использует в речи: несклоняемые существительные","Ребенок правильно использует в речи: слова, имеющие только множественное или только единственное число","Ребенок правильно использует в речи: глаголы одеть-надеть","Ребенок правильно использует в речи: существительные множественного числа в родительном падеже","Ребенок правильно образовывает слова с помощью суффикса, приставки","Ребенок правильно произносит сонорные звуки: л-ль, р-рь","Ребенок пересказывает литературные произведения по ролям, по частям, правильно передавая идею и содержание","Ребенок пользуется прямой и косвенной речью","Ребенок составляет короткий описательный рассказ о предметах, объектах и явлениях природы, из личного опыта","Ребенок сочиняет сюжетные рассказы по картине, из личного опыта","Ребенок проявляет речевое творчество: придумывает продолжение и окончание к рассказу, рассказы по аналогии, по плану педагога, по модели","Ребенок владеет первичными приемами аргументации и доказательства","Ребенок проявляет избирательное отношение к произведениям определенной тематики и жанра","Ребенок понимает термины: слово: звук, буква, предложение, гласный звук, согласный звук","Ребенок может провести звуковой анализ слова, разделить на слоги двух-, трехслоговые слова; составляет схему слова","Ребенок различает гласные-согласные звуки","Ребенок определяет твердые-мягкие согласные","Ребенок составляет предложение по модели, определяет количество и последовательность слов в предложении","Ребенок различает и называет",{"$nulls":5},"Ребенок знает/называет/находит среди других цифры 0 -10","Ребенок выполняет количественный и порядковый счет в пределах 0-10","Ребенок знает состав чисел из единиц в пределах 5","Ребенок понимает календарные единицы времени (сутки, неделя, месяц, год)","Ребенок ориентируется на листе бумаги","Ребенок понимает простейшую графическую информацию об отношениях предметов (слева направо, справа налево, снизу вверх, сверху вниз)","Ребенок выделяет сходства и отличия между группами предметов","Ребенок сравнивает предметы по 3-5 признакам","Ребенок группирует предметы по разным основаниям, преимущественно на основе зрительной оценки",null,null,"Ребенок имеет представление о сходстве и различии во внешнем виде и образе жизни объектов животного и растительного мира в разные сезоны года","Ребенок может сравнивать, группировать объекты живой природы по их особенностям, мету обитания, образу жизни, питанию","Ребенок имеет представление о признаках разных времен года","Ребенок наблюдает за явлениями природы, фиксирует результаты наблюдения","Отношение к самому себе",null,"Отношение к сверстникам",null,"Отношение к взрослым",null,"Эмоции",{"$nulls":3},"Поведение","Семья",null,null,"Игровое поведение",null,null,"Ребенок имеет представление о государственных символах России (герб, гимн, флаг)","Ребенок имеет представление о государственных праздниках России","Ребенок знает/может назвать/показать на картинке и в естественной среде достопримечательности населенного пункта, в котором живет","Ребенок имеет представления о разных видах производительного труда (промышленность, строительство, сельское хозяйство)","Ребенок имеет представления о разных видах обслуживающего труда (сфера досуга и отдыха, сфера культуры, медицина, торговля)","Ребенок имеет представление о структуре трудового процесса (мотив, цель, инструменты, оборудование, содержание действий, выбор трудовых действий, результат)","Ребенок имеет элементарные экономические представления (назначение рекламы, денег)","Ребенок охотно участвует в выполнении трудовых поручений, дежурстве; может распределять трудовые обязанности с другими","Ребенок имеет представления/ соблюдает правила поведения в быту, на улице, в природе, в общении с людьми, с животными","Ребенок выполняет различные упражнения с мячом (прокатывание, передача, перебрасывание, ведение, подбрасывание, ловля, забрасывание)","Ребенок выполняет метание в цель, метание в даль предметов разной массы","Ребенок выполняет ползанье разными способами (на четвереньках, на животе)","Ребенок выполняет переползание через несколько предметов подряд, под дугами, в туннеле","Ребенок выполняет лазанье по гимнастической стенке чередующимся шагом","Ребенок выполняет различные виды ходьбы",null,null,"Ребенок выполняет различные виды бега",null,null,"Ребенок выполняет различные виды прыжков",{"$nulls":4},"Ребенок выполняет стойку на одной ноге ","Ребенок выполняет упражнение \"ласточка\" ","Ребенок выполняет различные виды строевых упражнений",{"$nulls":7},"Ребенок выполняет самостоятельно","Ребенок выполняет самостоятельно","Ребенок выполняет самостоятельно","Ребенок выполняет самостоятельно"]
[{"$nulls":50},"Ребенок называет/различает все цвета спектра и ахроматические цвета, оттенки цвета, тоны цвета, теплые и холодные оттенки","Ребенок владеет способами воссоздания фигуры из частей, деления фигуры на части","Ребенок может выстраивать сериационные ряды предметов, различающихся по размеру в возрастающем и убывающем порядке в пределах 10",{"$nulls":12},"о многообразии людей разных национальностей (особенностей внешнего вида, одежды, традиций)","Ребенок имеет представление о многообразии стран и народов мира",{"$nulls":4},"Ребенок может рассказать о себе, выразить собственные потребности, желания","Ребенок имеет представление о некоторых своих правах","Ребенок имеет предпочтения в общении","Ребенок охотно вступает в общение со сверстниками","Ребенок уважительно относится к взрослым, пожилым людям","Ребенок охотно вступает в общение со взрослыми","Ребенок понимает свои и чужие эмоциональные состояния, демонстрирует примеры эмоциональной поддержки ","Ребенок  откликается на просьбу помочь","Ребенок выразить чувства и эмоции в мимике, пантомимике, действиях, интонации","Ребенок демонстрирует адекватные возрасту способы регуляции эмоциональных состояний","Ребенок ориентируется на общепринятые нормы и правила культуры поведения","Ребенок знает членов своей семьи, ближайших родственников по линии матери и отца","Ребенок имеет представление о способах поддержки родственных связей (переписка, разговор, совместный отдых, традиции, походы в гости и др.)","Ребенок проявляет заботу по отношению к членам своей семьи, оказывает посильную помощь больному члену семьи","Ребенок в совместной деятельности принимает общую цель, договаривается о способах деятельности и материалах, может уступить в конфликтной ситуации","Ребенок проявляет интерес к игровому экспериментированию, развивающим и познавательным играм","Ребенок способен действовать в точном соответствие с игровой задачей и правилами",{"$nulls":14},"обычным шагом, на носках, на пятках, с высоким подниманием колен","приставной, в полуприседе, мелким и широким, перекатом с пятки на носок, гимнастическим","змейкой без ориентиров, в колонне по одному и по два","в колонне по одному, змейкой, с перестроением на ходу в пары, звенья","со сменой ведущих, с пролезанием в обруч, с ловлей и увертыванием, высоко поднимая колени","между расставленными предметами, в заданном темпе, мелким и широким шагом","подпрыгивание, перепрыгивание, спрыгивание","в длину с места","в высоту с разбега","в длину с разбега","со скакалкой",null,null,"построения (по росту, в колонну по одному, в шеренгу, в круг)","в колонну по три, в две шеренги на месте, расхождение из колонны в разные стороны"]
["начало года",{"$f":"'Худ.эст.к 6г ч1. Н.г.'!E25","v":0},{"$f":"'Худ.эст.к 6г ч1. Н.г.'!F25","v":0},{"$f":"'Худ.эст.к 6г ч1. Н.г.'!G25","v":0},{"$f":"'Худ.эст.к 6г ч1. Н.г.'!H25","v":0},{"$f":"'Худ.эст.к 6г ч1. Н.г.'!I25","v":0},{"$f":"'Худ.эст.к 6г ч1. Н.г.'!J25","v":0},{"$f":"'Худ.эст.к 6г ч1. Н.г.'!K25","v":0},{"$f":"'Худ.эст.к 6г ч1. Н.г.'!L25","v":0},{"$f":"'Худ.эст.к 6г ч1. Н.г.'!M25","v":0},{"$f":"'Худ.эст.к 6г ч1. Н.г.'!N25","v":0},{"$f":"'Худ.эст.к 6г ч1. Н.г.'!O25","v":0},{"$f":"'Худ.эст.к 6г ч2. Н.г.'!E25","v":0},{"$f":"'Худ.эст.к 6г ч2. Н.г.'!F25","v":0},{"$f":"'Худ.эст.к 6г ч2. Н.г.'!G25","v":0},{"$f":"'Худ.эст.к 6г ч2. Н.г.'!H25","v":0},{"$f":"'Худ.эст.к 6г ч2. Н.г.'!I25","v":0},{"$f":"'Худ.эст.к 6г ч2. Н.г.'!J25","v":0},{"$f":"'Худ.эст.к 6г ч2. Н.г.'!K25","v":0},{"$f":"'Худ.эст.к 6г ч2. Н.г.'!L25","v":0},{"$f":"'Худ.эст.к 6г ч2. Н.г.'!M25","v":0},{"$f":"'Худ.эст.к 6г ч3. Н.г.'!E25","v":0},{"$f":"'Худ.эст.к 6г ч3. Н.г.'!F25","v":0},{"$f":"'Худ.эст.к 6г ч3. Н.г.'!G25","v":0},{"$f":"'Худ.эст.к 6г ч3. Н.г.'!H25","v":0},{"$f":"'Худ.эст.к 6г ч3. Н.г.'!I25","v":0},{"$f":"'Худ.эст.к 6г ч3. Н.г.'!J25","v":0},{"$f":"'Худ.эст.к 6г ч3. Н.г.'!K25","v":0},{"$f":"'Худ.эст.к 6г ч3. Н.г.'!L25","v":0},{"$f":"'Реч.разв.к 6г ч1. Н.г.'!E24","v":0},{"$f":"'Реч.разв.к 6г ч1. Н.г.'!F24","v":0},{"$f":"'Реч.разв.к 6г ч1. Н.г.'!G24","v":0},{"$f":"'Реч.разв.к 6г ч1. Н.г.'!H24","v":0},{"$f":"'Реч.разв.к 6г ч1. Н.г.'!I24","v":0},{"$f":"'Реч.разв.к 6г ч1. Н.г.'!J24","v":0},{"$f":"'Реч.разв.к 6г ч1. Н.г.'!K24","v":0},{"$f":"'Реч.разв.к 6г ч1. Н.г.'!L24","v":0},{"$f":"'Реч.разв.к 6г ч2. Н.г.'!E24","v":0},{"$f":"'Реч.разв.к 6г ч2. Н.г.'!F24","v":0},{"$f":"'Реч.разв.к 6г ч2. Н.г.'!G24","v":0},{"$f":"'Реч.разв.к 6г ч2. Н.г.'!H24","v":0},{"$f":"'Реч.разв.к 6г ч2. Н.г.'!I24","v":0},{"$f":"'Реч.разв.к 6г ч2. Н.г.'!J24","v":0},{"$f":"'Реч.разв.к 6г ч2. Н.г.'!K24","v":0},{"$f":"'Реч.разв.к 6г ч2. Н.г.'!L24","v":0},{"$f":"'Реч.разв.к 6г ч2. Н.г.'!M24","v":0},{"$f":"'Реч.разв.к 6г ч2. Н.г.'!N24","v":0},{"$f":"'Реч.разв.к 6г ч2. Н.г.'!O24","v":0},{"$f":"'Реч.разв.к 6г ч2. Н.г.'!P24","v":0},{"$f":"'Реч.разв.к 6г ч2. Н.г.'!Q24","v":0},{"$f":"'Позн.разв. к 6г ч1. Н.г.'!E25","v":0},{"$f":"'Позн.разв. к 6г ч1. Н.г.'!F25","v":0},{"$f":"'Позн.разв. к 6г ч1. Н.г.'!G25","v":0},{"$f":"'Позн.разв. к 6г ч1. Н.г.'!H25","v":0},{"$f":"'Позн.разв. к 6г ч1. Н.г.'!I25","v":0},{"$f":"'Позн.разв. к 6г ч1. Н.г.'!J25","v":0},{"$f":"'Позн.разв. к 6г ч1. Н.г.'!K25","v":0},{"$f":"'Позн.разв. к 6г ч1. Н.г.'!L25","v":0},{"$f":"'Позн.разв. к 6г ч1. Н.г.'!M25","v":0},{"$f":"'Позн.разв. к 6г ч1. Н.г.'!N25","v":0},{"$f":"'Позн.разв. к 6г ч1. Н.г.'!O25","v":0},{"$f":"'Позн.разв. к 6г ч1. Н.г.'!P25","v":0},{"$f":"'Позн.разв. к 6г ч1. Н.г.'!Q25","v":0},{"$f":"'Позн.разв. к 6г ч1. Н.г.'!R25","v":0},{"$f":"'Позн.разв. к 6г ч1. Н.г.'!S25","v":0},{"$f":"'Позн.разв. к 6г ч2. Н.г.'!E25","v":0},{"$f":"'Позн.разв. к 6г ч2. Н.г.'!F25","v":0},{"$f":"'Позн.разв. к 6г ч2. Н.г.'!G25","v":0},{"$f":"'Позн.разв. к 6г ч2. Н.г.'!H25","v":0},{"$f":"'Позн.разв. к 6г ч2. Н.г.'!I25","v":0},{"$f":"'Позн.разв. к 6г ч2. Н.г.'!J25","v":0},{"$f":"'Соц.ком.к 6г ч1. Н.г.'!E24","v":0},{"$f":"'Соц.ком.к 6г ч1. Н.г.'!F24","v":0},{"$f":"'Соц.ком.к 6г ч1. Н.г.'!G24","v":0},{"$f":"'Соц.ком.к 6г ч1. Н.г.'!H24","v":0},{"$f":"'Соц.ком.к 6г ч1. Н.г.'!I24","v":0},{"$f":"'Соц.ком.к 6г ч1. Н.г.'!J24","v":0},{"$f":"'Соц.ком.к 6г ч1. Н.г.'!K24","v":0},{"$f":"'Соц.ком.к 6г ч1. Н.г.'!L24","v":0},{"$f":"'Соц.ком.к 6г ч1. Н.г.'!M24","v":0},{"$f":"'Соц.ком.к 6г ч1. Н.г.'!N24","v":0},{"$f":"'Соц.ком.к 6г ч1. Н.г.'!O24","v":0},{"$f":"'Соц.ком.к 6г ч1. Н.г.'!P24","v":0},{"$f":"'Соц.ком.к 6г ч1. Н.г.'!Q24","v":0},{"$f":"'Соц.ком.к 6г ч1. Н.г.'!R24","v":0},{"$f":"'Соц.ком.к 6г ч1. Н.г.'!S24","v":0},{"$f":"'Соц.ком.к 6г ч1. Н.г.'!T24","v":0},{"$f":"'Соц.ком.к 6г ч1. Н.г.'!U24","v":0},{"$f":"'Соц.ком. к 6г ч2. Н.г.'!E24","v":0},{"$f":"'Соц.ком. к 6г ч2. Н.г.'!F24","v":0},{"$f":"'Соц.ком. к 6г ч2. Н.г.'!G24","v":0},{"$f":"'Соц.ком. к 6г ч2. Н.г.'!H24","v":0},{"$f":"'Соц.ком. к 6г ч2. Н.г.'!I24","v":0},{"$f":"'Соц.ком. к 6г ч2. Н.г.'!J24","v":0},{"$f":"'Соц.ком. к 6г ч2. Н.г.'!K24","v":0},{"$f":"'Соц.ком. к 6г ч2. Н.г.'!L24","v":0},{"$f":"'Соц.ком. к 6г ч2. Н.г.'!M24","v":0},{"$f":"'Физ.разв. к 6г ч1. Н.г.'!E25","v":0},{"$f":"'Физ.разв. к 6г ч1. Н.г.'!F25","v":0},{"$f":"'Физ.разв. к 6г ч1. Н.г.'!G25","v":0},{"$f":"'Физ.разв. к 6г ч1. Н.г.'!H25","v":0},{"$f":"'Физ.разв. к 6г ч1. Н.г.'!I25","v":0},{"$f":"'Физ.разв. к 6г ч1. Н.г.'!J25","v":0},{"$f":"'Физ.разв. к 6г ч1. Н.г.'!K25","v":0},{"$f":"'Физ.разв. к 6г ч1. Н.г.'!L25","v":0},{"$f":"'Физ.разв. к 6г ч1. Н.г.'!M25","v":0},{"$f":"'Физ.разв. к 6г ч1. Н.г.'!N25","v":0},{"$f":"'Физ.разв. к 6г ч1. Н.г.'!O25","v":0},{"$f":"'Физ.разв. к 6г ч1. Н.г.'!P25","v":0},{"$f":"'Физ.разв. к 6г ч1. Н.г.'!Q25","v":0},{"$f":"'Физ.разв. к 6г ч1. Н.г.'!R25","v":0},{"$f":"'Физ.разв. к 6г ч1. Н.г.'!S25","v":0},{"$f":"'Физ.разв. к 6г ч1. Н.г.'!T25","v":0},{"$f":"'Физ.разв. к 6г ч1. Н.г.'!U25","v":0},{"$f":"'Физ.разв. к 6г ч1. Н.г.'!V25","v":0},{"$f":"'Физ.разв. к 6г ч1. Н.г.'!W25","v":0},{"$f":"'Физ.разв. к 6г ч1. Н.г.'!X25","v":0},{"$f":"'Физ.разв. к 6г ч2. Н.г.'!E26","v":0},{"$f":"'Физ.разв. к 6г ч2. Н.г.'!F26","v":0},{"$f":"'Физ.разв. к 6г ч2. Н.г.'!G26","v":0},{"$f":"'Физ.разв. к 6г ч2. Н.г.'!H26","v":0},{"$f":"'Физ.разв. к 6г ч2. Н.г.'!I26","v":0},{"$f":"'Физ.разв. к 6г ч2. Н.г.'!J26","v":0},{"$f":"'Физ.разв. к 6г ч2. Н.г.'!K26","v":0},{"$f":"'Физ.разв. к 6г ч2. Н.г.'!L26","v":0},{"$f":"'Физ.разв. к 6г ч2. Н.г.'!M26","v":0},{"$f":"'Физ.разв. к 6г ч2. Н.г.'!N26","v":0},{"$f":"'Физ.разв. к 6г ч2. Н.г.'!O26","v":0},{"$f":"'Физ.разв. к 6г ч2. Н.г.'!P26","v":0},{"$f":"'Физ.разв. к 6г ч2. Н.г.'!Q26","v":0},{"$f":"'Физ.разв. к 6г ч2. Н.г.'!R26","v":0},{"$f":"'Физ.разв. к 6г ч2. Н.г.'!S26","v":0},{"$f":"'Физ.разв. к 6г ч2. Н.г.'!T26","v":0},{"$f":"'Физ.разв. к 6г ч2. Н.г.'!U26","v":0},{"$f":"'Физ.разв. к 6г ч2. Н.г.'!V26","v":0},{"$f":"'Физ.разв. к 6г ч2. Н.г.'!W26","v":0},{"$f":"'Физ.разв. к 6г ч2. Н.г.'!X26","v":0},{"$f":"'Физ.разв. к 6г ч2. Н.г.'!Y26","v":0}]
["конец года",{"$f":"'Худ.эст.к 6г ч1. К.г. '!E25","v":0},{"$f":"'Худ.эст.к 6г ч1. К.г. '!F25","v":0},{"$f":"'Худ.эст.к 6г ч1. К.г. '!G25","v":0},{"$f":"'Худ.эст.к 6г ч1. К.г. '!H25","v":0},{"$f":"'Худ.эст.к 6г ч1. К.г. '!I25","v":0},{"$f":"'Худ.эст.к 6г ч1. К.г. '!J25","v":0},{"$f":"'Худ.эст.к 6г ч1. К.г. '!K25","v":0},{"$f":"'Худ.эст.к 6г ч1. К.г. '!L25","v":0},{"$f":"'Худ.эст.к 6г ч1. К.г. '!M25","v":0},{"$f":"'Худ.эст.к 6г ч1. К.г. '!N25","v":0},{"$f":"'Худ.эст.к 6г ч1. К.г. '!O25","v":0},{"$f":"'Худ.эст.к 6г ч2. К.г. '!E25","v":0},{"$f":"'Худ.эст.к 6г ч2. К.г. '!F25","v":0},{"$f":"'Худ.эст.к 6г ч2. К.г. '!G25","v":0},{"$f":"'Худ.эст.к 6г ч2. К.г. '!H25","v":0},{"$f":"'Худ.эст.к 6г ч2. К.г. '!I25","v":0},{"$f":"'Худ.эст.к 6г ч2. К.г. '!J25","v":0},{"$f":"'Худ.эст.к 6г ч2. К.г. '!K25","v":0},{"$f":"'Худ.эст.к 6г ч2. К.г. '!L25","v":0},{"$f":"'Худ.эст.к 6г ч2. К.г. '!M25","v":0},{"$f":"'Худ.эст.к 6г ч3. К.г. '!E25","v":0},{"$f":"'Худ.эст.к 6г ч3. К.г. '!F25","v":0},{"$f":"'Худ.эст.к 6г ч3. К.г. '!G25","v":0},{"$f":"'Худ.эст.к 6г ч3. К.г. '!H25","v":0},{"$f":"'Худ.эст.к 6г ч3. К.г. '!I25","v":0},{"$f":"'Худ.эст.к 6г ч3. К.г. '!J25","v":0},{"$f":"'Худ.эст.к 6г ч3. К.г. '!K25","v":0},{"$f":"'Худ.эст.к 6г ч3. К.г. '!L25","v":0},{"$f":"'Реч.разв.к 6г ч1. К.г. '!E24","v":0},{"$f":"'Реч.разв.к 6г ч1. К.г. '!F24","v":0},{"$f":"'Реч.разв.к 6г ч1. К.г. '!G24","v":0},{"$f":"'Реч.разв.к 6г ч1. К.г. '!H24","v":0},{"$f":"'Реч.разв.к 6г ч1. К.г. '!I24","v":0},{"$f":"'Реч.разв.к 6г ч1. К.г. '!J24","v":0},{"$f":"'Реч.разв.к 6г ч1. К.г. '!K24","v":0},{"$f":"'Реч.разв.к 6г ч1. К.г. '!L24","v":0},{"$f":"'Реч.разв.к 6г ч2. К.г. '!E24","v":0},{"$f":"'Реч.разв.к 6г ч2. К.г. '!F24","v":0},{"$f":"'Реч.разв.к 6г ч2. К.г. '!G24","v":0},{"$f":"'Реч.разв.к 6г ч2. К.г. '!H24","v":0},{"$f":"'Реч.разв.к 6г ч2. К.г. '!I24","v":0},{"$f":"'Реч.разв.к 6г ч2. К.г. '!J24","v":0},{"$f":"'Реч.разв.к 6г ч2. К.г. '!K24","v":0},{"$f":"'Реч.разв.к 6г ч2. К.г. '!L24","v":0},{"$f":"'Реч.разв.к 6г ч2. К.г. '!M24","v":0},{"$f":"'Реч.разв.к 6г ч2. К.г. '!N24","v":0},{"$f":"'Реч.разв.к 6г ч2. К.г. '!O24","v":0},{"$f":"'Реч.разв.к 6г ч2. К.г. '!P24","v":0},{"$f":"'Реч.разв.к 6г ч2. К.г. '!Q24","v":0},{"$f":"'Позн.разв. к 6г ч1. К.г. '!E25","v":0},{"$f":"'Позн.разв. к 6г ч1. К.г. '!F25","v":0},{"$f":"'Позн.разв. к 6г ч1. К.г. '!G25","v":0},{"$f":"'Позн.разв. к 6г ч1. К.г. '!H25","v":0},{"$f":"'Позн.разв. к 6г ч1. К.г. '!I25","v":0},{"$f":"'Позн.разв. к 6г ч1. К.г. '!J25","v":0},{"$f":"'Позн.разв. к 6г ч1. К.г. '!K25","v":0},{"$f":"'Позн.разв. к 6г ч1. К.г. '!L25","v":0},{"$f":"'Позн.разв. к 6г ч1. К.г. '!M25","v":0},{"$f":"'Позн.разв. к 6г ч1. К.г. '!N25","v":0},{"$f":"'Позн.разв. к 6г ч1. К.г. '!O25","v":0},{"$f":"'Позн.разв. к 6г ч1. К.г. '!P25","v":0},{"$f":"'Позн.разв. к 6г ч1. К.г. '!Q25","v":0},{"$f":"'Позн.разв. к 6г ч1. К.г. '!R25","v":0},{"$f":"'Позн.разв. к 6г ч1. К.г. '!S25","v":0},{"$f":"'Позн.разв. к 6г ч2. К.г. '!E25","v":0},{"$f":"'Позн.разв. к 6г ч2. К.г. '!F25","v":0},{"$f":"'Позн.разв. к 6г ч2. К.г. '!G25","v":0},{"$f":"'Позн.разв. к 6г ч2. К.г. '!H25","v":0},{"$f":"'Позн.разв. к 6г ч2. К.г. '!I25","v":0},{"$f":"'Позн.разв. к 6г ч2. К.г. '!J25","v":0},{"$f":"'Соц.ком.к 6г ч1. К.г. '!$E$24","v":0},{"$f":"'Соц.ком.к 6г ч1. К.г. '!$E$24","v":0},{"$f":"'Соц.ком.к 6г ч1. К.г. '!$E$24","v":0},{"$f":"'Соц.ком.к 6г ч1. К.г. '!$E$24","v":0},{"$f":"'Соц.ком.к 6г ч1. К.г. '!$E$24","v":0},{"$f":"'Соц.ком.к 6г ч1. К.г. '!$E$24","v":0},{"$f":"'Соц.ком.к 6г ч1. К.г. '!$E$24","v":0},{"$f":"'Соц.ком.к 6г ч1. К.г. '!$E$24","v":0},{"$f":"'Соц.ком.к 6г ч1. К.г. '!$E$24","v":0},{"$f":"'Соц.ком.к 6г ч1. К.г. '!$E$24","v":0},{"$f":"'Соц.ком.к 6г ч1. К.г. '!$E$24","v":0},{"$f":"'Соц.ком.к 6г ч1. К.г. '!$E$24","v":0},{"$f":"'Соц.ком.к 6г ч1. К.г. '!$E$24","v":0},{"$f":"'Соц.ком.к 6г ч1. К.г. '!$E$24","v":0},{"$f":"'Соц.ком.к 6г ч1. К.г. '!$E$24","v":0},{"$f":"'Соц.ком.к 6г ч1. К.г. '!$E$24","v":0},{"$f":"'Соц.ком.к 6г ч1. К.г. '!$E$24","v":0},{"$f":"'Соц.ком. к 6г ч2 К.г.'!E24","v":0},{"$f":"'Соц.ком. к 6г ч2 К.г.'!F24","v":0},{"$f":"'Соц.ком. к 6г ч2 К.г.'!G24","v":0},{"$f":"'Соц.ком. к 6г ч2 К.г.'!H24","v":0},{"$f":"'Соц.ком. к 6г ч2 К.г.'!I24","v":0},{"$f":"'Соц.ком. к 6г ч2 К.г.'!J24","v":0},{"$f":"'Соц.ком. к 6г ч2 К.г.'!K24","v":0},{"$f":"'Соц.ком. к 6г ч2 К.г.'!L24","v":0},{"$f":"'Соц.ком. к 6г ч2 К.г.'!M24","v":0},{"$f":"'Физ.разв. к 6г ч1. К.г. '!E25","v":0},{"$f":"'Физ.разв. к 6г ч1. К.г. '!F25","v":0},{"$f":"'Физ.разв. к 6г ч1. К.г. '!G25","v":0},{"$f":"'Физ.разв. к 6г ч1. К.г. '!H25","v":0},{"$f":"'Физ.разв. к 6г ч1. К.г. '!I25","v":0},{"$f":"'Физ.разв. к 6г ч1. К.г. '!J25","v":0},{"$f":"'Физ.разв. к 6г ч1. К.г. '!K25","v":0},{"$f":"'Физ.разв. к 6г ч1. К.г. '!L25","v":0},{"$f":"'Физ.разв. к 6г ч1. К.г. '!M25","v":0},{"$f":"'Физ.разв. к 6г ч1. К.г. '!N25","v":0},{"$f":"'Физ.разв. к 6г ч1. К.г. '!O25","v":0},{"$f":"'Физ.разв. к 6г ч1. К.г. '!P25","v":0},{"$f":"'Физ.разв. к 6г ч1. К.г. '!Q25","v":0},{"$f":"'Физ.разв. к 6г ч1. К.г. '!R25","v":0},{"$f":"'Физ.разв. к 6г ч1. К.г. '!S25","v":0},{"$f":"'Физ.разв. к 6г ч1. К.г. '!T25","v":0},{"$f":"'Физ.разв. к 6г ч1. К.г. '!U25","v":0},{"$f":"'Физ.разв. к 6г ч1. К.г. '!V25","v":0},{"$f":"'Физ.разв. к 6г ч1. К.г. '!W25","v":0},{"$f":"'Физ.разв. к 6г ч1. К.г. '!X25","v":0},{"$f":"'Физ.разв. к 6г ч2. К.г. '!E26","v":0},{"$f":"'Физ.разв. к 6г ч2. К.г. '!F26","v":0},{"$f":"'Физ.разв. к 6г ч2. К.г. '!G26","v":0},{"$f":"'Физ.разв. к 6г ч2. К.г. '!H26","v":0},{"$f":"'Физ.разв. к 6г ч2. К.г. '!I26","v":0},{"$f":"'Физ.разв. к 6г ч2. К.г. '!J26","v":0},{"$f":"'Физ.разв. к 6г ч2. К.г. '!K26","v":0},{"$f":"'Физ.разв. к 6г ч2. К.г. '!L26","v":0},{"$f":"'Физ.разв. к 6г ч2. К.г. '!M26","v":0},{"$f":"'Физ.разв. к 6г ч2. К.г. '!N26","v":0},{"$f":"'Физ.разв. к 6г ч2. К.г. '!O26","v":0},{"$f":"'Физ.разв. к 6г ч2. К.г. '!P26","v":0},{"$f":"'Физ.разв. к 6г ч2. К.г. '!Q26","v":0},{"$f":"'Физ.разв. к 6г ч2. К.г. '!R26","v":0},{"$f":"'Физ.разв. к 6г ч2. К.г. '!S26","v":0},{"$f":"'Физ.разв. к 6г ч2. К.г. '!T26","v":0},{"$f":"'Физ.разв. к 6г ч2. К.г. '!U26","v":0},{"$f":"'Физ.разв. к 6г ч2. К.г. '!V26","v":0},{"$f":"'Физ.разв. к 6г ч2. К.г. '!W26","v":0},{"$f":"'Физ.разв. к 6г ч2. К.г. '!X26","v":0},{"$f":"'Физ.разв. к 6г ч2. К.г. '!Y26","v":0}]

{"sheet":"15","index":42,"n_rows":11,"n_cols":138,"rows_kept":11,"merged":[[4,117,4,122],[4,123,4,126],[4,127,4,129],[4,130,4,132],[4,134,4,137],[5,0,8,0],[5,1,5,11],[5,12,5,19],[5,21,6,26],[5,27,6,28],[5,50,5,52],[5,53,5,55],[5,56,5,64],[5,65,5,66],[5,67,5,70],[5,117,5,118],[5,119,5,122],[5,123,6,123],[5,124,6,124],[5,125,6,125],[5,126,6,126],[5,127,8,127],[5,128,8,128],[5,129,8,129],[5,130,8,130],[5,131,8,131],[5,132,8,132],[5,133,8,133],[5,134,5,137],[6,1,6,4],[6,9,6,10],[6,12,6,13],[6,16,6,17],[6,18,6,19],[6,20,8,20],[6,30,6,31],[6,32,6,36],[6,38,6,43],[6,45,6,49],[6,53,8,53],[6,54,8,54],[6,55,8,55],[6,56,6,58],[6,62,6,64],[6,65,7,66],[6,67,6,68],[6,69,6,70],[6,71,6,87],[6,88,6,90],[6,91,6,95],[6,97,6,98],[6,99,6,101],[6,102,6,104],[6,105,6,107],[6,108,6,112],[6,113,6,114],[6,115,6,116],[6,117,8,117],[6,118,8,118],[6,119,8,119],[6,120,8,120],[6,121,8,121],[6,122,8,122],[6,134,8,134],[6,135,8,135],[6,136,8,136],[6,137,8,137],[7,1,8,1],[7,2,8,2],[7,3,8,3],[7,4,8,4],[7,5,8,5],[7,6,8,6],[7,7,8,7],[7,8,8,8],[7,9,8,9],[7,10,8,10],[7,11,8,11],[7,12,8,12],[7,13,8,13],[7,14,8,14],[7,15,8,15],[7,16,8,16],[7,17,8,17],[7,18,8,18],[7,19,8,19],[7,21,8,21],[7,22,8,22],[7,23,8,23],[7,24,8,24],[7,25,8,25],[7,26,8,26],[7,27,8,27],[7,28,8,28],[7,29,8,29],[7,30,8,30],[7,31,8,31],[7,32,8,32],[7,33,8,33],[7,34,8,34],[7,35,8,35],[7,36,8,36],[7,37,8,37],[7,38,8,38],[7,39,8,39],[7,40,8,40],[7,41,8,41],[7,42,8,42],[7,43,8,43],[7,44,8,44],[7,45,8,45],[7,46,8,46],[7,47,8,47],[7,48,8,48],[7,49,8,49],[7,50,7,52],[7,56,8,56],[7,57,8,57],[7,58,8,58],[7,59,8,59],[7,60,8,60],[7,61,8,61],[7,62,8,62],[7,63,8,63],[7,64,8,64],[7,67,8,67],[7,68,8,68],[7,69,8,69],[7,70,8,70],[7,71,7,72],[7,73,7,74],[7,75,7,76],[7,77,7,80],[7,82,7,84],[7,85,7,87],[7,88,8,88],[7,89,8,89],[7,90,8,90],[7,91,8,91],[7,92,8,92],[7,93,8,93],[7,94,8,94],[7,95,8,95],[7,96,8,96],[7,97,8,97],[7,98,8,98],[7,99,8,99],[7,100,8,100],[7,101,8,101],[7,102,7,104],[7,105,7,107],[7,108,7,112],[7,113,8,113],[7,114,8,114],[7,115,7,116],[7,123,8,123],[7,124,8,124],[7,125,8,125],[7,126,8,126]]}
[]
[]
[]
[]
[{"$nulls":117},"Мелкая моторика",{"$nulls":5},"КГН",{"$nulls":3},"ЗОЖ",null,null,"Подвижные игры",null,null,"Спорт. игры","Спортивные упражнения"]
[{"$f":"Список!B18","v":0},"Музыкальная деятельность",{"$nulls":10},"Изобразительная деятельность",{"$nulls":8},"Приобщение к искусству",{"$nulls":5},"Конструктивная деятельность",{"$nulls":22},"Сенсорные эталоны ",null,null,"Познавательные действия",null,null,"Математические представления",{"$nulls":8},"Окружающий мир",null,"Природа ",{"$nulls":49},"Координация рук и глаз",null,"Графические навыки",{"$nulls":3},"Навыки соблюдения чистоты тела (правила личной гигиены)","Навыки культуры еды (прием пищи) ","Навыки поддержания порядка (правила поведения в быту) ","Навыки ухода за собой (одевание, раздевание) ","Ребенок имеет представление о факторах, положительно/негативно влияющих на здоровье; владеет основными способами укрепления здоровья","Ребенок имеет представление о некоторых видах спорта (9 и больше), роли спорта для укрепления здоровья","Ребенок проявляет заботливое отношение к своему здоровью и здоровью окружающих","Ребенок проявляет доступный возрасту самоконтроль","Ребенок  способен привлечь внимание других детей и организовать знакомую подвижную игру","Ребенок придумывает новые варианты игр, комбинирует движения","Ребенок имеет представление об элементах спортивных игр (городки, баскетбол, бадминтон, футбол), умеет выполнять некоторые виды движений","Ребенок умеет кататься"]
[null,"Слушание",{"$nulls":3},"Пение ","Музыкально-ритмические движения","Песенное творчество","Игра на детских музыкальных инструментах","Театрализованная деятельность",null,"Танцевально-игровое творчество","Рисование ",null,"Лепка ","Аппликация ","Народное ДПИ",null,"Прикладное творчество",null,"Ребенок самостоятельно определяет замысел рисунка, аппликации, лепки, поделки, создает образы и композиционные изображения, использует разнообразные материалы",{"$nulls":8},"Общее речевое развитие","Формирование словаря",null,"Грамматический строй",{"$nulls":4},"Звуковая культура речи","Связная речь",{"$nulls":5},"ЧХЛ","Подготовка к обучению грамоте",{"$nulls":4},"Цвет, оттенки","Форма, геометрические фигуры","Величина","Ребенок охотно участвует в обсуждении проблемы для совместного нахождения способов ее решения, предлагает пути решения, устанавливает закономерности причинно-следственного характера, проявляет любознательность","Ребенок использует математические знания, способы и средства для познания окружающего мира","Ребенок способен к произвольным умственным действиям, логическим операциям анализа, сравнения, обобщения, систематизации, классификации","Количество и счет",null,null,"Ориентировка во времени","Ориентировка в пространстве","Пространственно-количественные связи и отношения","Сравнение",null,null,"Ребенок имеет представления, может показать на картинке и в естественной среде, может рассказать",null,"Объекты живой природы",null,"Объекты неживой природы, природные явления",null,"Сфера социальных отношений",{"$nulls":16},"Область формирования основ гражданственности и патриотизма",null,null,"Сфера трудового воспитания",{"$nulls":4},"Область формирования основ безопасного поведения","Бросание, катание, ловля, метание",null,"Ползанье, лазанье",null,null,"Ходьба",null,null,"Бег",null,null,"Прыжки",{"$nulls":4},"Равновесие",null,"Строевые упражнения",null,"Ребенок может найти выход из лабиринта","Ребенок может нарисовать простой узор, изображение, не отрывая руки","Ребенок может повторить узор с чередующимися элементами","Ребенок закрашивает контурное изображение с множеством мелких деталей, не выходя за контур","Ребенок может соединить точки для получения изображения","Ребенок рисует геометрический орнамент по клеткам",{"$nulls":11},"на санках","на лыжах","на двухколесном велосипеде","на самокате"]
[null,"Ребенок различает жанры музыкальных произведений (песня, танец, марш)","Ребенок узнает мелодию по отдельным фрагментам произведения (вступление, заключение, музыкальная фраза)","Ребенок различает звуки по высоте в пределах квинты","Ребенок различает звучание музыкальных инструментов (клавишно-ударных, струнных)","Ребенок демонстрирует развитые певческие навыки","Ребенок демонстрирует развитые навыки исполнения танцевальных движений","Ребенок может импровизировать мелодию на заданный текст","Ребенок демонстрирует навыки игры на детских музыкальных инструментах","Ребенок имеет представление о различных видах театрального искусства","Ребенок с удовольствие занимается театрализованной деятельностью","Ребенок может придумывать движения к танцам","Ребенок передает в изображении основные свойства предметов (форма, величина, цвет), характерные детали, соотношение предметов и их частей по величине, высоте, расположению относительно друг друга","Ребенок владеет основными способами и приемами рисования различными изобразительными материалами (цветные карандаши, гуашь, акварель, цветные мелки, пастель, сангина, угольный карандаш, фломастеры)","Ребенок лепит с натуры и по представлению знакомые предметы, передавая характерные особенности пластическим, конструктивным и комбинированным способами","Ребенок умеет пользоваться ножницами","Ребенок имеет представление о полхов-майданской, гжельской росписи","Ребенок может нарисовать узор, используя элементы  росписи","Ребенок умеет работать с бумагой (сгибать лист, сглаживать сгибы, надрезать по сгибам)","Ребенок умеет работать с природным и бросовым материалом",null,"Ребенок умеет выделять, называть, группировать произведения по видам искусства: литература, музыка, изобразительное искусство, архитектура, театр, цирк","Ребенок имеет представление о видах изобразительного искусства: графика, декоративно-прикладное искусство, живопись, скульптура, архитектура, фотоискусство","Ребенок имеет представление о жанрах изобразительного искусства: натюрморт, пейзаж, портрет","Ребенок имеет представление о народном искусстве, фольклоре, музыке и художественных промыслах","Ребенок имеет представление о творческих профессиях: художник, композитор, музыкант, актер, артист балета","Ребенок имеет представление о культурно-досуговых местах: театр, музей, библиотека, выставка, кинотеатр, цирк и др.","Ребенок может провести анализ постройки (выделить основные части и характерные детали конструкций)","Ребенок может выполнить постройку по инструкции","Ребенок внятно разговаривает","Ребенок умеет обобщать предметы в группы по существенным признакам","Ребенок демонстрирует богатый словарный запас","Ребенок правильно использует в речи: несклоняемые существительные","Ребенок правильно использует в речи: слова, имеющие только множественное или только единственное число","Ребенок правильно использует в речи: глаголы одеть-надеть","Ребенок правильно использует в речи: существительные множественного числа в родительном падеже","Ребенок правильно образовывает слова с помощью суффикса, приставки","Ребенок правильно произносит сонорные звуки: л-ль, р-рь","Ребенок пересказывает литературные произведения по ролям, по частям, правильно передавая идею и содержание","Ребенок пользуется прямой и косвенной речью","Ребенок составляет короткий описательный рассказ о предметах, объектах и явлениях природы, из личного опыта","Ребенок сочиняет сюжетные рассказы по картине, из личного опыта","Ребенок проявляет речевое творчество: придумывает продолжение и окончание к рассказу, рассказы по аналогии, по плану педагога, по модели","Ребенок владеет первичными приемами аргументации и доказательства","Ребенок проявляет избирательное отношение к произведениям определенной тематики и жанра","Ребенок понимает термины: слово: звук, буква, предложение, гласный звук, согласный звук","Ребенок может провести звуковой анализ слова, разделить на слоги двух-, трехслоговые слова; составляет схему слова","Ребенок различает гласные-согласные звуки","Ребенок определяет твердые-мягкие согласные","Ребенок составляет предложение по модели, определяет количество и последовательность слов в предложении","Ребенок различает и называет",{"$nulls":5},"Ребенок знает/называет/находит среди других цифры 0 -10","Ребенок выполняет количественный и порядковый счет в пределах 0-10","Ребенок знает состав чисел из единиц в пределах 5","Ребенок понимает календарные единицы времени (сутки, неделя, месяц, год)","Ребенок ориентируется на листе бумаги","Ребенок понимает простейшую графическую информацию об отношениях предметов (слева направо, справа налево, снизу вверх, сверху вниз)","Ребенок выделяет сходства и отличия между группами предметов","Ребенок сравнивает предметы по 3-5 признакам","Ребенок группирует предметы по разным основаниям, преимущественно на основе зрительной оценки",null,null,"Ребенок имеет представление о сходстве и различии во внешнем виде и образе жизни объектов животного и растительного мира в разные сезоны года","Ребенок может сравнивать, группировать объекты живой природы по их особенностям, мету обитания, образу жизни, питанию","Ребенок имеет представление о признаках разных времен года","Ребенок наблюдает за явлениями природы, фиксирует результаты наблюдения","Отношение к самому себе",null,"Отношение к сверстникам",null,"Отношение к взрослым",null,"Эмоции",{"$nulls":3},"Поведение","Семья",null,null,"Игровое поведение",null,null,"Ребенок имеет представление о государственных символах России (герб, гимн, флаг)","Ребенок имеет представление о государственных праздниках России","Ребенок знает/может назвать/показать на картинке и в естественной среде достопримечательности населенного пункта, в котором живет","Ребенок имеет представления о разных видах производительного труда (промышленность, строительство, сельское хозяйство)","Ребенок имеет представления о разных видах обслуживающего труда (сфера досуга и отдыха, сфера культуры, медицина, торговля)","Ребенок имеет представление о структуре трудового процесса (мотив, цель, инструменты, оборудование, содержание действий, выбор трудовых действий, результат)","Ребенок имеет элементарные экономические представления (назначение рекламы, денег)","Ребенок охотно участвует в выполнении трудовых поручений, дежурстве; может распределять трудовые обязанности с другими","Ребенок имеет представления/ соблюдает правила поведения в быту, на улице, в природе, в общении с людьми, с животными","Ребенок выполняет различные упражнения с мячом (прокатывание, передача, перебрасывание, ведение, подбрасывание, ловля, забрасывание)","Ребенок выполняет метание в цель, метание в даль предметов разной массы","Ребенок выполняет ползанье разными способами (на четвереньках, на животе)","Ребенок выполняет переползание через несколько предметов подряд, под дугами, в туннеле","Ребенок выполняет лазанье по гимнастической стенке чередующимся шагом","Ребенок выполняет различные виды ходьбы",null,null,"Ребенок выполняет различные виды бега",null,null,"Ребенок выполняет различные виды прыжков",{"$nulls":4},"Ребенок выполняет стойку на одной ноге ","Ребенок выполняет упражнение \"ласточка\" ","Ребенок выполняет различные виды строевых упражнений",{"$nulls":7},"Ребенок выполняет самостоятельно","Ребенок выполняет самостоятельно","Ребенок выполняет самостоятельно","Ребенок выполняет самостоятельно"]
[{"$nulls":50},"Ребенок называет/различает все цвета спектра и ахроматические цвета, оттенки цвета, тоны цвета, теплые и холодные оттенки","Ребенок владеет способами воссоздания фигуры из частей, деления фигуры на части","Ребенок может выстраивать сериационные ряды предметов, различающихся по размеру в возрастающем и убывающем порядке в пределах 10",{"$nulls":12},"о многообразии людей разных национальностей (особенностей внешнего вида, одежды, традиций)","Ребенок имеет представление о многообразии стран и народов мира",{"$nulls":4},"Ребенок может рассказать о себе, выразить собственные потребности, желания","Ребенок имеет представление о некоторых своих правах","Ребенок имеет предпочтения в общении","Ребенок охотно вступает в общение со сверстниками","Ребенок уважительно относится к взрослым, пожилым людям","Ребенок охотно вступает в общение со взрослыми","Ребенок понимает свои и чужие эмоциональные состояния, демонстрирует примеры эмоциональной поддержки ","Ребенок  откликается на просьбу помочь","Ребенок выразить чувства и эмоции в мимике, пантомимике, действиях, интонации","Ребенок демонстрирует адекватные возрасту способы регуляции эмоциональных состояний","Ребенок ориентируется на общепринятые нормы и правила культуры поведения","Ребенок знает членов своей семьи, ближайших родственников по линии матери и отца","Ребенок имеет представление о способах поддержки родственных связей (переписка, разговор, совместный отдых, традиции, походы в гости и др.)","Ребенок проявляет заботу по отношению к членам своей семьи, оказывает посильную помощь больному члену семьи","Ребенок в совместной деятельности принимает общую цель, договаривается о способах деятельности и материалах, может уступить в конфликтной ситуации","Ребенок проявляет интерес к игровому экспериментированию, развивающим и познавательным играм","Ребенок способен действовать в точном соответствие с игровой задачей и правилами",{"$nulls":14},"обычным шагом, на носках, на пятках, с высоким подниманием колен","приставной, в полуприседе, мелким и широким, перекатом с пятки на носок, гимнастическим","змейкой без ориентиров, в колонне по одному и по два","в колонне по одному, змейкой, с перестроением на ходу в пары, звенья","со сменой ведущих, с пролезанием в обруч, с ловлей и увертыванием, высоко поднимая колени","между расставленными предметами, в заданном темпе, мелким и широким шагом","подпрыгивание, перепрыгивание, спрыгивание","в длину с места","в высоту с разбега","в длину с разбега","со скакалкой",null,null,"построения (по росту, в колонну по одному, в шеренгу, в круг)","в колонну по три, в две шеренги на месте, расхождение из колонны в разные стороны"]
["начало года",{"$f":"'Худ.эст.к 6г ч1. Н.г.'!E26","v":0},{"$f":"'Худ.эст.к 6г ч1. Н.г.'!F26","v":0},{"$f":"'Худ.эст.к 6г ч1. Н.г.'!G26","v":0},{"$f":"'Худ.эст.к 6г ч1. Н.г.'!H26","v":0},{"$f":"'Худ.эст.к 6г ч1. Н.г.'!I26","v":0},{"$f":"'Худ.эст.к 6г ч1. Н.г.'!J26","v":0},{"$f":"'Худ.эст.к 6г ч1. Н.г.'!K26","v":0},{"$f":"'Худ.эст.к 6г ч1. Н.г.'!L26","v":0},{"$f":"'Худ.эст.к 6г ч1. Н.г.'!M26","v":0},{"$f":"'Худ.эст.к 6г ч1. Н.г.'!N26","v":0},{"$f":"'Худ.эст.к 6г ч1. Н.г.'!O26","v":0},{"$f":"'Худ.эст.к 6г ч2. Н.г.'!E26","v":0},{"$f":"'Худ.эст.к 6г ч2. Н.г.'!F26","v":0},{"$f":"'Худ.эст.к 6г ч2. Н.г.'!G26","v":0},{"$f":"'Худ.эст.к 6г ч2. Н.г.'!H26","v":0},{"$f":"'Худ.эст.к 6г ч2. Н.г.'!I26","v":0},{"$f":"'Худ.эст.к 6г ч2. Н.г.'!J26","v":0},{"$f":"'Худ.эст.к 6г ч2. Н.г.'!K26","v":0},{"$f":"'Худ.эст.к 6г ч2. Н.г.'!L26","v":0},{"$f":"'Худ.эст.к 6г ч2. Н.г.'!M26","v":0},{"$f":"'Худ.эст.к 6г ч3. Н.г.'!E26","v":0},{"$f":"'Худ.эст.к 6г ч3. Н.г.'!F26","v":0},{"$f":"'Худ.эст.к 6г ч3. Н.г.'!G26","v":0},{"$f":"'Худ.эст.к 6г ч3. Н.г.'!H26","v":0},{"$f":"'Худ.эст.к 6г ч3. Н.г.'!I26","v":0},{"$f":"'Худ.эст.к 6г ч3. Н.г.'!J26","v":0},{"$f":"'Худ.эст.к 6г ч3. Н.г.'!K26","v":0},{"$f":"'Худ.эст.к 6г ч3. Н.г.'!L26","v":0},{"$f":"'Реч.разв.к 6г ч1. Н.г.'!E25","v":0},{"$f":"'Реч.разв.к 6г ч1. Н.г.'!F25","v":0},{"$f":"'Реч.разв.к 6г ч1. Н.г.'!G25","v":0},{"$f":"'Реч.разв.к 6г ч1. Н.г.'!H25","v":0},{"$f":"'Реч.разв.к 6г ч1. Н.г.'!I25","v":0},{"$f":"'Реч.разв.к 6г ч1. Н.г.'!J25","v":0},{"$f":"'Реч.разв.к 6г ч1. Н.г.'!K25","v":0},{"$f":"'Реч.разв.к 6г ч1. Н.г.'!L25","v":0},{"$f":"'Реч.разв.к 6г ч2. Н.г.'!E25","v":0},{"$f":"'Реч.разв.к 6г ч2. Н.г.'!F25","v":0},{"$f":"'Реч.разв.к 6г ч2. Н.г.'!G25","v":0},{"$f":"'Реч.разв.к 6г ч2. Н.г.'!H25","v":0},{"$f":"'Реч.разв.к 6г ч2. Н.г.'!I25","v":0},{"$f":"'Реч.разв.к 6г ч2. Н.г.'!J25","v":0},{"$f":"'Реч.разв.к 6г ч2. Н.г.'!K25","v":0},{"$f":"'Реч.разв.к 6г ч2. Н.г.'!L25","v":0},{"$f":"'Реч.разв.к 6г ч2. Н.г.'!M25","v":0},{"$f":"'Реч.разв.к 6г ч2. Н.г.'!N25","v":0},{"$f":"'Реч.разв.к 6г ч2. Н.г.'!O25","v":0},{"$f":"'Реч.разв.к 6г ч2. Н.г.'!P25","v":0},{"$f":"'Реч.разв.к 6г ч2. Н.г.'!Q25","v":0},{"$f":"'Позн.разв. к 6г ч1. Н.г.'!E26","v":0},{"$f":"'Позн.разв. к 6г ч1. Н.г.'!F26","v":0},{"$f":"'Позн.разв. к 6г ч1. Н.г.'!G26","v":0},{"$f":"'Позн.разв. к 6г ч1. Н.г.'!H26","v":0},{"$f":"'Позн.разв. к 6г ч1. Н.г.'!I26","v":0},{"$f":"'Позн.разв. к 6г ч1. Н.г.'!J26","v":0},{"$f":"'Позн.разв. к 6г ч1. Н.г.'!K26","v":0},{"$f":"'Позн.разв. к 6г ч1. Н.г.'!L26","v":0},{"$f":"'Позн.разв. к 6г ч1. Н.г.'!M26","v":0},{"$f":"'Позн.разв. к 6г ч1. Н.г.'!N26","v":0},{"$f":"'Позн.разв. к 6г ч1. Н.г.'!O26","v":0},{"$f":"'Позн.разв. к 6г ч1. Н.г.'!P26","v":0},{"$f":"'Позн.разв. к 6г ч1. Н.г.'!Q26","v":0},{"$f":"'Позн.разв. к 6г ч1. Н.г.'!R26","v":0},{"$f":"'Позн.разв. к 6г ч1. Н.г.'!S26","v":0},{"$f":"'Позн.разв. к 6г ч2. Н.г.'!E26","v":0},{"$f":"'Позн.разв. к 6г ч2. Н.г.'!F26","v":0},{"$f":"'Позн.разв. к 6г ч2. Н.г.'!G26","v":0},{"$f":"'Позн.разв. к 6г ч2. Н.г.'!H26","v":0},{"$f":"'Позн.разв. к 6г ч2. Н.г.'!I26","v":0},{"$f":"'Позн.разв. к 6г ч2. Н.г.'!J26","v":0},{"$f":"'Соц.ком.к 6г ч1. Н.г.'!E25","v":0},{"$f":"'Соц.ком.к 6г ч1. Н.г.'!F25","v":0},{"$f":"'Соц.ком.к 6г ч1. Н.г.'!G25","v":0},{"$f":"'Соц.ком.к 6г ч1. Н.г.'!H25","v":0},{"$f":"'Соц.ком.к 6г ч1. Н.г.'!I25","v":0},{"$f":"'Соц.ком.к 6г ч1. Н.г.'!J25","v":0},{"$f":"'Соц.ком.к 6г ч1. Н.г.'!K25","v":0},{"$f":"'Соц.ком.к 6г ч1. Н.г.'!L25","v":0},{"$f":"'Соц.ком.к 6г ч1. Н.г.'!M25","v":0},{"$f":"'Соц.ком.к 6г ч1. Н.г.'!N25","v":0},{"$f":"'Соц.ком.к 6г ч1. Н.г.'!O25","v":0},{"$f":"'Соц.ком.к 6г ч1. Н.г.'!P25","v":0},{"$f":"'Соц.ком.к 6г ч1. Н.г.'!Q25","v":0},{"$f":"'Соц.ком.к 6г ч1. Н.г.'!R25","v":0},{"$f":"'Соц.ком.к 6г ч1. Н.г.'!S25","v":0},{"$f":"'Соц.ком.к 6г ч1. Н.г.'!T25","v":0},{"$f":"'Соц.ком.к 6г ч1. Н.г.'!U25","v":0},{"$f":"'Соц.ком. к 6г ч2. Н.г.'!E25","v":0},{"$f":"'Соц.ком. к 6г ч2. Н.г.'!F25","v":0},{"$f":"'Соц.ком. к 6г ч2. Н.г.'!G25","v":0},{"$f":"'Соц.ком. к 6г ч2. Н.г.'!H25","v":0},{"$f":"'Соц.ком. к 6г ч2. Н.г.'!I25","v":0},{"$f":"'Соц.ком. к 6г ч2. Н.г.'!J25","v":0},{"$f":"'Соц.ком. к 6г ч2. Н.г.'!K25","v":0},{"$f":"'Соц.ком. к 6г ч2. Н.г.'!L25","v":0},{"$f":"'Соц.ком. к 6г ч2. Н.г.'!M25","v":0},{"$f":"'Физ.разв. к 6г ч1. Н.г.'!E26","v":0},{"$f":"'Физ.разв. к 6г ч1. Н.г.'!F26","v":0},{"$f":"'Физ.разв. к 6г ч1. Н.г.'!G26","v":0},{"$f":"'Физ.разв. к 6г ч1. Н.г.'!H26","v":0},{"$f":"'Физ.разв. к 6г ч1. Н.г.'!I26","v":0},{"$f":"'Физ.разв. к 6г ч1. Н.г.'!J26","v":0},{"$f":"'Физ.разв. к 6г ч1. Н.г.'!K26","v":0},{"$f":"'Физ.разв. к 6г ч1. Н.г.'!L26","v":0},{"$f":"'Физ.разв. к 6г ч1. Н.г.'!M26","v":0},{"$f":"'Физ.разв. к 6г ч1. Н.г.'!N26","v":0},{"$f":"'Физ.разв. к 6г ч1. Н.г.'!O26","v":0},{"$f":"'Физ.разв. к 6г ч1. Н.г.'!P26","v":0},{"$f":"'Физ.разв. к 6г ч1. Н.г.'!Q26","v":0},{"$f":"'Физ.разв. к 6г ч1. Н.г.'!R26","v":0},{"$f":"'Физ.разв. к 6г ч1. Н.г.'!S26","v":0},{"$f":"'Физ.разв. к 6г ч1. Н.г.'!T26","v":0},{"$f":"'Физ.разв. к 6г ч1. Н.г.'!U26","v":0},{"$f":"'Физ.разв. к 6г ч1. Н.г.'!V26","v":0},{"$f":"'Физ.разв. к 6г ч1. Н.г.'!W26","v":0},{"$f":"'Физ.разв. к 6г ч1. Н.г.'!X26","v":0},{"$f":"'Физ.разв. к 6г ч2. Н.г.'!E27","v":0},{"$f":"'Физ.разв. к 6г ч2. Н.г.'!F27","v":0},{"$f":"'Физ.разв. к 6г ч2. Н.г.'!G27","v":0},{"$f":"'Физ.разв. к 6г ч2. Н.г.'!H27","v":0},{"$f":"'Физ.разв. к 6г ч2. Н.г.'!I27","v":0},{"$f":"'Физ.разв. к 6г ч2. Н.г.'!J27","v":0},{"$f":"'Физ.разв. к 6г ч2. Н.г.'!K27","v":0},{"$f":"'Физ.разв. к 6г ч2. Н.г.'!L27","v":0},{"$f":"'Физ.разв. к 6г ч2. Н.г.'!M27","v":0},{"$f":"'Физ.разв. к 6г ч2. Н.г.'!N27","v":0},{"$f":"'Физ.разв. к 6г ч2. Н.г.'!O27","v":0},{"$f":"'Физ.разв. к 6г ч2. Н.г.'!P27","v":0},{"$f":"'Физ.разв. к 6г ч2. Н.г.'!Q27","v":0},{"$f":"'Физ.разв. к 6г ч2. Н.г.'!R27","v":0},{"$f":"'Физ.разв. к 6г ч2. Н.г.'!S27","v":0},{"$f":"'Физ.разв. к 6г ч2. Н.г.'!T27","v":0},{"$f":"'Физ.разв. к 6г ч2. Н.г.'!U27","v":0},{"$f":"'Физ.разв. к 6г ч2. Н.г.'!V27","v":0},{"$f":"'Физ.разв. к 6г ч2. Н.г.'!W27","v":0},{"$f":"'Физ.разв. к 6г ч2. Н.г.'!X27","v":0},{"$f":"'Физ.разв. к 6г ч2. Н.г.'!Y27","v":0}]
["конец года",{"$f":"'Худ.эст.к 6г ч1. К.г. '!E26","v":0},{"$f":"'Худ.эст.к 6г ч1. К.г. '!F26","v":0},{"$f":"'Худ.эст.к 6г ч1. К.г. '!G26","v":0},{"$f":"'Худ.эст.к 6г ч1. К.г. '!H26","v":0},{"$f":"'Худ.эст.к 6г ч1. К.г. '!I26","v":0},{"$f":"'Худ.эст.к 6г ч1. К.г. '!J26","v":0},{"$f":"'Худ.эст.к 6г ч1. К.г. '!K26","v":0},{"$f":"'Худ.эст.к 6г ч1. К.г. '!L26","v":0},{"$f":"'Худ.эст.к 6г ч1. К.г. '!M26","v":0},{"$f":"'Худ.эст.к 6г ч1. К.г. '!N26","v":0},{"$f":"'Худ.эст.к 6г ч1. К.г. '!O26","v":0},{"$f":"'Худ.эст.к 6г ч2. К.г. '!E26","v":0},{"$f":"'Худ.эст.к 6г ч2. К.г. '!F26","v":0},{"$f":"'Худ.эст.к 6г ч2. К.г. '!G26","v":0},{"$f":"'Худ.эст.к 6г ч2. К.г. '!H26","v":0},{"$f":"'Худ.эст.к 6г ч2. К.г. '!I26","v":0},{"$f":"'Худ.эст.к 6г ч2. К.г. '!J26","v":0},{"$f":"'Худ.эст.к 6г ч2. К.г. '!K26","v":0},{"$f":"'Худ.эст.к 6г ч2. К.г. '!L26","v":0},{"$f":"'Худ.эст.к 6г ч2. К.г. '!M26","v":0},{"$f":"'Худ.эст.к 6г ч3. К.г. '!E26","v":0},{"$f":"'Худ.эст.к 6г ч3. К.г. '!F26","v":0},{"$f":"'Худ.эст.к 6г ч3. К.г. '!G26","v":0},{"$f":"'Худ.эст.к 6г ч3. К.г. '!H26","v":0},{"$f":"'Худ.эст.к 6г ч3. К.г. '!I26","v":0},{"$f":"'Худ.эст.к 6г ч3. К.г. '!J26","v":0},{"$f":"'Худ.эст.к 6г ч3. К.г. '!K26","v":0},{"$f":"'Худ.эст.к 6г ч3. К.г. '!L26","v":0},{"$f":"'Реч.разв.к 6г ч1. К.г. '!E25","v":0},{"$f":"'Реч.разв.к 6г ч1. К.г. '!F25","v":0},{"$f":"'Реч.разв.к 6г ч1. К.г. '!G25","v":0},{"$f":"'Реч.разв.к 6г ч1. К.г. '!H25","v":0},{"$f":"'Реч.разв.к 6г ч1. К.г. '!I25","v":0},{"$f":"'Реч.разв.к 6г ч1. К.г. '!J25","v":0},{"$f":"'Реч.разв.к 6г ч1. К.г. '!K25","v":0},{"$f":"'Реч.разв.к 6г ч1. К.г. '!L25","v":0},{"$f":"'Реч.разв.к 6г ч2. К.г. '!E25","v":0},{"$f":"'Реч.разв.к 6г ч2. К.г. '!F25","v":0},{"$f":"'Реч.разв.к 6г ч2. К.г. '!G25","v":0},{"$f":"'Реч.разв.к 6г ч2. К.г. '!H25","v":0},{"$f":"'Реч.разв.к 6г ч2. К.г. '!I25","v":0},{"$f":"'Реч.разв.к 6г ч2. К.г. '!J25","v":0},{"$f":"'Реч.разв.к 6г ч2. К.г. '!K25","v":0},{"$f":"'Реч.разв.к 6г ч2. К.г. '!L25","v":0},{"$f":"'Реч.разв.к 6г ч2. К.г. '!M25","v":0},{"$f":"'Реч.разв.к 6г ч2. К.г. '!N25","v":0},{"$f":"'Реч.разв.к 6г ч2. К.г. '!O25","v":0},{"$f":"'Реч.разв.к 6г ч2. К.г. '!P25","v":0},{"$f":"'Реч.разв.к 6г ч2. К.г. '!Q25","v":0},{"$f":"'Позн.разв. к 6г ч1. К.г. '!E26","v":0},{"$f":"'Позн.разв. к 6г ч1. К.г. '!F26","v":0},{"$f":"'Позн.разв. к 6г ч1. К.г. '!G26","v":0},{"$f":"'Позн.разв. к 6г ч1. К.г. '!H26","v":0},{"$f":"'Позн.разв. к 6г ч1. К.г. '!I26","v":0},{"$f":"'Позн.разв. к 6г ч1. К.г. '!J26","v":0},{"$f":"'Позн.разв. к 6г ч1. К.г. '!K26","v":0},{"$f":"'Позн.разв. к 6г ч1. К.г. '!L26","v":0},{"$f":"'Позн.разв. к 6г ч1. К.г. '!M26","v":0},{"$f":"'Позн.разв. к 6г ч1. К.г. '!N26","v":0},{"$f":"'Позн.разв. к 6г ч1. К.г. '!O26","v":0},{"$f":"'Позн.разв. к 6г ч1. К.г. '!P26","v":0},{"$f":"'Позн.разв. к 6г ч1. К.г. '!Q26","v":0},{"$f":"'Позн.разв. к 6г ч1. К.г. '!R26","v":0},{"$f":"'Позн.разв. к 6г ч1. К.г. '!S26","v":0},{"$f":"'Позн.разв. к 6г ч2. К.г. '!E26","v":0},{"$f":"'Позн.разв. к 6г ч2. К.г. '!F26","v":0},{"$f":"'Позн.разв. к 6г ч2. К.г. '!G26","v":0},{"$f":"'Позн.разв. к 6г ч2. К.г. '!H26","v":0},{"$f":"'Позн.разв. к 6г ч2. К.г. '!I26","v":0},{"$f":"'Позн.разв. к 6г ч2. К.г. '!J26","v":0},{"$f":"'Соц.ком.к 6г ч1. К.г. '!$E$25","v":0},{"$f":"'Соц.ком.к 6г ч1. К.г. '!$E$25","v":0},{"$f":"'Соц.ком.к 6г ч1. К.г. '!$E$25","v":0},{"$f":"'Соц.ком.к 6г ч1. К.г. '!$E$25","v":0},{"$f":"'Соц.ком.к 6г ч1. К.г. '!$E$25","v":0},{"$f":"'Соц.ком.к 6г ч1. К.г. '!$E$25","v":0},{"$f":"'Соц.ком.к 6г ч1. К.г. '!$E$25","v":0},{"$f":"'Соц.ком.к 6г ч1. К.г. '!$E$25","v":0},{"$f":"'Соц.ком.к 6г ч1. К.г. '!$E$25","v":0},{"$f":"'Соц.ком.к 6г ч1. К.г. '!$E$25","v":0},{"$f":"'Соц.ком.к 6г ч1. К.г. '!$E$25","v":0},{"$f":"'Соц.ком.к 6г ч1. К.г. '!$E$25","v":0},{"$f":"'Соц.ком.к 6г ч1. К.г. '!$E$25","v":0},{"$f":"'Соц.ком.к 6г ч1. К.г. '!$E$25","v":0},{"$f":"'Соц.ком.к 6г ч1. К.г. '!$E$25","v":0},{"$f":"'Соц.ком.к 6г ч1. К.г. '!$E$25","v":0},{"$f":"'Соц.ком.к 6г ч1. К.г. '!$E$25","v":0},{"$f":"'Соц.ком. к 6г ч2 К.г.'!E25","v":0},{"$f":"'Соц.ком. к 6г ч2 К.г.'!F25","v":0},{"$f":"'Соц.ком. к 6г ч2 К.г.'!G25","v":0},{"$f":"'Соц.ком. к 6г ч2 К.г.'!H25","v":0},{"$f":"'Соц.ком. к 6г ч2 К.г.'!I25","v":0},{"$f":"'Соц.ком. к 6г ч2 К.г.'!J25","v":0},{"$f":"'Соц.ком. к 6г ч2 К.г.'!K25","v":0},{"$f":"'Соц.ком. к 6г ч2 К.г.'!L25","v":0},{"$f":"'Соц.ком. к 6г ч2 К.г.'!M25","v":0},{"$f":"'Физ.разв. к 6г ч1. К.г. '!E26","v":0},{"$f":"'Физ.разв. к 6г ч1. К.г. '!F26","v":0},{"$f":"'Физ.разв. к 6г ч1. К.г. '!G26","v":0},{"$f":"'Физ.разв. к 6г ч1. К.г. '!H26","v":0},{"$f":"'Физ.разв. к 6г ч1. К.г. '!I26","v":0},{"$f":"'Физ.разв. к 6г ч1. К.г. '!J26","v":0},{"$f":"'Физ.разв. к 6г ч1. К.г. '!K26","v":0},{"$f":"'Физ.разв. к 6г ч1. К.г. '!L26","v":0},{"$f":"'Физ.разв. к 6г ч1. К.г. '!M26","v":0},{"$f":"'Физ.разв. к 6г ч1. К.г. '!N26","v":0},{"$f":"'Физ.разв. к 6г ч1. К.г. '!O26","v":0},{"$f":"'Физ.разв. к 6г ч1. К.г. '!P26","v":0},{"$f":"'Физ.разв. к 6г ч1. К.г. '!Q26","v":0},{"$f":"'Физ.разв. к 6г ч1. К.г. '!R26","v":0},{"$f":"'Физ.разв. к 6г ч1. К.г. '!S26","v":0},{"$f":"'Физ.разв. к 6г ч1. К.г. '!T26","v":0},{"$f":"'Физ.разв. к 6г ч1. К.г. '!U26","v":0},{"$f":"'Физ.разв. к 6г ч1. К.г. '!V26","v":0},{"$f":"'Физ.разв. к 6г ч1. К.г. '!W26","v":0},{"$f":"'Физ.разв. к 6г ч1. К.г. '!X26","v":0},{"$f":"'Физ.разв. к 6г ч2. К.г. '!E27","v":0},{"$f":"'Физ.разв. к 6г ч2. К.г. '!F27","v":0},{"$f":"'Физ.разв. к 6г ч2. К.г. '!G27","v":0},{"$f":"'Физ.разв. к 6г ч2. К.г. '!H27","v":0},{"$f":"'Физ.разв. к 6г ч2. К.г. '!I27","v":0},{"$f":"'Физ.разв. к 6г ч2. К.г. '!J27","v":0},{"$f":"'Физ.разв. к 6г ч2. К.г. '!K27","v":0},{"$f":"'Физ.разв. к 6г ч2. К.г. '!L27","v":0},{"$f":"'Физ.разв. к 6г ч2. К.г. '!M27","v":0},{"$f":"'Физ.разв. к 6г ч2. К.г. '!N27","v":0},{"$f":"'Физ.разв. к 6г ч2. К.г. '!O27","v":0},{"$f":"'Физ.разв. к 6г ч2. К.г. '!P27","v":0},{"$f":"'Физ.разв. к 6г ч2. К.г. '!Q27","v":0},{"$f":"'Физ.разв. к 6г ч2. К.г. '!R27","v":0},{"$f":"'Физ.разв. к 6г ч2. К.г. '!S27","v":0},{"$f":"'Физ.разв. к 6г ч2. К.г. '!T27","v":0},{"$f":"'Физ.разв. к 6г ч2. К.г. '!U27","v":0},{"$f":"'Физ.разв. к 6г ч2. К.г. '!V27","v":0},{"$f":"'Физ.разв. к 6г ч2. К.г. '!W27","v":0},{"$f":"'Физ.разв. к 6г ч2. К.г. '!X27","v":0},{"$f":"'Физ.разв. к 6г ч2. К.г. '!Y27","v":0}]

{"sheet":"16","index":43,"n_rows":11,"n_cols":138,"rows_kept":11,"merged":[[4,117,4,122],[4,123,4,126],[4,127,4,129],[4,130,4,132],[4,134,4,137],[5,0,8,0],[5,1,5,11],[5,12,5,19],[5,21,6,26],[5,27,6,28],[5,50,5,52],[5,53,5,55],[5,56,5,64],[5,65,5,66],[5,67,5,70],[5,117,5,118],[5,119,5,122],[5,123,6,123],[5,124,6,124],[5,125,6,125],[5,126,6,126],[5,127,8,127],[5,128,8,128],[5,129,8,129],[5,130,8,130],[5,131,8,131],[5,132,8,132],[5,133,8,133],[5,134,5,137],[6,1,6,4],[6,9,6,10],[6,12,6,13],[6,16,6,17],[6,18,6,19],[6,20,8,20],[6,30,6,31],[6,32,6,36],[6,38,6,43],[6,45,6,49],[6,53,8,53],[6,54,8,54],[6,55,8,55],[6,56,6,58],[6,62,6,64],[6,65,7,66],[6,67,6,68],[6,69,6,70],[6,71,6,87],[6,88,6,90],[6,91,6,95],[6,97,6,98],[6,99,6,101],[6,102,6,104],[6,105,6,107],[6,108,6,112],[6,113,6,114],[6,115,6,116],[6,117,8,117],[6,118,8,118],[6,119,8,119],[6,120,8,120],[6,121,8,121],[6,122,8,122],[6,134,8,134],[6,135,8,135],[6,136,8,136],[6,137,8,137],[7,1,8,1],[7,2,8,2],[7,3,8,3],[7,4,8,4],[7,5,8,5],[7,6,8,6],[7,7,8,7],[7,8,8,8],[7,9,8,9],[7,10,8,10],[7,11,8,11],[7,12,8,12],[7,13,8,13],[7,14,8,14],[7,15,8,15],[7,16,8,16],[7,17,8,17],[7,18,8,18],[7,19,8,19],[7,21,8,21],[7,22,8,22],[7,23,8,23],[7,24,8,24],[7,25,8,25],[7,26,8,26],[7,27,8,27],[7,28,8,28],[7,29,8,29],[7,30,8,30],[7,31,8,31],[7,32,8,32],[7,33,8,33],[7,34,8,34],[7,35,8,35],[7,36,8,36],[7,37,8,37],[7,38,8,38],[7,39,8,39],[7,40,8,40],[7,41,8,41],[7,42,8,42],[7,43,8,43],[7,44,8,44],[7,45,8,45],[7,46,8,46],[7,47,8,47],[7,48,8,48],[7,49,8,49],[7,50,7,52],[7,56,8,56],[7,57,8,57],[7,58,8,58],[7,59,8,59],[7,60,8,60],[7,61,8,61],[7,62,8,62],[7,63,8,63],[7,64,8,64],[7,67,8,67],[7,68,8,68],[7,69,8,69],[7,70,8,70],[7,71,7,72],[7,73,7,74],[7,75,7,76],[7,77,7,80],[7,82,7,84],[7,85,7,87],[7,88,8,88],[7,89,8,89],[7,90,8,90],[7,91,8,91],[7,92,8,92],[7,93,8,93],[7,94,8,94],[7,95,8,95],[7,96,8,96],[7,97,8,97],[7,98,8,98],[7,99,8,99],[7,100,8,100],[7,101,8,101],[7,102,7,104],[7,105,7,107],[7,108,7,112],[7,113,8,113],[7,114,8,114],[7,115,7,116],[7,123,8,123],[7,124,8,124],[7,125,8,125],[7,126,8,126]]}
[]
[]
[]
[]
[{"$nulls":117},"Мелкая моторика",{"$nulls":5},"КГН",{"$nulls":3},"ЗОЖ",null,null,"Подвижные игры",null,null,"Спорт. игры","Спортивные упражнения"]
[{"$f":"Список!B19","v":0},"Музыкальная деятельность",{"$nulls":10},"Изобразительная деятельность",{"$nulls":8},"Приобщение к искусству",{"$nulls":5},"Конструктивная деятельность",{"$nulls":22},"Сенсорные эталоны ",null,null,"Познавательные действия",null,null,"Математические представления",{"$nulls":8},"Окружающий мир",null,"Природа ",{"$nulls":49},"Координация рук и глаз",null,"Графические навыки",{"$nulls":3},"Навыки соблюдения чистоты тела (правила личной гигиены)","Навыки культуры еды (прием пищи) ","Навыки поддержания порядка (правила поведения в быту) ","Навыки ухода за собой (одевание, раздевание) ","Ребенок имеет представление о факторах, положительно/негативно влияющих на здоровье; владеет основными способами укрепления здоровья","Ребенок имеет представление о некоторых видах спорта (9 и больше), роли спорта для укрепления здоровья","Ребенок проявляет заботливое отношение к своему здоровью и здоровью окружающих","Ребенок проявляет доступный возрасту самоконтроль","Ребенок  способен привлечь внимание других детей и организовать знакомую подвижную игру","Ребенок придумывает новые варианты игр, комбинирует движения","Ребенок имеет представление об элементах спортивных игр (городки, баскетбол, бадминтон, футбол), умеет выполнять некоторые виды движений","Ребенок умеет кататься"]
[null,"Слушание",{"$nulls":3},"Пение ","Музыкально-ритмические движения","Песенное творчество","Игра на детских музыкальных инструментах","Театрализованная деятельность",null,"Танцевально-игровое творчество","Рисование ",null,"Лепка ","Аппликация ","Народное ДПИ",null,"Прикладное творчество",null,"Ребенок самостоятельно определяет замысел рисунка, аппликации, лепки, поделки, создает образы и композиционные изображения, использует разнообразные материалы",{"$nulls":8},"Общее речевое развитие","Формирование словаря",null,"Грамматический строй",{"$nulls":4},"Звуковая культура речи","Связная речь",{"$nulls":5},"ЧХЛ","Подготовка к обучению грамоте",{"$nulls":4},"Цвет, оттенки","Форма, геометрические фигуры","Величина","Ребенок охотно участвует в обсуждении проблемы для совместного нахождения способов ее решения, предлагает пути решения, устанавливает закономерности причинно-следственного характера, проявляет любознательность","Ребенок использует математические знания, способы и средства для познания окружающего мира","Ребенок способен к произвольным умственным действиям, логическим операциям анализа, сравнения, обобщения, систематизации, классификации","Количество и счет",null,null,"Ориентировка во времени","Ориентировка в пространстве","Пространственно-количественные связи и отношения","Сравнение",null,null,"Ребенок имеет представления, может показать на картинке и в естественной среде, может рассказать",null,"Объекты живой природы",null,"Объекты неживой природы, природные явления",null,"Сфера социальных отношений",{"$nulls":16},"Область формирования основ гражданственности и патриотизма",null,null,"Сфера трудового воспитания",{"$nulls":4},"Область формирования основ безопасного поведения","Бросание, катание, ловля, метание",null,"Ползанье, лазанье",null,null,"Ходьба",null,null,"Бег",null,null,"Прыжки",{"$nulls":4},"Равновесие",null,"Строевые упражнения",null,"Ребенок может найти выход из лабиринта","Ребенок может нарисовать простой узор, изображение, не отрывая руки","Ребенок может повторить узор с чередующимися элементами","Ребенок закрашивает контурное изображение с множеством мелких деталей, не выходя за контур","Ребенок может соединить точки для получения изображения","Ребенок рисует геометрический орнамент по клеткам",{"$nulls":11},"на санках","на лыжах","на двухколесном велосипеде","на самокате"]
[null,"Ребенок различает жанры музыкальных произведений (песня, танец, марш)","Ребенок узнает мелодию по отдельным фрагментам произведения (вступление, заключение, музыкальная фраза)","Ребенок различает звуки по высоте в пределах квинты","Ребенок различает звучание музыкальных инструментов (клавишно-ударных, струнных)","Ребенок демонстрирует развитые певческие навыки","Ребенок демонстрирует развитые навыки исполнения танцевальных движений","Ребенок может импровизировать мелодию на заданный текст","Ребенок демонстрирует навыки игры на детских музыкальных инструментах","Ребенок имеет представление о различных видах театрального искусства","Ребенок с удовольствие занимается театрализованной деятельностью","Ребенок может придумывать движения к танцам","Ребенок передает в изображении основные свойства предметов (форма, величина, цвет), характерные детали, соотношение предметов и их частей по величине, высоте, расположению относительно друг друга","Ребенок владеет основными способами и приемами рисования различными изобразительными материалами (цветные карандаши, гуашь, акварель, цветные мелки, пастель, сангина, угольный карандаш, фломастеры)","Ребенок лепит с натуры и по представлению знакомые предметы, передавая характерные особенности пластическим, конструктивным и комбинированным способами","Ребенок умеет пользоваться ножницами","Ребенок имеет представление о полхов-майданской, гжельской росписи","Ребенок может нарисовать узор, используя элементы  росписи","Ребенок умеет работать с бумагой (сгибать лист, сглаживать сгибы, надрезать по сгибам)","Ребенок умеет работать с природным и бросовым материалом",null,"Ребенок умеет выделять, называть, группировать произведения по видам искусства: литература, музыка, изобразительное искусство, архитектура, театр, цирк","Ребенок имеет представление о видах изобразительного искусства: графика, декоративно-прикладное искусство, живопись, скульптура, архитектура, фотоискусство","Ребенок имеет представление о жанрах изобразительного искусства: натюрморт, пейзаж, портрет","Ребенок имеет представление о народном искусстве, фольклоре, музыке и художественных промыслах","Ребенок имеет представление о творческих профессиях: художник, композитор, музыкант, актер, артист балета","Ребенок имеет представление о культурно-досуговых местах: театр, музей, библиотека, выставка, кинотеатр, цирк и др.","Ребенок может провести анализ постройки (выделить основные части и характерные детали конструкций)","Ребенок может выполнить постройку по инструкции","Ребенок внятно разговаривает","Ребенок умеет обобщать предметы в группы по существенным признакам","Ребенок демонстрирует богатый словарный запас","Ребенок правильно использует в речи: несклоняемые существительные","Ребенок правильно использует в речи: слова, имеющие только множественное или только единственное число","Ребенок правильно использует в речи: глаголы одеть-надеть","Ребенок правильно использует в речи: существительные множественного числа в родительном падеже","Ребенок правильно образовывает слова с помощью суффикса, приставки","Ребенок правильно произносит сонорные звуки: л-ль, р-рь","Ребенок пересказывает литературные произведения по ролям, по частям, правильно передавая идею и содержание","Ребенок пользуется прямой и косвенной речью","Ребенок составляет короткий описательный рассказ о предметах, объектах и явлениях природы, из личного опыта","Ребенок сочиняет сюжетные рассказы по картине, из личного опыта","Ребенок проявляет речевое творчество: придумывает продолжение и окончание к рассказу, рассказы по аналогии, по плану педагога, по модели","Ребенок владеет первичными приемами аргументации и доказательства","Ребенок проявляет избирательное отношение к произведениям определенной тематики и жанра","Ребенок понимает термины: слово: звук, буква, предложение, гласный звук, согласный звук","Ребенок может провести звуковой анализ слова, разделить на слоги двух-, трехслоговые слова; составляет схему слова","Ребенок различает гласные-согласные звуки","Ребенок определяет твердые-мягкие согласные","Ребенок составляет предложение по модели, определяет количество и последовательность слов в предложении","Ребенок различает и называет",{"$nulls":5},"Ребенок знает/называет/находит среди других цифры 0 -10","Ребенок выполняет количественный и порядковый счет в пределах 0-10","Ребенок знает состав чисел из единиц в пределах 5","Ребенок понимает календарные единицы времени (сутки, неделя, месяц, год)","Ребенок ориентируется на листе бумаги","Ребенок понимает простейшую графическую информацию об отношениях предметов (слева направо, справа налево, снизу вверх, сверху вниз)","Ребенок выделяет сходства и отличия между группами предметов","Ребенок сравнивает предметы по 3-5 признакам","Ребенок группирует предметы по разным основаниям, преимущественно на основе зрительной оценки",null,null,"Ребенок имеет представление о сходстве и различии во внешнем виде и образе жизни объектов животного и растительного мира в разные сезоны года","Ребенок может сравнивать, группировать объекты живой природы по их особенностям, мету обитания, образу жизни, питанию","Ребенок имеет представление о признаках разных времен года","Ребенок наблюдает за явлениями природы, фиксирует результаты наблюдения","Отношение к самому себе",null,"Отношение к сверстникам",null,"Отношение к взрослым",null,"Эмоции",{"$nulls":3},"Поведение","Семья",null,null,"Игровое поведение",null,null,"Ребенок имеет представление о государственных символах России (герб, гимн, флаг)","Ребенок имеет представление о государственных праздниках России","Ребенок знает/может назвать/показать на картинке и в естественной среде достопримечательности населенного пункта, в котором живет","Ребенок имеет представления о разных видах производительного труда (промышленность, строительство, сельское хозяйство)","Ребенок имеет представления о разных видах обслуживающего труда (сфера досуга и отдыха, сфера культуры, медицина, торговля)","Ребенок имеет представление о структуре трудового процесса (мотив, цель, инструменты, оборудование, содержание действий, выбор трудовых действий, результат)","Ребенок имеет элементарные экономические представления (назначение рекламы, денег)","Ребенок охотно участвует в выполнении трудовых поручений, дежурстве; может распределять трудовые обязанности с другими","Ребенок имеет представления/ соблюдает правила поведения в быту, на улице, в природе, в общении с людьми, с животными","Ребенок выполняет различные упражнения с мячом (прокатывание, передача, перебрасывание, ведение, подбрасывание, ловля, забрасывание)","Ребенок выполняет метание в цель, метание в даль предметов разной массы","Ребенок выполняет ползанье разными способами (на четвереньках, на животе)","Ребенок выполняет переползание через несколько предметов подряд, под дугами, в туннеле","Ребенок выполняет лазанье по гимнастической стенке чередующимся шагом","Ребенок выполняет различные виды ходьбы",null,null,"Ребенок выполняет различные виды бега",null,null,"Ребенок выполняет различные виды прыжков",{"$nulls":4},"Ребенок выполняет стойку на одной ноге ","Ребенок выполняет упражнение \"ласточка\" ","Ребенок выполняет различные виды строевых упражнений",{"$nulls":7},"Ребенок выполняет самостоятельно","Ребенок выполняет самостоятельно","Ребенок выполняет самостоятельно","Ребенок выполняет самостоятельно"]
[{"$nulls":50},"Ребенок называет/различает все цвета спектра и ахроматические цвета, оттенки цвета, тоны цвета, теплые и холодные оттенки","Ребенок владеет способами воссоздания фигуры из частей, деления фигуры на части","Ребенок может выстраивать сериационные ряды предметов, различающихся по размеру в возрастающем и убывающем порядке в пределах 10",{"$nulls":12},"о многообразии людей разных национальностей (особенностей внешнего вида, одежды, традиций)","Ребенок имеет представление о многообразии стран и народов мира",{"$nulls":4},"Ребенок может рассказать о себе, выразить собственные потребности, желания","Ребенок имеет представление о некоторых своих правах","Ребенок имеет предпочтения в общении","Ребенок охотно вступает в общение со сверстниками","Ребенок уважительно относится к взрослым, пожилым людям","Ребенок охотно вступает в общение со взрослыми","Ребенок понимает свои и чужие эмоциональные состояния, демонстрирует примеры эмоциональной поддержки ","Ребенок  откликается на просьбу помочь","Ребенок выразить чувства и эмоции в мимике, пантомимике, действиях, интонации","Ребенок демонстрирует адекватные возрасту способы регуляции эмоциональных состояний","Ребенок ориентируется на общепринятые нормы и правила культуры поведения","Ребенок знает членов своей семьи, ближайших родственников по линии матери и отца","Ребенок имеет представление о способах поддержки родственных связей (переписка, разговор, совместный отдых, традиции, походы в гости и др.)","Ребенок проявляет заботу по отношению к членам своей семьи, оказывает посильную помощь больному члену семьи","Ребенок в совместной деятельности принимает общую цель, договаривается о способах деятельности и материалах, может уступить в конфликтной ситуации","Ребенок проявляет интерес к игровому экспериментированию, развивающим и познавательным играм","Ребенок способен действовать в точном соответствие с игровой задачей и правилами",{"$nulls":14},"обычным шагом, на носках, на пятках, с высоким подниманием колен","приставной, в полуприседе, мелким и широким, перекатом с пятки на носок, гимнастическим","змейкой без ориентиров, в колонне по одному и по два","в колонне по одному, змейкой, с перестроением на ходу в пары, звенья","со сменой ведущих, с пролезанием в обруч, с ловлей и увертыванием, высоко поднимая колени","между расставленными предметами, в заданном темпе, мелким и широким шагом","подпрыгивание, перепрыгивание, спрыгивание","в длину с места","в высоту с разбега","в длину с разбега","со скакалкой",null,null,"построения (по росту, в колонну по одному, в шеренгу, в круг)","в колонну по три, в две шеренги на месте, расхождение из колонны в разные стороны"]
["начало года",{"$f":"'Худ.эст.к 6г ч1. Н.г.'!E27","v":0},{"$f":"'Худ.эст.к 6г ч1. Н.г.'!F27","v":0},{"$f":"'Худ.эст.к 6г ч1. Н.г.'!G27","v":0},{"$f":"'Худ.эст.к 6г ч1. Н.г.'!H27","v":0},{"$f":"'Худ.эст.к 6г ч1. Н.г.'!I27","v":0},{"$f":"'Худ.эст.к 6г ч1. Н.г.'!J27","v":0},{"$f":"'Худ.эст.к 6г ч1. Н.г.'!K27","v":0},{"$f":"'Худ.эст.к 6г ч1. Н.г.'!L27","v":0},{"$f":"'Худ.эст.к 6г ч1. Н.г.'!M27","v":0},{"$f":"'Худ.эст.к 6г ч1. Н.г.'!N27","v":0},{"$f":"'Худ.эст.к 6г ч1. Н.г.'!O27","v":0},{"$f":"'Худ.эст.к 6г ч2. Н.г.'!E27","v":0},{"$f":"'Худ.эст.к 6г ч2. Н.г.'!F27","v":0},{"$f":"'Худ.эст.к 6г ч2. Н.г.'!G27","v":0},{"$f":"'Худ.эст.к 6г ч2. Н.г.'!H27","v":0},{"$f":"'Худ.эст.к 6г ч2. Н.г.'!I27","v":0},{"$f":"'Худ.эст.к 6г ч2. Н.г.'!J27","v":0},{"$f":"'Худ.эст.к 6г ч2. Н.г.'!K27","v":0},{"$f":"'Худ.эст.к 6г ч2. Н.г.'!L27","v":0},{"$f":"'Худ.эст.к 6г ч2. Н.г.'!M27","v":0},{"$f":"'Худ.эст.к 6г ч3. Н.г.'!E27","v":0},{"$f":"'Худ.эст.к 6г ч3. Н.г.'!F27","v":0},{"$f":"'Худ.эст.к 6г ч3. Н.г.'!G27","v":0},{"$f":"'Худ.эст.к 6г ч3. Н.г.'!H27","v":0},{"$f":"'Худ.эст.к 6г ч3. Н.г.'!I27","v":0},{"$f":"'Худ.эст.к 6г ч3. Н.г.'!J27","v":0},{"$f":"'Худ.эст.к 6г ч3. Н.г.'!K27","v":0},{"$f":"'Худ.эст.к 6г ч3. Н.г.'!L27","v":0},{"$f":"'Реч.разв.к 6г ч1. Н.г.'!E26","v":0},{"$f":"'Реч.разв.к 6г ч1. Н.г.'!F26","v":0},{"$f":"'Реч.разв.к 6г ч1. Н.г.'!G26","v":0},{"$f":"'Реч.разв.к 6г ч1. Н.г.'!H26","v":0},{"$f":"'Реч.разв.к 6г ч1. Н.г.'!I26","v":0},{"$f":"'Реч.разв.к 6г ч1. Н.г.'!J26","v":0},{"$f":"'Реч.разв.к 6г ч1. Н.г.'!K26","v":0},{"$f":"'Реч.разв.к 6г ч1. Н.г.'!L26","v":0},{"$f":"'Реч.разв.к 6г ч2. Н.г.'!E26","v":0},{"$f":"'Реч.разв.к 6г ч2. Н.г.'!F26","v":0},{"$f":"'Реч.разв.к 6г ч2. Н.г.'!G26","v":0},{"$f":"'Реч.разв.к 6г ч2. Н.г.'!H26","v":0},{"$f":"'Реч.разв.к 6г ч2. Н.г.'!I26","v":0},{"$f":"'Реч.разв.к 6г ч2. Н.г.'!J26","v":0},{"$f":"'Реч.разв.к 6г ч2. Н.г.'!K26","v":0},{"$f":"'Реч.разв.к 6г ч2. Н.г.'!L26","v":0},{"$f":"'Реч.разв.к 6г ч2. Н.г.'!M26","v":0},{"$f":"'Реч.разв.к 6г ч2. Н.г.'!N26","v":0},{"$f":"'Реч.разв.к 6г ч2. Н.г.'!O26","v":0},{"$f":"'Реч.разв.к 6г ч2. Н.г.'!P26","v":0},{"$f":"'Реч.разв.к 6г ч2. Н.г.'!Q26","v":0},{"$f":"'Позн.разв. к 6г ч1. Н.г.'!E27","v":0},{"$f":"'Позн.разв. к 6г ч1. Н.г.'!F27","v":0},{"$f":"'Позн.разв. к 6г ч1. Н.г.'!G27","v":0},{"$f":"'Позн.разв. к 6г ч1. Н.г.'!H27","v":0},{"$f":"'Позн.разв. к 6г ч1. Н.г.'!I27","v":0},{"$f":"'Позн.разв. к 6г ч1. Н.г.'!J27","v":0},{"$f":"'Позн.разв. к 6г ч1. Н.г.'!K27","v":0},{"$f":"'Позн.разв. к 6г ч1. Н.г.'!L27","v":0},{"$f":"'Позн.разв. к 6г ч1. Н.г.'!M27","v":0},{"$f":"'Позн.разв. к 6г ч1. Н.г.'!N27","v":0},{"$f":"'Позн.разв. к 6г ч1. Н.г.'!O27","v":0},{"$f":"'Позн.разв. к 6г ч1. Н.г.'!P27","v":0},{"$f":"'Позн.разв. к 6г ч1. Н.г.'!Q27","v":0},{"$f":"'Позн.разв. к 6г ч1. Н.г.'!R27","v":0},{"$f":"'Позн.разв. к 6г ч1. Н.г.'!S27","v":0},{"$f":"'Позн.разв. к 6г ч2. Н.г.'!E27","v":0},{"$f":"'Позн.разв. к 6г ч2. Н.г.'!F27","v":0},{"$f":"'Позн.разв. к 6г ч2. Н.г.'!G27","v":0},{"$f":"'Позн.разв. к 6г ч2. Н.г.'!H27","v":0},{"$f":"'Позн.разв. к 6г ч2. Н.г.'!I27","v":0},{"$f":"'Позн.разв. к 6г ч2. Н.г.'!J27","v":0},{"$f":"'Соц.ком.к 6г ч1. Н.г.'!E26","v":0},{"$f":"'Соц.ком.к 6г ч1. Н.г.'!F26","v":0},{"$f":"'Соц.ком.к 6г ч1. Н.г.'!G26","v":0},{"$f":"'Соц.ком.к 6г ч1. Н.г.'!H26","v":0},{"$f":"'Соц.ком.к 6г ч1. Н.г.'!I26","v":0},{"$f":"'Соц.ком.к 6г ч1. Н.г.'!J26","v":0},{"$f":"'Соц.ком.к 6г ч1. Н.г.'!K26","v":0},{"$f":"'Соц.ком.к 6г ч1. Н.г.'!L26","v":0},{"$f":"'Соц.ком.к 6г ч1. Н.г.'!M26","v":0},{"$f":"'Соц.ком.к 6г ч1. Н.г.'!N26","v":0},{"$f":"'Соц.ком.к 6г ч1. Н.г.'!O26","v":0},{"$f":"'Соц.ком.к 6г ч1. Н.г.'!P26","v":0},{"$f":"'Соц.ком.к 6г ч1. Н.г.'!Q26","v":0},{"$f":"'Соц.ком.к 6г ч1. Н.г.'!R26","v":0},{"$f":"'Соц.ком.к 6г ч1. Н.г.'!S26","v":0},{"$f":"'Соц.ком.к 6г ч1. Н.г.'!T26","v":0},{"$f":"'Соц.ком.к 6г ч1. Н.г.'!U26","v":0},{"$f":"'Соц.ком. к 6г ч2. Н.г.'!E26","v":0},{"$f":"'Соц.ком. к 6г ч2. Н.г.'!F26","v":0},{"$f":"'Соц.ком. к 6г ч2. Н.г.'!G26","v":0},{"$f":"'Соц.ком. к 6г ч2. Н.г.'!H26","v":0},{"$f":"'Соц.ком. к 6г ч2. Н.г.'!I26","v":0},{"$f":"'Соц.ком. к 6г ч2. Н.г.'!J26","v":0},{"$f":"'Соц.ком. к 6г ч2. Н.г.'!K26","v":0},{"$f":"'Соц.ком. к 6г ч2. Н.г.'!L26","v":0},{"$f":"'Соц.ком. к 6г ч2. Н.г.'!M26","v":0},{"$f":"'Физ.разв. к 6г ч1. Н.г.'!E27","v":0},{"$f":"'Физ.разв. к 6г ч1. Н.г.'!F27","v":0},{"$f":"'Физ.разв. к 6г ч1. Н.г.'!G27","v":0},{"$f":"'Физ.разв. к 6г ч1. Н.г.'!H27","v":0},{"$f":"'Физ.разв. к 6г ч1. Н.г.'!I27","v":0},{"$f":"'Физ.разв. к 6г ч1. Н.г.'!J27","v":0},{"$f":"'Физ.разв. к 6г ч1. Н.г.'!K27","v":0},{"$f":"'Физ.разв. к 6г ч1. Н.г.'!L27","v":0},{"$f":"'Физ.разв. к 6г ч1. Н.г.'!M27","v":0},{"$f":"'Физ.разв. к 6г ч1. Н.г.'!N27","v":0},{"$f":"'Физ.разв. к 6г ч1. Н.г.'!O27","v":0},{"$f":"'Физ.разв. к 6г ч1. Н.г.'!P27","v":0},{"$f":"'Физ.разв. к 6г ч1. Н.г.'!Q27","v":0},{"$f":"'Физ.разв. к 6г ч1. Н.г.'!R27","v":0},{"$f":"'Физ.разв. к 6г ч1. Н.г.'!S27","v":0},{"$f":"'Физ.разв. к 6г ч1. Н.г.'!T27","v":0},{"$f":"'Физ.разв. к 6г ч1. Н.г.'!U27","v":0},{"$f":"'Физ.разв. к 6г ч1. Н.г.'!V27","v":0},{"$f":"'Физ.разв. к 6г ч1. Н.г.'!W27","v":0},{"$f":"'Физ.разв. к 6г ч1. Н.г.'!X27","v":0},{"$f":"'Физ.разв. к 6г ч2. Н.г.'!E28","v":0},{"$f":"'Физ.разв. к 6г ч2. Н.г.'!F28","v":0},{"$f":"'Физ.разв. к 6г ч2. Н.г.'!G28","v":0},{"$f":"'Физ.разв. к 6г ч2. Н.г.'!H28","v":0},{"$f":"'Физ.разв. к 6г ч2. Н.г.'!I28","v":0},{"$f":"'Физ.разв. к 6г ч2. Н.г.'!J28","v":0},{"$f":"'Физ.разв. к 6г ч2. Н.г.'!K28","v":0},{"$f":"'Физ.разв. к 6г ч2. Н.г.'!L28","v":0},{"$f":"'Физ.разв. к 6г ч2. Н.г.'!M28","v":0},{"$f":"'Физ.разв. к 6г ч2. Н.г.'!N28","v":0},{"$f":"'Физ.разв. к 6г ч2. Н.г.'!O28","v":0},{"$f":"'Физ.разв. к 6г ч2. Н.г.'!P28","v":0},{"$f":"'Физ.разв. к 6г ч2. Н.г.'!Q28","v":0},{"$f":"'Физ.разв. к 6г ч2. Н.г.'!R28","v":0},{"$f":"'Физ.разв. к 6г ч2. Н.г.'!S28","v":0},{"$f":"'Физ.разв. к 6г ч2. Н.г.'!T28","v":0},{"$f":"'Физ.разв. к 6г ч2. Н.г.'!U28","v":0},{"$f":"'Физ.разв. к 6г ч2. Н.г.'!V28","v":0},{"$f":"'Физ.разв. к 6г ч2. Н.г.'!W28","v":0},{"$f":"'Физ.разв. к 6г ч2. Н.г.'!X28","v":0},{"$f":"'Физ.разв. к 6г ч2. Н.г.'!Y28","v":0}]
["конец года",{"$f":"'Худ.эст.к 6г ч1. К.г. '!E27","v":0},{"$f":"'Худ.эст.к 6г ч1. К.г. '!F27","v":0},{"$f":"'Худ.эст.к 6г ч1. К.г. '!G27","v":0},{"$f":"'Худ.эст.к 6г ч1. К.г. '!H27","v":0},{"$f":"'Худ.эст.к 6г ч1. К.г. '!I27","v":0},{"$f":"'Худ.эст.к 6г ч1. К.г. '!J27","v":0},{"$f":"'Худ.эст.к 6г ч1. К.г. '!K27","v":0},{"$f":"'Худ.эст.к 6г ч1. К.г. '!L27","v":0},{"$f":"'Худ.эст.к 6г ч1. К.г. '!M27","v":0},{"$f":"'Худ.эст.к 6г ч1. К.г. '!N27","v":0},{"$f":"'Худ.эст.к 6г ч1. К.г. '!O27","v":0},{"$f":"'Худ.эст.к 6г ч2. К.г. '!E27","v":0},{"$f":"'Худ.эст.к 6г ч2. К.г. '!F27","v":0},{"$f":"'Худ.эст.к 6г ч2. К.г. '!G27","v":0},{"$f":"'Худ.эст.к 6г ч2. К.г. '!H27","v":0},{"$f":"'Худ.эст.к 6г ч2. К.г. '!I27","v":0},{"$f":"'Худ.эст.к 6г ч2. К.г. '!J27","v":0},{"$f":"'Худ.эст.к 6г ч2. К.г. '!K27","v":0},{"$f":"'Худ.эст.к 6г ч2. К.г. '!L27","v":0},{"$f":"'Худ.эст.к 6г ч2. К.г. '!M27","v":0},{"$f":"'Худ.эст.к 6г ч3. К.г. '!E27","v":0},{"$f":"'Худ.эст.к 6г ч3. К.г. '!F27","v":0},{"$f":"'Худ.эст.к 6г ч3. К.г. '!G27","v":0},{"$f":"'Худ.эст.к 6г ч3. К.г. '!H27","v":0},{"$f":"'Худ.эст.к 6г ч3. К.г. '!I27","v":0},{"$f":"'Худ.эст.к 6г ч3. К.г. '!J27","v":0},{"$f":"'Худ.эст.к 6г ч3. К.г. '!K27","v":0},{"$f":"'Худ.эст.к 6г ч3. К.г. '!L27","v":0},{"$f":"'Реч.разв.к 6г ч1. К.г. '!E26","v":0},{"$f":"'Реч.разв.к 6г ч1. К.г. '!F26","v":0},{"$f":"'Реч.разв.к 6г ч1. К.г. '!G26","v":0},{"$f":"'Реч.разв.к 6г ч1. К.г. '!H26","v":0},{"$f":"'Реч.разв.к 6г ч1. К.г. '!I26","v":0},{"$f":"'Реч.разв.к 6г ч1. К.г. '!J26","v":0},{"$f":"'Реч.разв.к 6г ч1. К.г. '!K26","v":0},{"$f":"'Реч.разв.к 6г ч1. К.г. '!L26","v":0},{"$f":"'Реч.разв.к 6г ч2. К.г. '!E26","v":0},{"$f":"'Реч.разв.к 6г ч2. К.г. '!F26","v":0},{"$f":"'Реч.разв.к 6г ч2. К.г. '!G26","v":0},{"$f":"'Реч.разв.к 6г ч2. К.г. '!H26","v":0},{"$f":"'Реч.разв.к 6г ч2. К.г. '!I26","v":0},{"$f":"'Реч.разв.к 6г ч2. К.г. '!J26","v":0},{"$f":"'Реч.разв.к 6г ч2. К.г. '!K26","v":0},{"$f":"'Реч.разв.к 6г ч2. К.г. '!L26","v":0},{"$f":"'Реч.разв.к 6г ч2. К.г. '!M26","v":0},{"$f":"'Реч.разв.к 6г ч2. К.г. '!N26","v":0},{"$f":"'Реч.разв.к 6г ч2. К.г. '!O26","v":0},{"$f":"'Реч.разв.к 6г ч2. К.г. '!P26","v":0},{"$f":"'Реч.разв.к 6г ч2. К.г. '!Q26","v":0},{"$f":"'Позн.разв. к 6г ч1. К.г. '!E27","v":0},{"$f":"'Позн.разв. к 6г ч1. К.г. '!F27","v":0},{"$f":"'Позн.разв. к 6г ч1. К.г. '!G27","v":0},{"$f":"'Позн.разв. к 6г ч1. К.г. '!H27","v":0},{"$f":"'Позн.разв. к 6г ч1. К.г. '!I27","v":0},{"$f":"'Позн.разв. к 6г ч1. К.г. '!J27","v":0},{"$f":"'Позн.разв. к 6г ч1. К.г. '!K27","v":0},{"$f":"'Позн.разв. к 6г ч1. К.г. '!L27","v":0},{"$f":"'Позн.разв. к 6г ч1. К.г. '!M27","v":0},{"$f":"'Позн.разв. к 6г ч1. К.г. '!N27","v":0},{"$f":"'Позн.разв. к 6г ч1. К.г. '!O27","v":0},{"$f":"'Позн.разв. к 6г ч1. К.г. '!P27","v":0},{"$f":"'Позн.разв. к 6г ч1. К.г. '!Q27","v":0},{"$f":"'Позн.разв. к 6г ч1. К.г. '!R27","v":0},{"$f":"'Позн.разв. к 6г ч1. К.г. '!S27","v":0},{"$f":"'Позн.разв. к 6г ч2. К.г. '!E27","v":0},{"$f":"'Позн.разв. к 6г ч2. К.г. '!F27","v":0},{"$f":"'Позн.разв. к 6г ч2. К.г. '!G27","v":0},{"$f":"'Позн.разв. к 6г ч2. К.г. '!H27","v":0},{"$f":"'Позн.разв. к 6г ч2. К.г. '!I27","v":0},{"$f":"'Позн.разв. к 6г ч2. К.г. '!J27","v":0},{"$f":"'Соц.ком.к 6г ч1. К.г. '!$E$26","v":0},{"$f":"'Соц.ком.к 6г ч1. К.г. '!$E$26","v":0},{"$f":"'Соц.ком.к 6г ч1. К.г. '!$E$26","v":0},{"$f":"'Соц.ком.к 6г ч1. К.г. '!$E$26","v":0},{"$f":"'Соц.ком.к 6г ч1. К.г. '!$E$26","v":0},{"$f":"'Соц.ком.к 6г ч1. К.г. '!$E$26","v":0},{"$f":"'Соц.ком.к 6г ч1. К.г. '!$E$26","v":0},{"$f":"'Соц.ком.к 6г ч1. К.г. '!$E$26","v":0},{"$f":"'Соц.ком.к 6г ч1. К.г. '!$E$26","v":0},{"$f":"'Соц.ком.к 6г ч1. К.г. '!$E$26","v":0},{"$f":"'Соц.ком.к 6г ч1. К.г. '!$E$26","v":0},{"$f":"'Соц.ком.к 6г ч1. К.г. '!$E$26","v":0},{"$f":"'Соц.ком.к 6г ч1. К.г. '!$E$26","v":0},{"$f":"'Соц.ком.к 6г ч1. К.г. '!$E$26","v":0},{"$f":"'Соц.ком.к 6г ч1. К.г. '!$E$26","v":0},{"$f":"'Соц.ком.к 6г ч1. К.г. '!$E$26","v":0},{"$f":"'Соц.ком.к 6г ч1. К.г. '!$E$26","v":0},{"$f":"'Соц.ком. к 6г ч2 К.г.'!E26","v":0},{"$f":"'Соц.ком. к 6г ч2 К.г.'!F26","v":0},{"$f":"'Соц.ком. к 6г ч2 К.г.'!G26","v":0},{"$f":"'Соц.ком. к 6г ч2 К.г.'!H26","v":0},{"$f":"'Соц.ком. к 6г ч2 К.г.'!I26","v":0},{"$f":"'Соц.ком. к 6г ч2 К.г.'!J26","v":0},{"$f":"'Соц.ком. к 6г ч2 К.г.'!K26","v":0},{"$f":"'Соц.ком. к 6г ч2 К.г.'!L26","v":0},{"$f":"'Соц.ком. к 6г ч2 К.г.'!M26","v":0},{"$f":"'Физ.разв. к 6г ч1. К.г. '!E27","v":0},{"$f":"'Физ.разв. к 6г ч1. К.г. '!F27","v":0},{"$f":"'Физ.разв. к 6г ч1. К.г. '!G27","v":0},{"$f":"'Физ.разв. к 6г ч1. К.г. '!H27","v":0},{"$f":"'Физ.разв. к 6г ч1. К.г. '!I27","v":0},{"$f":"'Физ.разв. к 6г ч1. К.г. '!J27","v":0},{"$f":"'Физ.разв. к 6г ч1. К.г. '!K27","v":0},{"$f":"'Физ.разв. к 6г ч1. К.г. '!L27","v":0},{"$f":"'Физ.разв. к 6г ч1. К.г. '!M27","v":0},{"$f":"'Физ.разв. к 6г ч1. К.г. '!N27","v":0},{"$f":"'Физ.разв. к 6г ч1. К.г. '!O27","v":0},{"$f":"'Физ.разв. к 6г ч1. К.г. '!P27","v":0},{"$f":"'Физ.разв. к 6г ч1. К.г. '!Q27","v":0},{"$f":"'Физ.разв. к 6г ч1. К.г. '!R27","v":0},{"$f":"'Физ.разв. к 6г ч1. К.г. '!S27","v":0},{"$f":"'Физ.разв. к 6г ч1. К.г. '!T27","v":0},{"$f":"'Физ.разв. к 6г ч1. К.г. '!U27","v":0},{"$f":"'Физ.разв. к 6г ч1. К.г. '!V27","v":0},{"$f":"'Физ.разв. к 6г ч1. К.г. '!W27","v":0},{"$f":"'Физ.разв. к 6г ч1. К.г. '!X27","v":0},{"$f":"'Физ.разв. к 6г ч2. К.г. '!E28","v":0},{"$f":"'Физ.разв. к 6г ч2. К.г. '!F28","v":0},{"$f":"'Физ.разв. к 6г ч2. К.г. '!G28","v":0},{"$f":"'Физ.разв. к 6г ч2. К.г. '!H28","v":0},{"$f":"'Физ.разв. к 6г ч2. К.г. '!I28","v":0},{"$f":"'Физ.разв. к 6г ч2. К.г. '!J28","v":0},{"$f":"'Физ.разв. к 6г ч2. К.г. '!K28","v":0},{"$f":"'Физ.разв. к 6г ч2. К.г. '!L28","v":0},{"$f":"'Физ.разв. к 6г ч2. К.г. '!M28","v":0},{"$f":"'Физ.разв. к 6г ч2. К.г. '!N28","v":0},{"$f":"'Физ.разв. к 6г ч2. К.г. '!O28","v":0},{"$f":"'Физ.разв. к 6г ч2. К.г. '!P28","v":0},{"$f":"'Физ.разв. к 6г ч2. К.г. '!Q28","v":0},{"$f":"'Физ.разв. к 6г ч2. К.г. '!R28","v":0},{"$f":"'Физ.разв. к 6г ч2. К.г. '!S28","v":0},{"$f":"'Физ.разв. к 6г ч2. К.г. '!T28","v":0},{"$f":"'Физ.разв. к 6г ч2. К.г. '!U28","v":0},{"$f":"'Физ.разв. к 6г ч2. К.г. '!V28","v":0},{"$f":"'Физ.разв. к 6г ч2. К.г. '!W28","v":0},{"$f":"'Физ.разв. к 6г ч2. К.г. '!X28","v":0},{"$f":"'Физ.разв. к 6г ч2. К.г. '!Y28","v":0}]

{"sheet":"17","index":44,"n_rows":11,"n_cols":138,"rows_kept":11,"merged":[[4,117,4,122],[4,123,4,126],[4,127,4,129],[4,130,4,132],[4,134,4,137],[5,0,8,0],[5,1,5,11],[5,12,5,19],[5,21,6,26],[5,27,6,28],[5,50,5,52],[5,53,5,55],[5,56,5,64],[5,65,5,66],[5,67,5,70],[5,117,5,118],[5,119,5,122],[5,123,6,123],[5,124,6,124],[5,125,6,125],[5,126,6,126],[5,127,8,127],[5,128,8,128],[5,129,8,129],[5,130,8,130],[5,131,8,131],[5,132,8,132],[5,133,8,133],[5,134,5,137],[6,1,6,4],[6,9,6,10],[6,12,6,13],[6,16,6,17],[6,18,6,19],[6,20,8,20],[6,30,6,31],[6,32,6,36],[6,38,6,43],[6,45,6,49],[6,53,8,53],[6,54,8,54],[6,55,8,55],[6,56,6,58],[6,62,6,64],[6,65,7,66],[6,67,6,68],[6,69,6,70],[6,71,6,87],[6,88,6,90],[6,91,6,95],[6,97,6,98],[6,99,6,101],[6,102,6,104],[6,105,6,107],[6,108,6,112],[6,113,6,114],[6,115,6,116],[6,117,8,117],[6,118,8,118],[6,119,8,119],[6,120,8,120],[6,121,8,121],[6,122,8,122],[6,134,8,134],[6,135,8,135],[6,136,8,136],[6,137,8,137],[7,1,8,1],[7,2,8,2],[7,3,8,3],[7,4,8,4],[7,5,8,5],[7,6,8,6],[7,7,8,7],[7,8,8,8],[7,9,8,9],[7,10,8,10],[7,11,8,11],[7,12,8,12],[7,13,8,13],[7,14,8,14],[7,15,8,15],[7,16,8,16],[7,17,8,17],[7,18,8,18],[7,19,8,19],[7,21,8,21],[7,22,8,22],[7,23,8,23],[7,24,8,24],[7,25,8,25],[7,26,8,26],[7,27,8,27],[7,28,8,28],[7,29,8,29],[7,30,8,30],[7,31,8,31],[7,32,8,32],[7,33,8,33],[7,34,8,34],[7,35,8,35],[7,36,8,36],[7,37,8,37],[7,38,8,38],[7,39,8,39],[7,40,8,40],[7,41,8,41],[7,42,8,42],[7,43,8,43],[7,44,8,44],[7,45,8,45],[7,46,8,46],[7,47,8,47],[7,48,8,48],[7,49,8,49],[7,50,7,52],[7,56,8,56],[7,57,8,57],[7,58,8,58],[7,59,8,59],[7,60,8,60],[7,61,8,61],[7,62,8,62],[7,63,8,63],[7,64,8,64],[7,67,8,67],[7,68,8,68],[7,69,8,69],[7,70,8,70],[7,71,7,72],[7,73,7,74],[7,75,7,76],[7,77,7,80],[7,82,7,84],[7,85,7,87],[7,88,8,88],[7,89,8,89],[7,90,8,90],[7,91,8,91],[7,92,8,92],[7,93,8,93],[7,94,8,94],[7,95,8,95],[7,96,8,96],[7,97,8,97],[7,98,8,98],[7,99,8,99],[7,100,8,100],[7,101,8,101],[7,102,7,104],[7,105,7,107],[7,108,7,112],[7,113,8,113],[7,114,8,114],[7,115,7,116],[7,123,8,123],[7,124,8,124],[7,125,8,125],[7,126,8,126]]}
[]
[]
[]
[]
[{"$nulls":117},"Мелкая моторика",{"$nulls":5},"КГН",{"$nulls":3},"ЗОЖ",null,null,"Подвижные игры",null,null,"Спорт. игры","Спортивные упражнения"]
[{"$f":"Список!B20","v":0},"Музыкальная деятельность",{"$nulls":10},"Изобразительная деятельность",{"$nulls":8},"Приобщение к искусству",{"$nulls":5},"Конструктивная деятельность",{"$nulls":22},"Сенсорные эталоны ",null,null,"Познавательные действия",null,null,"Математические представления",{"$nulls":8},"Окружающий мир",null,"Природа ",{"$nulls":49},"Координация рук и глаз",null,"Графические навыки",{"$nulls":3},"Навыки соблюдения чистоты тела (правила личной гигиены)","Навыки культуры еды (прием пищи) ","Навыки поддержания порядка (правила поведения в быту) ","Навыки ухода за собой (одевание, раздевание) ","Ребенок имеет представление о факторах, положительно/негативно влияющих на здоровье; владеет основными способами укрепления здоровья","Ребенок имеет представление о некоторых видах спорта (9 и больше), роли спорта для укрепления здоровья","Ребенок проявляет заботливое отношение к своему здоровью и здоровью окружающих","Ребенок проявляет доступный возрасту самоконтроль","Ребенок  способен привлечь внимание других детей и организовать знакомую подвижную игру","Ребенок придумывает новые варианты игр, комбинирует движения","Ребенок имеет представление об элементах спортивных игр (городки, баскетбол, бадминтон, футбол), умеет выполнять некоторые виды движений","Ребенок умеет кататься"]
[null,"Слушание",{"$nulls":3},"Пение ","Музыкально-ритмические движения","Песенное творчество","Игра на детских музыкальных инструментах","Театрализованная деятельность",null,"Танцевально-игровое творчество","Рисование ",null,"Лепка ","Аппликация ","Народное ДПИ",null,"Прикладное творчество",null,"Ребенок самостоятельно определяет замысел рисунка, аппликации, лепки, поделки, создает образы и композиционные изображения, использует разнообразные материалы",{"$nulls":8},"Общее речевое развитие","Формирование словаря",null,"Грамматический строй",{"$nulls":4},"Звуковая культура речи","Связная речь",{"$nulls":5},"ЧХЛ","Подготовка к обучению грамоте",{"$nulls":4},"Цвет, оттенки","Форма, геометрические фигуры","Величина","Ребенок охотно участвует в обсуждении проблемы для совместного нахождения способов ее решения, предлагает пути решения, устанавливает закономерности причинно-следственного характера, проявляет любознательность","Ребенок использует математические знания, способы и средства для познания окружающего мира","Ребенок способен к произвольным умственным действиям, логическим операциям анализа, сравнения, обобщения, систематизации, классификации","Количество и счет",null,null,"Ориентировка во времени","Ориентировка в пространстве","Пространственно-количественные связи и отношения","Сравнение",null,null,"Ребенок имеет представления, может показать на картинке и в естественной среде, может рассказать",null,"Объекты живой природы",null,"Объекты неживой природы, природные явления",null,"Сфера социальных отношений",{"$nulls":16},"Область формирования основ гражданственности и патриотизма",null,null,"Сфера трудового воспитания",{"$nulls":4},"Область формирования основ безопасного поведения","Бросание, катание, ловля, метание",null,"Ползанье, лазанье",null,null,"Ходьба",null,null,"Бег",null,null,"Прыжки",{"$nulls":4},"Равновесие",null,"Строевые упражнения",null,"Ребенок может найти выход из лабиринта","Ребенок может нарисовать простой узор, изображение, не отрывая руки","Ребенок может повторить узор с чередующимися элементами","Ребенок закрашивает контурное изображение с множеством мелких деталей, не выходя за контур","Ребенок может соединить точки для получения изображения","Ребенок рисует геометрический орнамент по клеткам",{"$nulls":11},"на санках","на лыжах","на двухколесном велосипеде","на самокате"]
[null,"Ребенок различает жанры музыкальных произведений (песня, танец, марш)","Ребенок узнает мелодию по отдельным фрагментам произведения (вступление, заключение, музыкальная фраза)","Ребенок различает звуки по высоте в пределах квинты","Ребенок различает звучание музыкальных инструментов (клавишно-ударных, струнных)","Ребенок демонстрирует развитые певческие навыки","Ребенок демонстрирует развитые навыки исполнения танцевальных движений","Ребенок может импровизировать мелодию на заданный текст","Ребенок демонстрирует навыки игры на детских музыкальных инструментах","Ребенок имеет представление о различных видах театрального искусства","Ребенок с удовольствие занимается театрализованной деятельностью","Ребенок может придумывать движения к танцам","Ребенок передает в изображении основные свойства предметов (форма, величина, цвет), характерные детали, соотношение предметов и их частей по величине, высоте, расположению относительно друг друга","Ребенок владеет основными способами и приемами рисования различными изобразительными материалами (цветные карандаши, гуашь, акварель, цветные мелки, пастель, сангина, угольный карандаш, фломастеры)","Ребенок лепит с натуры и по представлению знакомые предметы, передавая характерные особенности пластическим, конструктивным и комбинированным способами","Ребенок умеет пользоваться ножницами","Ребенок имеет представление о полхов-майданской, гжельской росписи","Ребенок может нарисовать узор, используя элементы  росписи","Ребенок умеет работать с бумагой (сгибать лист, сглаживать сгибы, надрезать по сгибам)","Ребенок умеет работать с природным и бросовым материалом",null,"Ребенок умеет выделять, называть, группировать произведения по видам искусства: литература, музыка, изобразительное искусство, архитектура, театр, цирк","Ребенок имеет представление о видах изобразительного искусства: графика, декоративно-прикладное искусство, живопись, скульптура, архитектура, фотоискусство","Ребенок имеет представление о жанрах изобразительного искусства: натюрморт, пейзаж, портрет","Ребенок имеет представление о народном искусстве, фольклоре, музыке и художественных промыслах","Ребенок имеет представление о творческих профессиях: художник, композитор, музыкант, актер, артист балета","Ребенок имеет представление о культурно-досуговых местах: театр, музей, библиотека, выставка, кинотеатр, цирк и др.","Ребенок может провести анализ постройки (выделить основные части и характерные детали конструкций)","Ребенок может выполнить постройку по инструкции","Ребенок внятно разговаривает","Ребенок умеет обобщать предметы в группы по существенным признакам","Ребенок демонстрирует богатый словарный запас","Ребенок правильно использует в речи: несклоняемые существительные","Ребенок правильно использует в речи: слова, имеющие только множественное или только единственное число","Ребенок правильно использует в речи: глаголы одеть-надеть","Ребенок правильно использует в речи: существительные множественного числа в родительном падеже","Ребенок правильно образовывает слова с помощью суффикса, приставки","Ребенок правильно произносит сонорные звуки: л-ль, р-рь","Ребенок пересказывает литературные произведения по ролям, по частям, правильно передавая идею и содержание","Ребенок пользуется прямой и косвенной речью","Ребенок составляет короткий описательный рассказ о предметах, объектах и явлениях природы, из личного опыта","Ребенок сочиняет сюжетные рассказы по картине, из личного опыта","Ребенок проявляет речевое творчество: придумывает продолжение и окончание к рассказу, рассказы по аналогии, по плану педагога, по модели","Ребенок владеет первичными приемами аргументации и доказательства","Ребенок проявляет избирательное отношение к произведениям определенной тематики и жанра","Ребенок понимает термины: слово: звук, буква, предложение, гласный звук, согласный звук","Ребенок может провести звуковой анализ слова, разделить на слоги двух-, трехслоговые слова; составляет схему слова","Ребенок различает гласные-согласные звуки","Ребенок определяет твердые-мягкие согласные","Ребенок составляет предложение по модели, определяет количество и последовательность слов в предложении","Ребенок различает и называет",{"$nulls":5},"Ребенок знает/называет/находит среди других цифры 0 -10","Ребенок выполняет количественный и порядковый счет в пределах 0-10","Ребенок знает состав чисел из единиц в пределах 5","Ребенок понимает календарные единицы времени (сутки, неделя, месяц, год)","Ребенок ориентируется на листе бумаги","Ребенок понимает простейшую графическую информацию об отношениях предметов (слева направо, справа налево, снизу вверх, сверху вниз)","Ребенок выделяет сходства и отличия между группами предметов","Ребенок сравнивает предметы по 3-5 признакам","Ребенок группирует предметы по разным основаниям, преимущественно на основе зрительной оценки",null,null,"Ребенок имеет представление о сходстве и различии во внешнем виде и образе жизни объектов животного и растительного мира в разные сезоны года","Ребенок может сравнивать, группировать объекты живой природы по их особенностям, мету обитания, образу жизни, питанию","Ребенок имеет представление о признаках разных времен года","Ребенок наблюдает за явлениями природы, фиксирует результаты наблюдения","Отношение к самому себе",null,"Отношение к сверстникам",null,"Отношение к взрослым",null,"Эмоции",{"$nulls":3},"Поведение","Семья",null,null,"Игровое поведение",null,null,"Ребенок имеет представление о государственных символах России (герб, гимн, флаг)","Ребенок имеет представление о государственных праздниках России","Ребенок знает/может назвать/показать на картинке и в естественной среде достопримечательности населенного пункта, в котором живет","Ребенок имеет представления о разных видах производительного труда (промышленность, строительство, сельское хозяйство)","Ребенок имеет представления о разных видах обслуживающего труда (сфера досуга и отдыха, сфера культуры, медицина, торговля)","Ребенок имеет представление о структуре трудового процесса (мотив, цель, инструменты, оборудование, содержание действий, выбор трудовых действий, результат)","Ребенок имеет элементарные экономические представления (назначение рекламы, денег)","Ребенок охотно участвует в выполнении трудовых поручений, дежурстве; может распределять трудовые обязанности с другими","Ребенок имеет представления/ соблюдает правила поведения в быту, на улице, в природе, в общении с людьми, с животными","Ребенок выполняет различные упражнения с мячом (прокатывание, передача, перебрасывание, ведение, подбрасывание, ловля, забрасывание)","Ребенок выполняет метание в цель, метание в даль предметов разной массы","Ребенок выполняет ползанье разными способами (на четвереньках, на животе)","Ребенок выполняет переползание через несколько предметов подряд, под дугами, в туннеле","Ребенок выполняет лазанье по гимнастической стенке чередующимся шагом","Ребенок выполняет различные виды ходьбы",null,null,"Ребенок выполняет различные виды бега",null,null,"Ребенок выполняет различные виды прыжков",{"$nulls":4},"Ребенок выполняет стойку на одной ноге ","Ребенок выполняет упражнение \"ласточка\" ","Ребенок выполняет различные виды строевых упражнений",{"$nulls":7},"Ребенок выполняет самостоятельно","Ребенок выполняет самостоятельно","Ребенок выполняет самостоятельно","Ребенок выполняет самостоятельно"]
[{"$nulls":50},"Ребенок называет/различает все цвета спектра и ахроматические цвета, оттенки цвета, тоны цвета, теплые и холодные оттенки","Ребенок владеет способами воссоздания фигуры из частей, деления фигуры на части","Ребенок может выстраивать сериационные ряды предметов, различающихся по размеру в возрастающем и убывающем порядке в пределах 10",{"$nulls":12},"о многообразии людей разных национальностей (особенностей внешнего вида, одежды, традиций)","Ребенок имеет представление о многообразии стран и народов мира",{"$nulls":4},"Ребенок может рассказать о себе, выразить собственные потребности, желания","Ребенок имеет представление о некоторых своих правах","Ребенок имеет предпочтения в общении","Ребенок охотно вступает в общение со сверстниками","Ребенок уважительно относится к взрослым, пожилым людям","Ребенок охотно вступает в общение со взрослыми","Ребенок понимает свои и чужие эмоциональные состояния, демонстрирует примеры эмоциональной поддержки ","Ребенок  откликается на просьбу помочь","Ребенок выразить чувства и эмоции в мимике, пантомимике, действиях, интонации","Ребенок демонстрирует адекватные возрасту способы регуляции эмоциональных состояний","Ребенок ориентируется на общепринятые нормы и правила культуры поведения","Ребенок знает членов своей семьи, ближайших родственников по линии матери и отца","Ребенок имеет представление о способах поддержки родственных связей (переписка, разговор, совместный отдых, традиции, походы в гости и др.)","Ребенок проявляет заботу по отношению к членам своей семьи, оказывает посильную помощь больному члену семьи","Ребенок в совместной деятельности принимает общую цель, договаривается о способах деятельности и материалах, может уступить в конфликтной ситуации","Ребенок проявляет интерес к игровому экспериментированию, развивающим и познавательным играм","Ребенок способен действовать в точном соответствие с игровой задачей и правилами",{"$nulls":14},"обычным шагом, на носках, на пятках, с высоким подниманием колен","приставной, в полуприседе, мелким и широким, перекатом с пятки на носок, гимнастическим","змейкой без ориентиров, в колонне по одному и по два","в колонне по одному, змейкой, с перестроением на ходу в пары, звенья","со сменой ведущих, с пролезанием в обруч, с ловлей и увертыванием, высоко поднимая колени","между расставленными предметами, в заданном темпе, мелким и широким шагом","подпрыгивание, перепрыгивание, спрыгивание","в длину с места","в высоту с разбега","в длину с разбега","со скакалкой",null,null,"построения (по росту, в колонну по одному, в шеренгу, в круг)","в колонну по три, в две шеренги на месте, расхождение из колонны в разные стороны"]
["начало года",{"$f":"'Худ.эст.к 6г ч1. Н.г.'!E28","v":0},{"$f":"'Худ.эст.к 6г ч1. Н.г.'!F28","v":0},{"$f":"'Худ.эст.к 6г ч1. Н.г.'!G28","v":0},{"$f":"'Худ.эст.к 6г ч1. Н.г.'!H28","v":0},{"$f":"'Худ.эст.к 6г ч1. Н.г.'!I28","v":0},{"$f":"'Худ.эст.к 6г ч1. Н.г.'!J28","v":0},{"$f":"'Худ.эст.к 6г ч1. Н.г.'!K28","v":0},{"$f":"'Худ.эст.к 6г ч1. Н.г.'!L28","v":0},{"$f":"'Худ.эст.к 6г ч1. Н.г.'!M28","v":0},{"$f":"'Худ.эст.к 6г ч1. Н.г.'!N28","v":0},{"$f":"'Худ.эст.к 6г ч1. Н.г.'!O28","v":0},{"$f":"'Худ.эст.к 6г ч2. Н.г.'!E28","v":0},{"$f":"'Худ.эст.к 6г ч2. Н.г.'!F28","v":0},{"$f":"'Худ.эст.к 6г ч2. Н.г.'!G28","v":0},{"$f":"'Худ.эст.к 6г ч2. Н.г.'!H28","v":0},{"$f":"'Худ.эст.к 6г ч2. Н.г.'!I28","v":0},{"$f":"'Худ.эст.к 6г ч2. Н.г.'!J28","v":0},{"$f":"'Худ.эст.к 6г ч2. Н.г.'!K28","v":0},{"$f":"'Худ.эст.к 6г ч2. Н.г.'!L28","v":0},{"$f":"'Худ.эст.к 6г ч2. Н.г.'!M28","v":0},{"$f":"'Худ.эст.к 6г ч3. Н.г.'!E28","v":0},{"$f":"'Худ.эст.к 6г ч3. Н.г.'!F28","v":0},{"$f":"'Худ.эст.к 6г ч3. Н.г.'!G28","v":0},{"$f":"'Худ.эст.к 6г ч3. Н.г.'!H28","v":0},{"$f":"'Худ.эст.к 6г ч3. Н.г.'!I28","v":0},{"$f":"'Худ.эст.к 6г ч3. Н.г.'!J28","v":0},{"$f":"'Худ.эст.к 6г ч3. Н.г.'!K28","v":0},{"$f":"'Худ.эст.к 6г ч3. Н.г.'!L28","v":0},{"$f":"'Реч.разв.к 6г ч1. Н.г.'!E27","v":0},{"$f":"'Реч.разв.к 6г ч1. Н.г.'!F27","v":0},{"$f":"'Реч.разв.к 6г ч1. Н.г.'!G27","v":0},{"$f":"'Реч.разв.к 6г ч1. Н.г.'!H27","v":0},{"$f":"'Реч.разв.к 6г ч1. Н.г.'!I27","v":0},{"$f":"'Реч.разв.к 6г ч1. Н.г.'!J27","v":0},{"$f":"'Реч.разв.к 6г ч1. Н.г.'!K27","v":0},{"$f":"'Реч.разв.к 6г ч1. Н.г.'!L27","v":0},{"$f":"'Реч.разв.к 6г ч2. Н.г.'!E27","v":0},{"$f":"'Реч.разв.к 6г ч2. Н.г.'!F27","v":0},{"$f":"'Реч.разв.к 6г ч2. Н.г.'!G27","v":0},{"$f":"'Реч.разв.к 6г ч2. Н.г.'!H27","v":0},{"$f":"'Реч.разв.к 6г ч2. Н.г.'!I27","v":0},{"$f":"'Реч.разв.к 6г ч2. Н.г.'!J27","v":0},{"$f":"'Реч.разв.к 6г ч2. Н.г.'!K27","v":0},{"$f":"'Реч.разв.к 6г ч2. Н.г.'!L27","v":0},{"$f":"'Реч.разв.к 6г ч2. Н.г.'!M27","v":0},{"$f":"'Реч.разв.к 6г ч2. Н.г.'!N27","v":0},{"$f":"'Реч.разв.к 6г ч2. Н.г.'!O27","v":0},{"$f":"'Реч.разв.к 6г ч2. Н.г.'!P27","v":0},{"$f":"'Реч.разв.к 6г ч2. Н.г.'!Q27","v":0},{"$f":"'Позн.разв. к 6г ч1. Н.г.'!E28","v":0},{"$f":"'Позн.разв. к 6г ч1. Н.г.'!F28","v":0},{"$f":"'Позн.разв. к 6г ч1. Н.г.'!G28","v":0},{"$f":"'Позн.разв. к 6г ч1. Н.г.'!H28","v":0},{"$f":"'Позн.разв. к 6г ч1. Н.г.'!I28","v":0},{"$f":"'Позн.разв. к 6г ч1. Н.г.'!J28","v":0},{"$f":"'Позн.разв. к 6г ч1. Н.г.'!K28","v":0},{"$f":"'Позн.разв. к 6г ч1. Н.г.'!L28","v":0},{"$f":"'Позн.разв. к 6г ч1. Н.г.'!M28","v":0},{"$f":"'Позн.разв. к 6г ч1. Н.г.'!N28","v":0},{"$f":"'Позн.разв. к 6г ч1. Н.г.'!O28","v":0},{"$f":"'Позн.разв. к 6г ч1. Н.г.'!P28","v":0},{"$f":"'Позн.разв. к 6г ч1. Н.г.'!Q28","v":0},{"$f":"'Позн.разв. к 6г ч1. Н.г.'!R28","v":0},{"$f":"'Позн.разв. к 6г ч1. Н.г.'!S28","v":0},{"$f":"'Позн.разв. к 6г ч2. Н.г.'!E28","v":0},{"$f":"'Позн.разв. к 6г ч2. Н.г.'!F28","v":0},{"$f":"'Позн.разв. к 6г ч2. Н.г.'!G28","v":0},{"$f":"'Позн.разв. к 6г ч2. Н.г.'!H28","v":0},{"$f":"'Позн.разв. к 6г ч2. Н.г.'!I28","v":0},{"$f":"'Позн.разв. к 6г ч2. Н.г.'!J28","v":0},{"$f":"'Соц.ком.к 6г ч1. Н.г.'!E27","v":0},{"$f":"'Соц.ком.к 6г ч1. Н.г.'!F27","v":0},{"$f":"'Соц.ком.к 6г ч1. Н.г.'!G27","v":0},{"$f":"'Соц.ком.к 6г ч1. Н.г.'!H27","v":0},{"$f":"'Соц.ком.к 6г ч1. Н.г.'!I27","v":0},{"$f":"'Соц.ком.к 6г ч1. Н.г.'!J27","v":0},{"$f":"'Соц.ком.к 6г ч1. Н.г.'!K27","v":0},{"$f":"'Соц.ком.к 6г ч1. Н.г.'!L27","v":0},{"$f":"'Соц.ком.к 6г ч1. Н.г.'!M27","v":0},{"$f":"'Соц.ком.к 6г ч1. Н.г.'!N27","v":0},{"$f":"'Соц.ком.к 6г ч1. Н.г.'!O27","v":0},{"$f":"'Соц.ком.к 6г ч1. Н.г.'!P27","v":0},{"$f":"'Соц.ком.к 6г ч1. Н.г.'!Q27","v":0},{"$f":"'Соц.ком.к 6г ч1. Н.г.'!R27","v":0},{"$f":"'Соц.ком.к 6г ч1. Н.г.'!S27","v":0},{"$f":"'Соц.ком.к 6г ч1. Н.г.'!T27","v":0},{"$f":"'Соц.ком.к 6г ч1. Н.г.'!U27","v":0},{"$f":"'Соц.ком. к 6г ч2. Н.г.'!E27","v":0},{"$f":"'Соц.ком. к 6г ч2. Н.г.'!F27","v":0},{"$f":"'Соц.ком. к 6г ч2. Н.г.'!G27","v":0},{"$f":"'Соц.ком. к 6г ч2. Н.г.'!H27","v":0},{"$f":"'Соц.ком. к 6г ч2. Н.г.'!I27","v":0},{"$f":"'Соц.ком. к 6г ч2. Н.г.'!J27","v":0},{"$f":"'Соц.ком. к 6г ч2. Н.г.'!K27","v":0},{"$f":"'Соц.ком. к 6г ч2. Н.г.'!L27","v":0},{"$f":"'Соц.ком. к 6г ч2. Н.г.'!M27","v":0},{"$f":"'Физ.разв. к 6г ч1. Н.г.'!E28","v":0},{"$f":"'Физ.разв. к 6г ч1. Н.г.'!F28","v":0},{"$f":"'Физ.разв. к 6г ч1. Н.г.'!G28","v":0},{"$f":"'Физ.разв. к 6г ч1. Н.г.'!H28","v":0},{"$f":"'Физ.разв. к 6г ч1. Н.г.'!I28","v":0},{"$f":"'Физ.разв. к 6г ч1. Н.г.'!J28","v":0},{"$f":"'Физ.разв. к 6г ч1. Н.г.'!K28","v":0},{"$f":"'Физ.разв. к 6г ч1. Н.г.'!L28","v":0},{"$f":"'Физ.разв. к 6г ч1. Н.г.'!M28","v":0},{"$f":"'Физ.разв. к 6г ч1. Н.г.'!N28","v":0},{"$f":"'Физ.разв. к 6г ч1. Н.г.'!O28","v":0},{"$f":"'Физ.разв. к 6г ч1. Н.г.'!P28","v":0},{"$f":"'Физ.разв. к 6г ч1. Н.г.'!Q28","v":0},{"$f":"'Физ.разв. к 6г ч1. Н.г.'!R28","v":0},{"$f":"'Физ.разв. к 6г ч1. Н.г.'!S28","v":0},{"$f":"'Физ.разв. к 6г ч1. Н.г.'!T28","v":0},{"$f":"'Физ.разв. к 6г ч1. Н.г.'!U28","v":0},{"$f":"'Физ.разв. к 6г ч1. Н.г.'!V28","v":0},{"$f":"'Физ.разв. к 6г ч1. Н.г.'!W28","v":0},{"$f":"'Физ.разв. к 6г ч1. Н.г.'!X28","v":0},{"$f":"'Физ.разв. к 6г ч2. Н.г.'!E29","v":0},{"$f":"'Физ.разв. к 6г ч2. Н.г.'!F29","v":0},{"$f":"'Физ.разв. к 6г ч2. Н.г.'!G29","v":0},{"$f":"'Физ.разв. к 6г ч2. Н.г.'!H29","v":0},{"$f":"'Физ.разв. к 6г ч2. Н.г.'!I29","v":0},{"$f":"'Физ.разв. к 6г ч2. Н.г.'!J29","v":0},{"$f":"'Физ.разв. к 6г ч2. Н.г.'!K29","v":0},{"$f":"'Физ.разв. к 6г ч2. Н.г.'!L29","v":0},{"$f":"'Физ.разв. к 6г ч2. Н.г.'!M29","v":0},{"$f":"'Физ.разв. к 6г ч2. Н.г.'!N29","v":0},{"$f":"'Физ.разв. к 6г ч2. Н.г.'!O29","v":0},{"$f":"'Физ.разв. к 6г ч2. Н.г.'!P29","v":0},{"$f":"'Физ.разв. к 6г ч2. Н.г.'!Q29","v":0},{"$f":"'Физ.разв. к 6г ч2. Н.г.'!R29","v":0},{"$f":"'Физ.разв. к 6г ч2. Н.г.'!S29","v":0},{"$f":"'Физ.разв. к 6г ч2. Н.г.'!T29","v":0},{"$f":"'Физ.разв. к 6г ч2. Н.г.'!U29","v":0},{"$f":"'Физ.разв. к 6г ч2. Н.г.'!V29","v":0},{"$f":"'Физ.разв. к 6г ч2. Н.г.'!W29","v":0},{"$f":"'Физ.разв. к 6г ч2. Н.г.'!X29","v":0},{"$f":"'Физ.разв. к 6г ч2. Н.г.'!Y29","v":0}]
["конец года",{"$f":"'Худ.эст.к 6г ч1. К.г. '!E28","v":0},{"$f":"'Худ.эст.к 6г ч1. К.г. '!F28","v":0},{"$f":"'Худ.эст.к 6г ч1. К.г. '!G28","v":0},{"$f":"'Худ.эст.к 6г ч1. К.г. '!H28","v":0},{"$f":"'Худ.эст.к 6г ч1. К.г. '!I28","v":0},{"$f":"'Худ.эст.к 6г ч1. К.г. '!J28","v":0},{"$f":"'Худ.эст.к 6г ч1. К.г. '!K28","v":0},{"$f":"'Худ.эст.к 6г ч1. К.г. '!L28","v":0},{"$f":"'Худ.эст.к 6г ч1. К.г. '!M28","v":0},{"$f":"'Худ.эст.к 6г ч1. К.г. '!N28","v":0},{"$f":"'Худ.эст.к 6г ч1. К.г. '!O28","v":0},{"$f":"'Худ.эст.к 6г ч2. К.г. '!E28","v":0},{"$f":"'Худ.эст.к 6г ч2. К.г. '!F28","v":0},{"$f":"'Худ.эст.к 6г ч2. К.г. '!G28","v":0},{"$f":"'Худ.эст.к 6г ч2. К.г. '!H28","v":0},{"$f":"'Худ.эст.к 6г ч2. К.г. '!I28","v":0},{"$f":"'Худ.эст.к 6г ч2. К.г. '!J28","v":0},{"$f":"'Худ.эст.к 6г ч2. К.г. '!K28","v":0},{"$f":"'Худ.эст.к 6г ч2. К.г. '!L28","v":0},{"$f":"'Худ.эст.к 6г ч2. К.г. '!M28","v":0},{"$f":"'Худ.эст.к 6г ч3. К.г. '!E28","v":0},{"$f":"'Худ.эст.к 6г ч3. К.г. '!F28","v":0},{"$f":"'Худ.эст.к 6г ч3. К.г. '!G28","v":0},{"$f":"'Худ.эст.к 6г ч3. К.г. '!H28","v":0},{"$f":"'Худ.эст.к 6г ч3. К.г. '!I28","v":0},{"$f":"'Худ.эст.к 6г ч3. К.г. '!J28","v":0},{"$f":"'Худ.эст.к 6г ч3. К.г. '!K28","v":0},{"$f":"'Худ.эст.к 6г ч3. К.г. '!L28","v":0},{"$f":"'Реч.разв.к 6г ч1. К.г. '!E27","v":0},{"$f":"'Реч.разв.к 6г ч1. К.г. '!F27","v":0},{"$f":"'Реч.разв.к 6г ч1. К.г. '!G27","v":0},{"$f":"'Реч.разв.к 6г ч1. К.г. '!H27","v":0},{"$f":"'Реч.разв.к 6г ч1. К.г. '!I27","v":0},{"$f":"'Реч.разв.к 6г ч1. К.г. '!J27","v":0},{"$f":"'Реч.разв.к 6г ч1. К.г. '!K27","v":0},{"$f":"'Реч.разв.к 6г ч1. К.г. '!L27","v":0},{"$f":"'Реч.разв.к 6г ч2. К.г. '!E27","v":0},{"$f":"'Реч.разв.к 6г ч2. К.г. '!F27","v":0},{"$f":"'Реч.разв.к 6г ч2. К.г. '!G27","v":0},{"$f":"'Реч.разв.к 6г ч2. К.г. '!H27","v":0},{"$f":"'Реч.разв.к 6г ч2. К.г. '!I27","v":0},{"$f":"'Реч.разв.к 6г ч2. К.г. '!J27","v":0},{"$f":"'Реч.разв.к 6г ч2. К.г. '!K27","v":0},{"$f":"'Реч.разв.к 6г ч2. К.г. '!L27","v":0},{"$f":"'Реч.разв.к 6г ч2. К.г. '!M27","v":0},{"$f":"'Реч.разв.к 6г ч2. К.г. '!N27","v":0},{"$f":"'Реч.разв.к 6г ч2. К.г. '!O27","v":0},{"$f":"'Реч.разв.к 6г ч2. К.г. '!P27","v":0},{"$f":"'Реч.разв.к 6г ч2. К.г. '!Q27","v":0},{"$f":"'Позн.разв. к 6г ч1. К.г. '!E28","v":0},{"$f":"'Позн.разв. к 6г ч1. К.г. '!F28","v":0},{"$f":"'Позн.разв. к 6г ч1. К.г. '!G28","v":0},{"$f":"'Позн.разв. к 6г ч1. К.г. '!H28","v":0},{"$f":"'Позн.разв. к 6г ч1. К.г. '!I28","v":0},{"$f":"'Позн.разв. к 6г ч1. К.г. '!J28","v":0},{"$f":"'Позн.разв. к 6г ч1. К.г. '!K28","v":0},{"$f":"'Позн.разв. к 6г ч1. К.г. '!L28","v":0},{"$f":"'Позн.разв. к 6г ч1. К.г. '!M28","v":0},{"$f":"'Позн.разв. к 6г ч1. К.г. '!N28","v":0},{"$f":"'Позн.разв. к 6г ч1. К.г. '!O28","v":0},{"$f":"'Позн.разв. к 6г ч1. К.г. '!P28","v":0},{"$f":"'Позн.разв. к 6г ч1. К.г. '!Q28","v":0},{"$f":"'Позн.разв. к 6г ч1. К.г. '!R28","v":0},{"$f":"'Позн.разв. к 6г ч1. К.г. '!S28","v":0},{"$f":"'Позн.разв. к 6г ч2. К.г. '!E28","v":0},{"$f":"'Позн.разв. к 6г ч2. К.г. '!F28","v":0},{"$f":"'Позн.разв. к 6г ч2. К.г. '!G28","v":0},{"$f":"'Позн.разв. к 6г ч2. К.г. '!H28","v":0},{"$f":"'Позн.разв. к 6г ч2. К.г. '!I28","v":0},{"$f":"'Позн.разв. к 6г ч2. К.г. '!J28","v":0},{"$f":"'Соц.ком.к 6г ч1. К.г. '!$E$27","v":0},{"$f":"'Соц.ком.к 6г ч1. К.г. '!$E$27","v":0},{"$f":"'Соц.ком.к 6г ч1. К.г. '!$E$27","v":0},{"$f":"'Соц.ком.к 6г ч1. К.г. '!$E$27","v":0},{"$f":"'Соц.ком.к 6г ч1. К.г. '!$E$27","v":0},{"$f":"'Соц.ком.к 6г ч1. К.г. '!$E$27","v":0},{"$f":"'Соц.ком.к 6г ч1. К.г. '!$E$27","v":0},{"$f":"'Соц.ком.к 6г ч1. К.г. '!$E$27","v":0},{"$f":"'Соц.ком.к 6г ч1. К.г. '!$E$27","v":0},{"$f":"'Соц.ком.к 6г ч1. К.г. '!$E$27","v":0},{"$f":"'Соц.ком.к 6г ч1. К.г. '!$E$27","v":0},{"$f":"'Соц.ком.к 6г ч1. К.г. '!$E$27","v":0},{"$f":"'Соц.ком.к 6г ч1. К.г. '!$E$27","v":0},{"$f":"'Соц.ком.к 6г ч1. К.г. '!$E$27","v":0},{"$f":"'Соц.ком.к 6г ч1. К.г. '!$E$27","v":0},{"$f":"'Соц.ком.к 6г ч1. К.г. '!$E$27","v":0},{"$f":"'Соц.ком.к 6г ч1. К.г. '!$E$27","v":0},{"$f":"'Соц.ком. к 6г ч2 К.г.'!E27","v":0},{"$f":"'Соц.ком. к 6г ч2 К.г.'!F27","v":0},{"$f":"'Соц.ком. к 6г ч2 К.г.'!G27","v":0},{"$f":"'Соц.ком. к 6г ч2 К.г.'!H27","v":0},{"$f":"'Соц.ком. к 6г ч2 К.г.'!I27","v":0},{"$f":"'Соц.ком. к 6г ч2 К.г.'!J27","v":0},{"$f":"'Соц.ком. к 6г ч2 К.г.'!K27","v":0},{"$f":"'Соц.ком. к 6г ч2 К.г.'!L27","v":0},{"$f":"'Соц.ком. к 6г ч2 К.г.'!M27","v":0},{"$f":"'Физ.разв. к 6г ч1. К.г. '!E28","v":0},{"$f":"'Физ.разв. к 6г ч1. К.г. '!F28","v":0},{"$f":"'Физ.разв. к 6г ч1. К.г. '!G28","v":0},{"$f":"'Физ.разв. к 6г ч1. К.г. '!H28","v":0},{"$f":"'Физ.разв. к 6г ч1. К.г. '!I28","v":0},{"$f":"'Физ.разв. к 6г ч1. К.г. '!J28","v":0},{"$f":"'Физ.разв. к 6г ч1. К.г. '!K28","v":0},{"$f":"'Физ.разв. к 6г ч1. К.г. '!L28","v":0},{"$f":"'Физ.разв. к 6г ч1. К.г. '!M28","v":0},{"$f":"'Физ.разв. к 6г ч1. К.г. '!N28","v":0},{"$f":"'Физ.разв. к 6г ч1. К.г. '!O28","v":0},{"$f":"'Физ.разв. к 6г ч1. К.г. '!P28","v":0},{"$f":"'Физ.разв. к 6г ч1. К.г. '!Q28","v":0},{"$f":"'Физ.разв. к 6г ч1. К.г. '!R28","v":0},{"$f":"'Физ.разв. к 6г ч1. К.г. '!S28","v":0},{"$f":"'Физ.разв. к 6г ч1. К.г. '!T28","v":0},{"$f":"'Физ.разв. к 6г ч1. К.г. '!U28","v":0},{"$f":"'Физ.разв. к 6г ч1. К.г. '!V28","v":0},{"$f":"'Физ.разв. к 6г ч1. К.г. '!W28","v":0},{"$f":"'Физ.разв. к 6г ч1. К.г. '!X28","v":0},{"$f":"'Физ.разв. к 6г ч2. К.г. '!E29","v":0},{"$f":"'Физ.разв. к 6г ч2. К.г. '!F29","v":0},{"$f":"'Физ.разв. к 6г ч2. К.г. '!G29","v":0},{"$f":"'Физ.разв. к 6г ч2. К.г. '!H29","v":0},{"$f":"'Физ.разв. к 6г ч2. К.г. '!I29","v":0},{"$f":"'Физ.разв. к 6г ч2. К.г. '!J29","v":0},{"$f":"'Физ.разв. к 6г ч2. К.г. '!K29","v":0},{"$f":"'Физ.разв. к 6г ч2. К.г. '!L29","v":0},{"$f":"'Физ.разв. к 6г ч2. К.г. '!M29","v":0},{"$f":"'Физ.разв. к 6г ч2. К.г. '!N29","v":0},{"$f":"'Физ.разв. к 6г ч2. К.г. '!O29","v":0},{"$f":"'Физ.разв. к 6г ч2. К.г. '!P29","v":0},{"$f":"'Физ.разв. к 6г ч2. К.г. '!Q29","v":0},{"$f":"'Физ.разв. к 6г ч2. К.г. '!R29","v":0},{"$f":"'Физ.разв. к 6г ч2. К.г. '!S29","v":0},{"$f":"'Физ.разв. к 6г ч2. К.г. '!T29","v":0},{"$f":"'Физ.разв. к 6г ч2. К.г. '!U29","v":0},{"$f":"'Физ.разв. к 6г ч2. К.г. '!V29","v":0},{"$f":"'Физ.разв. к 6г ч2. К.г. '!W29","v":0},{"$f":"'Физ.разв. к 6г ч2. К.г. '!X29","v":0},{"$f":"'Физ.разв. к 6г ч2. К.г. '!Y29","v":0}]

{"sheet":"18","index":45,"n_rows":11,"n_cols":138,"rows_kept":11,"merged":[[4,117,4,122],[4,123,4,126],[4,127,4,129],[4,130,4,132],[4,134,4,137],[5,0,8,0],[5,1,5,11],[5,12,5,19],[5,21,6,26],[5,27,6,28],[5,50,5,52],[5,53,5,55],[5,56,5,64],[5,65,5,66],[5,67,5,70],[5,117,5,118],[5,119,5,122],[5,123,6,123],[5,124,6,124],[5,125,6,125],[5,126,6,126],[5,127,8,127],[5,128,8,128],[5,129,8,129],[5,130,8,130],[5,131,8,131],[5,132,8,132],[5,133,8,133],[5,134,5,137],[6,1,6,4],[6,9,6,10],[6,12,6,13],[6,16,6,17],[6,18,6,19],[6,20,8,20],[6,30,6,31],[6,32,6,36],[6,38,6,43],[6,45,6,49],[6,53,8,53],[6,54,8,54],[6,55,8,55],[6,56,6,58],[6,62,6,64],[6,65,7,66],[6,67,6,68],[6,69,6,70],[6,71,6,87],[6,88,6,90],[6,91,6,95],[6,97,6,98],[6,99,6,101],[6,102,6,104],[6,105,6,107],[6,108,6,112],[6,113,6,114],[6,115,6,116],[6,117,8,117],[6,118,8,118],[6,119,8,119],[6,120,8,120],[6,121,8,121],[6,122,8,122],[6,134,8,134],[6,135,8,135],[6,136,8,136],[6,137,8,137],[7,1,8,1],[7,2,8,2],[7,3,8,3],[7,4,8,4],[7,5,8,5],[7,6,8,6],[7,7,8,7],[7,8,8,8],[7,9,8,9],[7,10,8,10],[7,11,8,11],[7,12,8,12],[7,13,8,13],[7,14,8,14],[7,15,8,15],[7,16,8,16],[7,17,8,17],[7,18,8,18],[7,19,8,19],[7,21,8,21],[7,22,8,22],[7,23,8,23],[7,24,8,24],[7,25,8,25],[7,26,8,26],[7,27,8,27],[7,28,8,28],[7,29,8,29],[7,30,8,30],[7,31,8,31],[7,32,8,32],[7,33,8,33],[7,34,8,34],[7,35,8,35],[7,36,8,36],[7,37,8,37],[7,38,8,38],[7,39,8,39],[7,40,8,40],[7,41,8,41],[7,42,8,42],[7,43,8,43],[7,44,8,44],[7,45,8,45],[7,46,8,46],[7,47,8,47],[7,48,8,48],[7,49,8,49],[7,50,7,52],[7,56,8,56],[7,57,8,57],[7,58,8,58],[7,59,8,59],[7,60,8,60],[7,61,8,61],[7,62,8,62],[7,63,8,63],[7,64,8,64],[7,67,8,67],[7,68,8,68],[7,69,8,69],[7,70,8,70],[7,71,7,72],[7,73,7,74],[7,75,7,76],[7,77,7,80],[7,82,7,84],[7,85,7,87],[7,88,8,88],[7,89,8,89],[7,90,8,90],[7,91,8,91],[7,92,8,92],[7,93,8,93],[7,94,8,94],[7,95,8,95],[7,96,8,96],[7,97,8,97],[7,98,8,98],[7,99,8,99],[7,100,8,100],[7,101,8,101],[7,102,7,104],[7,105,7,107],[7,108,7,112],[7,113,8,113],[7,114,8,114],[7,115,7,116],[7,123,8,123],[7,124,8,124],[7,125,8,125],[7,126,8,126]]}
[]
[]
[]
[]
[{"$nulls":117},"Мелкая моторика",{"$nulls":5},"КГН",{"$nulls":3},"ЗОЖ",null,null,"Подвижные игры",null,null,"Спорт. игры","Спортивные упражнения"]
[{"$f":"Список!B21","v":0},"Музыкальная деятельность",{"$nulls":10},"Изобразительная деятельность",{"$nulls":8},"Приобщение к искусству",{"$nulls":5},"Конструктивная деятельность",{"$nulls":22},"Сенсорные эталоны ",null,null,"Познавательные действия",null,null,"Математические представления",{"$nulls":8},"Окружающий мир",null,"Природа ",{"$nulls":49},"Координация рук и глаз",null,"Графические навыки",{"$nulls":3},"Навыки соблюдения чистоты тела (правила личной гигиены)","Навыки культуры еды (прием пищи) ","Навыки поддержания порядка (правила поведения в быту) ","Навыки ухода за собой (одевание, раздевание) ","Ребенок имеет представление о факторах, положительно/негативно влияющих на здоровье; владеет основными способами укрепления здоровья","Ребенок имеет представление о некоторых видах спорта (9 и больше), роли спорта для укрепления здоровья","Ребенок проявляет заботливое отношение к своему здоровью и здоровью окружающих","Ребенок проявляет доступный возрасту самоконтроль","Ребенок  способен привлечь внимание других детей и организовать знакомую подвижную игру","Ребенок придумывает новые варианты игр, комбинирует движения","Ребенок имеет представление об элементах спортивных игр (городки, баскетбол, бадминтон, футбол), умеет выполнять некоторые виды движений","Ребенок умеет кататься"]
[null,"Слушание",{"$nulls":3},"Пение ","Музыкально-ритмические движения","Песенное творчество","Игра на детских музыкальных инструментах","Театрализованная деятельность",null,"Танцевально-игровое творчество","Рисование ",null,"Лепка ","Аппликация ","Народное ДПИ",null,"Прикладное творчество",null,"Ребенок самостоятельно определяет замысел рисунка, аппликации, лепки, поделки, создает образы и композиционные изображения, использует разнообразные материалы",{"$nulls":8},"Общее речевое развитие","Формирование словаря",null,"Грамматический строй",{"$nulls":4},"Звуковая культура речи","Связная речь",{"$nulls":5},"ЧХЛ","Подготовка к обучению грамоте",{"$nulls":4},"Цвет, оттенки","Форма, геометрические фигуры","Величина","Ребенок охотно участвует в обсуждении проблемы для совместного нахождения способов ее решения, предлагает пути решения, устанавливает закономерности причинно-следственного характера, проявляет любознательность","Ребенок использует математические знания, способы и средства для познания окружающего мира","Ребенок способен к произвольным умственным действиям, логическим операциям анализа, сравнения, обобщения, систематизации, классификации","Количество и счет",null,null,"Ориентировка во времени","Ориентировка в пространстве","Пространственно-количественные связи и отношения","Сравнение",null,null,"Ребенок имеет представления, может показать на картинке и в естественной среде, может рассказать",null,"Объекты живой природы",null,"Объекты неживой природы, природные явления",null,"Сфера социальных отношений",{"$nulls":16},"Область формирования основ гражданственности и патриотизма",null,null,"Сфера трудового воспитания",{"$nulls":4},"Область формирования основ безопасного поведения","Бросание, катание, ловля, метание",null,"Ползанье, лазанье",null,null,"Ходьба",null,null,"Бег",null,null,"Прыжки",{"$nulls":4},"Равновесие",null,"Строевые упражнения",null,"Ребенок может найти выход из лабиринта","Ребенок может нарисовать простой узор, изображение, не отрывая руки","Ребенок может повторить узор с чередующимися элементами","Ребенок закрашивает контурное изображение с множеством мелких деталей, не выходя за контур","Ребенок может соединить точки для получения изображения","Ребенок рисует геометрический орнамент по клеткам",{"$nulls":11},"на санках","на лыжах","на двухколесном велосипеде","на самокате"]
[null,"Ребенок различает жанры музыкальных произведений (песня, танец, марш)","Ребенок узнает мелодию по отдельным фрагментам произведения (вступление, заключение, музыкальная фраза)","Ребенок различает звуки по высоте в пределах квинты","Ребенок различает звучание музыкальных инструментов (клавишно-ударных, струнных)","Ребенок демонстрирует развитые певческие навыки","Ребенок демонстрирует развитые навыки исполнения танцевальных движений","Ребенок может импровизировать мелодию на заданный текст","Ребенок демонстрирует навыки игры на детских музыкальных инструментах","Ребенок имеет представление о различных видах театрального искусства","Ребенок с удовольствие занимается театрализованной деятельностью","Ребенок может придумывать движения к танцам","Ребенок передает в изображении основные свойства предметов (форма, величина, цвет), характерные детали, соотношение предметов и их частей по величине, высоте, расположению относительно друг друга","Ребенок владеет основными способами и приемами рисования различными изобразительными материалами (цветные карандаши, гуашь, акварель, цветные мелки, пастель, сангина, угольный карандаш, фломастеры)","Ребенок лепит с натуры и по представлению знакомые предметы, передавая характерные особенности пластическим, конструктивным и комбинированным способами","Ребенок умеет пользоваться ножницами","Ребенок имеет представление о полхов-майданской, гжельской росписи","Ребенок может нарисовать узор, используя элементы  росписи","Ребенок умеет работать с бумагой (сгибать лист, сглаживать сгибы, надрезать по сгибам)","Ребенок умеет работать с природным и бросовым материалом",null,"Ребенок умеет выделять, называть, группировать произведения по видам искусства: литература, музыка, изобразительное искусство, архитектура, театр, цирк","Ребенок имеет представление о видах изобразительного искусства: графика, декоративно-прикладное искусство, живопись, скульптура, архитектура, фотоискусство","Ребенок имеет представление о жанрах изобразительного искусства: натюрморт, пейзаж, портрет","Ребенок имеет представление о народном искусстве, фольклоре, музыке и художественных промыслах","Ребенок имеет представление о творческих профессиях: художник, композитор, музыкант, актер, артист балета","Ребенок имеет представление о культурно-досуговых местах: театр, музей, библиотека, выставка, кинотеатр, цирк и др.","Ребенок может провести анализ постройки (выделить основные части и характерные детали конструкций)","Ребенок может выполнить постройку по инструкции","Ребенок внятно разговаривает","Ребенок умеет обобщать предметы в группы по существенным признакам","Ребенок демонстрирует богатый словарный запас","Ребенок правильно использует в речи: несклоняемые существительные","Ребенок правильно использует в речи: слова, имеющие только множественное или только единственное число","Ребенок правильно использует в речи: глаголы одеть-надеть","Ребенок правильно использует в речи: существительные множественного числа в родительном падеже","Ребенок правильно образовывает слова с помощью суффикса, приставки","Ребенок правильно произносит сонорные звуки: л-ль, р-рь","Ребенок пересказывает литературные произведения по ролям, по частям, правильно передавая идею и содержание","Ребенок пользуется прямой и косвенной речью","Ребенок составляет короткий описательный рассказ о предметах, объектах и явлениях природы, из личного опыта","Ребенок сочиняет сюжетные рассказы по картине, из личного опыта","Ребенок проявляет речевое творчество: придумывает продолжение и окончание к рассказу, рассказы по аналогии, по плану педагога, по модели","Ребенок владеет первичными приемами аргументации и доказательства","Ребенок проявляет избирательное отношение к произведениям определенной тематики и жанра","Ребенок понимает термины: слово: звук, буква, предложение, гласный звук, согласный звук","Ребенок может провести звуковой анализ слова, разделить на слоги двух-, трехслоговые слова; составляет схему слова","Ребенок различает гласные-согласные звуки","Ребенок определяет твердые-мягкие согласные","Ребенок составляет предложение по модели, определяет количество и последовательность слов в предложении","Ребенок различает и называет",{"$nulls":5},"Ребенок знает/называет/находит среди других цифры 0 -10","Ребенок выполняет количественный и порядковый счет в пределах 0-10","Ребенок знает состав чисел из единиц в пределах 5","Ребенок понимает календарные единицы времени (сутки, неделя, месяц, год)","Ребенок ориентируется на листе бумаги","Ребенок понимает простейшую графическую информацию об отношениях предметов (слева направо, справа налево, снизу вверх, сверху вниз)","Ребенок выделяет сходства и отличия между группами предметов","Ребенок сравнивает предметы по 3-5 признакам","Ребенок группирует предметы по разным основаниям, преимущественно на основе зрительной оценки",null,null,"Ребенок имеет представление о сходстве и различии во внешнем виде и образе жизни объектов животного и растительного мира в разные сезоны года","Ребенок может сравнивать, группировать объекты живой природы по их особенностям, мету обитания, образу жизни, питанию","Ребенок имеет представление о признаках разных времен года","Ребенок наблюдает за явлениями природы, фиксирует результаты наблюдения","Отношение к самому себе",null,"Отношение к сверстникам",null,"Отношение к взрослым",null,"Эмоции",{"$nulls":3},"Поведение","Семья",null,null,"Игровое поведение",null,null,"Ребенок имеет представление о государственных символах России (герб, гимн, флаг)","Ребенок имеет представление о государственных праздниках России","Ребенок знает/может назвать/показать на картинке и в естественной среде достопримечательности населенного пункта, в котором живет","Ребенок имеет представления о разных видах производительного труда (промышленность, строительство, сельское хозяйство)","Ребенок имеет представления о разных видах обслуживающего труда (сфера досуга и отдыха, сфера культуры, медицина, торговля)","Ребенок имеет представление о структуре трудового процесса (мотив, цель, инструменты, оборудование, содержание действий, выбор трудовых действий, результат)","Ребенок имеет элементарные экономические представления (назначение рекламы, денег)","Ребенок охотно участвует в выполнении трудовых поручений, дежурстве; может распределять трудовые обязанности с другими","Ребенок имеет представления/ соблюдает правила поведения в быту, на улице, в природе, в общении с людьми, с животными","Ребенок выполняет различные упражнения с мячом (прокатывание, передача, перебрасывание, ведение, подбрасывание, ловля, забрасывание)","Ребенок выполняет метание в цель, метание в даль предметов разной массы","Ребенок выполняет ползанье разными способами (на четвереньках, на животе)","Ребенок выполняет переползание через несколько предметов подряд, под дугами, в туннеле","Ребенок выполняет лазанье по гимнастической стенке чередующимся шагом","Ребенок выполняет различные виды ходьбы",null,null,"Ребенок выполняет различные виды бега",null,null,"Ребенок выполняет различные виды прыжков",{"$nulls":4},"Ребенок выполняет стойку на одной ноге ","Ребенок выполняет упражнение \"ласточка\" ","Ребенок выполняет различные виды строевых упражнений",{"$nulls":7},"Ребенок выполняет самостоятельно","Ребенок выполняет самостоятельно","Ребенок выполняет самостоятельно","Ребенок выполняет самостоятельно"]
[{"$nulls":50},"Ребенок называет/различает все цвета спектра и ахроматические цвета, оттенки цвета, тоны цвета, теплые и холодные оттенки","Ребенок владеет способами воссоздания фигуры из частей, деления фигуры на части","Ребенок может выстраивать сериационные ряды предметов, различающихся по размеру в возрастающем и убывающем порядке в пределах 10",{"$nulls":12},"о многообразии людей разных национальностей (особенностей внешнего вида, одежды, традиций)","Ребенок имеет представление о многообразии стран и народов мира",{"$nulls":4},"Ребенок может рассказать о себе, выразить собственные потребности, желания","Ребенок имеет представление о некоторых своих правах","Ребенок имеет предпочтения в общении","Ребенок охотно вступает в общение со сверстниками","Ребенок уважительно относится к взрослым, пожилым людям","Ребенок охотно вступает в общение со взрослыми","Ребенок понимает свои и чужие эмоциональные состояния, демонстрирует примеры эмоциональной поддержки ","Ребенок  откликается на просьбу помочь","Ребенок выразить чувства и эмоции в мимике, пантомимике, действиях, интонации","Ребенок демонстрирует адекватные возрасту способы регуляции эмоциональных состояний","Ребенок ориентируется на общепринятые нормы и правила культуры поведения","Ребенок знает членов своей семьи, ближайших родственников по линии матери и отца","Ребенок имеет представление о способах поддержки родственных связей (переписка, разговор, совместный отдых, традиции, походы в гости и др.)","Ребенок проявляет заботу по отношению к членам своей семьи, оказывает посильную помощь больному члену семьи","Ребенок в совместной деятельности принимает общую цель, договаривается о способах деятельности и материалах, может уступить в конфликтной ситуации","Ребенок проявляет интерес к игровому экспериментированию, развивающим и познавательным играм","Ребенок способен действовать в точном соответствие с игровой задачей и правилами",{"$nulls":14},"обычным шагом, на носках, на пятках, с высоким подниманием колен","приставной, в полуприседе, мелким и широким, перекатом с пятки на носок, гимнастическим","змейкой без ориентиров, в колонне по одному и по два","в колонне по одному, змейкой, с перестроением на ходу в пары, звенья","со сменой ведущих, с пролезанием в обруч, с ловлей и увертыванием, высоко поднимая колени","между расставленными предметами, в заданном темпе, мелким и широким шагом","подпрыгивание, перепрыгивание, спрыгивание","в длину с места","в высоту с разбега","в длину с разбега","со скакалкой",null,null,"построения (по росту, в колонну по одному, в шеренгу, в круг)","в колонну по три, в две шеренги на месте, расхождение из колонны в разные стороны"]
["начало года",{"$f":"'Худ.эст.к 6г ч1. Н.г.'!E29","v":0},{"$f":"'Худ.эст.к 6г ч1. Н.г.'!F29","v":0},{"$f":"'Худ.эст.к 6г ч1. Н.г.'!G29","v":0},{"$f":"'Худ.эст.к 6г ч1. Н.г.'!H29","v":0},{"$f":"'Худ.эст.к 6г ч1. Н.г.'!I29","v":0},{"$f":"'Худ.эст.к 6г ч1. Н.г.'!J29","v":0},{"$f":"'Худ.эст.к 6г ч1. Н.г.'!K29","v":0},{"$f":"'Худ.эст.к 6г ч1. Н.г.'!L29","v":0},{"$f":"'Худ.эст.к 6г ч1. Н.г.'!M29","v":0},{"$f":"'Худ.эст.к 6г ч1. Н.г.'!N29","v":0},{"$f":"'Худ.эст.к 6г ч1. Н.г.'!O29","v":0},{"$f":"'Худ.эст.к 6г ч2. Н.г.'!E29","v":0},{"$f":"'Худ.эст.к 6г ч2. Н.г.'!F29","v":0},{"$f":"'Худ.эст.к 6г ч2. Н.г.'!G29","v":0},{"$f":"'Худ.эст.к 6г ч2. Н.г.'!H29","v":0},{"$f":"'Худ.эст.к 6г ч2. Н.г.'!I29","v":0},{"$f":"'Худ.эст.к 6г ч2. Н.г.'!J29","v":0},{"$f":"'Худ.эст.к 6г ч2. Н.г.'!K29","v":0},{"$f":"'Худ.эст.к 6г ч2. Н.г.'!L29","v":0},{"$f":"'Худ.эст.к 6г ч2. Н.г.'!M29","v":0},{"$f":"'Худ.эст.к 6г ч3. Н.г.'!E29","v":0},{"$f":"'Худ.эст.к 6г ч3. Н.г.'!F29","v":0},{"$f":"'Худ.эст.к 6г ч3. Н.г.'!G29","v":0},{"$f":"'Худ.эст.к 6г ч3. Н.г.'!H29","v":0},{"$f":"'Худ.эст.к 6г ч3. Н.г.'!I29","v":0},{"$f":"'Худ.эст.к 6г ч3. Н.г.'!J29","v":0},{"$f":"'Худ.эст.к 6г ч3. Н.г.'!K29","v":0},{"$f":"'Худ.эст.к 6г ч3. Н.г.'!L29","v":0},{"$f":"'Реч.разв.к 6г ч1. Н.г.'!E28","v":0},{"$f":"'Реч.разв.к 6г ч1. Н.г.'!F28","v":0},{"$f":"'Реч.разв.к 6г ч1. Н.г.'!G28","v":0},{"$f":"'Реч.разв.к 6г ч1. Н.г.'!H28","v":0},{"$f":"'Реч.разв.к 6г ч1. Н.г.'!I28","v":0},{"$f":"'Реч.разв.к 6г ч1. Н.г.'!J28","v":0},{"$f":"'Реч.разв.к 6г ч1. Н.г.'!K28","v":0},{"$f":"'Реч.разв.к 6г ч1. Н.г.'!L28","v":0},{"$f":"'Реч.разв.к 6г ч2. Н.г.'!E28","v":0},{"$f":"'Реч.разв.к 6г ч2. Н.г.'!F28","v":0},{"$f":"'Реч.разв.к 6г ч2. Н.г.'!G28","v":0},{"$f":"'Реч.разв.к 6г ч2. Н.г.'!H28","v":0},{"$f":"'Реч.разв.к 6г ч2. Н.г.'!I28","v":0},{"$f":"'Реч.разв.к 6г ч2. Н.г.'!J28","v":0},{"$f":"'Реч.разв.к 6г ч2. Н.г.'!K28","v":0},{"$f":"'Реч.разв.к 6г ч2. Н.г.'!L28","v":0},{"$f":"'Реч.разв.к 6г ч2. Н.г.'!M28","v":0},{"$f":"'Реч.разв.к 6г ч2. Н.г.'!N28","v":0},{"$f":"'Реч.разв.к 6г ч2. Н.г.'!O28","v":0},{"$f":"'Реч.разв.к 6г ч2. Н.г.'!P28","v":0},{"$f":"'Реч.разв.к 6г ч2. Н.г.'!Q28","v":0},{"$f":"'Позн.разв. к 6г ч1. Н.г.'!E29","v":0},{"$f":"'Позн.разв. к 6г ч1. Н.г.'!F29","v":0},{"$f":"'Позн.разв. к 6г ч1. Н.г.'!G29","v":0},{"$f":"'Позн.разв. к 6г ч1. Н.г.'!H29","v":0},{"$f":"'Позн.разв. к 6г ч1. Н.г.'!I29","v":0},{"$f":"'Позн.разв. к 6г ч1. Н.г.'!J29","v":0},{"$f":"'Позн.разв. к 6г ч1. Н.г.'!K29","v":0},{"$f":"'Позн.разв. к 6г ч1. Н.г.'!L29","v":0},{"$f":"'Позн.разв. к 6г ч1. Н.г.'!M29","v":0},{"$f":"'Позн.разв. к 6г ч1. Н.г.'!N29","v":0},{"$f":"'Позн.разв. к 6г ч1. Н.г.'!O29","v":0},{"$f":"'Позн.разв. к 6г ч1. Н.г.'!P29","v":0},{"$f":"'Позн.разв. к 6г ч1. Н.г.'!Q29","v":0},{"$f":"'Позн.разв. к 6г ч1. Н.г.'!R29","v":0},{"$f":"'Позн.разв. к 6г ч1. Н.г.'!S29","v":0},{"$f":"'Позн.разв. к 6г ч2. Н.г.'!E29","v":0},{"$f":"'Позн.разв. к 6г ч2. Н.г.'!F29","v":0},{"$f":"'Позн.разв. к 6г ч2. Н.г.'!G29","v":0},{"$f":"'Позн.разв. к 6г ч2. Н.г.'!H29","v":0},{"$f":"'Позн.разв. к 6г ч2. Н.г.'!I29","v":0},{"$f":"'Позн.разв. к 6г ч2. Н.г.'!J29","v":0},{"$f":"'Соц.ком.к 6г ч1. Н.г.'!E28","v":0},{"$f":"'Соц.ком.к 6г ч1. Н.г.'!F28","v":0},{"$f":"'Соц.ком.к 6г ч1. Н.г.'!G28","v":0},{"$f":"'Соц.ком.к 6г ч1. Н.г.'!H28","v":0},{"$f":"'Соц.ком.к 6г ч1. Н.г.'!I28","v":0},{"$f":"'Соц.ком.к 6г ч1. Н.г.'!J28","v":0},{"$f":"'Соц.ком.к 6г ч1. Н.г.'!K28","v":0},{"$f":"'Соц.ком.к 6г ч1. Н.г.'!L28","v":0},{"$f":"'Соц.ком.к 6г ч1. Н.г.'!M28","v":0},{"$f":"'Соц.ком.к 6г ч1. Н.г.'!N28","v":0},{"$f":"'Соц.ком.к 6г ч1. Н.г.'!O28","v":0},{"$f":"'Соц.ком.к 6г ч1. Н.г.'!P28","v":0},{"$f":"'Соц.ком.к 6г ч1. Н.г.'!Q28","v":0},{"$f":"'Соц.ком.к 6г ч1. Н.г.'!R28","v":0},{"$f":"'Соц.ком.к 6г ч1. Н.г.'!S28","v":0},{"$f":"'Соц.ком.к 6г ч1. Н.г.'!T28","v":0},{"$f":"'Соц.ком.к 6г ч1. Н.г.'!U28","v":0},{"$f":"'Соц.ком. к 6г ч2. Н.г.'!E28","v":0},{"$f":"'Соц.ком. к 6г ч2. Н.г.'!F28","v":0},{"$f":"'Соц.ком. к 6г ч2. Н.г.'!G28","v":0},{"$f":"'Соц.ком. к 6г ч2. Н.г.'!H28","v":0},{"$f":"'Соц.ком. к 6г ч2. Н.г.'!I28","v":0},{"$f":"'Соц.ком. к 6г ч2. Н.г.'!J28","v":0},{"$f":"'Соц.ком. к 6г ч2. Н.г.'!K28","v":0},{"$f":"'Соц.ком. к 6г ч2. Н.г.'!L28","v":0},{"$f":"'Соц.ком. к 6г ч2. Н.г.'!M28","v":0},{"$f":"'Физ.разв. к 6г ч1. Н.г.'!E29","v":0},{"$f":"'Физ.разв. к 6г ч1. Н.г.'!F29","v":0},{"$f":"'Физ.разв. к 6г ч1. Н.г.'!G29","v":0},{"$f":"'Физ.разв. к 6г ч1. Н.г.'!H29","v":0},{"$f":"'Физ.разв. к 6г ч1. Н.г.'!I29","v":0},{"$f":"'Физ.разв. к 6г ч1. Н.г.'!J29","v":0},{"$f":"'Физ.разв. к 6г ч1. Н.г.'!K29","v":0},{"$f":"'Физ.разв. к 6г ч1. Н.г.'!L29","v":0},{"$f":"'Физ.разв. к 6г ч1. Н.г.'!M29","v":0},{"$f":"'Физ.разв. к 6г ч1. Н.г.'!N29","v":0},{"$f":"'Физ.разв. к 6г ч1. Н.г.'!O29","v":0},{"$f":"'Физ.разв. к 6г ч1. Н.г.'!P29","v":0},{"$f":"'Физ.разв. к 6г ч1. Н.г.'!Q29","v":0},{"$f":"'Физ.разв. к 6г ч1. Н.г.'!R29","v":0},{"$f":"'Физ.разв. к 6г ч1. Н.г.'!S29","v":0},{"$f":"'Физ.разв. к 6г ч1. Н.г.'!T29","v":0},{"$f":"'Физ.разв. к 6г ч1. Н.г.'!U29","v":0},{"$f":"'Физ.разв. к 6г ч1. Н.г.'!V29","v":0},{"$f":"'Физ.разв. к 6г ч1. Н.г.'!W29","v":0},{"$f":"'Физ.разв. к 6г ч1. Н.г.'!X29","v":0},{"$f":"'Физ.разв. к 6г ч2. Н.г.'!E30","v":0},{"$f":"'Физ.разв. к 6г ч2. Н.г.'!F30","v":0},{"$f":"'Физ.разв. к 6г ч2. Н.г.'!G30","v":0},{"$f":"'Физ.разв. к 6г ч2. Н.г.'!H30","v":0},{"$f":"'Физ.разв. к 6г ч2. Н.г.'!I30","v":0},{"$f":"'Физ.разв. к 6г ч2. Н.г.'!J30","v":0},{"$f":"'Физ.разв. к 6г ч2. Н.г.'!K30","v":0},{"$f":"'Физ.разв. к 6г ч2. Н.г.'!L30","v":0},{"$f":"'Физ.разв. к 6г ч2. Н.г.'!M30","v":0},{"$f":"'Физ.разв. к 6г ч2. Н.г.'!N30","v":0},{"$f":"'Физ.разв. к 6г ч2. Н.г.'!O30","v":0},{"$f":"'Физ.разв. к 6г ч2. Н.г.'!P30","v":0},{"$f":"'Физ.разв. к 6г ч2. Н.г.'!Q30","v":0},{"$f":"'Физ.разв. к 6г ч2. Н.г.'!R30","v":0},{"$f":"'Физ.разв. к 6г ч2. Н.г.'!S30","v":0},{"$f":"'Физ.разв. к 6г ч2. Н.г.'!T30","v":0},{"$f":"'Физ.разв. к 6г ч2. Н.г.'!U30","v":0},{"$f":"'Физ.разв. к 6г ч2. Н.г.'!V30","v":0},{"$f":"'Физ.разв. к 6г ч2. Н.г.'!W30","v":0},{"$f":"'Физ.разв. к 6г ч2. Н.г.'!X30","v":0},{"$f":"'Физ.разв. к 6г ч2. Н.г.'!Y30","v":0}]
["конец года",{"$f":"'Худ.эст.к 6г ч1. К.г. '!E29","v":0},{"$f":"'Худ.эст.к 6г ч1. К.г. '!F29","v":0},{"$f":"'Худ.эст.к 6г ч1. К.г. '!G29","v":0},{"$f":"'Худ.эст.к 6г ч1. К.г. '!H29","v":0},{"$f":"'Худ.эст.к 6г ч1. К.г. '!I29","v":0},{"$f":"'Худ.эст.к 6г ч1. К.г. '!J29","v":0},{"$f":"'Худ.эст.к 6г ч1. К.г. '!K29","v":0},{"$f":"'Худ.эст.к 6г ч1. К.г. '!L29","v":0},{"$f":"'Худ.эст.к 6г ч1. К.г. '!M29","v":0},{"$f":"'Худ.эст.к 6г ч1. К.г. '!N29","v":0},{"$f":"'Худ.эст.к 6г ч1. К.г. '!O29","v":0},{"$f":"'Худ.эст.к 6г ч2. К.г. '!E29","v":0},{"$f":"'Худ.эст.к 6г ч2. К.г. '!F29","v":0},{"$f":"'Худ.эст.к 6г ч2. К.г. '!G29","v":0},{"$f":"'Худ.эст.к 6г ч2. К.г. '!H29","v":0},{"$f":"'Худ.эст.к 6г ч2. К.г. '!I29","v":0},{"$f":"'Худ.эст.к 6г ч2. К.г. '!J29","v":0},{"$f":"'Худ.эст.к 6г ч2. К.г. '!K29","v":0},{"$f":"'Худ.эст.к 6г ч2. К.г. '!L29","v":0},{"$f":"'Худ.эст.к 6г ч2. К.г. '!M29","v":0},{"$f":"'Худ.эст.к 6г ч3. К.г. '!E29","v":0},{"$f":"'Худ.эст.к 6г ч3. К.г. '!F29","v":0},{"$f":"'Худ.эст.к 6г ч3. К.г. '!G29","v":0},{"$f":"'Худ.эст.к 6г ч3. К.г. '!H29","v":0},{"$f":"'Худ.эст.к 6г ч3. К.г. '!I29","v":0},{"$f":"'Худ.эст.к 6г ч3. К.г. '!J29","v":0},{"$f":"'Худ.эст.к 6г ч3. К.г. '!K29","v":0},{"$f":"'Худ.эст.к 6г ч3. К.г. '!L29","v":0},{"$f":"'Реч.разв.к 6г ч1. К.г. '!E28","v":0},{"$f":"'Реч.разв.к 6г ч1. К.г. '!F28","v":0},{"$f":"'Реч.разв.к 6г ч1. К.г. '!G28","v":0},{"$f":"'Реч.разв.к 6г ч1. К.г. '!H28","v":0},{"$f":"'Реч.разв.к 6г ч1. К.г. '!I28","v":0},{"$f":"'Реч.разв.к 6г ч1. К.г. '!J28","v":0},{"$f":"'Реч.разв.к 6г ч1. К.г. '!K28","v":0},{"$f":"'Реч.разв.к 6г ч1. К.г. '!L28","v":0},{"$f":"'Реч.разв.к 6г ч2. К.г. '!E28","v":0},{"$f":"'Реч.разв.к 6г ч2. К.г. '!F28","v":0},{"$f":"'Реч.разв.к 6г ч2. К.г. '!G28","v":0},{"$f":"'Реч.разв.к 6г ч2. К.г. '!H28","v":0},{"$f":"'Реч.разв.к 6г ч2. К.г. '!I28","v":0},{"$f":"'Реч.разв.к 6г ч2. К.г. '!J28","v":0},{"$f":"'Реч.разв.к 6г ч2. К.г. '!K28","v":0},{"$f":"'Реч.разв.к 6г ч2. К.г. '!L28","v":0},{"$f":"'Реч.разв.к 6г ч2. К.г. '!M28","v":0},{"$f":"'Реч.разв.к 6г ч2. К.г. '!N28","v":0},{"$f":"'Реч.разв.к 6г ч2. К.г. '!O28","v":0},{"$f":"'Реч.разв.к 6г ч2. К.г. '!P28","v":0},{"$f":"'Реч.разв.к 6г ч2. К.г. '!Q28","v":0},{"$f":"'Позн.разв. к 6г ч1. К.г. '!E29","v":0},{"$f":"'Позн.разв. к 6г ч1. К.г. '!F29","v":0},{"$f":"'Позн.разв. к 6г ч1. К.г. '!G29","v":0},{"$f":"'Позн.разв. к 6г ч1. К.г. '!H29","v":0},{"$f":"'Позн.разв. к 6г ч1. К.г. '!I29","v":0},{"$f":"'Позн.разв. к 6г ч1. К.г. '!J29","v":0},{"$f":"'Позн.разв. к 6г ч1. К.г. '!K29","v":0},{"$f":"'Позн.разв. к 6г ч1. К.г. '!L29","v":0},{"$f":"'Позн.разв. к 6г ч1. К.г. '!M29","v":0},{"$f":"'Позн.разв. к 6г ч1. К.г. '!N29","v":0},{"$f":"'Позн.разв. к 6г ч1. К.г. '!O29","v":0},{"$f":"'Позн.разв. к 6г ч1. К.г. '!P29","v":0},{"$f":"'Позн.разв. к 6г ч1. К.г. '!Q29","v":0},{"$f":"'Позн.разв. к 6г ч1. К.г. '!R29","v":0},{"$f":"'Позн.разв. к 6г ч1. К.г. '!S29","v":0},{"$f":"'Позн.разв. к 6г ч2. К.г. '!E29","v":0},{"$f":"'Позн.разв. к 6г ч2. К.г. '!F29","v":0},{"$f":"'Позн.разв. к 6г ч2. К.г. '!G29","v":0},{"$f":"'Позн.разв. к 6г ч2. К.г. '!H29","v":0},{"$f":"'Позн.разв. к 6г ч2. К.г. '!I29","v":0},{"$f":"'Позн.разв. к 6г ч2. К.г. '!J29","v":0},{"$f":"'Соц.ком.к 6г ч1. К.г. '!$E$28","v":0},{"$f":"'Соц.ком.к 6г ч1. К.г. '!$E$28","v":0},{"$f":"'Соц.ком.к 6г ч1. К.г. '!$E$28","v":0},{"$f":"'Соц.ком.к 6г ч1. К.г. '!$E$28","v":0},{"$f":"'Соц.ком.к 6г ч1. К.г. '!$E$28","v":0},{"$f":"'Соц.ком.к 6г ч1. К.г. '!$E$28","v":0},{"$f":"'Соц.ком.к 6г ч1. К.г. '!$E$28","v":0},{"$f":"'Соц.ком.к 6г ч1. К.г. '!$E$28","v":0},{"$f":"'Соц.ком.к 6г ч1. К.г. '!$E$28","v":0},{"$f":"'Соц.ком.к 6г ч1. К.г. '!$E$28","v":0},{"$f":"'Соц.ком.к 6г ч1. К.г. '!$E$28","v":0},{"$f":"'Соц.ком.к 6г ч1. К.г. '!$E$28","v":0},{"$f":"'Соц.ком.к 6г ч1. К.г. '!$E$28","v":0},{"$f":"'Соц.ком.к 6г ч1. К.г. '!$E$28","v":0},{"$f":"'Соц.ком.к 6г ч1. К.г. '!$E$28","v":0},{"$f":"'Соц.ком.к 6г ч1. К.г. '!$E$28","v":0},{"$f":"'Соц.ком.к 6г ч1. К.г. '!$E$28","v":0},{"$f":"'Соц.ком. к 6г ч2 К.г.'!E28","v":0},{"$f":"'Соц.ком. к 6г ч2 К.г.'!F28","v":0},{"$f":"'Соц.ком. к 6г ч2 К.г.'!G28","v":0},{"$f":"'Соц.ком. к 6г ч2 К.г.'!H28","v":0},{"$f":"'Соц.ком. к 6г ч2 К.г.'!I28","v":0},{"$f":"'Соц.ком. к 6г ч2 К.г.'!J28","v":0},{"$f":"'Соц.ком. к 6г ч2 К.г.'!K28","v":0},{"$f":"'Соц.ком. к 6г ч2 К.г.'!L28","v":0},{"$f":"'Соц.ком. к 6г ч2 К.г.'!M28","v":0},{"$f":"'Физ.разв. к 6г ч1. К.г. '!E29","v":0},{"$f":"'Физ.разв. к 6г ч1. К.г. '!F29","v":0},{"$f":"'Физ.разв. к 6г ч1. К.г. '!G29","v":0},{"$f":"'Физ.разв. к 6г ч1. К.г. '!H29","v":0},{"$f":"'Физ.разв. к 6г ч1. К.г. '!I29","v":0},{"$f":"'Физ.разв. к 6г ч1. К.г. '!J29","v":0},{"$f":"'Физ.разв. к 6г ч1. К.г. '!K29","v":0},{"$f":"'Физ.разв. к 6г ч1. К.г. '!L29","v":0},{"$f":"'Физ.разв. к 6г ч1. К.г. '!M29","v":0},{"$f":"'Физ.разв. к 6г ч1. К.г. '!N29","v":0},{"$f":"'Физ.разв. к 6г ч1. К.г. '!O29","v":0},{"$f":"'Физ.разв. к 6г ч1. К.г. '!P29","v":0},{"$f":"'Физ.разв. к 6г ч1. К.г. '!Q29","v":0},{"$f":"'Физ.разв. к 6г ч1. К.г. '!R29","v":0},{"$f":"'Физ.разв. к 6г ч1. К.г. '!S29","v":0},{"$f":"'Физ.разв. к 6г ч1. К.г. '!T29","v":0},{"$f":"'Физ.разв. к 6г ч1. К.г. '!U29","v":0},{"$f":"'Физ.разв. к 6г ч1. К.г. '!V29","v":0},{"$f":"'Физ.разв. к 6г ч1. К.г. '!W29","v":0},{"$f":"'Физ.разв. к 6г ч1. К.г. '!X29","v":0},{"$f":"'Физ.разв. к 6г ч2. К.г. '!E30","v":0},{"$f":"'Физ.разв. к 6г ч2. К.г. '!F30","v":0},{"$f":"'Физ.разв. к 6г ч2. К.г. '!G30","v":0},{"$f":"'Физ.разв. к 6г ч2. К.г. '!H30","v":0},{"$f":"'Физ.разв. к 6г ч2. К.г. '!I30","v":0},{"$f":"'Физ.разв. к 6г ч2. К.г. '!J30","v":0},{"$f":"'Физ.разв. к 6г ч2. К.г. '!K30","v":0},{"$f":"'Физ.разв. к 6г ч2. К.г. '!L30","v":0},{"$f":"'Физ.разв. к 6г ч2. К.г. '!M30","v":0},{"$f":"'Физ.разв. к 6г ч2. К.г. '!N30","v":0},{"$f":"'Физ.разв. к 6г ч2. К.г. '!O30","v":0},{"$f":"'Физ.разв. к 6г ч2. К.г. '!P30","v":0},{"$f":"'Физ.разв. к 6г ч2. К.г. '!Q30","v":0},{"$f":"'Физ.разв. к 6г ч2. К.г. '!R30","v":0},{"$f":"'Физ.разв. к 6г ч2. К.г. '!S30","v":0},{"$f":"'Физ.разв. к 6г ч2. К.г. '!T30","v":0},{"$f":"'Физ.разв. к 6г ч2. К.г. '!U30","v":0},{"$f":"'Физ.разв. к 6г ч2. К.г. '!V30","v":0},{"$f":"'Физ.разв. к 6г ч2. К.г. '!W30","v":0},{"$f":"'Физ.разв. к 6г ч2. К.г. '!X30","v":0},{"$f":"'Физ.разв. к 6г ч2. К.г. '!Y30","v":0}]

{"sheet":"19","index":46,"n_rows":11,"n_cols":138,"rows_kept":11,"merged":[[4,117,4,122],[4,123,4,126],[4,127,4,129],[4,130,4,132],[4,134,4,137],[5,0,8,0],[5,1,5,11],[5,12,5,19],[5,21,6,26],[5,27,6,28],[5,50,5,52],[5,53,5,55],[5,56,5,64],[5,65,5,66],[5,67,5,70],[5,117,5,118],[5,119,5,122],[5,123,6,123],[5,124,6,124],[5,125,6,125],[5,126,6,126],[5,127,8,127],[5,128,8,128],[5,129,8,129],[5,130,8,130],[5,131,8,131],[5,132,8,132],[5,133,8,133],[5,134,5,137],[6,1,6,4],[6,9,6,10],[6,12,6,13],[6,16,6,17],[6,18,6,19],[6,20,8,20],[6,30,6,31],[6,32,6,36],[6,38,6,43],[6,45,6,49],[6,53,8,53],[6,54,8,54],[6,55,8,55],[6,56,6,58],[6,62,6,64],[6,65,7,66],[6,67,6,68],[6,69,6,70],[6,71,6,87],[6,88,6,90],[6,91,6,95],[6,97,6,98],[6,99,6,101],[6,102,6,104],[6,105,6,107],[6,108,6,112],[6,113,6,114],[6,115,6,116],[6,117,8,117],[6,118,8,118],[6,119,8,119],[6,120,8,120],[6,121,8,121],[6,122,8,122],[6,134,8,134],[6,135,8,135],[6,136,8,136],[6,137,8,137],[7,1,8,1],[7,2,8,2],[7,3,8,3],[7,4,8,4],[7,5,8,5],[7,6,8,6],[7,7,8,7],[7,8,8,8],[7,9,8,9],[7,10,8,10],[7,11,8,11],[7,12,8,12],[7,13,8,13],[7,14,8,14],[7,15,8,15],[7,16,8,16],[7,17,8,17],[7,18,8,18],[7,19,8,19],[7,21,8,21],[7,22,8,22],[7,23,8,23],[7,24,8,24],[7,25,8,25],[7,26,8,26],[7,27,8,27],[7,28,8,28],[7,29,8,29],[7,30,8,30],[7,31,8,31],[7,32,8,32],[7,33,8,33],[7,34,8,34],[7,35,8,35],[7,36,8,36],[7,37,8,37],[7,38,8,38],[7,39,8,39],[7,40,8,40],[7,41,8,41],[7,42,8,42],[7,43,8,43],[7,44,8,44],[7,45,8,45],[7,46,8,46],[7,47,8,47],[7,48,8,48],[7,49,8,49],[7,50,7,52],[7,56,8,56],[7,57,8,57],[7,58,8,58],[7,59,8,59],[7,60,8,60],[7,61,8,61],[7,62,8,62],[7,63,8,63],[7,64,8,64],[7,67,8,67],[7,68,8,68],[7,69,8,69],[7,70,8,70],[7,71,7,72],[7,73,7,74],[7,75,7,76],[7,77,7,80],[7,82,7,84],[7,85,7,87],[7,88,8,88],[7,89,8,89],[7,90,8,90],[7,91,8,91],[7,92,8,92],[7,93,8,93],[7,94,8,94],[7,95,8,95],[7,96,8,96],[7,97,8,97],[7,98,8,98],[7,99,8,99],[7,100,8,100],[7,101,8,101],[7,102,7,104],[7,105,7,107],[7,108,7,112],[7,113,8,113],[7,114,8,114],[7,115,7,116],[7,123,8,123],[7,124,8,124],[7,125,8,125],[7,126,8,126]]}
[]
[]
[]
[]
[{"$nulls":117},"Мелкая моторика",{"$nulls":5},"КГН",{"$nulls":3},"ЗОЖ",null,null,"Подвижные игры",null,null,"Спорт. игры","Спортивные упражнения"]
[{"$f":"Список!B22","v":0},"Музыкальная деятельность",{"$nulls":10},"Изобразительная деятельность",{"$nulls":8},"Приобщение к искусству",{"$nulls":5},"Конструктивная деятельность",{"$nulls":22},"Сенсорные эталоны ",null,null,"Познавательные действия",null,null,"Математические представления",{"$nulls":8},"Окружающий мир",null,"Природа ",{"$nulls":49},"Координация рук и глаз",null,"Графические навыки",{"$nulls":3},"Навыки соблюдения чистоты тела (правила личной гигиены)","Навыки культуры еды (прием пищи) ","Навыки поддержания порядка (правила поведения в быту) ","Навыки ухода за собой (одевание, раздевание) ","Ребенок имеет представление о факторах, положительно/негативно влияющих на здоровье; владеет основными способами укрепления здоровья","Ребенок имеет представление о некоторых видах спорта (9 и больше), роли спорта для укрепления здоровья","Ребенок проявляет заботливое отношение к своему здоровью и здоровью окружающих","Ребенок проявляет доступный возрасту самоконтроль","Ребенок  способен привлечь внимание других детей и организовать знакомую подвижную игру","Ребенок придумывает новые варианты игр, комбинирует движения","Ребенок имеет представление об элементах спортивных игр (городки, баскетбол, бадминтон, футбол), умеет выполнять некоторые виды движений","Ребенок умеет кататься"]
[null,"Слушание",{"$nulls":3},"Пение ","Музыкально-ритмические движения","Песенное творчество","Игра на детских музыкальных инструментах","Театрализованная деятельность",null,"Танцевально-игровое творчество","Рисование ",null,"Лепка ","Аппликация ","Народное ДПИ",null,"Прикладное творчество",null,"Ребенок самостоятельно определяет замысел рисунка, аппликации, лепки, поделки, создает образы и композиционные изображения, использует разнообразные материалы",{"$nulls":8},"Общее речевое развитие","Формирование словаря",null,"Грамматический строй",{"$nulls":4},"Звуковая культура речи","Связная речь",{"$nulls":5},"ЧХЛ","Подготовка к обучению грамоте",{"$nulls":4},"Цвет, оттенки","Форма, геометрические фигуры","Величина","Ребенок охотно участвует в обсуждении проблемы для совместного нахождения способов ее решения, предлагает пути решения, устанавливает закономерности причинно-следственного характера, проявляет любознательность","Ребенок использует математические знания, способы и средства для познания окружающего мира","Ребенок способен к произвольным умственным действиям, логическим операциям анализа, сравнения, обобщения, систематизации, классификации","Количество и счет",null,null,"Ориентировка во времени","Ориентировка в пространстве","Пространственно-количественные связи и отношения","Сравнение",null,null,"Ребенок имеет представления, может показать на картинке и в естественной среде, может рассказать",null,"Объекты живой природы",null,"Объекты неживой природы, природные явления",null,"Сфера социальных отношений",{"$nulls":16},"Область формирования основ гражданственности и патриотизма",null,null,"Сфера трудового воспитания",{"$nulls":4},"Область формирования основ безопасного поведения","Бросание, катание, ловля, метание",null,"Ползанье, лазанье",null,null,"Ходьба",null,null,"Бег",null,null,"Прыжки",{"$nulls":4},"Равновесие",null,"Строевые упражнения",null,"Ребенок может найти выход из лабиринта","Ребенок может нарисовать простой узор, изображение, не отрывая руки","Ребенок может повторить узор с чередующимися элементами","Ребенок закрашивает контурное изображение с множеством мелких деталей, не выходя за контур","Ребенок может соединить точки для получения изображения","Ребенок рисует геометрический орнамент по клеткам",{"$nulls":11},"на санках","на лыжах","на двухколесном велосипеде","на самокате"]
[null,"Ребенок различает жанры музыкальных произведений (песня, танец, марш)","Ребенок узнает мелодию по отдельным фрагментам произведения (вступление, заключение, музыкальная фраза)","Ребенок различает звуки по высоте в пределах квинты","Ребенок различает звучание музыкальных инструментов (клавишно-ударных, струнных)","Ребенок демонстрирует развитые певческие навыки","Ребенок демонстрирует развитые навыки исполнения танцевальных движений","Ребенок может импровизировать мелодию на заданный текст","Ребенок демонстрирует навыки игры на детских музыкальных инструментах","Ребенок имеет представление о различных видах театрального искусства","Ребенок с удовольствие занимается театрализованной деятельностью","Ребенок может придумывать движения к танцам","Ребенок передает в изображении основные свойства предметов (форма, величина, цвет), характерные детали, соотношение предметов и их частей по величине, высоте, расположению относительно друг друга","Ребенок владеет основными способами и приемами рисования различными изобразительными материалами (цветные карандаши, гуашь, акварель, цветные мелки, пастель, сангина, угольный карандаш, фломастеры)","Ребенок лепит с натуры и по представлению знакомые предметы, передавая характерные особенности пластическим, конструктивным и комбинированным способами","Ребенок умеет пользоваться ножницами","Ребенок имеет представление о полхов-майданской, гжельской росписи","Ребенок может нарисовать узор, используя элементы  росписи","Ребенок умеет работать с бумагой (сгибать лист, сглаживать сгибы, надрезать по сгибам)","Ребенок умеет работать с природным и бросовым материалом",null,"Ребенок умеет выделять, называть, группировать произведения по видам искусства: литература, музыка, изобразительное искусство, архитектура, театр, цирк","Ребенок имеет представление о видах изобразительного искусства: графика, декоративно-прикладное искусство, живопись, скульптура, архитектура, фотоискусство","Ребенок имеет представление о жанрах изобразительного искусства: натюрморт, пейзаж, портрет","Ребенок имеет представление о народном искусстве, фольклоре, музыке и художественных промыслах","Ребенок имеет представление о творческих профессиях: художник, композитор, музыкант, актер, артист балета","Ребенок имеет представление о культурно-досуговых местах: театр, музей, библиотека, выставка, кинотеатр, цирк и др.","Ребенок может провести анализ постройки (выделить основные части и характерные детали конструкций)","Ребенок может выполнить постройку по инструкции","Ребенок внятно разговаривает","Ребенок умеет обобщать предметы в группы по существенным признакам","Ребенок демонстрирует богатый словарный запас","Ребенок правильно использует в речи: несклоняемые существительные","Ребенок правильно использует в речи: слова, имеющие только множественное или только единственное число","Ребенок правильно использует в речи: глаголы одеть-надеть","Ребенок правильно использует в речи: существительные множественного числа в родительном падеже","Ребенок правильно образовывает слова с помощью суффикса, приставки","Ребенок правильно произносит сонорные звуки: л-ль, р-рь","Ребенок пересказывает литературные произведения по ролям, по частям, правильно передавая идею и содержание","Ребенок пользуется прямой и косвенной речью","Ребенок составляет короткий описательный рассказ о предметах, объектах и явлениях природы, из личного опыта","Ребенок сочиняет сюжетные рассказы по картине, из личного опыта","Ребенок проявляет речевое творчество: придумывает продолжение и окончание к рассказу, рассказы по аналогии, по плану педагога, по модели","Ребенок владеет первичными приемами аргументации и доказательства","Ребенок проявляет избирательное отношение к произведениям определенной тематики и жанра","Ребенок понимает термины: слово: звук, буква, предложение, гласный звук, согласный звук","Ребенок может провести звуковой анализ слова, разделить на слоги двух-, трехслоговые слова; составляет схему слова","Ребенок различает гласные-согласные звуки","Ребенок определяет твердые-мягкие согласные","Ребенок составляет предложение по модели, определяет количество и последовательность слов в предложении","Ребенок различает и называет",{"$nulls":5},"Ребенок знает/называет/находит среди других цифры 0 -10","Ребенок выполняет количественный и порядковый счет в пределах 0-10","Ребенок знает состав чисел из единиц в пределах 5","Ребенок понимает календарные единицы времени (сутки, неделя, месяц, год)","Ребенок ориентируется на листе бумаги","Ребенок понимает простейшую графическую информацию об отношениях предметов (слева направо, справа налево, снизу вверх, сверху вниз)","Ребенок выделяет сходства и отличия между группами предметов","Ребенок сравнивает предметы по 3-5 признакам","Ребенок группирует предметы по разным основаниям, преимущественно на основе зрительной оценки",null,null,"Ребенок имеет представление о сходстве и различии во внешнем виде и образе жизни объектов животного и растительного мира в разные сезоны года","Ребенок может сравнивать, группировать объекты живой природы по их особенностям, мету обитания, образу жизни, питанию","Ребенок имеет представление о признаках разных времен года","Ребенок наблюдает за явлениями природы, фиксирует результаты наблюдения","Отношение к самому себе",null,"Отношение к сверстникам",null,"Отношение к взрослым",null,"Эмоции",{"$nulls":3},"Поведение","Семья",null,null,"Игровое поведение",null,null,"Ребенок имеет представление о государственных символах России (герб, гимн, флаг)","Ребенок имеет представление о государственных праздниках России","Ребенок знает/может назвать/показать на картинке и в естественной среде достопримечательности населенного пункта, в котором живет","Ребенок имеет представления о разных видах производительного труда (промышленность, строительство, сельское хозяйство)","Ребенок имеет представления о разных видах обслуживающего труда (сфера досуга и отдыха, сфера культуры, медицина, торговля)","Ребенок имеет представление о структуре трудового процесса (мотив, цель, инструменты, оборудование, содержание действий, выбор трудовых действий, результат)","Ребенок имеет элементарные экономические представления (назначение рекламы, денег)","Ребенок охотно участвует в выполнении трудовых поручений, дежурстве; может распределять трудовые обязанности с другими","Ребенок имеет представления/ соблюдает правила поведения в быту, на улице, в природе, в общении с людьми, с животными","Ребенок выполняет различные упражнения с мячом (прокатывание, передача, перебрасывание, ведение, подбрасывание, ловля, забрасывание)","Ребенок выполняет метание в цель, метание в даль предметов разной массы","Ребенок выполняет ползанье разными способами (на четвереньках, на животе)","Ребенок выполняет переползание через несколько предметов подряд, под дугами, в туннеле","Ребенок выполняет лазанье по гимнастической стенке чередующимся шагом","Ребенок выполняет различные виды ходьбы",null,null,"Ребенок выполняет различные виды бега",null,null,"Ребенок выполняет различные виды прыжков",{"$nulls":4},"Ребенок выполняет стойку на одной ноге ","Ребенок выполняет упражнение \"ласточка\" ","Ребенок выполняет различные виды строевых упражнений",{"$nulls":7},"Ребенок выполняет самостоятельно","Ребенок выполняет самостоятельно","Ребенок выполняет самостоятельно","Ребенок выполняет самостоятельно"]
[{"$nulls":50},"Ребенок называет/различает все цвета спектра и ахроматические цвета, оттенки цвета, тоны цвета, теплые и холодные оттенки","Ребенок владеет способами воссоздания фигуры из частей, деления фигуры на части","Ребенок может выстраивать сериационные ряды предметов, различающихся по размеру в возрастающем и убывающем порядке в пределах 10",{"$nulls":12},"о многообразии людей разных национальностей (особенностей внешнего вида, одежды, традиций)","Ребенок имеет представление о многообразии стран и народов мира",{"$nulls":4},"Ребенок может рассказать о себе, выразить собственные потребности, желания","Ребенок имеет представление о некоторых своих правах","Ребенок имеет предпочтения в общении","Ребенок охотно вступает в общение со сверстниками","Ребенок уважительно относится к взрослым, пожилым людям","Ребенок охотно вступает в общение со взрослыми","Ребенок понимает свои и чужие эмоциональные состояния, демонстрирует примеры эмоциональной поддержки ","Ребенок  откликается на просьбу помочь","Ребенок выразить чувства и эмоции в мимике, пантомимике, действиях, интонации","Ребенок демонстрирует адекватные возрасту способы регуляции эмоциональных состояний","Ребенок ориентируется на общепринятые нормы и правила культуры поведения","Ребенок знает членов своей семьи, ближайших родственников по линии матери и отца","Ребенок имеет представление о способах поддержки родственных связей (переписка, разговор, совместный отдых, традиции, походы в гости и др.)","Ребенок проявляет заботу по отношению к членам своей семьи, оказывает посильную помощь больному члену семьи","Ребенок в совместной деятельности принимает общую цель, договаривается о способах деятельности и материалах, может уступить в конфликтной ситуации","Ребенок проявляет интерес к игровому экспериментированию, развивающим и познавательным играм","Ребенок способен действовать в точном соответствие с игровой задачей и правилами",{"$nulls":14},"обычным шагом, на носках, на пятках, с высоким подниманием колен","приставной, в полуприседе, мелким и широким, перекатом с пятки на носок, гимнастическим","змейкой без ориентиров, в колонне по одному и по два","в колонне по одному, змейкой, с перестроением на ходу в пары, звенья","со сменой ведущих, с пролезанием в обруч, с ловлей и увертыванием, высоко поднимая колени","между расставленными предметами, в заданном темпе, мелким и широким шагом","подпрыгивание, перепрыгивание, спрыгивание","в длину с места","в высоту с разбега","в длину с разбега","со скакалкой",null,null,"построения (по росту, в колонну по одному, в шеренгу, в круг)","в колонну по три, в две шеренги на месте, расхождение из колонны в разные стороны"]
["начало года",{"$f":"'Худ.эст.к 6г ч1. Н.г.'!E30","v":0},{"$f":"'Худ.эст.к 6г ч1. Н.г.'!F30","v":0},{"$f":"'Худ.эст.к 6г ч1. Н.г.'!G30","v":0},{"$f":"'Худ.эст.к 6г ч1. Н.г.'!H30","v":0},{"$f":"'Худ.эст.к 6г ч1. Н.г.'!I30","v":0},{"$f":"'Худ.эст.к 6г ч1. Н.г.'!J30","v":0},{"$f":"'Худ.эст.к 6г ч1. Н.г.'!K30","v":0},{"$f":"'Худ.эст.к 6г ч1. Н.г.'!L30","v":0},{"$f":"'Худ.эст.к 6г ч1. Н.г.'!M30","v":0},{"$f":"'Худ.эст.к 6г ч1. Н.г.'!N30","v":0},{"$f":"'Худ.эст.к 6г ч1. Н.г.'!O30","v":0},{"$f":"'Худ.эст.к 6г ч2. Н.г.'!E30","v":0},{"$f":"'Худ.эст.к 6г ч2. Н.г.'!F30","v":0},{"$f":"'Худ.эст.к 6г ч2. Н.г.'!G30","v":0},{"$f":"'Худ.эст.к 6г ч2. Н.г.'!H30","v":0},{"$f":"'Худ.эст.к 6г ч2. Н.г.'!I30","v":0},{"$f":"'Худ.эст.к 6г ч2. Н.г.'!J30","v":0},{"$f":"'Худ.эст.к 6г ч2. Н.г.'!K30","v":0},{"$f":"'Худ.эст.к 6г ч2. Н.г.'!L30","v":0},{"$f":"'Худ.эст.к 6г ч2. Н.г.'!M30","v":0},{"$f":"'Худ.эст.к 6г ч3. Н.г.'!E30","v":0},{"$f":"'Худ.эст.к 6г ч3. Н.г.'!F30","v":0},{"$f":"'Худ.эст.к 6г ч3. Н.г.'!G30","v":0},{"$f":"'Худ.эст.к 6г ч3. Н.г.'!H30","v":0},{"$f":"'Худ.эст.к 6г ч3. Н.г.'!I30","v":0},{"$f":"'Худ.эст.к 6г ч3. Н.г.'!J30","v":0},{"$f":"'Худ.эст.к 6г ч3. Н.г.'!K30","v":0},{"$f":"'Худ.эст.к 6г ч3. Н.г.'!L30","v":0},{"$f":"'Реч.разв.к 6г ч1. Н.г.'!E29","v":0},{"$f":"'Реч.разв.к 6г ч1. Н.г.'!F29","v":0},{"$f":"'Реч.разв.к 6г ч1. Н.г.'!G29","v":0},{"$f":"'Реч.разв.к 6г ч1. Н.г.'!H29","v":0},{"$f":"'Реч.разв.к 6г ч1. Н.г.'!I29","v":0},{"$f":"'Реч.разв.к 6г ч1. Н.г.'!J29","v":0},{"$f":"'Реч.разв.к 6г ч1. Н.г.'!K29","v":0},{"$f":"'Реч.разв.к 6г ч1. Н.г.'!L29","v":0},{"$f":"'Реч.разв.к 6г ч2. Н.г.'!E29","v":0},{"$f":"'Реч.разв.к 6г ч2. Н.г.'!F29","v":0},{"$f":"'Реч.разв.к 6г ч2. Н.г.'!G29","v":0},{"$f":"'Реч.разв.к 6г ч2. Н.г.'!H29","v":0},{"$f":"'Реч.разв.к 6г ч2. Н.г.'!I29","v":0},{"$f":"'Реч.разв.к 6г ч2. Н.г.'!J29","v":0},{"$f":"'Реч.разв.к 6г ч2. Н.г.'!K29","v":0},{"$f":"'Реч.разв.к 6г ч2. Н.г.'!L29","v":0},{"$f":"'Реч.разв.к 6г ч2. Н.г.'!M29","v":0},{"$f":"'Реч.разв.к 6г ч2. Н.г.'!N29","v":0},{"$f":"'Реч.разв.к 6г ч2. Н.г.'!O29","v":0},{"$f":"'Реч.разв.к 6г ч2. Н.г.'!P29","v":0},{"$f":"'Реч.разв.к 6г ч2. Н.г.'!Q29","v":0},{"$f":"'Позн.разв. к 6г ч1. Н.г.'!E30","v":0},{"$f":"'Позн.разв. к 6г ч1. Н.г.'!F30","v":0},{"$f":"'Позн.разв. к 6г ч1. Н.г.'!G30","v":0},{"$f":"'Позн.разв. к 6г ч1. Н.г.'!H30","v":0},{"$f":"'Позн.разв. к 6г ч1. Н.г.'!I30","v":0},{"$f":"'Позн.разв. к 6г ч1. Н.г.'!J30","v":0},{"$f":"'Позн.разв. к 6г ч1. Н.г.'!K30","v":0},{"$f":"'Позн.разв. к 6г ч1. Н.г.'!L30","v":0},{"$f":"'Позн.разв. к 6г ч1. Н.г.'!M30","v":0},{"$f":"'Позн.разв. к 6г ч1. Н.г.'!N30","v":0},{"$f":"'Позн.разв. к 6г ч1. Н.г.'!O30","v":0},{"$f":"'Позн.разв. к 6г ч1. Н.г.'!P30","v":0},{"$f":"'Позн.разв. к 6г ч1. Н.г.'!Q30","v":0},{"$f":"'Позн.разв. к 6г ч1. Н.г.'!R30","v":0},{"$f":"'Позн.разв. к 6г ч1. Н.г.'!S30","v":0},{"$f":"'Позн.разв. к 6г ч2. Н.г.'!E30","v":0},{"$f":"'Позн.разв. к 6г ч2. Н.г.'!F30","v":0},{"$f":"'Позн.разв. к 6г ч2. Н.г.'!G30","v":0},{"$f":"'Позн.разв. к 6г ч2. Н.г.'!H30","v":0},{"$f":"'Позн.разв. к 6г ч2. Н.г.'!I30","v":0},{"$f":"'Позн.разв. к 6г ч2. Н.г.'!J30","v":0},{"$f":"'Соц.ком.к 6г ч1. Н.г.'!E29","v":0},{"$f":"'Соц.ком.к 6г ч1. Н.г.'!F29","v":0},{"$f":"'Соц.ком.к 6г ч1. Н.г.'!G29","v":0},{"$f":"'Соц.ком.к 6г ч1. Н.г.'!H29","v":0},{"$f":"'Соц.ком.к 6г ч1. Н.г.'!I29","v":0},{"$f":"'Соц.ком.к 6г ч1. Н.г.'!J29","v":0},{"$f":"'Соц.ком.к 6г ч1. Н.г.'!K29","v":0},{"$f":"'Соц.ком.к 6г ч1. Н.г.'!L29","v":0},{"$f":"'Соц.ком.к 6г ч1. Н.г.'!M29","v":0},{"$f":"'Соц.ком.к 6г ч1. Н.г.'!N29","v":0},{"$f":"'Соц.ком.к 6г ч1. Н.г.'!O29","v":0},{"$f":"'Соц.ком.к 6г ч1. Н.г.'!P29","v":0},{"$f":"'Соц.ком.к 6г ч1. Н.г.'!Q29","v":0},{"$f":"'Соц.ком.к 6г ч1. Н.г.'!R29","v":0},{"$f":"'Соц.ком.к 6г ч1. Н.г.'!S29","v":0},{"$f":"'Соц.ком.к 6г ч1. Н.г.'!T29","v":0},{"$f":"'Соц.ком.к 6г ч1. Н.г.'!U29","v":0},{"$f":"'Соц.ком. к 6г ч2. Н.г.'!E29","v":0},{"$f":"'Соц.ком. к 6г ч2. Н.г.'!F29","v":0},{"$f":"'Соц.ком. к 6г ч2. Н.г.'!G29","v":0},{"$f":"'Соц.ком. к 6г ч2. Н.г.'!H29","v":0},{"$f":"'Соц.ком. к 6г ч2. Н.г.'!I29","v":0},{"$f":"'Соц.ком. к 6г ч2. Н.г.'!J29","v":0},{"$f":"'Соц.ком. к 6г ч2. Н.г.'!K29","v":0},{"$f":"'Соц.ком. к 6г ч2. Н.г.'!L29","v":0},{"$f":"'Соц.ком. к 6г ч2. Н.г.'!M29","v":0},{"$f":"'Физ.разв. к 6г ч1. Н.г.'!E30","v":0},{"$f":"'Физ.разв. к 6г ч1. Н.г.'!F30","v":0},{"$f":"'Физ.разв. к 6г ч1. Н.г.'!G30","v":0},{"$f":"'Физ.разв. к 6г ч1. Н.г.'!H30","v":0},{"$f":"'Физ.разв. к 6г ч1. Н.г.'!I30","v":0},{"$f":"'Физ.разв. к 6г ч1. Н.г.'!J30","v":0},{"$f":"'Физ.разв. к 6г ч1. Н.г.'!K30","v":0},{"$f":"'Физ.разв. к 6г ч1. Н.г.'!L30","v":0},{"$f":"'Физ.разв. к 6г ч1. Н.г.'!M30","v":0},{"$f":"'Физ.разв. к 6г ч1. Н.г.'!N30","v":0},{"$f":"'Физ.разв. к 6г ч1. Н.г.'!O30","v":0},{"$f":"'Физ.разв. к 6г ч1. Н.г.'!P30","v":0},{"$f":"'Физ.разв. к 6г ч1. Н.г.'!Q30","v":0},{"$f":"'Физ.разв. к 6г ч1. Н.г.'!R30","v":0},{"$f":"'Физ.разв. к 6г ч1. Н.г.'!S30","v":0},{"$f":"'Физ.разв. к 6г ч1. Н.г.'!T30","v":0},{"$f":"'Физ.разв. к 6г ч1. Н.г.'!U30","v":0},{"$f":"'Физ.разв. к 6г ч1. Н.г.'!V30","v":0},{"$f":"'Физ.разв. к 6г ч1. Н.г.'!W30","v":0},{"$f":"'Физ.разв. к 6г ч1. Н.г.'!X30","v":0},{"$f":"'Физ.разв. к 6г ч2. Н.г.'!E31","v":0},{"$f":"'Физ.разв. к 6г ч2. Н.г.'!F31","v":0},{"$f":"'Физ.разв. к 6г ч2. Н.г.'!G31","v":0},{"$f":"'Физ.разв. к 6г ч2. Н.г.'!H31","v":0},{"$f":"'Физ.разв. к 6г ч2. Н.г.'!I31","v":0},{"$f":"'Физ.разв. к 6г ч2. Н.г.'!J31","v":0},{"$f":"'Физ.разв. к 6г ч2. Н.г.'!K31","v":0},{"$f":"'Физ.разв. к 6г ч2. Н.г.'!L31","v":0},{"$f":"'Физ.разв. к 6г ч2. Н.г.'!M31","v":0},{"$f":"'Физ.разв. к 6г ч2. Н.г.'!N31","v":0},{"$f":"'Физ.разв. к 6г ч2. Н.г.'!O31","v":0},{"$f":"'Физ.разв. к 6г ч2. Н.г.'!P31","v":0},{"$f":"'Физ.разв. к 6г ч2. Н.г.'!Q31","v":0},{"$f":"'Физ.разв. к 6г ч2. Н.г.'!R31","v":0},{"$f":"'Физ.разв. к 6г ч2. Н.г.'!S31","v":0},{"$f":"'Физ.разв. к 6г ч2. Н.г.'!T31","v":0},{"$f":"'Физ.разв. к 6г ч2. Н.г.'!U31","v":0},{"$f":"'Физ.разв. к 6г ч2. Н.г.'!V31","v":0},{"$f":"'Физ.разв. к 6г ч2. Н.г.'!W31","v":0},{"$f":"'Физ.разв. к 6г ч2. Н.г.'!X31","v":0},{"$f":"'Физ.разв. к 6г ч2. Н.г.'!Y31","v":0}]
["конец года",{"$f":"'Худ.эст.к 6г ч1. К.г. '!E30","v":0},{"$f":"'Худ.эст.к 6г ч1. К.г. '!F30","v":0},{"$f":"'Худ.эст.к 6г ч1. К.г. '!G30","v":0},{"$f":"'Худ.эст.к 6г ч1. К.г. '!H30","v":0},{"$f":"'Худ.эст.к 6г ч1. К.г. '!I30","v":0},{"$f":"'Худ.эст.к 6г ч1. К.г. '!J30","v":0},{"$f":"'Худ.эст.к 6г ч1. К.г. '!K30","v":0},{"$f":"'Худ.эст.к 6г ч1. К.г. '!L30","v":0},{"$f":"'Худ.эст.к 6г ч1. К.г. '!M30","v":0},{"$f":"'Худ.эст.к 6г ч1. К.г. '!N30","v":0},{"$f":"'Худ.эст.к 6г ч1. К.г. '!O30","v":0},{"$f":"'Худ.эст.к 6г ч2. К.г. '!E30","v":0},{"$f":"'Худ.эст.к 6г ч2. К.г. '!F30","v":0},{"$f":"'Худ.эст.к 6г ч2. К.г. '!G30","v":0},{"$f":"'Худ.эст.к 6г ч2. К.г. '!H30","v":0},{"$f":"'Худ.эст.к 6г ч2. К.г. '!I30","v":0},{"$f":"'Худ.эст.к 6г ч2. К.г. '!J30","v":0},{"$f":"'Худ.эст.к 6г ч2. К.г. '!K30","v":0},{"$f":"'Худ.эст.к 6г ч2. К.г. '!L30","v":0},{"$f":"'Худ.эст.к 6г ч2. К.г. '!M30","v":0},{"$f":"'Худ.эст.к 6г ч3. К.г. '!E30","v":0},{"$f":"'Худ.эст.к 6г ч3. К.г. '!F30","v":0},{"$f":"'Худ.эст.к 6г ч3. К.г. '!G30","v":0},{"$f":"'Худ.эст.к 6г ч3. К.г. '!H30","v":0},{"$f":"'Худ.эст.к 6г ч3. К.г. '!I30","v":0},{"$f":"'Худ.эст.к 6г ч3. К.г. '!J30","v":0},{"$f":"'Худ.эст.к 6г ч3. К.г. '!K30","v":0},{"$f":"'Худ.эст.к 6г ч3. К.г. '!L30","v":0},{"$f":"'Реч.разв.к 6г ч1. К.г. '!E29","v":0},{"$f":"'Реч.разв.к 6г ч1. К.г. '!F29","v":0},{"$f":"'Реч.разв.к 6г ч1. К.г. '!G29","v":0},{"$f":"'Реч.разв.к 6г ч1. К.г. '!H29","v":0},{"$f":"'Реч.разв.к 6г ч1. К.г. '!I29","v":0},{"$f":"'Реч.разв.к 6г ч1. К.г. '!J29","v":0},{"$f":"'Реч.разв.к 6г ч1. К.г. '!K29","v":0},{"$f":"'Реч.разв.к 6г ч1. К.г. '!L29","v":0},{"$f":"'Реч.разв.к 6г ч2. К.г. '!E29","v":0},{"$f":"'Реч.разв.к 6г ч2. К.г. '!F29","v":0},{"$f":"'Реч.разв.к 6г ч2. К.г. '!G29","v":0},{"$f":"'Реч.разв.к 6г ч2. К.г. '!H29","v":0},{"$f":"'Реч.разв.к 6г ч2. К.г. '!I29","v":0},{"$f":"'Реч.разв.к 6г ч2. К.г. '!J29","v":0},{"$f":"'Реч.разв.к 6г ч2. К.г. '!K29","v":0},{"$f":"'Реч.разв.к 6г ч2. К.г. '!L29","v":0},{"$f":"'Реч.разв.к 6г ч2. К.г. '!M29","v":0},{"$f":"'Реч.разв.к 6г ч2. К.г. '!N29","v":0},{"$f":"'Реч.разв.к 6г ч2. К.г. '!O29","v":0},{"$f":"'Реч.разв.к 6г ч2. К.г. '!P29","v":0},{"$f":"'Реч.разв.к 6г ч2. К.г. '!Q29","v":0},{"$f":"'Позн.разв. к 6г ч1. К.г. '!E30","v":0},{"$f":"'Позн.разв. к 6г ч1. К.г. '!F30","v":0},{"$f":"'Позн.разв. к 6г ч1. К.г. '!G30","v":0},{"$f":"'Позн.разв. к 6г ч1. К.г. '!H30","v":0},{"$f":"'Позн.разв. к 6г ч1. К.г. '!I30","v":0},{"$f":"'Позн.разв. к 6г ч1. К.г. '!J30","v":0},{"$f":"'Позн.разв. к 6г ч1. К.г. '!K30","v":0},{"$f":"'Позн.разв. к 6г ч1. К.г. '!L30","v":0},{"$f":"'Позн.разв. к 6г ч1. К.г. '!M30","v":0},{"$f":"'Позн.разв. к 6г ч1. К.г. '!N30","v":0},{"$f":"'Позн.разв. к 6г ч1. К.г. '!O30","v":0},{"$f":"'Позн.разв. к 6г ч1. К.г. '!P30","v":0},{"$f":"'Позн.разв. к 6г ч1. К.г. '!Q30","v":0},{"$f":"'Позн.разв. к 6г ч1. К.г. '!R30","v":0},{"$f":"'Позн.разв. к 6г ч1. К.г. '!S30","v":0},{"$f":"'Позн.разв. к 6г ч2. К.г. '!E30","v":0},{"$f":"'Позн.разв. к 6г ч2. К.г. '!F30","v":0},{"$f":"'Позн.разв. к 6г ч2. К.г. '!G30","v":0},{"$f":"'Позн.разв. к 6г ч2. К.г. '!H30","v":0},{"$f":"'Позн.разв. к 6г ч2. К.г. '!I30","v":0},{"$f":"'Позн.разв. к 6г ч2. К.г. '!J30","v":0},{"$f":"'Соц.ком.к 6г ч1. К.г. '!$E$29","v":0},{"$f":"'Соц.ком.к 6г ч1. К.г. '!$E$29","v":0},{"$f":"'Соц.ком.к 6г ч1. К.г. '!$E$29","v":0},{"$f":"'Соц.ком.к 6г ч1. К.г. '!$E$29","v":0},{"$f":"'Соц.ком.к 6г ч1. К.г. '!$E$29","v":0},{"$f":"'Соц.ком.к 6г ч1. К.г. '!$E$29","v":0},{"$f":"'Соц.ком.к 6г ч1. К.г. '!$E$29","v":0},{"$f":"'Соц.ком.к 6г ч1. К.г. '!$E$29","v":0},{"$f":"'Соц.ком.к 6г ч1. К.г. '!$E$29","v":0},{"$f":"'Соц.ком.к 6г ч1. К.г. '!$E$29","v":0},{"$f":"'Соц.ком.к 6г ч1. К.г. '!$E$29","v":0},{"$f":"'Соц.ком.к 6г ч1. К.г. '!$E$29","v":0},{"$f":"'Соц.ком.к 6г ч1. К.г. '!$E$29","v":0},{"$f":"'Соц.ком.к 6г ч1. К.г. '!$E$29","v":0},{"$f":"'Соц.ком.к 6г ч1. К.г. '!$E$29","v":0},{"$f":"'Соц.ком.к 6г ч1. К.г. '!$E$29","v":0},{"$f":"'Соц.ком.к 6г ч1. К.г. '!$E$29","v":0},{"$f":"'Соц.ком. к 6г ч2 К.г.'!E29","v":0},{"$f":"'Соц.ком. к 6г ч2 К.г.'!F29","v":0},{"$f":"'Соц.ком. к 6г ч2 К.г.'!G29","v":0},{"$f":"'Соц.ком. к 6г ч2 К.г.'!H29","v":0},{"$f":"'Соц.ком. к 6г ч2 К.г.'!I29","v":0},{"$f":"'Соц.ком. к 6г ч2 К.г.'!J29","v":0},{"$f":"'Соц.ком. к 6г ч2 К.г.'!K29","v":0},{"$f":"'Соц.ком. к 6г ч2 К.г.'!L29","v":0},{"$f":"'Соц.ком. к 6г ч2 К.г.'!M29","v":0},{"$f":"'Физ.разв. к 6г ч1. К.г. '!E30","v":0},{"$f":"'Физ.разв. к 6г ч1. К.г. '!F30","v":0},{"$f":"'Физ.разв. к 6г ч1. К.г. '!G30","v":0},{"$f":"'Физ.разв. к 6г ч1. К.г. '!H30","v":0},{"$f":"'Физ.разв. к 6г ч1. К.г. '!I30","v":0},{"$f":"'Физ.разв. к 6г ч1. К.г. '!J30","v":0},{"$f":"'Физ.разв. к 6г ч1. К.г. '!K30","v":0},{"$f":"'Физ.разв. к 6г ч1. К.г. '!L30","v":0},{"$f":"'Физ.разв. к 6г ч1. К.г. '!M30","v":0},{"$f":"'Физ.разв. к 6г ч1. К.г. '!N30","v":0},{"$f":"'Физ.разв. к 6г ч1. К.г. '!O30","v":0},{"$f":"'Физ.разв. к 6г ч1. К.г. '!P30","v":0},{"$f":"'Физ.разв. к 6г ч1. К.г. '!Q30","v":0},{"$f":"'Физ.разв. к 6г ч1. К.г. '!R30","v":0},{"$f":"'Физ.разв. к 6г ч1. К.г. '!S30","v":0},{"$f":"'Физ.разв. к 6г ч1. К.г. '!T30","v":0},{"$f":"'Физ.разв. к 6г ч1. К.г. '!U30","v":0},{"$f":"'Физ.разв. к 6г ч1. К.г. '!V30","v":0},{"$f":"'Физ.разв. к 6г ч1. К.г. '!W30","v":0},{"$f":"'Физ.разв. к 6г ч1. К.г. '!X30","v":0},{"$f":"'Физ.разв. к 6г ч2. К.г. '!E31","v":0},{"$f":"'Физ.разв. к 6г ч2. К.г. '!F31","v":0},{"$f":"'Физ.разв. к 6г ч2. К.г. '!G31","v":0},{"$f":"'Физ.разв. к 6г ч2. К.г. '!H31","v":0},{"$f":"'Физ.разв. к 6г ч2. К.г. '!I31","v":0},{"$f":"'Физ.разв. к 6г ч2. К.г. '!J31","v":0},{"$f":"'Физ.разв. к 6г ч2. К.г. '!K31","v":0},{"$f":"'Физ.разв. к 6г ч2. К.г. '!L31","v":0},{"$f":"'Физ.разв. к 6г ч2. К.г. '!M31","v":0},{"$f":"'Физ.разв. к 6г ч2. К.г. '!N31","v":0},{"$f":"'Физ.разв. к 6г ч2. К.г. '!O31","v":0},{"$f":"'Физ.разв. к 6г ч2. К.г. '!P31","v":0},{"$f":"'Физ.разв. к 6г ч2. К.г. '!Q31","v":0},{"$f":"'Физ.разв. к 6г ч2. К.г. '!R31","v":0},{"$f":"'Физ.разв. к 6г ч2. К.г. '!S31","v":0},{"$f":"'Физ.разв. к 6г ч2. К.г. '!T31","v":0},{"$f":"'Физ.разв. к 6г ч2. К.г. '!U31","v":0},{"$f":"'Физ.разв. к 6г ч2. К.г. '!V31","v":0},{"$f":"'Физ.разв. к 6г ч2. К.г. '!W31","v":0},{"$f":"'Физ.разв. к 6г ч2. К.г. '!X31","v":0},{"$f":"'Физ.разв. к 6г ч2. К.г. '!Y31","v":0}]

{"sheet":"20","index":47,"n_rows":11,"n_cols":138,"rows_kept":11,"merged":[[4,117,4,122],[4,123,4,126],[4,127,4,129],[4,130,4,132],[4,134,4,137],[5,0,8,0],[5,1,5,11],[5,12,5,19],[5,21,6,26],[5,27,6,28],[5,50,5,52],[5,53,5,55],[5,56,5,64],[5,65,5,66],[5,67,5,70],[5,117,5,118],[5,119,5,122],[5,123,6,123],[5,124,6,124],[5,125,6,125],[5,126,6,126],[5,127,8,127],[5,128,8,128],[5,129,8,129],[5,130,8,130],[5,131,8,131],[5,132,8,132],[5,133,8,133],[5,134,5,137],[6,1,6,4],[6,9,6,10],[6,12,6,13],[6,16,6,17],[6,18,6,19],[6,20,8,20],[6,30,6,31],[6,32,6,36],[6,38,6,43],[6,45,6,49],[6,53,8,53],[6,54,8,54],[6,55,8,55],[6,56,6,58],[6,62,6,64],[6,65,7,66],[6,67,6,68],[6,69,6,70],[6,71,6,87],[6,88,6,90],[6,91,6,95],[6,97,6,98],[6,99,6,101],[6,102,6,104],[6,105,6,107],[6,108,6,112],[6,113,6,114],[6,115,6,116],[6,117,8,117],[6,118,8,118],[6,119,8,119],[6,120,8,120],[6,121,8,121],[6,122,8,122],[6,134,8,134],[6,135,8,135],[6,136,8,136],[6,137,8,137],[7,1,8,1],[7,2,8,2],[7,3,8,3],[7,4,8,4],[7,5,8,5],[7,6,8,6],[7,7,8,7],[7,8,8,8],[7,9,8,9],[7,10,8,10],[7,11,8,11],[7,12,8,12],[7,13,8,13],[7,14,8,14],[7,15,8,15],[7,16,8,16],[7,17,8,17],[7,18,8,18],[7,19,8,19],[7,21,8,21],[7,22,8,22],[7,23,8,23],[7,24,8,24],[7,25,8,25],[7,26,8,26],[7,27,8,27],[7,28,8,28],[7,29,8,29],[7,30,8,30],[7,31,8,31],[7,32,8,32],[7,33,8,33],[7,34,8,34],[7,35,8,35],[7,36,8,36],[7,37,8,37],[7,38,8,38],[7,39,8,39],[7,40,8,40],[7,41,8,41],[7,42,8,42],[7,43,8,43],[7,44,8,44],[7,45,8,45],[7,46,8,46],[7,47,8,47],[7,48,8,48],[7,49,8,49],[7,50,7,52],[7,56,8,56],[7,57,8,57],[7,58,8,58],[7,59,8,59],[7,60,8,60],[7,61,8,61],[7,62,8,62],[7,63,8,63],[7,64,8,64],[7,67,8,67],[7,68,8,68],[7,69,8,69],[7,70,8,70],[7,71,7,72],[7,73,7,74],[7,75,7,76],[7,77,7,80],[7,82,7,84],[7,85,7,87],[7,88,8,88],[7,89,8,89],[7,90,8,90],[7,91,8,91],[7,92,8,92],[7,93,8,93],[7,94,8,94],[7,95,8,95],[7,96,8,96],[7,97,8,97],[7,98,8,98],[7,99,8,99],[7,100,8,100],[7,101,8,101],[7,102,7,104],[7,105,7,107],[7,108,7,112],[7,113,8,113],[7,114,8,114],[7,115,7,116],[7,123,8,123],[7,124,8,124],[7,125,8,125],[7,126,8,126]]}
[]
[]
[]
[]
[{"$nulls":117},"Мелкая моторика",{"$nulls":5},"КГН",{"$nulls":3},"ЗОЖ",null,null,"Подвижные игры",null,null,"Спорт. игры","Спортивные упражнения"]
[{"$f":"Список!B23","v":0},"Музыкальная деятельность",{"$nulls":10},"Изобразительная деятельность",{"$nulls":8},"Приобщение к искусству",{"$nulls":5},"Конструктивная деятельность",{"$nulls":22},"Сенсорные эталоны ",null,null,"Познавательные действия",null,null,"Математические представления",{"$nulls":8},"Окружающий мир",null,"Природа ",{"$nulls":49},"Координация рук и глаз",null,"Графические навыки",{"$nulls":3},"Навыки соблюдения чистоты тела (правила личной гигиены)","Навыки культуры еды (прием пищи) ","Навыки поддержания порядка (правила поведения в быту) ","Навыки ухода за собой (одевание, раздевание) ","Ребенок имеет представление о факторах, положительно/негативно влияющих на здоровье; владеет основными способами укрепления здоровья","Ребенок имеет представление о некоторых видах спорта (9 и больше), роли спорта для укрепления здоровья","Ребенок проявляет заботливое отношение к своему здоровью и здоровью окружающих","Ребенок проявляет доступный возрасту самоконтроль","Ребенок  способен привлечь внимание других детей и организовать знакомую подвижную игру","Ребенок придумывает новые варианты игр, комбинирует движения","Ребенок имеет представление об элементах спортивных игр (городки, баскетбол, бадминтон, футбол), умеет выполнять некоторые виды движений","Ребенок умеет кататься"]
[null,"Слушание",{"$nulls":3},"Пение ","Музыкально-ритмические движения","Песенное творчество","Игра на детских музыкальных инструментах","Театрализованная деятельность",null,"Танцевально-игровое творчество","Рисование ",null,"Лепка ","Аппликация ","Народное ДПИ",null,"Прикладное творчество",null,"Ребенок самостоятельно определяет замысел рисунка, аппликации, лепки, поделки, создает образы и композиционные изображения, использует разнообразные материалы",{"$nulls":8},"Общее речевое развитие","Формирование словаря",null,"Грамматический строй",{"$nulls":4},"Звуковая культура речи","Связная речь",{"$nulls":5},"ЧХЛ","Подготовка к обучению грамоте",{"$nulls":4},"Цвет, оттенки","Форма, геометрические фигуры","Величина","Ребенок охотно участвует в обсуждении проблемы для совместного нахождения способов ее решения, предлагает пути решения, устанавливает закономерности причинно-следственного характера, проявляет любознательность","Ребенок использует математические знания, способы и средства для познания окружающего мира","Ребенок способен к произвольным умственным действиям, логическим операциям анализа, сравнения, обобщения, систематизации, классификации","Количество и счет",null,null,"Ориентировка во времени","Ориентировка в пространстве","Пространственно-количественные связи и отношения","Сравнение",null,null,"Ребенок имеет представления, может показать на картинке и в естественной среде, может рассказать",null,"Объекты живой природы",null,"Объекты неживой природы, природные явления",null,"Сфера социальных отношений",{"$nulls":16},"Область формирования основ гражданственности и патриотизма",null,null,"Сфера трудового воспитания",{"$nulls":4},"Область формирования основ безопасного поведения","Бросание, катание, ловля, метание",null,"Ползанье, лазанье",null,null,"Ходьба",null,null,"Бег",null,null,"Прыжки",{"$nulls":4},"Равновесие",null,"Строевые упражнения",null,"Ребенок может найти выход из лабиринта","Ребенок может нарисовать простой узор, изображение, не отрывая руки","Ребенок может повторить узор с чередующимися элементами","Ребенок закрашивает контурное изображение с множеством мелких деталей, не выходя за контур","Ребенок может соединить точки для получения изображения","Ребенок рисует геометрический орнамент по клеткам",{"$nulls":11},"на санках","на лыжах","на двухколесном велосипеде","на самокате"]
[null,"Ребенок различает жанры музыкальных произведений (песня, танец, марш)","Ребенок узнает мелодию по отдельным фрагментам произведения (вступление, заключение, музыкальная фраза)","Ребенок различает звуки по высоте в пределах квинты","Ребенок различает звучание музыкальных инструментов (клавишно-ударных, струнных)","Ребенок демонстрирует развитые певческие навыки","Ребенок демонстрирует развитые навыки исполнения танцевальных движений","Ребенок может импровизировать мелодию на заданный текст","Ребенок демонстрирует навыки игры на детских музыкальных инструментах","Ребенок имеет представление о различных видах театрального искусства","Ребенок с удовольствие занимается театрализованной деятельностью","Ребенок может придумывать движения к танцам","Ребенок передает в изображении основные свойства предметов (форма, величина, цвет), характерные детали, соотношение предметов и их частей по величине, высоте, расположению относительно друг друга","Ребенок владеет основными способами и приемами рисования различными изобразительными материалами (цветные карандаши, гуашь, акварель, цветные мелки, пастель, сангина, угольный карандаш, фломастеры)","Ребенок лепит с натуры и по представлению знакомые предметы, передавая характерные особенности пластическим, конструктивным и комбинированным способами","Ребенок умеет пользоваться ножницами","Ребенок имеет представление о полхов-майданской, гжельской росписи","Ребенок может нарисовать узор, используя элементы  росписи","Ребенок умеет работать с бумагой (сгибать лист, сглаживать сгибы, надрезать по сгибам)","Ребенок умеет работать с природным и бросовым материалом",null,"Ребенок умеет выделять, называть, группировать произведения по видам искусства: литература, музыка, изобразительное искусство, архитектура, театр, цирк","Ребенок имеет представление о видах изобразительного искусства: графика, декоративно-прикладное искусство, живопись, скульптура, архитектура, фотоискусство","Ребенок имеет представление о жанрах изобразительного искусства: натюрморт, пейзаж, портрет","Ребенок имеет представление о народном искусстве, фольклоре, музыке и художественных промыслах","Ребенок имеет представление о творческих профессиях: художник, композитор, музыкант, актер, артист балета","Ребенок имеет представление о культурно-досуговых местах: театр, музей, библиотека, выставка, кинотеатр, цирк и др.","Ребенок может провести анализ постройки (выделить основные части и характерные детали конструкций)","Ребенок может выполнить постройку по инструкции","Ребенок внятно разговаривает","Ребенок умеет обобщать предметы в группы по существенным признакам","Ребенок демонстрирует богатый словарный запас","Ребенок правильно использует в речи: несклоняемые существительные","Ребенок правильно использует в речи: слова, имеющие только множественное или только единственное число","Ребенок правильно использует в речи: глаголы одеть-надеть","Ребенок правильно использует в речи: существительные множественного числа в родительном падеже","Ребенок правильно образовывает слова с помощью суффикса, приставки","Ребенок правильно произносит сонорные звуки: л-ль, р-рь","Ребенок пересказывает литературные произведения по ролям, по частям, правильно передавая идею и содержание","Ребенок пользуется прямой и косвенной речью","Ребенок составляет короткий описательный рассказ о предметах, объектах и явлениях природы, из личного опыта","Ребенок сочиняет сюжетные рассказы по картине, из личного опыта","Ребенок проявляет речевое творчество: придумывает продолжение и окончание к рассказу, рассказы по аналогии, по плану педагога, по модели","Ребенок владеет первичными приемами аргументации и доказательства","Ребенок проявляет избирательное отношение к произведениям определенной тематики и жанра","Ребенок понимает термины: слово: звук, буква, предложение, гласный звук, согласный звук","Ребенок может провести звуковой анализ слова, разделить на слоги двух-, трехслоговые слова; составляет схему слова","Ребенок различает гласные-согласные звуки","Ребенок определяет твердые-мягкие согласные","Ребенок составляет предложение по модели, определяет количество и последовательность слов в предложении","Ребенок различает и называет",{"$nulls":5},"Ребенок знает/называет/находит среди других цифры 0 -10","Ребенок выполняет количественный и порядковый счет в пределах 0-10","Ребенок знает состав чисел из единиц в пределах 5","Ребенок понимает календарные единицы времени (сутки, неделя, месяц, год)","Ребенок ориентируется на листе бумаги","Ребенок понимает простейшую графическую информацию об отношениях предметов (слева направо, справа налево, снизу вверх, сверху вниз)","Ребенок выделяет сходства и отличия между группами предметов","Ребенок сравнивает предметы по 3-5 признакам","Ребенок группирует предметы по разным основаниям, преимущественно на основе зрительной оценки",null,null,"Ребенок имеет представление о сходстве и различии во внешнем виде и образе жизни объектов животного и растительного мира в разные сезоны года","Ребенок может сравнивать, группировать объекты живой природы по их особенностям, мету обитания, образу жизни, питанию","Ребенок имеет представление о признаках разных времен года","Ребенок наблюдает за явлениями природы, фиксирует результаты наблюдения","Отношение к самому себе",null,"Отношение к сверстникам",null,"Отношение к взрослым",null,"Эмоции",{"$nulls":3},"Поведение","Семья",null,null,"Игровое поведение",null,null,"Ребенок имеет представление о государственных символах России (герб, гимн, флаг)","Ребенок имеет представление о государственных праздниках России","Ребенок знает/может назвать/показать на картинке и в естественной среде достопримечательности населенного пункта, в котором живет","Ребенок имеет представления о разных видах производительного труда (промышленность, строительство, сельское хозяйство)","Ребенок имеет представления о разных видах обслуживающего труда (сфера досуга и отдыха, сфера культуры, медицина, торговля)","Ребенок имеет представление о структуре трудового процесса (мотив, цель, инструменты, оборудование, содержание действий, выбор трудовых действий, результат)","Ребенок имеет элементарные экономические представления (назначение рекламы, денег)","Ребенок охотно участвует в выполнении трудовых поручений, дежурстве; может распределять трудовые обязанности с другими","Ребенок имеет представления/ соблюдает правила поведения в быту, на улице, в природе, в общении с людьми, с животными","Ребенок выполняет различные упражнения с мячом (прокатывание, передача, перебрасывание, ведение, подбрасывание, ловля, забрасывание)","Ребенок выполняет метание в цель, метание в даль предметов разной массы","Ребенок выполняет ползанье разными способами (на четвереньках, на животе)","Ребенок выполняет переползание через несколько предметов подряд, под дугами, в туннеле","Ребенок выполняет лазанье по гимнастической стенке чередующимся шагом","Ребенок выполняет различные виды ходьбы",null,null,"Ребенок выполняет различные виды бега",null,null,"Ребенок выполняет различные виды прыжков",{"$nulls":4},"Ребенок выполняет стойку на одной ноге ","Ребенок выполняет упражнение \"ласточка\" ","Ребенок выполняет различные виды строевых упражнений",{"$nulls":7},"Ребенок выполняет самостоятельно","Ребенок выполняет самостоятельно","Ребенок выполняет самостоятельно","Ребенок выполняет самостоятельно"]
[{"$nulls":50},"Ребенок называет/различает все цвета спектра и ахроматические цвета, оттенки цвета, тоны цвета, теплые и холодные оттенки","Ребенок владеет способами воссоздания фигуры из частей, деления фигуры на части","Ребенок может выстраивать сериационные ряды предметов, различающихся по размеру в возрастающем и убывающем порядке в пределах 10",{"$nulls":12},"о многообразии людей разных национальностей (особенностей внешнего вида, одежды, традиций)","Ребенок имеет представление о многообразии стран и народов мира",{"$nulls":4},"Ребенок может рассказать о себе, выразить собственные потребности, желания","Ребенок имеет представление о некоторых своих правах","Ребенок имеет предпочтения в общении","Ребенок охотно вступает в общение со сверстниками","Ребенок уважительно относится к взрослым, пожилым людям","Ребенок охотно вступает в общение со взрослыми","Ребенок понимает свои и чужие эмоциональные состояния, демонстрирует примеры эмоциональной поддержки ","Ребенок  откликается на просьбу помочь","Ребенок выразить чувства и эмоции в мимике, пантомимике, действиях, интонации","Ребенок демонстрирует адекватные возрасту способы регуляции эмоциональных состояний","Ребенок ориентируется на общепринятые нормы и правила культуры поведения","Ребенок знает членов своей семьи, ближайших родственников по линии матери и отца","Ребенок имеет представление о способах поддержки родственных связей (переписка, разговор, совместный отдых, традиции, походы в гости и др.)","Ребенок проявляет заботу по отношению к членам своей семьи, оказывает посильную помощь больному члену семьи","Ребенок в совместной деятельности принимает общую цель, договаривается о способах деятельности и материалах, может уступить в конфликтной ситуации","Ребенок проявляет интерес к игровому экспериментированию, развивающим и познавательным играм","Ребенок способен действовать в точном соответствие с игровой задачей и правилами",{"$nulls":14},"обычным шагом, на носках, на пятках, с высоким подниманием колен","приставной, в полуприседе, мелким и широким, перекатом с пятки на носок, гимнастическим","змейкой без ориентиров, в колонне по одному и по два","в колонне по одному, змейкой, с перестроением на ходу в пары, звенья","со сменой ведущих, с пролезанием в обруч, с ловлей и увертыванием, высоко поднимая колени","между расставленными предметами, в заданном темпе, мелким и широким шагом","подпрыгивание, перепрыгивание, спрыгивание","в длину с места","в высоту с разбега","в длину с разбега","со скакалкой",null,null,"построения (по росту, в колонну по одному, в шеренгу, в круг)","в колонну по три, в две шеренги на месте, расхождение из колонны в разные стороны"]
["начало года",{"$f":"'Худ.эст.к 6г ч1. Н.г.'!E31","v":0},{"$f":"'Худ.эст.к 6г ч1. Н.г.'!F31","v":0},{"$f":"'Худ.эст.к 6г ч1. Н.г.'!G31","v":0},{"$f":"'Худ.эст.к 6г ч1. Н.г.'!H31","v":0},{"$f":"'Худ.эст.к 6г ч1. Н.г.'!I31","v":0},{"$f":"'Худ.эст.к 6г ч1. Н.г.'!J31","v":0},{"$f":"'Худ.эст.к 6г ч1. Н.г.'!K31","v":0},{"$f":"'Худ.эст.к 6г ч1. Н.г.'!L31","v":0},{"$f":"'Худ.эст.к 6г ч1. Н.г.'!M31","v":0},{"$f":"'Худ.эст.к 6г ч1. Н.г.'!N31","v":0},{"$f":"'Худ.эст.к 6г ч1. Н.г.'!O31","v":0},{"$f":"'Худ.эст.к 6г ч2. Н.г.'!E31","v":0},{"$f":"'Худ.эст.к 6г ч2. Н.г.'!F31","v":0},{"$f":"'Худ.эст.к 6г ч2. Н.г.'!G31","v":0},{"$f":"'Худ.эст.к 6г ч2. Н.г.'!H31","v":0},{"$f":"'Худ.эст.к 6г ч2. Н.г.'!I31","v":0},{"$f":"'Худ.эст.к 6г ч2. Н.г.'!J31","v":0},{"$f":"'Худ.эст.к 6г ч2. Н.г.'!K31","v":0},{"$f":"'Худ.эст.к 6г ч2. Н.г.'!L31","v":0},{"$f":"'Худ.эст.к 6г ч2. Н.г.'!M31","v":0},{"$f":"'Худ.эст.к 6г ч3. Н.г.'!E31","v":0},{"$f":"'Худ.эст.к 6г ч3. Н.г.'!F31","v":0},{"$f":"'Худ.эст.к 6г ч3. Н.г.'!G31","v":0},{"$f":"'Худ.эст.к 6г ч3. Н.г.'!H31","v":0},{"$f":"'Худ.эст.к 6г ч3. Н.г.'!I31","v":0},{"$f":"'Худ.эст.к 6г ч3. Н.г.'!J31","v":0},{"$f":"'Худ.эст.к 6г ч3. Н.г.'!K31","v":0},{"$f":"'Худ.эст.к 6г ч3. Н.г.'!L31","v":0},{"$f":"'Реч.разв.к 6г ч1. Н.г.'!E30","v":0},{"$f":"'Реч.разв.к 6г ч1. Н.г.'!F30","v":0},{"$f":"'Реч.разв.к 6г ч1. Н.г.'!G30","v":0},{"$f":"'Реч.разв.к 6г ч1. Н.г.'!H30","v":0},{"$f":"'Реч.разв.к 6г ч1. Н.г.'!I30","v":0},{"$f":"'Реч.разв.к 6г ч1. Н.г.'!J30","v":0},{"$f":"'Реч.разв.к 6г ч1. Н.г.'!K30","v":0},{"$f":"'Реч.разв.к 6г ч1. Н.г.'!L30","v":0},{"$f":"'Реч.разв.к 6г ч2. Н.г.'!E30","v":0},{"$f":"'Реч.разв.к 6г ч2. Н.г.'!F30","v":0},{"$f":"'Реч.разв.к 6г ч2. Н.г.'!G30","v":0},{"$f":"'Реч.разв.к 6г ч2. Н.г.'!H30","v":0},{"$f":"'Реч.разв.к 6г ч2. Н.г.'!I30","v":0},{"$f":"'Реч.разв.к 6г ч2. Н.г.'!J30","v":0},{"$f":"'Реч.разв.к 6г ч2. Н.г.'!K30","v":0},{"$f":"'Реч.разв.к 6г ч2. Н.г.'!L30","v":0},{"$f":"'Реч.разв.к 6г ч2. Н.г.'!M30","v":0},{"$f":"'Реч.разв.к 6г ч2. Н.г.'!N30","v":0},{"$f":"'Реч.разв.к 6г ч2. Н.г.'!O30","v":0},{"$f":"'Реч.разв.к 6г ч2. Н.г.'!P30","v":0},{"$f":"'Реч.разв.к 6г ч2. Н.г.'!Q30","v":0},{"$f":"'Позн.разв. к 6г ч1. Н.г.'!E31","v":0},{"$f":"'Позн.разв. к 6г ч1. Н.г.'!F31","v":0},{"$f":"'Позн.разв. к 6г ч1. Н.г.'!G31","v":0},{"$f":"'Позн.разв. к 6г ч1. Н.г.'!H31","v":0},{"$f":"'Позн.разв. к 6г ч1. Н.г.'!I31","v":0},{"$f":"'Позн.разв. к 6г ч1. Н.г.'!J31","v":0},{"$f":"'Позн.разв. к 6г ч1. Н.г.'!K31","v":0},{"$f":"'Позн.разв. к 6г ч1. Н.г.'!L31","v":0},{"$f":"'Позн.разв. к 6г ч1. Н.г.'!M31","v":0},{"$f":"'Позн.разв. к 6г ч1. Н.г.'!N31","v":0},{"$f":"'Позн.разв. к 6г ч1. Н.г.'!O31","v":0},{"$f":"'Позн.разв. к 6г ч1. Н.г.'!P31","v":0},{"$f":"'Позн.разв. к 6г ч1. Н.г.'!Q31","v":0},{"$f":"'Позн.разв. к 6г ч1. Н.г.'!R31","v":0},{"$f":"'Позн.разв. к 6г ч1. Н.г.'!S31","v":0},{"$f":"'Позн.разв. к 6г ч2. Н.г.'!E31","v":0},{"$f":"'Позн.разв. к 6г ч2. Н.г.'!F31","v":0},{"$f":"'Позн.разв. к 6г ч2. Н.г.'!G31","v":0},{"$f":"'Позн.разв. к 6г ч2. Н.г.'!H31","v":0},{"$f":"'Позн.разв. к 6г ч2. Н.г.'!I31","v":0},{"$f":"'Позн.разв. к 6г ч2. Н.г.'!J31","v":0},{"$f":"'Соц.ком.к 6г ч1. Н.г.'!E30","v":0},{"$f":"'Соц.ком.к 6г ч1. Н.г.'!F30","v":0},{"$f":"'Соц.ком.к 6г ч1. Н.г.'!G30","v":0},{"$f":"'Соц.ком.к 6г ч1. Н.г.'!H30","v":0},{"$f":"'Соц.ком.к 6г ч1. Н.г.'!I30","v":0},{"$f":"'Соц.ком.к 6г ч1. Н.г.'!J30","v":0},{"$f":"'Соц.ком.к 6г ч1. Н.г.'!K30","v":0},{"$f":"'Соц.ком.к 6г ч1. Н.г.'!L30","v":0},{"$f":"'Соц.ком.к 6г ч1. Н.г.'!M30","v":0},{"$f":"'Соц.ком.к 6г ч1. Н.г.'!N30","v":0},{"$f":"'Соц.ком.к 6г ч1. Н.г.'!O30","v":0},{"$f":"'Соц.ком.к 6г ч1. Н.г.'!P30","v":0},{"$f":"'Соц.ком.к 6г ч1. Н.г.'!Q30","v":0},{"$f":"'Соц.ком.к 6г ч1. Н.г.'!R30","v":0},{"$f":"'Соц.ком.к 6г ч1. Н.г.'!S30","v":0},{"$f":"'Соц.ком.к 6г ч1. Н.г.'!T30","v":0},{"$f":"'Соц.ком.к 6г ч1. Н.г.'!U30","v":0},{"$f":"'Соц.ком. к 6г ч2. Н.г.'!E30","v":0},{"$f":"'Соц.ком. к 6г ч2. Н.г.'!F30","v":0},{"$f":"'Соц.ком. к 6г ч2. Н.г.'!G30","v":0},{"$f":"'Соц.ком. к 6г ч2. Н.г.'!H30","v":0},{"$f":"'Соц.ком. к 6г ч2. Н.г.'!I30","v":0},{"$f":"'Соц.ком. к 6г ч2. Н.г.'!J30","v":0},{"$f":"'Соц.ком. к 6г ч2. Н.г.'!K30","v":0},{"$f":"'Соц.ком. к 6г ч2. Н.г.'!L30","v":0},{"$f":"'Соц.ком. к 6г ч2. Н.г.'!M30","v":0},{"$f":"'Физ.разв. к 6г ч1. Н.г.'!E31","v":0},{"$f":"'Физ.разв. к 6г ч1. Н.г.'!F31","v":0},{"$f":"'Физ.разв. к 6г ч1. Н.г.'!G31","v":0},{"$f":"'Физ.разв. к 6г ч1. Н.г.'!H31","v":0},{"$f":"'Физ.разв. к 6г ч1. Н.г.'!I31","v":0},{"$f":"'Физ.разв. к 6г ч1. Н.г.'!J31","v":0},{"$f":"'Физ.разв. к 6г ч1. Н.г.'!K31","v":0},{"$f":"'Физ.разв. к 6г ч1. Н.г.'!L31","v":0},{"$f":"'Физ.разв. к 6г ч1. Н.г.'!M31","v":0},{"$f":"'Физ.разв. к 6г ч1. Н.г.'!N31","v":0},{"$f":"'Физ.разв. к 6г ч1. Н.г.'!O31","v":0},{"$f":"'Физ.разв. к 6г ч1. Н.г.'!P31","v":0},{"$f":"'Физ.разв. к 6г ч1. Н.г.'!Q31","v":0},{"$f":"'Физ.разв. к 6г ч1. Н.г.'!R31","v":0},{"$f":"'Физ.разв. к 6г ч1. Н.г.'!S31","v":0},{"$f":"'Физ.разв. к 6г ч1. Н.г.'!T31","v":0},{"$f":"'Физ.разв. к 6г ч1. Н.г.'!U31","v":0},{"$f":"'Физ.разв. к 6г ч1. Н.г.'!V31","v":0},{"$f":"'Физ.разв. к 6г ч1. Н.г.'!W31","v":0},{"$f":"'Физ.разв. к 6г ч1. Н.г.'!X31","v":0},{"$f":"'Физ.разв. к 6г ч2. Н.г.'!E32","v":0},{"$f":"'Физ.разв. к 6г ч2. Н.г.'!F32","v":0},{"$f":"'Физ.разв. к 6г ч2. Н.г.'!G32","v":0},{"$f":"'Физ.разв. к 6г ч2. Н.г.'!H32","v":0},{"$f":"'Физ.разв. к 6г ч2. Н.г.'!I32","v":0},{"$f":"'Физ.разв. к 6г ч2. Н.г.'!J32","v":0},{"$f":"'Физ.разв. к 6г ч2. Н.г.'!K32","v":0},{"$f":"'Физ.разв. к 6г ч2. Н.г.'!L32","v":0},{"$f":"'Физ.разв. к 6г ч2. Н.г.'!M32","v":0},{"$f":"'Физ.разв. к 6г ч2. Н.г.'!N32","v":0},{"$f":"'Физ.разв. к 6г ч2. Н.г.'!O32","v":0},{"$f":"'Физ.разв. к 6г ч2. Н.г.'!P32","v":0},{"$f":"'Физ.разв. к 6г ч2. Н.г.'!Q32","v":0},{"$f":"'Физ.разв. к 6г ч2. Н.г.'!R32","v":0},{"$f":"'Физ.разв. к 6г ч2. Н.г.'!S32","v":0},{"$f":"'Физ.разв. к 6г ч2. Н.г.'!T32","v":0},{"$f":"'Физ.разв. к 6г ч2. Н.г.'!U32","v":0},{"$f":"'Физ.разв. к 6г ч2. Н.г.'!V32","v":0},{"$f":"'Физ.разв. к 6г ч2. Н.г.'!W32","v":0},{"$f":"'Физ.разв. к 6г ч2. Н.г.'!X32","v":0},{"$f":"'Физ.разв. к 6г ч2. Н.г.'!Y32","v":0}]
["конец года",{"$f":"'Худ.эст.к 6г ч1. К.г. '!E31","v":0},{"$f":"'Худ.эст.к 6г ч1. К.г. '!F31","v":0},{"$f":"'Худ.эст.к 6г ч1. К.г. '!G31","v":0},{"$f":"'Худ.эст.к 6г ч1. К.г. '!H31","v":0},{"$f":"'Худ.эст.к 6г ч1. К.г. '!I31","v":0},{"$f":"'Худ.эст.к 6г ч1. К.г. '!J31","v":0},{"$f":"'Худ.эст.к 6г ч1. К.г. '!K31","v":0},{"$f":"'Худ.эст.к 6г ч1. К.г. '!L31","v":0},{"$f":"'Худ.эст.к 6г ч1. К.г. '!M31","v":0},{"$f":"'Худ.эст.к 6г ч1. К.г. '!N31","v":0},{"$f":"'Худ.эст.к 6г ч1. К.г. '!O31","v":0},{"$f":"'Худ.эст.к 6г ч2. К.г. '!E31","v":0},{"$f":"'Худ.эст.к 6г ч2. К.г. '!F31","v":0},{"$f":"'Худ.эст.к 6г ч2. К.г. '!G31","v":0},{"$f":"'Худ.эст.к 6г ч2. К.г. '!H31","v":0},{"$f":"'Худ.эст.к 6г ч2. К.г. '!I31","v":0},{"$f":"'Худ.эст.к 6г ч2. К.г. '!J31","v":0},{"$f":"'Худ.эст.к 6г ч2. К.г. '!K31","v":0},{"$f":"'Худ.эст.к 6г ч2. К.г. '!L31","v":0},{"$f":"'Худ.эст.к 6г ч2. К.г. '!M31","v":0},{"$f":"'Худ.эст.к 6г ч3. К.г. '!E31","v":0},{"$f":"'Худ.эст.к 6г ч3. К.г. '!F31","v":0},{"$f":"'Худ.эст.к 6г ч3. К.г. '!G31","v":0},{"$f":"'Худ.эст.к 6г ч3. К.г. '!H31","v":0},{"$f":"'Худ.эст.к 6г ч3. К.г. '!I31","v":0},{"$f":"'Худ.эст.к 6г ч3. К.г. '!J31","v":0},{"$f":"'Худ.эст.к 6г ч3. К.г. '!K31","v":0},{"$f":"'Худ.эст.к 6г ч3. К.г. '!L31","v":0},{"$f":"'Реч.разв.к 6г ч1. К.г. '!E30","v":0},{"$f":"'Реч.разв.к 6г ч1. К.г. '!F30","v":0},{"$f":"'Реч.разв.к 6г ч1. К.г. '!G30","v":0},{"$f":"'Реч.разв.к 6г ч1. К.г. '!H30","v":0},{"$f":"'Реч.разв.к 6г ч1. К.г. '!I30","v":0},{"$f":"'Реч.разв.к 6г ч1. К.г. '!J30","v":0},{"$f":"'Реч.разв.к 6г ч1. К.г. '!K30","v":0},{"$f":"'Реч.разв.к 6г ч1. К.г. '!L30","v":0},{"$f":"'Реч.разв.к 6г ч2. К.г. '!E30","v":0},{"$f":"'Реч.разв.к 6г ч2. К.г. '!F30","v":0},{"$f":"'Реч.разв.к 6г ч2. К.г. '!G30","v":0},{"$f":"'Реч.разв.к 6г ч2. К.г. '!H30","v":0},{"$f":"'Реч.разв.к 6г ч2. К.г. '!I30","v":0},{"$f":"'Реч.разв.к 6г ч2. К.г. '!J30","v":0},{"$f":"'Реч.разв.к 6г ч2. К.г. '!K30","v":0},{"$f":"'Реч.разв.к 6г ч2. К.г. '!L30","v":0},{"$f":"'Реч.разв.к 6г ч2. К.г. '!M30","v":0},{"$f":"'Реч.разв.к 6г ч2. К.г. '!N30","v":0},{"$f":"'Реч.разв.к 6г ч2. К.г. '!O30","v":0},{"$f":"'Реч.разв.к 6г ч2. К.г. '!P30","v":0},{"$f":"'Реч.разв.к 6г ч2. К.г. '!Q30","v":0},{"$f":"'Позн.разв. к 6г ч1. К.г. '!E31","v":0},{"$f":"'Позн.разв. к 6г ч1. К.г. '!F31","v":0},{"$f":"'Позн.разв. к 6г ч1. К.г. '!G31","v":0},{"$f":"'Позн.разв. к 6г ч1. К.г. '!H31","v":0},{"$f":"'Позн.разв. к 6г ч1. К.г. '!I31","v":0},{"$f":"'Позн.разв. к 6г ч1. К.г. '!J31","v":0},{"$f":"'Позн.разв. к 6г ч1. К.г. '!K31","v":0},{"$f":"'Позн.разв. к 6г ч1. К.г. '!L31","v":0},{"$f":"'Позн.разв. к 6г ч1. К.г. '!M31","v":0},{"$f":"'Позн.разв. к 6г ч1. К.г. '!N31","v":0},{"$f":"'Позн.разв. к 6г ч1. К.г. '!O31","v":0},{"$f":"'Позн.разв. к 6г ч1. К.г. '!P31","v":0},{"$f":"'Позн.разв. к 6г ч1. К.г. '!Q31","v":0},{"$f":"'Позн.разв. к 6г ч1. К.г. '!R31","v":0},{"$f":"'Позн.разв. к 6г ч1. К.г. '!S31","v":0},{"$f":"'Позн.разв. к 6г ч2. К.г. '!E31","v":0},{"$f":"'Позн.разв. к 6г ч2. К.г. '!F31","v":0},{"$f":"'Позн.разв. к 6г ч2. К.г. '!G31","v":0},{"$f":"'Позн.разв. к 6г ч2. К.г. '!H31","v":0},{"$f":"'Позн.разв. к 6г ч2. К.г. '!I31","v":0},{"$f":"'Позн.разв. к 6г ч2. К.г. '!J31","v":0},{"$f":"'Соц.ком.к 6г ч1. К.г. '!$E$30","v":0},{"$f":"'Соц.ком.к 6г ч1. К.г. '!$E$30","v":0},{"$f":"'Соц.ком.к 6г ч1. К.г. '!$E$30","v":0},{"$f":"'Соц.ком.к 6г ч1. К.г. '!$E$30","v":0},{"$f":"'Соц.ком.к 6г ч1. К.г. '!$E$30","v":0},{"$f":"'Соц.ком.к 6г ч1. К.г. '!$E$30","v":0},{"$f":"'Соц.ком.к 6г ч1. К.г. '!$E$30","v":0},{"$f":"'Соц.ком.к 6г ч1. К.г. '!$E$30","v":0},{"$f":"'Соц.ком.к 6г ч1. К.г. '!$E$30","v":0},{"$f":"'Соц.ком.к 6г ч1. К.г. '!$E$30","v":0},{"$f":"'Соц.ком.к 6г ч1. К.г. '!$E$30","v":0},{"$f":"'Соц.ком.к 6г ч1. К.г. '!$E$30","v":0},{"$f":"'Соц.ком.к 6г ч1. К.г. '!$E$30","v":0},{"$f":"'Соц.ком.к 6г ч1. К.г. '!$E$30","v":0},{"$f":"'Соц.ком.к 6г ч1. К.г. '!$E$30","v":0},{"$f":"'Соц.ком.к 6г ч1. К.г. '!$E$30","v":0},{"$f":"'Соц.ком.к 6г ч1. К.г. '!$E$30","v":0},{"$f":"'Соц.ком. к 6г ч2 К.г.'!E30","v":0},{"$f":"'Соц.ком. к 6г ч2 К.г.'!F30","v":0},{"$f":"'Соц.ком. к 6г ч2 К.г.'!G30","v":0},{"$f":"'Соц.ком. к 6г ч2 К.г.'!H30","v":0},{"$f":"'Соц.ком. к 6г ч2 К.г.'!I30","v":0},{"$f":"'Соц.ком. к 6г ч2 К.г.'!J30","v":0},{"$f":"'Соц.ком. к 6г ч2 К.г.'!K30","v":0},{"$f":"'Соц.ком. к 6г ч2 К.г.'!L30","v":0},{"$f":"'Соц.ком. к 6г ч2 К.г.'!M30","v":0},{"$f":"'Физ.разв. к 6г ч1. К.г. '!E31","v":0},{"$f":"'Физ.разв. к 6г ч1. К.г. '!F31","v":0},{"$f":"'Физ.разв. к 6г ч1. К.г. '!G31","v":0},{"$f":"'Физ.разв. к 6г ч1. К.г. '!H31","v":0},{"$f":"'Физ.разв. к 6г ч1. К.г. '!I31","v":0},{"$f":"'Физ.разв. к 6г ч1. К.г. '!J31","v":0},{"$f":"'Физ.разв. к 6г ч1. К.г. '!K31","v":0},{"$f":"'Физ.разв. к 6г ч1. К.г. '!L31","v":0},{"$f":"'Физ.разв. к 6г ч1. К.г. '!M31","v":0},{"$f":"'Физ.разв. к 6г ч1. К.г. '!N31","v":0},{"$f":"'Физ.разв. к 6г ч1. К.г. '!O31","v":0},{"$f":"'Физ.разв. к 6г ч1. К.г. '!P31","v":0},{"$f":"'Физ.разв. к 6г ч1. К.г. '!Q31","v":0},{"$f":"'Физ.разв. к 6г ч1. К.г. '!R31","v":0},{"$f":"'Физ.разв. к 6г ч1. К.г. '!S31","v":0},{"$f":"'Физ.разв. к 6г ч1. К.г. '!T31","v":0},{"$f":"'Физ.разв. к 6г ч1. К.г. '!U31","v":0},{"$f":"'Физ.разв. к 6г ч1. К.г. '!V31","v":0},{"$f":"'Физ.разв. к 6г ч1. К.г. '!W31","v":0},{"$f":"'Физ.разв. к 6г ч1. К.г. '!X31","v":0},{"$f":"'Физ.разв. к 6г ч2. К.г. '!E32","v":0},{"$f":"'Физ.разв. к 6г ч2. К.г. '!F32","v":0},{"$f":"'Физ.разв. к 6г ч2. К.г. '!G32","v":0},{"$f":"'Физ.разв. к 6г ч2. К.г. '!H32","v":0},{"$f":"'Физ.разв. к 6г ч2. К.г. '!I32","v":0},{"$f":"'Физ.разв. к 6г ч2. К.г. '!J32","v":0},{"$f":"'Физ.разв. к 6г ч2. К.г. '!K32","v":0},{"$f":"'Физ.разв. к 6г ч2. К.г. '!L32","v":0},{"$f":"'Физ.разв. к 6г ч2. К.г. '!M32","v":0},{"$f":"'Физ.разв. к 6г ч2. К.г. '!N32","v":0},{"$f":"'Физ.разв. к 6г ч2. К.г. '!O32","v":0},{"$f":"'Физ.разв. к 6г ч2. К.г. '!P32","v":0},{"$f":"'Физ.разв. к 6г ч2. К.г. '!Q32","v":0},{"$f":"'Физ.разв. к 6г ч2. К.г. '!R32","v":0},{"$f":"'Физ.разв. к 6г ч2. К.г. '!S32","v":0},{"$f":"'Физ.разв. к 6г ч2. К.г. '!T32","v":0},{"$f":"'Физ.разв. к 6г ч2. К.г. '!U32","v":0},{"$f":"'Физ.разв. к 6г ч2. К.г. '!V32","v":0},{"$f":"'Физ.разв. к 6г ч2. К.г. '!W32","v":0},{"$f":"'Физ.разв. к 6г ч2. К.г. '!X32","v":0},{"$f":"'Физ.разв. к 6г ч2. К.г. '!Y32","v":0}]

{"sheet":"21","index":48,"n_rows":11,"n_cols":138,"rows_kept":11,"merged":[[4,117,4,122],[4,123,4,126],[4,127,4,129],[4,130,4,132],[4,134,4,137],[5,0,8,0],[5,1,5,11],[5,12,5,19],[5,21,6,26],[5,27,6,28],[5,50,5,52],[5,53,5,55],[5,56,5,64],[5,65,5,66],[5,67,5,70],[5,117,5,118],[5,119,5,122],[5,123,6,123],[5,124,6,124],[5,125,6,125],[5,126,6,126],[5,127,8,127],[5,128,8,128],[5,129,8,129],[5,130,8,130],[5,131,8,131],[5,132,8,132],[5,133,8,133],[5,134,5,137],[6,1,6,4],[6,9,6,10],[6,12,6,13],[6,16,6,17],[6,18,6,19],[6,20,8,20],[6,30,6,31],[6,32,6,36],[6,38,6,43],[6,45,6,49],[6,53,8,53],[6,54,8,54],[6,55,8,55],[6,56,6,58],[6,62,6,64],[6,65,7,66],[6,67,6,68],[6,69,6,70],[6,71,6,87],[6,88,6,90],[6,91,6,95],[6,97,6,98],[6,99,6,101],[6,102,6,104],[6,105,6,107],[6,108,6,112],[6,113,6,114],[6,115,6,116],[6,117,8,117],[6,118,8,118],[6,119,8,119],[6,120,8,120],[6,121,8,121],[6,122,8,122],[6,134,8,134],[6,135,8,135],[6,136,8,136],[6,137,8,137],[7,1,8,1],[7,2,8,2],[7,3,8,3],[7,4,8,4],[7,5,8,5],[7,6,8,6],[7,7,8,7],[7,8,8,8],[7,9,8,9],[7,10,8,10],[7,11,8,11],[7,12,8,12],[7,13,8,13],[7,14,8,14],[7,15,8,15],[7,16,8,16],[7,17,8,17],[7,18,8,18],[7,19,8,19],[7,21,8,21],[7,22,8,22],[7,23,8,23],[7,24,8,24],[7,25,8,25],[7,26,8,26],[7,27,8,27],[7,28,8,28],[7,29,8,29],[7,30,8,30],[7,31,8,31],[7,32,8,32],[7,33,8,33],[7,34,8,34],[7,35,8,35],[7,36,8,36],[7,37,8,37],[7,38,8,38],[7,39,8,39],[7,40,8,40],[7,41,8,41],[7,42,8,42],[7,43,8,43],[7,44,8,44],[7,45,8,45],[7,46,8,46],[7,47,8,47],[7,48,8,48],[7,49,8,49],[7,50,7,52],[7,56,8,56],[7,57,8,57],[7,58,8,58],[7,59,8,59],[7,60,8,60],[7,61,8,61],[7,62,8,62],[7,63,8,63],[7,64,8,64],[7,67,8,67],[7,68,8,68],[7,69,8,69],[7,70,8,70],[7,71,7,72],[7,73,7,74],[7,75,7,76],[7,77,7,80],[7,82,7,84],[7,85,7,87],[7,88,8,88],[7,89,8,89],[7,90,8,90],[7,91,8,91],[7,92,8,92],[7,93,8,93],[7,94,8,94],[7,95,8,95],[7,96,8,96],[7,97,8,97],[7,98,8,98],[7,99,8,99],[7,100,8,100],[7,101,8,101],[7,102,7,104],[7,105,7,107],[7,108,7,112],[7,113,8,113],[7,114,8,114],[7,115,7,116],[7,123,8,123],[7,124,8,124],[7,125,8,125],[7,126,8,126]]}
[]
[]
[]
[]
[{"$nulls":117},"Мелкая моторика",{"$nulls":5},"КГН",{"$nulls":3},"ЗОЖ",null,null,"Подвижные игры",null,null,"Спорт. игры","Спортивные упражнения"]
[{"$f":"Список!B24","v":0},"Музыкальная деятельность",{"$nulls":10},"Изобразительная деятельность",{"$nulls":8},"Приобщение к искусству",{"$nulls":5},"Конструктивная деятельность",{"$nulls":22},"Сенсорные эталоны ",null,null,"Познавательные действия",null,null,"Математические представления",{"$nulls":8},"Окружающий мир",null,"Природа ",{"$nulls":49},"Координация рук и глаз",null,"Графические навыки",{"$nulls":3},"Навыки соблюдения чистоты тела (правила личной гигиены)","Навыки культуры еды (прием пищи) ","Навыки поддержания порядка (правила поведения в быту) ","Навыки ухода за собой (одевание, раздевание) ","Ребенок имеет представление о факторах, положительно/негативно влияющих на здоровье; владеет основными способами укрепления здоровья","Ребенок имеет представление о некоторых видах спорта (9 и больше), роли спорта для укрепления здоровья","Ребенок проявляет заботливое отношение к своему здоровью и здоровью окружающих","Ребенок проявляет доступный возрасту самоконтроль","Ребенок  способен привлечь внимание других детей и организовать знакомую подвижную игру","Ребенок придумывает новые варианты игр, комбинирует движения","Ребенок имеет представление об элементах спортивных игр (городки, баскетбол, бадминтон, футбол), умеет выполнять некоторые виды движений","Ребенок умеет кататься"]
[null,"Слушание",{"$nulls":3},"Пение ","Музыкально-ритмические движения","Песенное творчество","Игра на детских музыкальных инструментах","Театрализованная деятельность",null,"Танцевально-игровое творчество","Рисование ",null,"Лепка ","Аппликация ","Народное ДПИ",null,"Прикладное творчество",null,"Ребенок самостоятельно определяет замысел рисунка, аппликации, лепки, поделки, создает образы и композиционные изображения, использует разнообразные материалы",{"$nulls":8},"Общее речевое развитие","Формирование словаря",null,"Грамматический строй",{"$nulls":4},"Звуковая культура речи","Связная речь",{"$nulls":5},"ЧХЛ","Подготовка к обучению грамоте",{"$nulls":4},"Цвет, оттенки","Форма, геометрические фигуры","Величина","Ребенок охотно участвует в обсуждении проблемы для совместного нахождения способов ее решения, предлагает пути решения, устанавливает закономерности причинно-следственного характера, проявляет любознательность","Ребенок использует математические знания, способы и средства для познания окружающего мира","Ребенок способен к произвольным умственным действиям, логическим операциям анализа, сравнения, обобщения, систематизации, классификации","Количество и счет",null,null,"Ориентировка во времени","Ориентировка в пространстве","Пространственно-количественные связи и отношения","Сравнение",null,null,"Ребенок имеет представления, может показать на картинке и в естественной среде, может рассказать",null,"Объекты живой природы",null,"Объекты неживой природы, природные явления",null,"Сфера социальных отношений",{"$nulls":16},"Область формирования основ гражданственности и патриотизма",null,null,"Сфера трудового воспитания",{"$nulls":4},"Область формирования основ безопасного поведения","Бросание, катание, ловля, метание",null,"Ползанье, лазанье",null,null,"Ходьба",null,null,"Бег",null,null,"Прыжки",{"$nulls":4},"Равновесие",null,"Строевые упражнения",null,"Ребенок может найти выход из лабиринта","Ребенок может нарисовать простой узор, изображение, не отрывая руки","Ребенок может повторить узор с чередующимися элементами","Ребенок закрашивает контурное изображение с множеством мелких деталей, не выходя за контур","Ребенок может соединить точки для получения изображения","Ребенок рисует геометрический орнамент по клеткам",{"$nulls":11},"на санках","на лыжах","на двухколесном велосипеде","на самокате"]
[null,"Ребенок различает жанры музыкальных произведений (песня, танец, марш)","Ребенок узнает мелодию по отдельным фрагментам произведения (вступление, заключение, музыкальная фраза)","Ребенок различает звуки по высоте в пределах квинты","Ребенок различает звучание музыкальных инструментов (клавишно-ударных, струнных)","Ребенок демонстрирует развитые певческие навыки","Ребенок демонстрирует развитые навыки исполнения танцевальных движений","Ребенок может импровизировать мелодию на заданный текст","Ребенок демонстрирует навыки игры на детских музыкальных инструментах","Ребенок имеет представление о различных видах театрального искусства","Ребенок с удовольствие занимается театрализованной деятельностью","Ребенок может придумывать движения к танцам","Ребенок передает в изображении основные свойства предметов (форма, величина, цвет), характерные детали, соотношение предметов и их частей по величине, высоте, расположению относительно друг друга","Ребенок владеет основными способами и приемами рисования различными изобразительными материалами (цветные карандаши, гуашь, акварель, цветные мелки, пастель, сангина, угольный карандаш, фломастеры)","Ребенок лепит с натуры и по представлению знакомые предметы, передавая характерные особенности пластическим, конструктивным и комбинированным способами","Ребенок умеет пользоваться ножницами","Ребенок имеет представление о полхов-майданской, гжельской росписи","Ребенок может нарисовать узор, используя элементы  росписи","Ребенок умеет работать с бумагой (сгибать лист, сглаживать сгибы, надрезать по сгибам)","Ребенок умеет работать с природным и бросовым материалом",null,"Ребенок умеет выделять, называть, группировать произведения по видам искусства: литература, музыка, изобразительное искусство, архитектура, театр, цирк","Ребенок имеет представление о видах изобразительного искусства: графика, декоративно-прикладное искусство, живопись, скульптура, архитектура, фотоискусство","Ребенок имеет представление о жанрах изобразительного искусства: натюрморт, пейзаж, портрет","Ребенок имеет представление о народном искусстве, фольклоре, музыке и художественных промыслах","Ребенок имеет представление о творческих профессиях: художник, композитор, музыкант, актер, артист балета","Ребенок имеет представление о культурно-досуговых местах: театр, музей, библиотека, выставка, кинотеатр, цирк и др.","Ребенок может провести анализ постройки (выделить основные части и характерные детали конструкций)","Ребенок может выполнить постройку по инструкции","Ребенок внятно разговаривает","Ребенок умеет обобщать предметы в группы по существенным признакам","Ребенок демонстрирует богатый словарный запас","Ребенок правильно использует в речи: несклоняемые существительные","Ребенок правильно использует в речи: слова, имеющие только множественное или только единственное число","Ребенок правильно использует в речи: глаголы одеть-надеть","Ребенок правильно использует в речи: существительные множественного числа в родительном падеже","Ребенок правильно образовывает слова с помощью суффикса, приставки","Ребенок правильно произносит сонорные звуки: л-ль, р-рь","Ребенок пересказывает литературные произведения по ролям, по частям, правильно передавая идею и содержание","Ребенок пользуется прямой и косвенной речью","Ребенок составляет короткий описательный рассказ о предметах, объектах и явлениях природы, из личного опыта","Ребенок сочиняет сюжетные рассказы по картине, из личного опыта","Ребенок проявляет речевое творчество: придумывает продолжение и окончание к рассказу, рассказы по аналогии, по плану педагога, по модели","Ребенок владеет первичными приемами аргументации и доказательства","Ребенок проявляет избирательное отношение к произведениям определенной тематики и жанра","Ребенок понимает термины: слово: звук, буква, предложение, гласный звук, согласный звук","Ребенок может провести звуковой анализ слова, разделить на слоги двух-, трехслоговые слова; составляет схему слова","Ребенок различает гласные-согласные звуки","Ребенок определяет твердые-мягкие согласные","Ребенок составляет предложение по модели, определяет количество и последовательность слов в предложении","Ребенок различает и называет",{"$nulls":5},"Ребенок знает/называет/находит среди других цифры 0 -10","Ребенок выполняет количественный и порядковый счет в пределах 0-10","Ребенок знает состав чисел из единиц в пределах 5","Ребенок понимает календарные единицы времени (сутки, неделя, месяц, год)","Ребенок ориентируется на листе бумаги","Ребенок понимает простейшую графическую информацию об отношениях предметов (слева направо, справа налево, снизу вверх, сверху вниз)","Ребенок выделяет сходства и отличия между группами предметов","Ребенок сравнивает предметы по 3-5 признакам","Ребенок группирует предметы по разным основаниям, преимущественно на основе зрительной оценки",null,null,"Ребенок имеет представление о сходстве и различии во внешнем виде и образе жизни объектов животного и растительного мира в разные сезоны года","Ребенок может сравнивать, группировать объекты живой природы по их особенностям, мету обитания, образу жизни, питанию","Ребенок имеет представление о признаках разных времен года","Ребенок наблюдает за явлениями природы, фиксирует результаты наблюдения","Отношение к самому себе",null,"Отношение к сверстникам",null,"Отношение к взрослым",null,"Эмоции",{"$nulls":3},"Поведение","Семья",null,null,"Игровое поведение",null,null,"Ребенок имеет представление о государственных символах России (герб, гимн, флаг)","Ребенок имеет представление о государственных праздниках России","Ребенок знает/может назвать/показать на картинке и в естественной среде достопримечательности населенного пункта, в котором живет","Ребенок имеет представления о разных видах производительного труда (промышленность, строительство, сельское хозяйство)","Ребенок имеет представления о разных видах обслуживающего труда (сфера досуга и отдыха, сфера культуры, медицина, торговля)","Ребенок имеет представление о структуре трудового процесса (мотив, цель, инструменты, оборудование, содержание действий, выбор трудовых действий, результат)","Ребенок имеет элементарные экономические представления (назначение рекламы, денег)","Ребенок охотно участвует в выполнении трудовых поручений, дежурстве; может распределять трудовые обязанности с другими","Ребенок имеет представления/ соблюдает правила поведения в быту, на улице, в природе, в общении с людьми, с животными","Ребенок выполняет различные упражнения с мячом (прокатывание, передача, перебрасывание, ведение, подбрасывание, ловля, забрасывание)","Ребенок выполняет метание в цель, метание в даль предметов разной массы","Ребенок выполняет ползанье разными способами (на четвереньках, на животе)","Ребенок выполняет переползание через несколько предметов подряд, под дугами, в туннеле","Ребенок выполняет лазанье по гимнастической стенке чередующимся шагом","Ребенок выполняет различные виды ходьбы",null,null,"Ребенок выполняет различные виды бега",null,null,"Ребенок выполняет различные виды прыжков",{"$nulls":4},"Ребенок выполняет стойку на одной ноге ","Ребенок выполняет упражнение \"ласточка\" ","Ребенок выполняет различные виды строевых упражнений",{"$nulls":7},"Ребенок выполняет самостоятельно","Ребенок выполняет самостоятельно","Ребенок выполняет самостоятельно","Ребенок выполняет самостоятельно"]
[{"$nulls":50},"Ребенок называет/различает все цвета спектра и ахроматические цвета, оттенки цвета, тоны цвета, теплые и холодные оттенки","Ребенок владеет способами воссоздания фигуры из частей, деления фигуры на части","Ребенок может выстраивать сериационные ряды предметов, различающихся по размеру в возрастающем и убывающем порядке в пределах 10",{"$nulls":12},"о многообразии людей разных национальностей (особенностей внешнего вида, одежды, традиций)","Ребенок имеет представление о многообразии стран и народов мира",{"$nulls":4},"Ребенок может рассказать о себе, выразить собственные потребности, желания","Ребенок имеет представление о некоторых своих правах","Ребенок имеет предпочтения в общении","Ребенок охотно вступает в общение со сверстниками","Ребенок уважительно относится к взрослым, пожилым людям","Ребенок охотно вступает в общение со взрослыми","Ребенок понимает свои и чужие эмоциональные состояния, демонстрирует примеры эмоциональной поддержки ","Ребенок  откликается на просьбу помочь","Ребенок выразить чувства и эмоции в мимике, пантомимике, действиях, интонации","Ребенок демонстрирует адекватные возрасту способы регуляции эмоциональных состояний","Ребенок ориентируется на общепринятые нормы и правила культуры поведения","Ребенок знает членов своей семьи, ближайших родственников по линии матери и отца","Ребенок имеет представление о способах поддержки родственных связей (переписка, разговор, совместный отдых, традиции, походы в гости и др.)","Ребенок проявляет заботу по отношению к членам своей семьи, оказывает посильную помощь больному члену семьи","Ребенок в совместной деятельности принимает общую цель, договаривается о способах деятельности и материалах, может уступить в конфликтной ситуации","Ребенок проявляет интерес к игровому экспериментированию, развивающим и познавательным играм","Ребенок способен действовать в точном соответствие с игровой задачей и правилами",{"$nulls":14},"обычным шагом, на носках, на пятках, с высоким подниманием колен","приставной, в полуприседе, мелким и широким, перекатом с пятки на носок, гимнастическим","змейкой без ориентиров, в колонне по одному и по два","в колонне по одному, змейкой, с перестроением на ходу в пары, звенья","со сменой ведущих, с пролезанием в обруч, с ловлей и увертыванием, высоко поднимая колени","между расставленными предметами, в заданном темпе, мелким и широким шагом","подпрыгивание, перепрыгивание, спрыгивание","в длину с места","в высоту с разбега","в длину с разбега","со скакалкой",null,null,"построения (по росту, в колонну по одному, в шеренгу, в круг)","в колонну по три, в две шеренги на месте, расхождение из колонны в разные стороны"]
["начало года",{"$f":"'Худ.эст.к 6г ч1. Н.г.'!E32","v":0},{"$f":"'Худ.эст.к 6г ч1. Н.г.'!F32","v":0},{"$f":"'Худ.эст.к 6г ч1. Н.г.'!G32","v":0},{"$f":"'Худ.эст.к 6г ч1. Н.г.'!H32","v":0},{"$f":"'Худ.эст.к 6г ч1. Н.г.'!I32","v":0},{"$f":"'Худ.эст.к 6г ч1. Н.г.'!J32","v":0},{"$f":"'Худ.эст.к 6г ч1. Н.г.'!K32","v":0},{"$f":"'Худ.эст.к 6г ч1. Н.г.'!L32","v":0},{"$f":"'Худ.эст.к 6г ч1. Н.г.'!M32","v":0},{"$f":"'Худ.эст.к 6г ч1. Н.г.'!N32","v":0},{"$f":"'Худ.эст.к 6г ч1. Н.г.'!O32","v":0},{"$f":"'Худ.эст.к 6г ч2. Н.г.'!E32","v":0},{"$f":"'Худ.эст.к 6г ч2. Н.г.'!F32","v":0},{"$f":"'Худ.эст.к 6г ч2. Н.г.'!G32","v":0},{"$f":"'Худ.эст.к 6г ч2. Н.г.'!H32","v":0},{"$f":"'Худ.эст.к 6г ч2. Н.г.'!I32","v":0},{"$f":"'Худ.эст.к 6г ч2. Н.г.'!J32","v":0},{"$f":"'Худ.эст.к 6г ч2. Н.г.'!K32","v":0},{"$f":"'Худ.эст.к 6г ч2. Н.г.'!L32","v":0},{"$f":"'Худ.эст.к 6г ч2. Н.г.'!M32","v":0},{"$f":"'Худ.эст.к 6г ч3. Н.г.'!E32","v":0},{"$f":"'Худ.эст.к 6г ч3. Н.г.'!F32","v":0},{"$f":"'Худ.эст.к 6г ч3. Н.г.'!G32","v":0},{"$f":"'Худ.эст.к 6г ч3. Н.г.'!H32","v":0},{"$f":"'Худ.эст.к 6г ч3. Н.г.'!I32","v":0},{"$f":"'Худ.эст.к 6г ч3. Н.г.'!J32","v":0},{"$f":"'Худ.эст.к 6г ч3. Н.г.'!K32","v":0},{"$f":"'Худ.эст.к 6г ч3. Н.г.'!L32","v":0},{"$f":"'Реч.разв.к 6г ч1. Н.г.'!E31","v":0},{"$f":"'Реч.разв.к 6г ч1. Н.г.'!F31","v":0},{"$f":"'Реч.разв.к 6г ч1. Н.г.'!G31","v":0},{"$f":"'Реч.разв.к 6г ч1. Н.г.'!H31","v":0},{"$f":"'Реч.разв.к 6г ч1. Н.г.'!I31","v":0},{"$f":"'Реч.разв.к 6г ч1. Н.г.'!J31","v":0},{"$f":"'Реч.разв.к 6г ч1. Н.г.'!K31","v":0},{"$f":"'Реч.разв.к 6г ч1. Н.г.'!L31","v":0},{"$f":"'Реч.разв.к 6г ч2. Н.г.'!E31","v":0},{"$f":"'Реч.разв.к 6г ч2. Н.г.'!F31","v":0},{"$f":"'Реч.разв.к 6г ч2. Н.г.'!G31","v":0},{"$f":"'Реч.разв.к 6г ч2. Н.г.'!H31","v":0},{"$f":"'Реч.разв.к 6г ч2. Н.г.'!I31","v":0},{"$f":"'Реч.разв.к 6г ч2. Н.г.'!J31","v":0},{"$f":"'Реч.разв.к 6г ч2. Н.г.'!K31","v":0},{"$f":"'Реч.разв.к 6г ч2. Н.г.'!L31","v":0},{"$f":"'Реч.разв.к 6г ч2. Н.г.'!M31","v":0},{"$f":"'Реч.разв.к 6г ч2. Н.г.'!N31","v":0},{"$f":"'Реч.разв.к 6г ч2. Н.г.'!O31","v":0},{"$f":"'Реч.разв.к 6г ч2. Н.г.'!P31","v":0},{"$f":"'Реч.разв.к 6г ч2. Н.г.'!Q31","v":0},{"$f":"'Позн.разв. к 6г ч1. Н.г.'!E32","v":0},{"$f":"'Позн.разв. к 6г ч1. Н.г.'!F32","v":0},{"$f":"'Позн.разв. к 6г ч1. Н.г.'!G32","v":0},{"$f":"'Позн.разв. к 6г ч1. Н.г.'!H32","v":0},{"$f":"'Позн.разв. к 6г ч1. Н.г.'!I32","v":0},{"$f":"'Позн.разв. к 6г ч1. Н.г.'!J32","v":0},{"$f":"'Позн.разв. к 6г ч1. Н.г.'!K32","v":0},{"$f":"'Позн.разв. к 6г ч1. Н.г.'!L32","v":0},{"$f":"'Позн.разв. к 6г ч1. Н.г.'!M32","v":0},{"$f":"'Позн.разв. к 6г ч1. Н.г.'!N32","v":0},{"$f":"'Позн.разв. к 6г ч1. Н.г.'!O32","v":0},{"$f":"'Позн.разв. к 6г ч1. Н.г.'!P32","v":0},{"$f":"'Позн.разв. к 6г ч1. Н.г.'!Q32","v":0},{"$f":"'Позн.разв. к 6г ч1. Н.г.'!R32","v":0},{"$f":"'Позн.разв. к 6г ч1. Н.г.'!S32","v":0},{"$f":"'Позн.разв. к 6г ч2. Н.г.'!E32","v":0},{"$f":"'Позн.разв. к 6г ч2. Н.г.'!F32","v":0},{"$f":"'Позн.разв. к 6г ч2. Н.г.'!G32","v":0},{"$f":"'Позн.разв. к 6г ч2. Н.г.'!H32","v":0},{"$f":"'Позн.разв. к 6г ч2. Н.г.'!I32","v":0},{"$f":"'Позн.разв. к 6г ч2. Н.г.'!J32","v":0},{"$f":"'Соц.ком.к 6г ч1. Н.г.'!E31","v":0},{"$f":"'Соц.ком.к 6г ч1. Н.г.'!F31","v":0},{"$f":"'Соц.ком.к 6г ч1. Н.г.'!G31","v":0},{"$f":"'Соц.ком.к 6г ч1. Н.г.'!H31","v":0},{"$f":"'Соц.ком.к 6г ч1. Н.г.'!I31","v":0},{"$f":"'Соц.ком.к 6г ч1. Н.г.'!J31","v":0},{"$f":"'Соц.ком.к 6г ч1. Н.г.'!K31","v":0},{"$f":"'Соц.ком.к 6г ч1. Н.г.'!L31","v":0},{"$f":"'Соц.ком.к 6г ч1. Н.г.'!M31","v":0},{"$f":"'Соц.ком.к 6г ч1. Н.г.'!N31","v":0},{"$f":"'Соц.ком.к 6г ч1. Н.г.'!O31","v":0},{"$f":"'Соц.ком.к 6г ч1. Н.г.'!P31","v":0},{"$f":"'Соц.ком.к 6г ч1. Н.г.'!Q31","v":0},{"$f":"'Соц.ком.к 6г ч1. Н.г.'!R31","v":0},{"$f":"'Соц.ком.к 6г ч1. Н.г.'!S31","v":0},{"$f":"'Соц.ком.к 6г ч1. Н.г.'!T31","v":0},{"$f":"'Соц.ком.к 6г ч1. Н.г.'!U31","v":0},{"$f":"'Соц.ком. к 6г ч2. Н.г.'!E31","v":0},{"$f":"'Соц.ком. к 6г ч2. Н.г.'!F31","v":0},{"$f":"'Соц.ком. к 6г ч2. Н.г.'!G31","v":0},{"$f":"'Соц.ком. к 6г ч2. Н.г.'!H31","v":0},{"$f":"'Соц.ком. к 6г ч2. Н.г.'!I31","v":0},{"$f":"'Соц.ком. к 6г ч2. Н.г.'!J31","v":0},{"$f":"'Соц.ком. к 6г ч2. Н.г.'!K31","v":0},{"$f":"'Соц.ком. к 6г ч2. Н.г.'!L31","v":0},{"$f":"'Соц.ком. к 6г ч2. Н.г.'!M31","v":0},{"$f":"'Физ.разв. к 6г ч1. Н.г.'!E32","v":0},{"$f":"'Физ.разв. к 6г ч1. Н.г.'!F32","v":0},{"$f":"'Физ.разв. к 6г ч1. Н.г.'!G32","v":0},{"$f":"'Физ.разв. к 6г ч1. Н.г.'!H32","v":0},{"$f":"'Физ.разв. к 6г ч1. Н.г.'!I32","v":0},{"$f":"'Физ.разв. к 6г ч1. Н.г.'!J32","v":0},{"$f":"'Физ.разв. к 6г ч1. Н.г.'!K32","v":0},{"$f":"'Физ.разв. к 6г ч1. Н.г.'!L32","v":0},{"$f":"'Физ.разв. к 6г ч1. Н.г.'!M32","v":0},{"$f":"'Физ.разв. к 6г ч1. Н.г.'!N32","v":0},{"$f":"'Физ.разв. к 6г ч1. Н.г.'!O32","v":0},{"$f":"'Физ.разв. к 6г ч1. Н.г.'!P32","v":0},{"$f":"'Физ.разв. к 6г ч1. Н.г.'!Q32","v":0},{"$f":"'Физ.разв. к 6г ч1. Н.г.'!R32","v":0},{"$f":"'Физ.разв. к 6г ч1. Н.г.'!S32","v":0},{"$f":"'Физ.разв. к 6г ч1. Н.г.'!T32","v":0},{"$f":"'Физ.разв. к 6г ч1. Н.г.'!U32","v":0},{"$f":"'Физ.разв. к 6г ч1. Н.г.'!V32","v":0},{"$f":"'Физ.разв. к 6г ч1. Н.г.'!W32","v":0},{"$f":"'Физ.разв. к 6г ч1. Н.г.'!X32","v":0},{"$f":"'Физ.разв. к 6г ч2. Н.г.'!E33","v":0},{"$f":"'Физ.разв. к 6г ч2. Н.г.'!F33","v":0},{"$f":"'Физ.разв. к 6г ч2. Н.г.'!G33","v":0},{"$f":"'Физ.разв. к 6г ч2. Н.г.'!H33","v":0},{"$f":"'Физ.разв. к 6г ч2. Н.г.'!I33","v":0},{"$f":"'Физ.разв. к 6г ч2. Н.г.'!J33","v":0},{"$f":"'Физ.разв. к 6г ч2. Н.г.'!K33","v":0},{"$f":"'Физ.разв. к 6г ч2. Н.г.'!L33","v":0},{"$f":"'Физ.разв. к 6г ч2. Н.г.'!M33","v":0},{"$f":"'Физ.разв. к 6г ч2. Н.г.'!N33","v":0},{"$f":"'Физ.разв. к 6г ч2. Н.г.'!O33","v":0},{"$f":"'Физ.разв. к 6г ч2. Н.г.'!P33","v":0},{"$f":"'Физ.разв. к 6г ч2. Н.г.'!Q33","v":0},{"$f":"'Физ.разв. к 6г ч2. Н.г.'!R33","v":0},{"$f":"'Физ.разв. к 6г ч2. Н.г.'!S33","v":0},{"$f":"'Физ.разв. к 6г ч2. Н.г.'!T33","v":0},{"$f":"'Физ.разв. к 6г ч2. Н.г.'!U33","v":0},{"$f":"'Физ.разв. к 6г ч2. Н.г.'!V33","v":0},{"$f":"'Физ.разв. к 6г ч2. Н.г.'!W33","v":0},{"$f":"'Физ.разв. к 6г ч2. Н.г.'!X33","v":0},{"$f":"'Физ.разв. к 6г ч2. Н.г.'!Y33","v":0}]
["конец года",{"$f":"'Худ.эст.к 6г ч1. К.г. '!E32","v":0},{"$f":"'Худ.эст.к 6г ч1. К.г. '!F32","v":0},{"$f":"'Худ.эст.к 6г ч1. К.г. '!G32","v":0},{"$f":"'Худ.эст.к 6г ч1. К.г. '!H32","v":0},{"$f":"'Худ.эст.к 6г ч1. К.г. '!I32","v":0},{"$f":"'Худ.эст.к 6г ч1. К.г. '!J32","v":0},{"$f":"'Худ.эст.к 6г ч1. К.г. '!K32","v":0},{"$f":"'Худ.эст.к 6г ч1. К.г. '!L32","v":0},{"$f":"'Худ.эст.к 6г ч1. К.г. '!M32","v":0},{"$f":"'Худ.эст.к 6г ч1. К.г. '!N32","v":0},{"$f":"'Худ.эст.к 6г ч1. К.г. '!O32","v":0},{"$f":"'Худ.эст.к 6г ч2. К.г. '!E32","v":0},{"$f":"'Худ.эст.к 6г ч2. К.г. '!F32","v":0},{"$f":"'Худ.эст.к 6г ч2. К.г. '!G32","v":0},{"$f":"'Худ.эст.к 6г ч2. К.г. '!H32","v":0},{"$f":"'Худ.эст.к 6г ч2. К.г. '!I32","v":0},{"$f":"'Худ.эст.к 6г ч2. К.г. '!J32","v":0},{"$f":"'Худ.эст.к 6г ч2. К.г. '!K32","v":0},{"$f":"'Худ.эст.к 6г ч2. К.г. '!L32","v":0},{"$f":"'Худ.эст.к 6г ч2. К.г. '!M32","v":0},{"$f":"'Худ.эст.к 6г ч3. К.г. '!E32","v":0},{"$f":"'Худ.эст.к 6г ч3. К.г. '!F32","v":0},{"$f":"'Худ.эст.к 6г ч3. К.г. '!G32","v":0},{"$f":"'Худ.эст.к 6г ч3. К.г. '!H32","v":0},{"$f":"'Худ.эст.к 6г ч3. К.г. '!I32","v":0},{"$f":"'Худ.эст.к 6г ч3. К.г. '!J32","v":0},{"$f":"'Худ.эст.к 6г ч3. К.г. '!K32","v":0},{"$f":"'Худ.эст.к 6г ч3. К.г. '!L32","v":0},{"$f":"'Реч.разв.к 6г ч1. К.г. '!E31","v":0},{"$f":"'Реч.разв.к 6г ч1. К.г. '!F31","v":0},{"$f":"'Реч.разв.к 6г ч1. К.г. '!G31","v":0},{"$f":"'Реч.разв.к 6г ч1. К.г. '!H31","v":0},{"$f":"'Реч.разв.к 6г ч1. К.г. '!I31","v":0},{"$f":"'Реч.разв.к 6г ч1. К.г. '!J31","v":0},{"$f":"'Реч.разв.к 6г ч1. К.г. '!K31","v":0},{"$f":"'Реч.разв.к 6г ч1. К.г. '!L31","v":0},{"$f":"'Реч.разв.к 6г ч2. К.г. '!E31","v":0},{"$f":"'Реч.разв.к 6г ч2. К.г. '!F31","v":0},{"$f":"'Реч.разв.к 6г ч2. К.г. '!G31","v":0},{"$f":"'Реч.разв.к 6г ч2. К.г. '!H31","v":0},{"$f":"'Реч.разв.к 6г ч2. К.г. '!I31","v":0},{"$f":"'Реч.разв.к 6г ч2. К.г. '!J31","v":0},{"$f":"'Реч.разв.к 6г ч2. К.г. '!K31","v":0},{"$f":"'Реч.разв.к 6г ч2. К.г. '!L31","v":0},{"$f":"'Реч.разв.к 6г ч2. К.г. '!M31","v":0},{"$f":"'Реч.разв.к 6г ч2. К.г. '!N31","v":0},{"$f":"'Реч.разв.к 6г ч2. К.г. '!O31","v":0},{"$f":"'Реч.разв.к 6г ч2. К.г. '!P31","v":0},{"$f":"'Реч.разв.к 6г ч2. К.г. '!Q31","v":0},{"$f":"'Позн.разв. к 6г ч1. К.г. '!E32","v":0},{"$f":"'Позн.разв. к 6г ч1. К.г. '!F32","v":0},{"$f":"'Позн.разв. к 6г ч1. К.г. '!G32","v":0},{"$f":"'Позн.разв. к 6г ч1. К.г. '!H32","v":0},{"$f":"'Позн.разв. к 6г ч1. К.г. '!I32","v":0},{"$f":"'Позн.разв. к 6г ч1. К.г. '!J32","v":0},{"$f":"'Позн.разв. к 6г ч1. К.г. '!K32","v":0},{"$f":"'Позн.разв. к 6г ч1. К.г. '!L32","v":0},{"$f":"'Позн.разв. к 6г ч1. К.г. '!M32","v":0},{"$f":"'Позн.разв. к 6г ч1. К.г. '!N32","v":0},{"$f":"'Позн.разв. к 6г ч1. К.г. '!O32","v":0},{"$f":"'Позн.разв. к 6г ч1. К.г. '!P32","v":0},{"$f":"'Позн.разв. к 6г ч1. К.г. '!Q32","v":0},{"$f":"'Позн.разв. к 6г ч1. К.г. '!R32","v":0},{"$f":"'Позн.разв. к 6г ч1. К.г. '!S32","v":0},{"$f":"'Позн.разв. к 6г ч2. К.г. '!E32","v":0},{"$f":"'Позн.разв. к 6г ч2. К.г. '!F32","v":0},{"$f":"'Позн.разв. к 6г ч2. К.г. '!G32","v":0},{"$f":"'Позн.разв. к 6г ч2. К.г. '!H32","v":0},{"$f":"'Позн.разв. к 6г ч2. К.г. '!I32","v":0},{"$f":"'Позн.разв. к 6г ч2. К.г. '!J32","v":0},{"$f":"'Соц.ком.к 6г ч1. К.г. '!$E$31","v":0},{"$f":"'Соц.ком.к 6г ч1. К.г. '!$E$31","v":0},{"$f":"'Соц.ком.к 6г ч1. К.г. '!$E$31","v":0},{"$f":"'Соц.ком.к 6г ч1. К.г. '!$E$31","v":0},{"$f":"'Соц.ком.к 6г ч1. К.г. '!$E$31","v":0},{"$f":"'Соц.ком.к 6г ч1. К.г. '!$E$31","v":0},{"$f":"'Соц.ком.к 6г ч1. К.г. '!$E$31","v":0},{"$f":"'Соц.ком.к 6г ч1. К.г. '!$E$31","v":0},{"$f":"'Соц.ком.к 6г ч1. К.г. '!$E$31","v":0},{"$f":"'Соц.ком.к 6г ч1. К.г. '!$E$31","v":0},{"$f":"'Соц.ком.к 6г ч1. К.г. '!$E$31","v":0},{"$f":"'Соц.ком.к 6г ч1. К.г. '!$E$31","v":0},{"$f":"'Соц.ком.к 6г ч1. К.г. '!$E$31","v":0},{"$f":"'Соц.ком.к 6г ч1. К.г. '!$E$31","v":0},{"$f":"'Соц.ком.к 6г ч1. К.г. '!$E$31","v":0},{"$f":"'Соц.ком.к 6г ч1. К.г. '!$E$31","v":0},{"$f":"'Соц.ком.к 6г ч1. К.г. '!$E$31","v":0},{"$f":"'Соц.ком. к 6г ч2 К.г.'!E31","v":0},{"$f":"'Соц.ком. к 6г ч2 К.г.'!F31","v":0},{"$f":"'Соц.ком. к 6г ч2 К.г.'!G31","v":0},{"$f":"'Соц.ком. к 6г ч2 К.г.'!H31","v":0},{"$f":"'Соц.ком. к 6г ч2 К.г.'!I31","v":0},{"$f":"'Соц.ком. к 6г ч2 К.г.'!J31","v":0},{"$f":"'Соц.ком. к 6г ч2 К.г.'!K31","v":0},{"$f":"'Соц.ком. к 6г ч2 К.г.'!L31","v":0},{"$f":"'Соц.ком. к 6г ч2 К.г.'!M31","v":0},{"$f":"'Физ.разв. к 6г ч1. К.г. '!E32","v":0},{"$f":"'Физ.разв. к 6г ч1. К.г. '!F32","v":0},{"$f":"'Физ.разв. к 6г ч1. К.г. '!G32","v":0},{"$f":"'Физ.разв. к 6г ч1. К.г. '!H32","v":0},{"$f":"'Физ.разв. к 6г ч1. К.г. '!I32","v":0},{"$f":"'Физ.разв. к 6г ч1. К.г. '!J32","v":0},{"$f":"'Физ.разв. к 6г ч1. К.г. '!K32","v":0},{"$f":"'Физ.разв. к 6г ч1. К.г. '!L32","v":0},{"$f":"'Физ.разв. к 6г ч1. К.г. '!M32","v":0},{"$f":"'Физ.разв. к 6г ч1. К.г. '!N32","v":0},{"$f":"'Физ.разв. к 6г ч1. К.г. '!O32","v":0},{"$f":"'Физ.разв. к 6г ч1. К.г. '!P32","v":0},{"$f":"'Физ.разв. к 6г ч1. К.г. '!Q32","v":0},{"$f":"'Физ.разв. к 6г ч1. К.г. '!R32","v":0},{"$f":"'Физ.разв. к 6г ч1. К.г. '!S32","v":0},{"$f":"'Физ.разв. к 6г ч1. К.г. '!T32","v":0},{"$f":"'Физ.разв. к 6г ч1. К.г. '!U32","v":0},{"$f":"'Физ.разв. к 6г ч1. К.г. '!V32","v":0},{"$f":"'Физ.разв. к 6г ч1. К.г. '!W32","v":0},{"$f":"'Физ.разв. к 6г ч1. К.г. '!X32","v":0},{"$f":"'Физ.разв. к 6г ч2. К.г. '!E33","v":0},{"$f":"'Физ.разв. к 6г ч2. К.г. '!F33","v":0},{"$f":"'Физ.разв. к 6г ч2. К.г. '!G33","v":0},{"$f":"'Физ.разв. к 6г ч2. К.г. '!H33","v":0},{"$f":"'Физ.разв. к 6г ч2. К.г. '!I33","v":0},{"$f":"'Физ.разв. к 6г ч2. К.г. '!J33","v":0},{"$f":"'Физ.разв. к 6г ч2. К.г. '!K33","v":0},{"$f":"'Физ.разв. к 6г ч2. К.г. '!L33","v":0},{"$f":"'Физ.разв. к 6г ч2. К.г. '!M33","v":0},{"$f":"'Физ.разв. к 6г ч2. К.г. '!N33","v":0},{"$f":"'Физ.разв. к 6г ч2. К.г. '!O33","v":0},{"$f":"'Физ.разв. к 6г ч2. К.г. '!P33","v":0},{"$f":"'Физ.разв. к 6г ч2. К.г. '!Q33","v":0},{"$f":"'Физ.разв. к 6г ч2. К.г. '!R33","v":0},{"$f":"'Физ.разв. к 6г ч2. К.г. '!S33","v":0},{"$f":"'Физ.разв. к 6г ч2. К.г. '!T33","v":0},{"$f":"'Физ.разв. к 6г ч2. К.г. '!U33","v":0},{"$f":"'Физ.разв. к 6г ч2. К.г. '!V33","v":0},{"$f":"'Физ.разв. к 6г ч2. К.г. '!W33","v":0},{"$f":"'Физ.разв. к 6г ч2. К.г. '!X33","v":0},{"$f":"'Физ.разв. к 6г ч2. К.г. '!Y33","v":0}]

{"sheet":"22","index":49,"n_rows":11,"n_cols":138,"rows_kept":11,"merged":[[4,117,4,122],[4,123,4,126],[4,127,4,129],[4,130,4,132],[4,134,4,137],[5,0,8,0],[5,1,5,11],[5,12,5,19],[5,21,6,26],[5,27,6,28],[5,50,5,52],[5,53,5,55],[5,56,5,64],[5,65,5,66],[5,67,5,70],[5,117,5,118],[5,119,5,122],[5,123,6,123],[5,124,6,124],[5,125,6,125],[5,126,6,126],[5,127,8,127],[5,128,8,128],[5,129,8,129],[5,130,8,130],[5,131,8,131],[5,132,8,132],[5,133,8,133],[5,134,5,137],[6,1,6,4],[6,9,6,10],[6,12,6,13],[6,16,6,17],[6,18,6,19],[6,20,8,20],[6,30,6,31],[6,32,6,36],[6,38,6,43],[6,45,6,49],[6,53,8,53],[6,54,8,54],[6,55,8,55],[6,56,6,58],[6,62,6,64],[6,65,7,66],[6,67,6,68],[6,69,6,70],[6,71,6,87],[6,88,6,90],[6,91,6,95],[6,97,6,98],[6,99,6,101],[6,102,6,104],[6,105,6,107],[6,108,6,112],[6,113,6,114],[6,115,6,116],[6,117,8,117],[6,118,8,118],[6,119,8,119],[6,120,8,120],[6,121,8,121],[6,122,8,122],[6,134,8,134],[6,135,8,135],[6,136,8,136],[6,137,8,137],[7,1,8,1],[7,2,8,2],[7,3,8,3],[7,4,8,4],[7,5,8,5],[7,6,8,6],[7,7,8,7],[7,8,8,8],[7,9,8,9],[7,10,8,10],[7,11,8,11],[7,12,8,12],[7,13,8,13],[7,14,8,14],[7,15,8,15],[7,16,8,16],[7,17,8,17],[7,18,8,18],[7,19,8,19],[7,21,8,21],[7,22,8,22],[7,23,8,23],[7,24,8,24],[7,25,8,25],[7,26,8,26],[7,27,8,27],[7,28,8,28],[7,29,8,29],[7,30,8,30],[7,31,8,31],[7,32,8,32],[7,33,8,33],[7,34,8,34],[7,35,8,35],[7,36,8,36],[7,37,8,37],[7,38,8,38],[7,39,8,39],[7,40,8,40],[7,41,8,41],[7,42,8,42],[7,43,8,43],[7,44,8,44],[7,45,8,45],[7,46,8,46],[7,47,8,47],[7,48,8,48],[7,49,8,49],[7,50,7,52],[7,56,8,56],[7,57,8,57],[7,58,8,58],[7,59,8,59],[7,60,8,60],[7,61,8,61],[7,62,8,62],[7,63,8,63],[7,64,8,64],[7,67,8,67],[7,68,8,68],[7,69,8,69],[7,70,8,70],[7,71,7,72],[7,73,7,74],[7,75,7,76],[7,77,7,80],[7,82,7,84],[7,85,7,87],[7,88,8,88],[7,89,8,89],[7,90,8,90],[7,91,8,91],[7,92,8,92],[7,93,8,93],[7,94,8,94],[7,95,8,95],[7,96,8,96],[7,97,8,97],[7,98,8,98],[7,99,8,99],[7,100,8,100],[7,101,8,101],[7,102,7,104],[7,105,7,107],[7,108,7,112],[7,113,8,113],[7,114,8,114],[7,115,7,116],[7,123,8,123],[7,124,8,124],[7,125,8,125],[7,126,8,126]]}
[]
[]
[]
[]
[{"$nulls":117},"Мелкая моторика",{"$nulls":5},"КГН",{"$nulls":3},"ЗОЖ",null,null,"Подвижные игры",null,null,"Спорт. игры","Спортивные упражнения"]
[{"$f":"Список!B25","v":0},"Музыкальная деятельность",{"$nulls":10},"Изобразительная деятельность",{"$nulls":8},"Приобщение к искусству",{"$nulls":5},"Конструктивная деятельность",{"$nulls":22},"Сенсорные эталоны ",null,null,"Познавательные действия",null,null,"Математические представления",{"$nulls":8},"Окружающий мир",null,"Природа ",{"$nulls":49},"Координация рук и глаз",null,"Графические навыки",{"$nulls":3},"Навыки соблюдения чистоты тела (правила личной гигиены)","Навыки культуры еды (прием пищи) ","Навыки поддержания порядка (правила поведения в быту) ","Навыки ухода за собой (одевание, раздевание) ","Ребенок имеет представление о факторах, положительно/негативно влияющих на здоровье; владеет основными способами укрепления здоровья","Ребенок имеет представление о некоторых видах спорта (9 и больше), роли спорта для укрепления здоровья","Ребенок проявляет заботливое отношение к своему здоровью и здоровью окружающих","Ребенок проявляет доступный возрасту самоконтроль","Ребенок  способен привлечь внимание других детей и организовать знакомую подвижную игру","Ребенок придумывает новые варианты игр, комбинирует движения","Ребенок имеет представление об элементах спортивных игр (городки, баскетбол, бадминтон, футбол), умеет выполнять некоторые виды движений","Ребенок умеет кататься"]
[null,"Слушание",{"$nulls":3},"Пение ","Музыкально-ритмические движения","Песенное творчество","Игра на детских музыкальных инструментах","Театрализованная деятельность",null,"Танцевально-игровое творчество","Рисование ",null,"Лепка ","Аппликация ","Народное ДПИ",null,"Прикладное творчество",null,"Ребенок самостоятельно определяет замысел рисунка, аппликации, лепки, поделки, создает образы и композиционные изображения, использует разнообразные материалы",{"$nulls":8},"Общее речевое развитие","Формирование словаря",null,"Грамматический строй",{"$nulls":4},"Звуковая культура речи","Связная речь",{"$nulls":5},"ЧХЛ","Подготовка к обучению грамоте",{"$nulls":4},"Цвет, оттенки","Форма, геометрические фигуры","Величина","Ребенок охотно участвует в обсуждении проблемы для совместного нахождения способов ее решения, предлагает пути решения, устанавливает закономерности причинно-следственного характера, проявляет любознательность","Ребенок использует математические знания, способы и средства для познания окружающего мира","Ребенок способен к произвольным умственным действиям, логическим операциям анализа, сравнения, обобщения, систематизации, классификации","Количество и счет",null,null,"Ориентировка во времени","Ориентировка в пространстве","Пространственно-количественные связи и отношения","Сравнение",null,null,"Ребенок имеет представления, может показать на картинке и в естественной среде, может рассказать",null,"Объекты живой природы",null,"Объекты неживой природы, природные явления",null,"Сфера социальных отношений",{"$nulls":16},"Область формирования основ гражданственности и патриотизма",null,null,"Сфера трудового воспитания",{"$nulls":4},"Область формирования основ безопасного поведения","Бросание, катание, ловля, метание",null,"Ползанье, лазанье",null,null,"Ходьба",null,null,"Бег",null,null,"Прыжки",{"$nulls":4},"Равновесие",null,"Строевые упражнения",null,"Ребенок может найти выход из лабиринта","Ребенок может нарисовать простой узор, изображение, не отрывая руки","Ребенок может повторить узор с чередующимися элементами","Ребенок закрашивает контурное изображение с множеством мелких деталей, не выходя за контур","Ребенок может соединить точки для получения изображения","Ребенок рисует геометрический орнамент по клеткам",{"$nulls":11},"на санках","на лыжах","на двухколесном велосипеде","на самокате"]
[null,"Ребенок различает жанры музыкальных произведений (песня, танец, марш)","Ребенок узнает мелодию по отдельным фрагментам произведения (вступление, заключение, музыкальная фраза)","Ребенок различает звуки по высоте в пределах квинты","Ребенок различает звучание музыкальных инструментов (клавишно-ударных, струнных)","Ребенок демонстрирует развитые певческие навыки","Ребенок демонстрирует развитые навыки исполнения танцевальных движений","Ребенок может импровизировать мелодию на заданный текст","Ребенок демонстрирует навыки игры на детских музыкальных инструментах","Ребенок имеет представление о различных видах театрального искусства","Ребенок с удовольствие занимается театрализованной деятельностью","Ребенок может придумывать движения к танцам","Ребенок передает в изображении основные свойства предметов (форма, величина, цвет), характерные детали, соотношение предметов и их частей по величине, высоте, расположению относительно друг друга","Ребенок владеет основными способами и приемами рисования различными изобразительными материалами (цветные карандаши, гуашь, акварель, цветные мелки, пастель, сангина, угольный карандаш, фломастеры)","Ребенок лепит с натуры и по представлению знакомые предметы, передавая характерные особенности пластическим, конструктивным и комбинированным способами","Ребенок умеет пользоваться ножницами","Ребенок имеет представление о полхов-майданской, гжельской росписи","Ребенок может нарисовать узор, используя элементы  росписи","Ребенок умеет работать с бумагой (сгибать лист, сглаживать сгибы, надрезать по сгибам)","Ребенок умеет работать с природным и бросовым материалом",null,"Ребенок умеет выделять, называть, группировать произведения по видам искусства: литература, музыка, изобразительное искусство, архитектура, театр, цирк","Ребенок имеет представление о видах изобразительного искусства: графика, декоративно-прикладное искусство, живопись, скульптура, архитектура, фотоискусство","Ребенок имеет представление о жанрах изобразительного искусства: натюрморт, пейзаж, портрет","Ребенок имеет представление о народном искусстве, фольклоре, музыке и художественных промыслах","Ребенок имеет представление о творческих профессиях: художник, композитор, музыкант, актер, артист балета","Ребенок имеет представление о культурно-досуговых местах: театр, музей, библиотека, выставка, кинотеатр, цирк и др.","Ребенок может провести анализ постройки (выделить основные части и характерные детали конструкций)","Ребенок может выполнить постройку по инструкции","Ребенок внятно разговаривает","Ребенок умеет обобщать предметы в группы по существенным признакам","Ребенок демонстрирует богатый словарный запас","Ребенок правильно использует в речи: несклоняемые существительные","Ребенок правильно использует в речи: слова, имеющие только множественное или только единственное число","Ребенок правильно использует в речи: глаголы одеть-надеть","Ребенок правильно использует в речи: существительные множественного числа в родительном падеже","Ребенок правильно образовывает слова с помощью суффикса, приставки","Ребенок правильно произносит сонорные звуки: л-ль, р-рь","Ребенок пересказывает литературные произведения по ролям, по частям, правильно передавая идею и содержание","Ребенок пользуется прямой и косвенной речью","Ребенок составляет короткий описательный рассказ о предметах, объектах и явлениях природы, из личного опыта","Ребенок сочиняет сюжетные рассказы по картине, из личного опыта","Ребенок проявляет речевое творчество: придумывает продолжение и окончание к рассказу, рассказы по аналогии, по плану педагога, по модели","Ребенок владеет первичными приемами аргументации и доказательства","Ребенок проявляет избирательное отношение к произведениям определенной тематики и жанра","Ребенок понимает термины: слово: звук, буква, предложение, гласный звук, согласный звук","Ребенок может провести звуковой анализ слова, разделить на слоги двух-, трехслоговые слова; составляет схему слова","Ребенок различает гласные-согласные звуки","Ребенок определяет твердые-мягкие согласные","Ребенок составляет предложение по модели, определяет количество и последовательность слов в предложении","Ребенок различает и называет",{"$nulls":5},"Ребенок знает/называет/находит среди других цифры 0 -10","Ребенок выполняет количественный и порядковый счет в пределах 0-10","Ребенок знает состав чисел из единиц в пределах 5","Ребенок понимает календарные единицы времени (сутки, неделя, месяц, год)","Ребенок ориентируется на листе бумаги","Ребенок понимает простейшую графическую информацию об отношениях предметов (слева направо, справа налево, снизу вверх, сверху вниз)","Ребенок выделяет сходства и отличия между группами предметов","Ребенок сравнивает предметы по 3-5 признакам","Ребенок группирует предметы по разным основаниям, преимущественно на основе зрительной оценки",null,null,"Ребенок имеет представление о сходстве и различии во внешнем виде и образе жизни объектов животного и растительного мира в разные сезоны года","Ребенок может сравнивать, группировать объекты живой природы по их особенностям, мету обитания, образу жизни, питанию","Ребенок имеет представление о признаках разных времен года","Ребенок наблюдает за явлениями природы, фиксирует результаты наблюдения","Отношение к самому себе",null,"Отношение к сверстникам",null,"Отношение к взрослым",null,"Эмоции",{"$nulls":3},"Поведение","Семья",null,null,"Игровое поведение",null,null,"Ребенок имеет представление о государственных символах России (герб, гимн, флаг)","Ребенок имеет представление о государственных праздниках России","Ребенок знает/может назвать/показать на картинке и в естественной среде достопримечательности населенного пункта, в котором живет","Ребенок имеет представления о разных видах производительного труда (промышленность, строительство, сельское хозяйство)","Ребенок имеет представления о разных видах обслуживающего труда (сфера досуга и отдыха, сфера культуры, медицина, торговля)","Ребенок имеет представление о структуре трудового процесса (мотив, цель, инструменты, оборудование, содержание действий, выбор трудовых действий, результат)","Ребенок имеет элементарные экономические представления (назначение рекламы, денег)","Ребенок охотно участвует в выполнении трудовых поручений, дежурстве; может распределять трудовые обязанности с другими","Ребенок имеет представления/ соблюдает правила поведения в быту, на улице, в природе, в общении с людьми, с животными","Ребенок выполняет различные упражнения с мячом (прокатывание, передача, перебрасывание, ведение, подбрасывание, ловля, забрасывание)","Ребенок выполняет метание в цель, метание в даль предметов разной массы","Ребенок выполняет ползанье разными способами (на четвереньках, на животе)","Ребенок выполняет переползание через несколько предметов подряд, под дугами, в туннеле","Ребенок выполняет лазанье по гимнастической стенке чередующимся шагом","Ребенок выполняет различные виды ходьбы",null,null,"Ребенок выполняет различные виды бега",null,null,"Ребенок выполняет различные виды прыжков",{"$nulls":4},"Ребенок выполняет стойку на одной ноге ","Ребенок выполняет упражнение \"ласточка\" ","Ребенок выполняет различные виды строевых упражнений",{"$nulls":7},"Ребенок выполняет самостоятельно","Ребенок выполняет самостоятельно","Ребенок выполняет самостоятельно","Ребенок выполняет самостоятельно"]
[{"$nulls":50},"Ребенок называет/различает все цвета спектра и ахроматические цвета, оттенки цвета, тоны цвета, теплые и холодные оттенки","Ребенок владеет способами воссоздания фигуры из частей, деления фигуры на части","Ребенок может выстраивать сериационные ряды предметов, различающихся по размеру в возрастающем и убывающем порядке в пределах 10",{"$nulls":12},"о многообразии людей разных национальностей (особенностей внешнего вида, одежды, традиций)","Ребенок имеет представление о многообразии стран и народов мира",{"$nulls":4},"Ребенок может рассказать о себе, выразить собственные потребности, желания","Ребенок имеет представление о некоторых своих правах","Ребенок имеет предпочтения в общении","Ребенок охотно вступает в общение со сверстниками","Ребенок уважительно относится к взрослым, пожилым людям","Ребенок охотно вступает в общение со взрослыми","Ребенок понимает свои и чужие эмоциональные состояния, демонстрирует примеры эмоциональной поддержки ","Ребенок  откликается на просьбу помочь","Ребенок выразить чувства и эмоции в мимике, пантомимике, действиях, интонации","Ребенок демонстрирует адекватные возрасту способы регуляции эмоциональных состояний","Ребенок ориентируется на общепринятые нормы и правила культуры поведения","Ребенок знает членов своей семьи, ближайших родственников по линии матери и отца","Ребенок имеет представление о способах поддержки родственных связей (переписка, разговор, совместный отдых, традиции, походы в гости и др.)","Ребенок проявляет заботу по отношению к членам своей семьи, оказывает посильную помощь больному члену семьи","Ребенок в совместной деятельности принимает общую цель, договаривается о способах деятельности и материалах, может уступить в конфликтной ситуации","Ребенок проявляет интерес к игровому экспериментированию, развивающим и познавательным играм","Ребенок способен действовать в точном соответствие с игровой задачей и правилами",{"$nulls":14},"обычным шагом, на носках, на пятках, с высоким подниманием колен","приставной, в полуприседе, мелким и широким, перекатом с пятки на носок, гимнастическим","змейкой без ориентиров, в колонне по одному и по два","в колонне по одному, змейкой, с перестроением на ходу в пары, звенья","со сменой ведущих, с пролезанием в обруч, с ловлей и увертыванием, высоко поднимая колени","между расставленными предметами, в заданном темпе, мелким и широким шагом","подпрыгивание, перепрыгивание, спрыгивание","в длину с места","в высоту с разбега","в длину с разбега","со скакалкой",null,null,"построения (по росту, в колонну по одному, в шеренгу, в круг)","в колонну по три, в две шеренги на месте, расхождение из колонны в разные стороны"]
["начало года",{"$f":"'Худ.эст.к 6г ч1. Н.г.'!E33","v":0},{"$f":"'Худ.эст.к 6г ч1. Н.г.'!F33","v":0},{"$f":"'Худ.эст.к 6г ч1. Н.г.'!G33","v":0},{"$f":"'Худ.эст.к 6г ч1. Н.г.'!H33","v":0},{"$f":"'Худ.эст.к 6г ч1. Н.г.'!I33","v":0},{"$f":"'Худ.эст.к 6г ч1. Н.г.'!J33","v":0},{"$f":"'Худ.эст.к 6г ч1. Н.г.'!K33","v":0},{"$f":"'Худ.эст.к 6г ч1. Н.г.'!L33","v":0},{"$f":"'Худ.эст.к 6г ч1. Н.г.'!M33","v":0},{"$f":"'Худ.эст.к 6г ч1. Н.г.'!N33","v":0},{"$f":"'Худ.эст.к 6г ч1. Н.г.'!O33","v":0},{"$f":"'Худ.эст.к 6г ч2. Н.г.'!E33","v":0},{"$f":"'Худ.эст.к 6г ч2. Н.г.'!F33","v":0},{"$f":"'Худ.эст.к 6г ч2. Н.г.'!G33","v":0},{"$f":"'Худ.эст.к 6г ч2. Н.г.'!H33","v":0},{"$f":"'Худ.эст.к 6г ч2. Н.г.'!I33","v":0},{"$f":"'Худ.эст.к 6г ч2. Н.г.'!J33","v":0},{"$f":"'Худ.эст.к 6г ч2. Н.г.'!K33","v":0},{"$f":"'Худ.эст.к 6г ч2. Н.г.'!L33","v":0},{"$f":"'Худ.эст.к 6г ч2. Н.г.'!M33","v":0},{"$f":"'Худ.эст.к 6г ч3. Н.г.'!E33","v":0},{"$f":"'Худ.эст.к 6г ч3. Н.г.'!F33","v":0},{"$f":"'Худ.эст.к 6г ч3. Н.г.'!G33","v":0},{"$f":"'Худ.эст.к 6г ч3. Н.г.'!H33","v":0},{"$f":"'Худ.эст.к 6г ч3. Н.г.'!I33","v":0},{"$f":"'Худ.эст.к 6г ч3. Н.г.'!J33","v":0},{"$f":"'Худ.эст.к 6г ч3. Н.г.'!K33","v":0},{"$f":"'Худ.эст.к 6г ч3. Н.г.'!L33","v":0},{"$f":"'Реч.разв.к 6г ч1. Н.г.'!E32","v":0},{"$f":"'Реч.разв.к 6г ч1. Н.г.'!F32","v":0},{"$f":"'Реч.разв.к 6г ч1. Н.г.'!G32","v":0},{"$f":"'Реч.разв.к 6г ч1. Н.г.'!H32","v":0},{"$f":"'Реч.разв.к 6г ч1. Н.г.'!I32","v":0},{"$f":"'Реч.разв.к 6г ч1. Н.г.'!J32","v":0},{"$f":"'Реч.разв.к 6г ч1. Н.г.'!K32","v":0},{"$f":"'Реч.разв.к 6г ч1. Н.г.'!L32","v":0},{"$f":"'Реч.разв.к 6г ч2. Н.г.'!E32","v":0},{"$f":"'Реч.разв.к 6г ч2. Н.г.'!F32","v":0},{"$f":"'Реч.разв.к 6г ч2. Н.г.'!G32","v":0},{"$f":"'Реч.разв.к 6г ч2. Н.г.'!H32","v":0},{"$f":"'Реч.разв.к 6г ч2. Н.г.'!I32","v":0},{"$f":"'Реч.разв.к 6г ч2. Н.г.'!J32","v":0},{"$f":"'Реч.разв.к 6г ч2. Н.г.'!K32","v":0},{"$f":"'Реч.разв.к 6г ч2. Н.г.'!L32","v":0},{"$f":"'Реч.разв.к 6г ч2. Н.г.'!M32","v":0},{"$f":"'Реч.разв.к 6г ч2. Н.г.'!N32","v":0},{"$f":"'Реч.разв.к 6г ч2. Н.г.'!O32","v":0},{"$f":"'Реч.разв.к 6г ч2. Н.г.'!P32","v":0},{"$f":"'Реч.разв.к 6г ч2. Н.г.'!Q32","v":0},{"$f":"'Позн.разв. к 6г ч1. Н.г.'!E33","v":0},{"$f":"'Позн.разв. к 6г ч1. Н.г.'!F33","v":0},{"$f":"'Позн.разв. к 6г ч1. Н.г.'!G33","v":0},{"$f":"'Позн.разв. к 6г ч1. Н.г.'!H33","v":0},{"$f":"'Позн.разв. к 6г ч1. Н.г.'!I33","v":0},{"$f":"'Позн.разв. к 6г ч1. Н.г.'!J33","v":0},{"$f":"'Позн.разв. к 6г ч1. Н.г.'!K33","v":0},{"$f":"'Позн.разв. к 6г ч1. Н.г.'!L33","v":0},{"$f":"'Позн.разв. к 6г ч1. Н.г.'!M33","v":0},{"$f":"'Позн.разв. к 6г ч1. Н.г.'!N33","v":0},{"$f":"'Позн.разв. к 6г ч1. Н.г.'!O33","v":0},{"$f":"'Позн.разв. к 6г ч1. Н.г.'!P33","v":0},{"$f":"'Позн.разв. к 6г ч1. Н.г.'!Q33","v":0},{"$f":"'Позн.разв. к 6г ч1. Н.г.'!R33","v":0},{"$f":"'Позн.разв. к 6г ч1. Н.г.'!S33","v":0},{"$f":"'Позн.разв. к 6г ч2. Н.г.'!E33","v":0},{"$f":"'Позн.разв. к 6г ч2. Н.г.'!F33","v":0},{"$f":"'Позн.разв. к 6г ч2. Н.г.'!G33","v":0},{"$f":"'Позн.разв. к 6г ч2. Н.г.'!H33","v":0},{"$f":"'Позн.разв. к 6г ч2. Н.г.'!I33","v":0},{"$f":"'Позн.разв. к 6г ч2. Н.г.'!J33","v":0},{"$f":"'Соц.ком.к 6г ч1. Н.г.'!E32","v":0},{"$f":"'Соц.ком.к 6г ч1. Н.г.'!F32","v":0},{"$f":"'Соц.ком.к 6г ч1. Н.г.'!G32","v":0},{"$f":"'Соц.ком.к 6г ч1. Н.г.'!H32","v":0},{"$f":"'Соц.ком.к 6г ч1. Н.г.'!I32","v":0},{"$f":"'Соц.ком.к 6г ч1. Н.г.'!J32","v":0},{"$f":"'Соц.ком.к 6г ч1. Н.г.'!K32","v":0},{"$f":"'Соц.ком.к 6г ч1. Н.г.'!L32","v":0},{"$f":"'Соц.ком.к 6г ч1. Н.г.'!M32","v":0},{"$f":"'Соц.ком.к 6г ч1. Н.г.'!N32","v":0},{"$f":"'Соц.ком.к 6г ч1. Н.г.'!O32","v":0},{"$f":"'Соц.ком.к 6г ч1. Н.г.'!P32","v":0},{"$f":"'Соц.ком.к 6г ч1. Н.г.'!Q32","v":0},{"$f":"'Соц.ком.к 6г ч1. Н.г.'!R32","v":0},{"$f":"'Соц.ком.к 6г ч1. Н.г.'!S32","v":0},{"$f":"'Соц.ком.к 6г ч1. Н.г.'!T32","v":0},{"$f":"'Соц.ком.к 6г ч1. Н.г.'!U32","v":0},{"$f":"'Соц.ком. к 6г ч2. Н.г.'!E32","v":0},{"$f":"'Соц.ком. к 6г ч2. Н.г.'!F32","v":0},{"$f":"'Соц.ком. к 6г ч2. Н.г.'!G32","v":0},{"$f":"'Соц.ком. к 6г ч2. Н.г.'!H32","v":0},{"$f":"'Соц.ком. к 6г ч2. Н.г.'!I32","v":0},{"$f":"'Соц.ком. к 6г ч2. Н.г.'!J32","v":0},{"$f":"'Соц.ком. к 6г ч2. Н.г.'!K32","v":0},{"$f":"'Соц.ком. к 6г ч2. Н.г.'!L32","v":0},{"$f":"'Соц.ком. к 6г ч2. Н.г.'!M32","v":0},{"$f":"'Физ.разв. к 6г ч1. Н.г.'!E33","v":0},{"$f":"'Физ.разв. к 6г ч1. Н.г.'!F33","v":0},{"$f":"'Физ.разв. к 6г ч1. Н.г.'!G33","v":0},{"$f":"'Физ.разв. к 6г ч1. Н.г.'!H33","v":0},{"$f":"'Физ.разв. к 6г ч1. Н.г.'!I33","v":0},{"$f":"'Физ.разв. к 6г ч1. Н.г.'!J33","v":0},{"$f":"'Физ.разв. к 6г ч1. Н.г.'!K33","v":0},{"$f":"'Физ.разв. к 6г ч1. Н.г.'!L33","v":0},{"$f":"'Физ.разв. к 6г ч1. Н.г.'!M33","v":0},{"$f":"'Физ.разв. к 6г ч1. Н.г.'!N33","v":0},{"$f":"'Физ.разв. к 6г ч1. Н.г.'!O33","v":0},{"$f":"'Физ.разв. к 6г ч1. Н.г.'!P33","v":0},{"$f":"'Физ.разв. к 6г ч1. Н.г.'!Q33","v":0},{"$f":"'Физ.разв. к 6г ч1. Н.г.'!R33","v":0},{"$f":"'Физ.разв. к 6г ч1. Н.г.'!S33","v":0},{"$f":"'Физ.разв. к 6г ч1. Н.г.'!T33","v":0},{"$f":"'Физ.разв. к 6г ч1. Н.г.'!U33","v":0},{"$f":"'Физ.разв. к 6г ч1. Н.г.'!V33","v":0},{"$f":"'Физ.разв. к 6г ч1. Н.г.'!W33","v":0},{"$f":"'Физ.разв. к 6г ч1. Н.г.'!X33","v":0},{"$f":"'Физ.разв. к 6г ч2. Н.г.'!E34","v":0},{"$f":"'Физ.разв. к 6г ч2. Н.г.'!F34","v":0},{"$f":"'Физ.разв. к 6г ч2. Н.г.'!G34","v":0},{"$f":"'Физ.разв. к 6г ч2. Н.г.'!H34","v":0},{"$f":"'Физ.разв. к 6г ч2. Н.г.'!I34","v":0},{"$f":"'Физ.разв. к 6г ч2. Н.г.'!J34","v":0},{"$f":"'Физ.разв. к 6г ч2. Н.г.'!K34","v":0},{"$f":"'Физ.разв. к 6г ч2. Н.г.'!L34","v":0},{"$f":"'Физ.разв. к 6г ч2. Н.г.'!M34","v":0},{"$f":"'Физ.разв. к 6г ч2. Н.г.'!N34","v":0},{"$f":"'Физ.разв. к 6г ч2. Н.г.'!O34","v":0},{"$f":"'Физ.разв. к 6г ч2. Н.г.'!P34","v":0},{"$f":"'Физ.разв. к 6г ч2. Н.г.'!Q34","v":0},{"$f":"'Физ.разв. к 6г ч2. Н.г.'!R34","v":0},{"$f":"'Физ.разв. к 6г ч2. Н.г.'!S34","v":0},{"$f":"'Физ.разв. к 6г ч2. Н.г.'!T34","v":0},{"$f":"'Физ.разв. к 6г ч2. Н.г.'!U34","v":0},{"$f":"'Физ.разв. к 6г ч2. Н.г.'!V34","v":0},{"$f":"'Физ.разв. к 6г ч2. Н.г.'!W34","v":0},{"$f":"'Физ.разв. к 6г ч2. Н.г.'!X34","v":0},{"$f":"'Физ.разв. к 6г ч2. Н.г.'!Y34","v":0}]
["конец года",{"$f":"'Худ.эст.к 6г ч1. К.г. '!E33","v":0},{"$f":"'Худ.эст.к 6г ч1. К.г. '!F33","v":0},{"$f":"'Худ.эст.к 6г ч1. К.г. '!G33","v":0},{"$f":"'Худ.эст.к 6г ч1. К.г. '!H33","v":0},{"$f":"'Худ.эст.к 6г ч1. К.г. '!I33","v":0},{"$f":"'Худ.эст.к 6г ч1. К.г. '!J33","v":0},{"$f":"'Худ.эст.к 6г ч1. К.г. '!K33","v":0},{"$f":"'Худ.эст.к 6г ч1. К.г. '!L33","v":0},{"$f":"'Худ.эст.к 6г ч1. К.г. '!M33","v":0},{"$f":"'Худ.эст.к 6г ч1. К.г. '!N33","v":0},{"$f":"'Худ.эст.к 6г ч1. К.г. '!O33","v":0},{"$f":"'Худ.эст.к 6г ч2. К.г. '!E33","v":0},{"$f":"'Худ.эст.к 6г ч2. К.г. '!F33","v":0},{"$f":"'Худ.эст.к 6г ч2. К.г. '!G33","v":0},{"$f":"'Худ.эст.к 6г ч2. К.г. '!H33","v":0},{"$f":"'Худ.эст.к 6г ч2. К.г. '!I33","v":0},{"$f":"'Худ.эст.к 6г ч2. К.г. '!J33","v":0},{"$f":"'Худ.эст.к 6г ч2. К.г. '!K33","v":0},{"$f":"'Худ.эст.к 6г ч2. К.г. '!L33","v":0},{"$f":"'Худ.эст.к 6г ч2. К.г. '!M33","v":0},{"$f":"'Худ.эст.к 6г ч3. К.г. '!E33","v":0},{"$f":"'Худ.эст.к 6г ч3. К.г. '!F33","v":0},{"$f":"'Худ.эст.к 6г ч3. К.г. '!G33","v":0},{"$f":"'Худ.эст.к 6г ч3. К.г. '!H33","v":0},{"$f":"'Худ.эст.к 6г ч3. К.г. '!I33","v":0},{"$f":"'Худ.эст.к 6г ч3. К.г. '!J33","v":0},{"$f":"'Худ.эст.к 6г ч3. К.г. '!K33","v":0},{"$f":"'Худ.эст.к 6г ч3. К.г. '!L33","v":0},{"$f":"'Реч.разв.к 6г ч1. К.г. '!E32","v":0},{"$f":"'Реч.разв.к 6г ч1. К.г. '!F32","v":0},{"$f":"'Реч.разв.к 6г ч1. К.г. '!G32","v":0},{"$f":"'Реч.разв.к 6г ч1. К.г. '!H32","v":0},{"$f":"'Реч.разв.к 6г ч1. К.г. '!I32","v":0},{"$f":"'Реч.разв.к 6г ч1. К.г. '!J32","v":0},{"$f":"'Реч.разв.к 6г ч1. К.г. '!K32","v":0},{"$f":"'Реч.разв.к 6г ч1. К.г. '!L32","v":0},{"$f":"'Реч.разв.к 6г ч2. К.г. '!E32","v":0},{"$f":"'Реч.разв.к 6г ч2. К.г. '!F32","v":0},{"$f":"'Реч.разв.к 6г ч2. К.г. '!G32","v":0},{"$f":"'Реч.разв.к 6г ч2. К.г. '!H32","v":0},{"$f":"'Реч.разв.к 6г ч2. К.г. '!I32","v":0},{"$f":"'Реч.разв.к 6г ч2. К.г. '!J32","v":0},{"$f":"'Реч.разв.к 6г ч2. К.г. '!K32","v":0},{"$f":"'Реч.разв.к 6г ч2. К.г. '!L32","v":0},{"$f":"'Реч.разв.к 6г ч2. К.г. '!M32","v":0},{"$f":"'Реч.разв.к 6г ч2. К.г. '!N32","v":0},{"$f":"'Реч.разв.к 6г ч2. К.г. '!O32","v":0},{"$f":"'Реч.разв.к 6г ч2. К.г. '!P32","v":0},{"$f":"'Реч.разв.к 6г ч2. К.г. '!Q32","v":0},{"$f":"'Позн.разв. к 6г ч1. К.г. '!E33","v":0},{"$f":"'Позн.разв. к 6г ч1. К.г. '!F33","v":0},{"$f":"'Позн.разв. к 6г ч1. К.г. '!G33","v":0},{"$f":"'Позн.разв. к 6г ч1. К.г. '!H33","v":0},{"$f":"'Позн.разв. к 6г ч1. К.г. '!I33","v":0},{"$f":"'Позн.разв. к 6г ч1. К.г. '!J33","v":0},{"$f":"'Позн.разв. к 6г ч1. К.г. '!K33","v":0},{"$f":"'Позн.разв. к 6г ч1. К.г. '!L33","v":0},{"$f":"'Позн.разв. к 6г ч1. К.г. '!M33","v":0},{"$f":"'Позн.разв. к 6г ч1. К.г. '!N33","v":0},{"$f":"'Позн.разв. к 6г ч1. К.г. '!O33","v":0},{"$f":"'Позн.разв. к 6г ч1. К.г. '!P33","v":0},{"$f":"'Позн.разв. к 6г ч1. К.г. '!Q33","v":0},{"$f":"'Позн.разв. к 6г ч1. К.г. '!R33","v":0},{"$f":"'Позн.разв. к 6г ч1. К.г. '!S33","v":0},{"$f":"'Позн.разв. к 6г ч2. К.г. '!E33","v":0},{"$f":"'Позн.разв. к 6г ч2. К.г. '!F33","v":0},{"$f":"'Позн.разв. к 6г ч2. К.г. '!G33","v":0},{"$f":"'Позн.разв. к 6г ч2. К.г. '!H33","v":0},{"$f":"'Позн.разв. к 6г ч2. К.г. '!I33","v":0},{"$f":"'Позн.разв. к 6г ч2. К.г. '!J33","v":0},{"$f":"'Соц.ком.к 6г ч1. К.г. '!$E$32","v":0},{"$f":"'Соц.ком.к 6г ч1. К.г. '!$E$32","v":0},{"$f":"'Соц.ком.к 6г ч1. К.г. '!$E$32","v":0},{"$f":"'Соц.ком.к 6г ч1. К.г. '!$E$32","v":0},{"$f":"'Соц.ком.к 6г ч1. К.г. '!$E$32","v":0},{"$f":"'Соц.ком.к 6г ч1. К.г. '!$E$32","v":0},{"$f":"'Соц.ком.к 6г ч1. К.г. '!$E$32","v":0},{"$f":"'Соц.ком.к 6г ч1. К.г. '!$E$32","v":0},{"$f":"'Соц.ком.к 6г ч1. К.г. '!$E$32","v":0},{"$f":"'Соц.ком.к 6г ч1. К.г. '!$E$32","v":0},{"$f":"'Соц.ком.к 6г ч1. К.г. '!$E$32","v":0},{"$f":"'Соц.ком.к 6г ч1. К.г. '!$E$32","v":0},{"$f":"'Соц.ком.к 6г ч1. К.г. '!$E$32","v":0},{"$f":"'Соц.ком.к 6г ч1. К.г. '!$E$32","v":0},{"$f":"'Соц.ком.к 6г ч1. К.г. '!$E$32","v":0},{"$f":"'Соц.ком.к 6г ч1. К.г. '!$E$32","v":0},{"$f":"'Соц.ком.к 6г ч1. К.г. '!$E$32","v":0},{"$f":"'Соц.ком. к 6г ч2 К.г.'!E32","v":0},{"$f":"'Соц.ком. к 6г ч2 К.г.'!F32","v":0},{"$f":"'Соц.ком. к 6г ч2 К.г.'!G32","v":0},{"$f":"'Соц.ком. к 6г ч2 К.г.'!H32","v":0},{"$f":"'Соц.ком. к 6г ч2 К.г.'!I32","v":0},{"$f":"'Соц.ком. к 6г ч2 К.г.'!J32","v":0},{"$f":"'Соц.ком. к 6г ч2 К.г.'!K32","v":0},{"$f":"'Соц.ком. к 6г ч2 К.г.'!L32","v":0},{"$f":"'Соц.ком. к 6г ч2 К.г.'!M32","v":0},{"$f":"'Физ.разв. к 6г ч1. К.г. '!E33","v":0},{"$f":"'Физ.разв. к 6г ч1. К.г. '!F33","v":0},{"$f":"'Физ.разв. к 6г ч1. К.г. '!G33","v":0},{"$f":"'Физ.разв. к 6г ч1. К.г. '!H33","v":0},{"$f":"'Физ.разв. к 6г ч1. К.г. '!I33","v":0},{"$f":"'Физ.разв. к 6г ч1. К.г. '!J33","v":0},{"$f":"'Физ.разв. к 6г ч1. К.г. '!K33","v":0},{"$f":"'Физ.разв. к 6г ч1. К.г. '!L33","v":0},{"$f":"'Физ.разв. к 6г ч1. К.г. '!M33","v":0},{"$f":"'Физ.разв. к 6г ч1. К.г. '!N33","v":0},{"$f":"'Физ.разв. к 6г ч1. К.г. '!O33","v":0},{"$f":"'Физ.разв. к 6г ч1. К.г. '!P33","v":0},{"$f":"'Физ.разв. к 6г ч1. К.г. '!Q33","v":0},{"$f":"'Физ.разв. к 6г ч1. К.г. '!R33","v":0},{"$f":"'Физ.разв. к 6г ч1. К.г. '!S33","v":0},{"$f":"'Физ.разв. к 6г ч1. К.г. '!T33","v":0},{"$f":"'Физ.разв. к 6г ч1. К.г. '!U33","v":0},{"$f":"'Физ.разв. к 6г ч1. К.г. '!V33","v":0},{"$f":"'Физ.разв. к 6г ч1. К.г. '!W33","v":0},{"$f":"'Физ.разв. к 6г ч1. К.г. '!X33","v":0},{"$f":"'Физ.разв. к 6г ч2. К.г. '!E34","v":0},{"$f":"'Физ.разв. к 6г ч2. К.г. '!F34","v":0},{"$f":"'Физ.разв. к 6г ч2. К.г. '!G34","v":0},{"$f":"'Физ.разв. к 6г ч2. К.г. '!H34","v":0},{"$f":"'Физ.разв. к 6г ч2. К.г. '!I34","v":0},{"$f":"'Физ.разв. к 6г ч2. К.г. '!J34","v":0},{"$f":"'Физ.разв. к 6г ч2. К.г. '!K34","v":0},{"$f":"'Физ.разв. к 6г ч2. К.г. '!L34","v":0},{"$f":"'Физ.разв. к 6г ч2. К.г. '!M34","v":0},{"$f":"'Физ.разв. к 6г ч2. К.г. '!N34","v":0},{"$f":"'Физ.разв. к 6г ч2. К.г. '!O34","v":0},{"$f":"'Физ.разв. к 6г ч2. К.г. '!P34","v":0},{"$f":"'Физ.разв. к 6г ч2. К.г. '!Q34","v":0},{"$f":"'Физ.разв. к 6г ч2. К.г. '!R34","v":0},{"$f":"'Физ.разв. к 6г ч2. К.г. '!S34","v":0},{"$f":"'Физ.разв. к 6г ч2. К.г. '!T34","v":0},{"$f":"'Физ.разв. к 6г ч2. К.г. '!U34","v":0},{"$f":"'Физ.разв. к 6г ч2. К.г. '!V34","v":0},{"$f":"'Физ.разв. к 6г ч2. К.г. '!W34","v":0},{"$f":"'Физ.разв. к 6г ч2. К.г. '!X34","v":0},{"$f":"'Физ.разв. к 6г ч2. К.г. '!Y34","v":0}]

{"sheet":"23","index":50,"n_rows":11,"n_cols":138,"rows_kept":11,"merged":[[4,117,4,122],[4,123,4,126],[4,127,4,129],[4,130,4,132],[4,134,4,137],[5,0,8,0],[5,1,5,11],[5,12,5,19],[5,21,6,26],[5,27,6,28],[5,50,5,52],[5,53,5,55],[5,56,5,64],[5,65,5,66],[5,67,5,70],[5,117,5,118],[5,119,5,122],[5,123,6,123],[5,124,6,124],[5,125,6,125],[5,126,6,126],[5,127,8,127],[5,128,8,128],[5,129,8,129],[5,130,8,130],[5,131,8,131],[5,132,8,132],[5,133,8,133],[5,134,5,137],[6,1,6,4],[6,9,6,10],[6,12,6,13],[6,16,6,17],[6,18,6,19],[6,20,8,20],[6,30,6,31],[6,32,6,36],[6,38,6,43],[6,45,6,49],[6,53,8,53],[6,54,8,54],[6,55,8,55],[6,56,6,58],[6,62,6,64],[6,65,7,66],[6,67,6,68],[6,69,6,70],[6,71,6,87],[6,88,6,90],[6,91,6,95],[6,97,6,98],[6,99,6,101],[6,102,6,104],[6,105,6,107],[6,108,6,112],[6,113,6,114],[6,115,6,116],[6,117,8,117],[6,118,8,118],[6,119,8,119],[6,120,8,120],[6,121,8,121],[6,122,8,122],[6,134,8,134],[6,135,8,135],[6,136,8,136],[6,137,8,137],[7,1,8,1],[7,2,8,2],[7,3,8,3],[7,4,8,4],[7,5,8,5],[7,6,8,6],[7,7,8,7],[7,8,8,8],[7,9,8,9],[7,10,8,10],[7,11,8,11],[7,12,8,12],[7,13,8,13],[7,14,8,14],[7,15,8,15],[7,16,8,16],[7,17,8,17],[7,18,8,18],[7,19,8,19],[7,21,8,21],[7,22,8,22],[7,23,8,23],[7,24,8,24],[7,25,8,25],[7,26,8,26],[7,27,8,27],[7,28,8,28],[7,29,8,29],[7,30,8,30],[7,31,8,31],[7,32,8,32],[7,33,8,33],[7,34,8,34],[7,35,8,35],[7,36,8,36],[7,37,8,37],[7,38,8,38],[7,39,8,39],[7,40,8,40],[7,41,8,41],[7,42,8,42],[7,43,8,43],[7,44,8,44],[7,45,8,45],[7,46,8,46],[7,47,8,47],[7,48,8,48],[7,49,8,49],[7,50,7,52],[7,56,8,56],[7,57,8,57],[7,58,8,58],[7,59,8,59],[7,60,8,60],[7,61,8,61],[7,62,8,62],[7,63,8,63],[7,64,8,64],[7,67,8,67],[7,68,8,68],[7,69,8,69],[7,70,8,70],[7,71,7,72],[7,73,7,74],[7,75,7,76],[7,77,7,80],[7,82,7,84],[7,85,7,87],[7,88,8,88],[7,89,8,89],[7,90,8,90],[7,91,8,91],[7,92,8,92],[7,93,8,93],[7,94,8,94],[7,95,8,95],[7,96,8,96],[7,97,8,97],[7,98,8,98],[7,99,8,99],[7,100,8,100],[7,101,8,101],[7,102,7,104],[7,105,7,107],[7,108,7,112],[7,113,8,113],[7,114,8,114],[7,115,7,116],[7,123,8,123],[7,124,8,124],[7,125,8,125],[7,126,8,126]]}
[]
[]
[]
[]
[{"$nulls":117},"Мелкая моторика",{"$nulls":5},"КГН",{"$nulls":3},"ЗОЖ",null,null,"Подвижные игры",null,null,"Спорт. игры","Спортивные упражнения"]
[{"$f":"Список!B26","v":0},"Музыкальная деятельность",{"$nulls":10},"Изобразительная деятельность",{"$nulls":8},"Приобщение к искусству",{"$nulls":5},"Конструктивная деятельность",{"$nulls":22},"Сенсорные эталоны ",null,null,"Познавательные действия",null,null,"Математические представления",{"$nulls":8},"Окружающий мир",null,"Природа ",{"$nulls":49},"Координация рук и глаз",null,"Графические навыки",{"$nulls":3},"Навыки соблюдения чистоты тела (правила личной гигиены)","Навыки культуры еды (прием пищи) ","Навыки поддержания порядка (правила поведения в быту) ","Навыки ухода за собой (одевание, раздевание) ","Ребенок имеет представление о факторах, положительно/негативно влияющих на здоровье; владеет основными способами укрепления здоровья","Ребенок имеет представление о некоторых видах спорта (9 и больше), роли спорта для укрепления здоровья","Ребенок проявляет заботливое отношение к своему здоровью и здоровью окружающих","Ребенок проявляет доступный возрасту самоконтроль","Ребенок  способен привлечь внимание других детей и организовать знакомую подвижную игру","Ребенок придумывает новые варианты игр, комбинирует движения","Ребенок имеет представление об элементах спортивных игр (городки, баскетбол, бадминтон, футбол), умеет выполнять некоторые виды движений","Ребенок умеет кататься"]
[null,"Слушание",{"$nulls":3},"Пение ","Музыкально-ритмические движения","Песенное творчество","Игра на детских музыкальных инструментах","Театрализованная деятельность",null,"Танцевально-игровое творчество","Рисование ",null,"Лепка ","Аппликация ","Народное ДПИ",null,"Прикладное творчество",null,"Ребенок самостоятельно определяет замысел рисунка, аппликации, лепки, поделки, создает образы и композиционные изображения, использует разнообразные материалы",{"$nulls":8},"Общее речевое развитие","Формирование словаря",null,"Грамматический строй",{"$nulls":4},"Звуковая культура речи","Связная речь",{"$nulls":5},"ЧХЛ","Подготовка к обучению грамоте",{"$nulls":4},"Цвет, оттенки","Форма, геометрические фигуры","Величина","Ребенок охотно участвует в обсуждении проблемы для совместного нахождения способов ее решения, предлагает пути решения, устанавливает закономерности причинно-следственного характера, проявляет любознательность","Ребенок использует математические знания, способы и средства для познания окружающего мира","Ребенок способен к произвольным умственным действиям, логическим операциям анализа, сравнения, обобщения, систематизации, классификации","Количество и счет",null,null,"Ориентировка во времени","Ориентировка в пространстве","Пространственно-количественные связи и отношения","Сравнение",null,null,"Ребенок имеет представления, может показать на картинке и в естественной среде, может рассказать",null,"Объекты живой природы",null,"Объекты неживой природы, природные явления",null,"Сфера социальных отношений",{"$nulls":16},"Область формирования основ гражданственности и патриотизма",null,null,"Сфера трудового воспитания",{"$nulls":4},"Область формирования основ безопасного поведения","Бросание, катание, ловля, метание",null,"Ползанье, лазанье",null,null,"Ходьба",null,null,"Бег",null,null,"Прыжки",{"$nulls":4},"Равновесие",null,"Строевые упражнения",null,"Ребенок может найти выход из лабиринта","Ребенок может нарисовать простой узор, изображение, не отрывая руки","Ребенок может повторить узор с чередующимися элементами","Ребенок закрашивает контурное изображение с множеством мелких деталей, не выходя за контур","Ребенок может соединить точки для получения изображения","Ребенок рисует геометрический орнамент по клеткам",{"$nulls":11},"на санках","на лыжах","на двухколесном велосипеде","на самокате"]
[null,"Ребенок различает жанры музыкальных произведений (песня, танец, марш)","Ребенок узнает мелодию по отдельным фрагментам произведения (вступление, заключение, музыкальная фраза)","Ребенок различает звуки по высоте в пределах квинты","Ребенок различает звучание музыкальных инструментов (клавишно-ударных, струнных)","Ребенок демонстрирует развитые певческие навыки","Ребенок демонстрирует развитые навыки исполнения танцевальных движений","Ребенок может импровизировать мелодию на заданный текст","Ребенок демонстрирует навыки игры на детских музыкальных инструментах","Ребенок имеет представление о различных видах театрального искусства","Ребенок с удовольствие занимается театрализованной деятельностью","Ребенок может придумывать движения к танцам","Ребенок передает в изображении основные свойства предметов (форма, величина, цвет), характерные детали, соотношение предметов и их частей по величине, высоте, расположению относительно друг друга","Ребенок владеет основными способами и приемами рисования различными изобразительными материалами (цветные карандаши, гуашь, акварель, цветные мелки, пастель, сангина, угольный карандаш, фломастеры)","Ребенок лепит с натуры и по представлению знакомые предметы, передавая характерные особенности пластическим, конструктивным и комбинированным способами","Ребенок умеет пользоваться ножницами","Ребенок имеет представление о полхов-майданской, гжельской росписи","Ребенок может нарисовать узор, используя элементы  росписи","Ребенок умеет работать с бумагой (сгибать лист, сглаживать сгибы, надрезать по сгибам)","Ребенок умеет работать с природным и бросовым материалом",null,"Ребенок умеет выделять, называть, группировать произведения по видам искусства: литература, музыка, изобразительное искусство, архитектура, театр, цирк","Ребенок имеет представление о видах изобразительного искусства: графика, декоративно-прикладное искусство, живопись, скульптура, архитектура, фотоискусство","Ребенок имеет представление о жанрах изобразительного искусства: натюрморт, пейзаж, портрет","Ребенок имеет представление о народном искусстве, фольклоре, музыке и художественных промыслах","Ребенок имеет представление о творческих профессиях: художник, композитор, музыкант, актер, артист балета","Ребенок имеет представление о культурно-досуговых местах: театр, музей, библиотека, выставка, кинотеатр, цирк и др.","Ребенок может провести анализ постройки (выделить основные части и характерные детали конструкций)","Ребенок может выполнить постройку по инструкции","Ребенок внятно разговаривает","Ребенок умеет обобщать предметы в группы по существенным признакам","Ребенок демонстрирует богатый словарный запас","Ребенок правильно использует в речи: несклоняемые существительные","Ребенок правильно использует в речи: слова, имеющие только множественное или только единственное число","Ребенок правильно использует в речи: глаголы одеть-надеть","Ребенок правильно использует в речи: существительные множественного числа в родительном падеже","Ребенок правильно образовывает слова с помощью суффикса, приставки","Ребенок правильно произносит сонорные звуки: л-ль, р-рь","Ребенок пересказывает литературные произведения по ролям, по частям, правильно передавая идею и содержание","Ребенок пользуется прямой и косвенной речью","Ребенок составляет короткий описательный рассказ о предметах, объектах и явлениях природы, из личного опыта","Ребенок сочиняет сюжетные рассказы по картине, из личного опыта","Ребенок проявляет речевое творчество: придумывает продолжение и окончание к рассказу, рассказы по аналогии, по плану педагога, по модели","Ребенок владеет первичными приемами аргументации и доказательства","Ребенок проявляет избирательное отношение к произведениям определенной тематики и жанра","Ребенок понимает термины: слово: звук, буква, предложение, гласный звук, согласный звук","Ребенок может провести звуковой анализ слова, разделить на слоги двух-, трехслоговые слова; составляет схему слова","Ребенок различает гласные-согласные звуки","Ребенок определяет твердые-мягкие согласные","Ребенок составляет предложение по модели, определяет количество и последовательность слов в предложении","Ребенок различает и называет",{"$nulls":5},"Ребенок знает/называет/находит среди других цифры 0 -10","Ребенок выполняет количественный и порядковый счет в пределах 0-10","Ребенок знает состав чисел из единиц в пределах 5","Ребенок понимает календарные единицы времени (сутки, неделя, месяц, год)","Ребенок ориентируется на листе бумаги","Ребенок понимает простейшую графическую информацию об отношениях предметов (слева направо, справа налево, снизу вверх, сверху вниз)","Ребенок выделяет сходства и отличия между группами предметов","Ребенок сравнивает предметы по 3-5 признакам","Ребенок группирует предметы по разным основаниям, преимущественно на основе зрительной оценки",null,null,"Ребенок имеет представление о сходстве и различии во внешнем виде и образе жизни объектов животного и растительного мира в разные сезоны года","Ребенок может сравнивать, группировать объекты живой природы по их особенностям, мету обитания, образу жизни, питанию","Ребенок имеет представление о признаках разных времен года","Ребенок наблюдает за явлениями природы, фиксирует результаты наблюдения","Отношение к самому себе",null,"Отношение к сверстникам",null,"Отношение к взрослым",null,"Эмоции",{"$nulls":3},"Поведение","Семья",null,null,"Игровое поведение",null,null,"Ребенок имеет представление о государственных символах России (герб, гимн, флаг)","Ребенок имеет представление о государственных праздниках России","Ребенок знает/может назвать/показать на картинке и в естественной среде достопримечательности населенного пункта, в котором живет","Ребенок имеет представления о разных видах производительного труда (промышленность, строительство, сельское хозяйство)","Ребенок имеет представления о разных видах обслуживающего труда (сфера досуга и отдыха, сфера культуры, медицина, торговля)","Ребенок имеет представление о структуре трудового процесса (мотив, цель, инструменты, оборудование, содержание действий, выбор трудовых действий, результат)","Ребенок имеет элементарные экономические представления (назначение рекламы, денег)","Ребенок охотно участвует в выполнении трудовых поручений, дежурстве; может распределять трудовые обязанности с другими","Ребенок имеет представления/ соблюдает правила поведения в быту, на улице, в природе, в общении с людьми, с животными","Ребенок выполняет различные упражнения с мячом (прокатывание, передача, перебрасывание, ведение, подбрасывание, ловля, забрасывание)","Ребенок выполняет метание в цель, метание в даль предметов разной массы","Ребенок выполняет ползанье разными способами (на четвереньках, на животе)","Ребенок выполняет переползание через несколько предметов подряд, под дугами, в туннеле","Ребенок выполняет лазанье по гимнастической стенке чередующимся шагом","Ребенок выполняет различные виды ходьбы",null,null,"Ребенок выполняет различные виды бега",null,null,"Ребенок выполняет различные виды прыжков",{"$nulls":4},"Ребенок выполняет стойку на одной ноге ","Ребенок выполняет упражнение \"ласточка\" ","Ребенок выполняет различные виды строевых упражнений",{"$nulls":7},"Ребенок выполняет самостоятельно","Ребенок выполняет самостоятельно","Ребенок выполняет самостоятельно","Ребенок выполняет самостоятельно"]
[{"$nulls":50},"Ребенок называет/различает все цвета спектра и ахроматические цвета, оттенки цвета, тоны цвета, теплые и холодные оттенки","Ребенок владеет способами воссоздания фигуры из частей, деления фигуры на части","Ребенок может выстраивать сериационные ряды предметов, различающихся по размеру в возрастающем и убывающем порядке в пределах 10",{"$nulls":12},"о многообразии людей разных национальностей (особенностей внешнего вида, одежды, традиций)","Ребенок имеет представление о многообразии стран и народов мира",{"$nulls":4},"Ребенок может рассказать о себе, выразить собственные потребности, желания","Ребенок имеет представление о некоторых своих правах","Ребенок имеет предпочтения в общении","Ребенок охотно вступает в общение со сверстниками","Ребенок уважительно относится к взрослым, пожилым людям","Ребенок охотно вступает в общение со взрослыми","Ребенок понимает свои и чужие эмоциональные состояния, демонстрирует примеры эмоциональной поддержки ","Ребенок  откликается на просьбу помочь","Ребенок выразить чувства и эмоции в мимике, пантомимике, действиях, интонации","Ребенок демонстрирует адекватные возрасту способы регуляции эмоциональных состояний","Ребенок ориентируется на общепринятые нормы и правила культуры поведения","Ребенок знает членов своей семьи, ближайших родственников по линии матери и отца","Ребенок имеет представление о способах поддержки родственных связей (переписка, разговор, совместный отдых, традиции, походы в гости и др.)","Ребенок проявляет заботу по отношению к членам своей семьи, оказывает посильную помощь больному члену семьи","Ребенок в совместной деятельности принимает общую цель, договаривается о способах деятельности и материалах, может уступить в конфликтной ситуации","Ребенок проявляет интерес к игровому экспериментированию, развивающим и познавательным играм","Ребенок способен действовать в точном соответствие с игровой задачей и правилами",{"$nulls":14},"обычным шагом, на носках, на пятках, с высоким подниманием колен","приставной, в полуприседе, мелким и широким, перекатом с пятки на носок, гимнастическим","змейкой без ориентиров, в колонне по одному и по два","в колонне по одному, змейкой, с перестроением на ходу в пары, звенья","со сменой ведущих, с пролезанием в обруч, с ловлей и увертыванием, высоко поднимая колени","между расставленными предметами, в заданном темпе, мелким и широким шагом","подпрыгивание, перепрыгивание, спрыгивание","в длину с места","в высоту с разбега","в длину с разбега","со скакалкой",null,null,"построения (по росту, в колонну по одному, в шеренгу, в круг)","в колонну по три, в две шеренги на месте, расхождение из колонны в разные стороны"]
["начало года",{"$f":"'Худ.эст.к 6г ч1. Н.г.'!E34","v":0},{"$f":"'Худ.эст.к 6г ч1. Н.г.'!F34","v":0},{"$f":"'Худ.эст.к 6г ч1. Н.г.'!G34","v":0},{"$f":"'Худ.эст.к 6г ч1. Н.г.'!H34","v":0},{"$f":"'Худ.эст.к 6г ч1. Н.г.'!I34","v":0},{"$f":"'Худ.эст.к 6г ч1. Н.г.'!J34","v":0},{"$f":"'Худ.эст.к 6г ч1. Н.г.'!K34","v":0},{"$f":"'Худ.эст.к 6г ч1. Н.г.'!L34","v":0},{"$f":"'Худ.эст.к 6г ч1. Н.г.'!M34","v":0},{"$f":"'Худ.эст.к 6г ч1. Н.г.'!N34","v":0},{"$f":"'Худ.эст.к 6г ч1. Н.г.'!O34","v":0},{"$f":"'Худ.эст.к 6г ч2. Н.г.'!E34","v":0},{"$f":"'Худ.эст.к 6г ч2. Н.г.'!F34","v":0},{"$f":"'Худ.эст.к 6г ч2. Н.г.'!G34","v":0},{"$f":"'Худ.эст.к 6г ч2. Н.г.'!H34","v":0},{"$f":"'Худ.эст.к 6г ч2. Н.г.'!I34","v":0},{"$f":"'Худ.эст.к 6г ч2. Н.г.'!J34","v":0},{"$f":"'Худ.эст.к 6г ч2. Н.г.'!K34","v":0},{"$f":"'Худ.эст.к 6г ч2. Н.г.'!L34","v":0},{"$f":"'Худ.эст.к 6г ч2. Н.г.'!M34","v":0},{"$f":"'Худ.эст.к 6г ч3. Н.г.'!E34","v":0},{"$f":"'Худ.эст.к 6г ч3. Н.г.'!F34","v":0},{"$f":"'Худ.эст.к 6г ч3. Н.г.'!G34","v":0},{"$f":"'Худ.эст.к 6г ч3. Н.г.'!H34","v":0},{"$f":"'Худ.эст.к 6г ч3. Н.г.'!I34","v":0},{"$f":"'Худ.эст.к 6г ч3. Н.г.'!J34","v":0},{"$f":"'Худ.эст.к 6г ч3. Н.г.'!K34","v":0},{"$f":"'Худ.эст.к 6г ч3. Н.г.'!L34","v":0},{"$f":"'Реч.разв.к 6г ч1. Н.г.'!E33","v":0},{"$f":"'Реч.разв.к 6г ч1. Н.г.'!F33","v":0},{"$f":"'Реч.разв.к 6г ч1. Н.г.'!G33","v":0},{"$f":"'Реч.разв.к 6г ч1. Н.г.'!H33","v":0},{"$f":"'Реч.разв.к 6г ч1. Н.г.'!I33","v":0},{"$f":"'Реч.разв.к 6г ч1. Н.г.'!J33","v":0},{"$f":"'Реч.разв.к 6г ч1. Н.г.'!K33","v":0},{"$f":"'Реч.разв.к 6г ч1. Н.г.'!L33","v":0},{"$f":"'Реч.разв.к 6г ч2. Н.г.'!E33","v":0},{"$f":"'Реч.разв.к 6г ч2. Н.г.'!F33","v":0},{"$f":"'Реч.разв.к 6г ч2. Н.г.'!G33","v":0},{"$f":"'Реч.разв.к 6г ч2. Н.г.'!H33","v":0},{"$f":"'Реч.разв.к 6г ч2. Н.г.'!I33","v":0},{"$f":"'Реч.разв.к 6г ч2. Н.г.'!J33","v":0},{"$f":"'Реч.разв.к 6г ч2. Н.г.'!K33","v":0},{"$f":"'Реч.разв.к 6г ч2. Н.г.'!L33","v":0},{"$f":"'Реч.разв.к 6г ч2. Н.г.'!M33","v":0},{"$f":"'Реч.разв.к 6г ч2. Н.г.'!N33","v":0},{"$f":"'Реч.разв.к 6г ч2. Н.г.'!O33","v":0},{"$f":"'Реч.разв.к 6г ч2. Н.г.'!P33","v":0},{"$f":"'Реч.разв.к 6г ч2. Н.г.'!Q33","v":0},{"$f":"'Позн.разв. к 6г ч1. Н.г.'!E34","v":0},{"$f":"'Позн.разв. к 6г ч1. Н.г.'!F34","v":0},{"$f":"'Позн.разв. к 6г ч1. Н.г.'!G34","v":0},{"$f":"'Позн.разв. к 6г ч1. Н.г.'!H34","v":0},{"$f":"'Позн.разв. к 6г ч1. Н.г.'!I34","v":0},{"$f":"'Позн.разв. к 6г ч1. Н.г.'!J34","v":0},{"$f":"'Позн.разв. к 6г ч1. Н.г.'!K34","v":0},{"$f":"'Позн.разв. к 6г ч1. Н.г.'!L34","v":0},{"$f":"'Позн.разв. к 6г ч1. Н.г.'!M34","v":0},{"$f":"'Позн.разв. к 6г ч1. Н.г.'!N34","v":0},{"$f":"'Позн.разв. к 6г ч1. Н.г.'!O34","v":0},{"$f":"'Позн.разв. к 6г ч1. Н.г.'!P34","v":0},{"$f":"'Позн.разв. к 6г ч1. Н.г.'!Q34","v":0},{"$f":"'Позн.разв. к 6г ч1. Н.г.'!R34","v":0},{"$f":"'Позн.разв. к 6г ч1. Н.г.'!S34","v":0},{"$f":"'Позн.разв. к 6г ч2. Н.г.'!E34","v":0},{"$f":"'Позн.разв. к 6г ч2. Н.г.'!F34","v":0},{"$f":"'Позн.разв. к 6г ч2. Н.г.'!G34","v":0},{"$f":"'Позн.разв. к 6г ч2. Н.г.'!H34","v":0},{"$f":"'Позн.разв. к 6г ч2. Н.г.'!I34","v":0},{"$f":"'Позн.разв. к 6г ч2. Н.г.'!J34","v":0},{"$f":"'Соц.ком.к 6г ч1. Н.г.'!E33","v":0},{"$f":"'Соц.ком.к 6г ч1. Н.г.'!F33","v":0},{"$f":"'Соц.ком.к 6г ч1. Н.г.'!G33","v":0},{"$f":"'Соц.ком.к 6г ч1. Н.г.'!H33","v":0},{"$f":"'Соц.ком.к 6г ч1. Н.г.'!I33","v":0},{"$f":"'Соц.ком.к 6г ч1. Н.г.'!J33","v":0},{"$f":"'Соц.ком.к 6г ч1. Н.г.'!K33","v":0},{"$f":"'Соц.ком.к 6г ч1. Н.г.'!L33","v":0},{"$f":"'Соц.ком.к 6г ч1. Н.г.'!M33","v":0},{"$f":"'Соц.ком.к 6г ч1. Н.г.'!N33","v":0},{"$f":"'Соц.ком.к 6г ч1. Н.г.'!O33","v":0},{"$f":"'Соц.ком.к 6г ч1. Н.г.'!P33","v":0},{"$f":"'Соц.ком.к 6г ч1. Н.г.'!Q33","v":0},{"$f":"'Соц.ком.к 6г ч1. Н.г.'!R33","v":0},{"$f":"'Соц.ком.к 6г ч1. Н.г.'!S33","v":0},{"$f":"'Соц.ком.к 6г ч1. Н.г.'!T33","v":0},{"$f":"'Соц.ком.к 6г ч1. Н.г.'!U33","v":0},{"$f":"'Соц.ком. к 6г ч2. Н.г.'!E33","v":0},{"$f":"'Соц.ком. к 6г ч2. Н.г.'!F33","v":0},{"$f":"'Соц.ком. к 6г ч2. Н.г.'!G33","v":0},{"$f":"'Соц.ком. к 6г ч2. Н.г.'!H33","v":0},{"$f":"'Соц.ком. к 6г ч2. Н.г.'!I33","v":0},{"$f":"'Соц.ком. к 6г ч2. Н.г.'!J33","v":0},{"$f":"'Соц.ком. к 6г ч2. Н.г.'!K33","v":0},{"$f":"'Соц.ком. к 6г ч2. Н.г.'!L33","v":0},{"$f":"'Соц.ком. к 6г ч2. Н.г.'!M33","v":0},{"$f":"'Физ.разв. к 6г ч1. Н.г.'!E34","v":0},{"$f":"'Физ.разв. к 6г ч1. Н.г.'!F34","v":0},{"$f":"'Физ.разв. к 6г ч1. Н.г.'!G34","v":0},{"$f":"'Физ.разв. к 6г ч1. Н.г.'!H34","v":0},{"$f":"'Физ.разв. к 6г ч1. Н.г.'!I34","v":0},{"$f":"'Физ.разв. к 6г ч1. Н.г.'!J34","v":0},{"$f":"'Физ.разв. к 6г ч1. Н.г.'!K34","v":0},{"$f":"'Физ.разв. к 6г ч1. Н.г.'!L34","v":0},{"$f":"'Физ.разв. к 6г ч1. Н.г.'!M34","v":0},{"$f":"'Физ.разв. к 6г ч1. Н.г.'!N34","v":0},{"$f":"'Физ.разв. к 6г ч1. Н.г.'!O34","v":0},{"$f":"'Физ.разв. к 6г ч1. Н.г.'!P34","v":0},{"$f":"'Физ.разв. к 6г ч1. Н.г.'!Q34","v":0},{"$f":"'Физ.разв. к 6г ч1. Н.г.'!R34","v":0},{"$f":"'Физ.разв. к 6г ч1. Н.г.'!S34","v":0},{"$f":"'Физ.разв. к 6г ч1. Н.г.'!T34","v":0},{"$f":"'Физ.разв. к 6г ч1. Н.г.'!U34","v":0},{"$f":"'Физ.разв. к 6г ч1. Н.г.'!V34","v":0},{"$f":"'Физ.разв. к 6г ч1. Н.г.'!W34","v":0},{"$f":"'Физ.разв. к 6г ч1. Н.г.'!X34","v":0},{"$f":"'Физ.разв. к 6г ч2. Н.г.'!E35","v":0},{"$f":"'Физ.разв. к 6г ч2. Н.г.'!F35","v":0},{"$f":"'Физ.разв. к 6г ч2. Н.г.'!G35","v":0},{"$f":"'Физ.разв. к 6г ч2. Н.г.'!H35","v":0},{"$f":"'Физ.разв. к 6г ч2. Н.г.'!I35","v":0},{"$f":"'Физ.разв. к 6г ч2. Н.г.'!J35","v":0},{"$f":"'Физ.разв. к 6г ч2. Н.г.'!K35","v":0},{"$f":"'Физ.разв. к 6г ч2. Н.г.'!L35","v":0},{"$f":"'Физ.разв. к 6г ч2. Н.г.'!M35","v":0},{"$f":"'Физ.разв. к 6г ч2. Н.г.'!N35","v":0},{"$f":"'Физ.разв. к 6г ч2. Н.г.'!O35","v":0},{"$f":"'Физ.разв. к 6г ч2. Н.г.'!P35","v":0},{"$f":"'Физ.разв. к 6г ч2. Н.г.'!Q35","v":0},{"$f":"'Физ.разв. к 6г ч2. Н.г.'!R35","v":0},{"$f":"'Физ.разв. к 6г ч2. Н.г.'!S35","v":0},{"$f":"'Физ.разв. к 6г ч2. Н.г.'!T35","v":0},{"$f":"'Физ.разв. к 6г ч2. Н.г.'!U35","v":0},{"$f":"'Физ.разв. к 6г ч2. Н.г.'!V35","v":0},{"$f":"'Физ.разв. к 6г ч2. Н.г.'!W35","v":0},{"$f":"'Физ.разв. к 6г ч2. Н.г.'!X35","v":0},{"$f":"'Физ.разв. к 6г ч2. Н.г.'!Y35","v":0}]
["конец года",{"$f":"'Худ.эст.к 6г ч1. К.г. '!E34","v":0},{"$f":"'Худ.эст.к 6г ч1. К.г. '!F34","v":0},{"$f":"'Худ.эст.к 6г ч1. К.г. '!G34","v":0},{"$f":"'Худ.эст.к 6г ч1. К.г. '!H34","v":0},{"$f":"'Худ.эст.к 6г ч1. К.г. '!I34","v":0},{"$f":"'Худ.эст.к 6г ч1. К.г. '!J34","v":0},{"$f":"'Худ.эст.к 6г ч1. К.г. '!K34","v":0},{"$f":"'Худ.эст.к 6г ч1. К.г. '!L34","v":0},{"$f":"'Худ.эст.к 6г ч1. К.г. '!M34","v":0},{"$f":"'Худ.эст.к 6г ч1. К.г. '!N34","v":0},{"$f":"'Худ.эст.к 6г ч1. К.г. '!O34","v":0},{"$f":"'Худ.эст.к 6г ч2. К.г. '!E34","v":0},{"$f":"'Худ.эст.к 6г ч2. К.г. '!F34","v":0},{"$f":"'Худ.эст.к 6г ч2. К.г. '!G34","v":0},{"$f":"'Худ.эст.к 6г ч2. К.г. '!H34","v":0},{"$f":"'Худ.эст.к 6г ч2. К.г. '!I34","v":0},{"$f":"'Худ.эст.к 6г ч2. К.г. '!J34","v":0},{"$f":"'Худ.эст.к 6г ч2. К.г. '!K34","v":0},{"$f":"'Худ.эст.к 6г ч2. К.г. '!L34","v":0},{"$f":"'Худ.эст.к 6г ч2. К.г. '!M34","v":0},{"$f":"'Худ.эст.к 6г ч3. К.г. '!E34","v":0},{"$f":"'Худ.эст.к 6г ч3. К.г. '!F34","v":0},{"$f":"'Худ.эст.к 6г ч3. К.г. '!G34","v":0},{"$f":"'Худ.эст.к 6г ч3. К.г. '!H34","v":0},{"$f":"'Худ.эст.к 6г ч3. К.г. '!I34","v":0},{"$f":"'Худ.эст.к 6г ч3. К.г. '!J34","v":0},{"$f":"'Худ.эст.к 6г ч3. К.г. '!K34","v":0},{"$f":"'Худ.эст.к 6г ч3. К.г. '!L34","v":0},{"$f":"'Реч.разв.к 6г ч1. К.г. '!E33","v":0},{"$f":"'Реч.разв.к 6г ч1. К.г. '!F33","v":0},{"$f":"'Реч.разв.к 6г ч1. К.г. '!G33","v":0},{"$f":"'Реч.разв.к 6г ч1. К.г. '!H33","v":0},{"$f":"'Реч.разв.к 6г ч1. К.г. '!I33","v":0},{"$f":"'Реч.разв.к 6г ч1. К.г. '!J33","v":0},{"$f":"'Реч.разв.к 6г ч1. К.г. '!K33","v":0},{"$f":"'Реч.разв.к 6г ч1. К.г. '!L33","v":0},{"$f":"'Реч.разв.к 6г ч2. К.г. '!E33","v":0},{"$f":"'Реч.разв.к 6г ч2. К.г. '!F33","v":0},{"$f":"'Реч.разв.к 6г ч2. К.г. '!G33","v":0},{"$f":"'Реч.разв.к 6г ч2. К.г. '!H33","v":0},{"$f":"'Реч.разв.к 6г ч2. К.г. '!I33","v":0},{"$f":"'Реч.разв.к 6г ч2. К.г. '!J33","v":0},{"$f":"'Реч.разв.к 6г ч2. К.г. '!K33","v":0},{"$f":"'Реч.разв.к 6г ч2. К.г. '!L33","v":0},{"$f":"'Реч.разв.к 6г ч2. К.г. '!M33","v":0},{"$f":"'Реч.разв.к 6г ч2. К.г. '!N33","v":0},{"$f":"'Реч.разв.к 6г ч2. К.г. '!O33","v":0},{"$f":"'Реч.разв.к 6г ч2. К.г. '!P33","v":0},{"$f":"'Реч.разв.к 6г ч2. К.г. '!Q33","v":0},{"$f":"'Позн.разв. к 6г ч1. К.г. '!E34","v":0},{"$f":"'Позн.разв. к 6г ч1. К.г. '!F34","v":0},{"$f":"'Позн.разв. к 6г ч1. К.г. '!G34","v":0},{"$f":"'Позн.разв. к 6г ч1. К.г. '!H34","v":0},{"$f":"'Позн.разв. к 6г ч1. К.г. '!I34","v":0},{"$f":"'Позн.разв. к 6г ч1. К.г. '!J34","v":0},{"$f":"'Позн.разв. к 6г ч1. К.г. '!K34","v":0},{"$f":"'Позн.разв. к 6г ч1. К.г. '!L34","v":0},{"$f":"'Позн.разв. к 6г ч1. К.г. '!M34","v":0},{"$f":"'Позн.разв. к 6г ч1. К.г. '!N34","v":0},{"$f":"'Позн.разв. к 6г ч1. К.г. '!O34","v":0},{"$f":"'Позн.разв. к 6г ч1. К.г. '!P34","v":0},{"$f":"'Позн.разв. к 6г ч1. К.г. '!Q34","v":0},{"$f":"'Позн.разв. к 6г ч1. К.г. '!R34","v":0},{"$f":"'Позн.разв. к 6г ч1. К.г. '!S34","v":0},{"$f":"'Позн.разв. к 6г ч2. К.г. '!E34","v":0},{"$f":"'Позн.разв. к 6г ч2. К.г. '!F34","v":0},{"$f":"'Позн.разв. к 6г ч2. К.г. '!G34","v":0},{"$f":"'Позн.разв. к 6г ч2. К.г. '!H34","v":0},{"$f":"'Позн.разв. к 6г ч2. К.г. '!I34","v":0},{"$f":"'Позн.разв. к 6г ч2. К.г. '!J34","v":0},{"$f":"'Соц.ком.к 6г ч1. К.г. '!$E$33","v":0},{"$f":"'Соц.ком.к 6г ч1. К.г. '!$E$33","v":0},{"$f":"'Соц.ком.к 6г ч1. К.г. '!$E$33","v":0},{"$f":"'Соц.ком.к 6г ч1. К.г. '!$E$33","v":0},{"$f":"'Соц.ком.к 6г ч1. К.г. '!$E$33","v":0},{"$f":"'Соц.ком.к 6г ч1. К.г. '!$E$33","v":0},{"$f":"'Соц.ком.к 6г ч1. К.г. '!$E$33","v":0},{"$f":"'Соц.ком.к 6г ч1. К.г. '!$E$33","v":0},{"$f":"'Соц.ком.к 6г ч1. К.г. '!$E$33","v":0},{"$f":"'Соц.ком.к 6г ч1. К.г. '!$E$33","v":0},{"$f":"'Соц.ком.к 6г ч1. К.г. '!$E$33","v":0},{"$f":"'Соц.ком.к 6г ч1. К.г. '!$E$33","v":0},{"$f":"'Соц.ком.к 6г ч1. К.г. '!$E$33","v":0},{"$f":"'Соц.ком.к 6г ч1. К.г. '!$E$33","v":0},{"$f":"'Соц.ком.к 6г ч1. К.г. '!$E$33","v":0},{"$f":"'Соц.ком.к 6г ч1. К.г. '!$E$33","v":0},{"$f":"'Соц.ком.к 6г ч1. К.г. '!$E$33","v":0},{"$f":"'Соц.ком. к 6г ч2 К.г.'!E33","v":0},{"$f":"'Соц.ком. к 6г ч2 К.г.'!F33","v":0},{"$f":"'Соц.ком. к 6г ч2 К.г.'!G33","v":0},{"$f":"'Соц.ком. к 6г ч2 К.г.'!H33","v":0},{"$f":"'Соц.ком. к 6г ч2 К.г.'!I33","v":0},{"$f":"'Соц.ком. к 6г ч2 К.г.'!J33","v":0},{"$f":"'Соц.ком. к 6г ч2 К.г.'!K33","v":0},{"$f":"'Соц.ком. к 6г ч2 К.г.'!L33","v":0},{"$f":"'Соц.ком. к 6г ч2 К.г.'!M33","v":0},{"$f":"'Физ.разв. к 6г ч1. К.г. '!E34","v":0},{"$f":"'Физ.разв. к 6г ч1. К.г. '!F34","v":0},{"$f":"'Физ.разв. к 6г ч1. К.г. '!G34","v":0},{"$f":"'Физ.разв. к 6г ч1. К.г. '!H34","v":0},{"$f":"'Физ.разв. к 6г ч1. К.г. '!I34","v":0},{"$f":"'Физ.разв. к 6г ч1. К.г. '!J34","v":0},{"$f":"'Физ.разв. к 6г ч1. К.г. '!K34","v":0},{"$f":"'Физ.разв. к 6г ч1. К.г. '!L34","v":0},{"$f":"'Физ.разв. к 6г ч1. К.г. '!M34","v":0},{"$f":"'Физ.разв. к 6г ч1. К.г. '!N34","v":0},{"$f":"'Физ.разв. к 6г ч1. К.г. '!O34","v":0},{"$f":"'Физ.разв. к 6г ч1. К.г. '!P34","v":0},{"$f":"'Физ.разв. к 6г ч1. К.г. '!Q34","v":0},{"$f":"'Физ.разв. к 6г ч1. К.г. '!R34","v":0},{"$f":"'Физ.разв. к 6г ч1. К.г. '!S34","v":0},{"$f":"'Физ.разв. к 6г ч1. К.г. '!T34","v":0},{"$f":"'Физ.разв. к 6г ч1. К.г. '!U34","v":0},{"$f":"'Физ.разв. к 6г ч1. К.г. '!V34","v":0},{"$f":"'Физ.разв. к 6г ч1. К.г. '!W34","v":0},{"$f":"'Физ.разв. к 6г ч1. К.г. '!X34","v":0},{"$f":"'Физ.разв. к 6г ч2. К.г. '!E35","v":0},{"$f":"'Физ.разв. к 6г ч2. К.г. '!F35","v":0},{"$f":"'Физ.разв. к 6г ч2. К.г. '!G35","v":0},{"$f":"'Физ.разв. к 6г ч2. К.г. '!H35","v":0},{"$f":"'Физ.разв. к 6г ч2. К.г. '!I35","v":0},{"$f":"'Физ.разв. к 6г ч2. К.г. '!J35","v":0},{"$f":"'Физ.разв. к 6г ч2. К.г. '!K35","v":0},{"$f":"'Физ.разв. к 6г ч2. К.г. '!L35","v":0},{"$f":"'Физ.разв. к 6г ч2. К.г. '!M35","v":0},{"$f":"'Физ.разв. к 6г ч2. К.г. '!N35","v":0},{"$f":"'Физ.разв. к 6г ч2. К.г. '!O35","v":0},{"$f":"'Физ.разв. к 6г ч2. К.г. '!P35","v":0},{"$f":"'Физ.разв. к 6г ч2. К.г. '!Q35","v":0},{"$f":"'Физ.разв. к 6г ч2. К.г. '!R35","v":0},{"$f":"'Физ.разв. к 6г ч2. К.г. '!S35","v":0},{"$f":"'Физ.разв. к 6г ч2. К.г. '!T35","v":0},{"$f":"'Физ.разв. к 6г ч2. К.г. '!U35","v":0},{"$f":"'Физ.разв. к 6г ч2. К.г. '!V35","v":0},{"$f":"'Физ.разв. к 6г ч2. К.г. '!W35","v":0},{"$f":"'Физ.разв. к 6г ч2. К.г. '!X35","v":0},{"$f":"'Физ.разв. к 6г ч2. К.г. '!Y35","v":0}]

{"sheet":"24","index":51,"n_rows":11,"n_cols":138,"rows_kept":11,"merged":[[4,117,4,122],[4,123,4,126],[4,127,4,129],[4,130,4,132],[4,134,4,137],[5,0,8,0],[5,1,5,11],[5,12,5,19],[5,21,6,26],[5,27,6,28],[5,50,5,52],[5,53,5,55],[5,56,5,64],[5,65,5,66],[5,67,5,70],[5,117,5,118],[5,119,5,122],[5,123,6,123],[5,124,6,124],[5,125,6,125],[5,126,6,126],[5,127,8,127],[5,128,8,128],[5,129,8,129],[5,130,8,130],[5,131,8,131],[5,132,8,132],[5,133,8,133],[5,134,5,137],[6,1,6,4],[6,9,6,10],[6,12,6,13],[6,16,6,17],[6,18,6,19],[6,20,8,20],[6,30,6,31],[6,32,6,36],[6,38,6,43],[6,45,6,49],[6,53,8,53],[6,54,8,54],[6,55,8,55],[6,56,6,58],[6,62,6,64],[6,65,7,66],[6,67,6,68],[6,69,6,70],[6,71,6,87],[6,88,6,90],[6,91,6,95],[6,97,6,98],[6,99,6,101],[6,102,6,104],[6,105,6,107],[6,108,6,112],[6,113,6,114],[6,115,6,116],[6,117,8,117],[6,118,8,118],[6,119,8,119],[6,120,8,120],[6,121,8,121],[6,122,8,122],[6,134,8,134],[6,135,8,135],[6,136,8,136],[6,137,8,137],[7,1,8,1],[7,2,8,2],[7,3,8,3],[7,4,8,4],[7,5,8,5],[7,6,8,6],[7,7,8,7],[7,8,8,8],[7,9,8,9],[7,10,8,10],[7,11,8,11],[7,12,8,12],[7,13,8,13],[7,14,8,14],[7,15,8,15],[7,16,8,16],[7,17,8,17],[7,18,8,18],[7,19,8,19],[7,21,8,21],[7,22,8,22],[7,23,8,23],[7,24,8,24],[7,25,8,25],[7,26,8,26],[7,27,8,27],[7,28,8,28],[7,29,8,29],[7,30,8,30],[7,31,8,31],[7,32,8,32],[7,33,8,33],[7,34,8,34],[7,35,8,35],[7,36,8,36],[7,37,8,37],[7,38,8,38],[7,39,8,39],[7,40,8,40],[7,41,8,41],[7,42,8,42],[7,43,8,43],[7,44,8,44],[7,45,8,45],[7,46,8,46],[7,47,8,47],[7,48,8,48],[7,49,8,49],[7,50,7,52],[7,56,8,56],[7,57,8,57],[7,58,8,58],[7,59,8,59],[7,60,8,60],[7,61,8,61],[7,62,8,62],[7,63,8,63],[7,64,8,64],[7,67,8,67],[7,68,8,68],[7,69,8,69],[7,70,8,70],[7,71,7,72],[7,73,7,74],[7,75,7,76],[7,77,7,80],[7,82,7,84],[7,85,7,87],[7,88,8,88],[7,89,8,89],[7,90,8,90],[7,91,8,91],[7,92,8,92],[7,93,8,93],[7,94,8,94],[7,95,8,95],[7,96,8,96],[7,97,8,97],[7,98,8,98],[7,99,8,99],[7,100,8,100],[7,101,8,101],[7,102,7,104],[7,105,7,107],[7,108,7,112],[7,113,8,113],[7,114,8,114],[7,115,7,116],[7,123,8,123],[7,124,8,124],[7,125,8,125],[7,126,8,126]]}
[]
[]
[]
[]
[{"$nulls":117},"Мелкая моторика",{"$nulls":5},"КГН",{"$nulls":3},"ЗОЖ",null,null,"Подвижные игры",null,null,"Спорт. игры","Спортивные упражнения"]
[{"$f":"Список!B27","v":0},"Музыкальная деятельность",{"$nulls":10},"Изобразительная деятельность",{"$nulls":8},"Приобщение к искусству",{"$nulls":5},"Конструктивная деятельность",{"$nulls":22},"Сенсорные эталоны ",null,null,"Познавательные действия",null,null,"Математические представления",{"$nulls":8},"Окружающий мир",null,"Природа ",{"$nulls":49},"Координация рук и глаз",null,"Графические навыки",{"$nulls":3},"Навыки соблюдения чистоты тела (правила личной гигиены)","Навыки культуры еды (прием пищи) ","Навыки поддержания порядка (правила поведения в быту) ","Навыки ухода за собой (одевание, раздевание) ","Ребенок имеет представление о факторах, положительно/негативно влияющих на здоровье; владеет основными способами укрепления здоровья","Ребенок имеет представление о некоторых видах спорта (9 и больше), роли спорта для укрепления здоровья","Ребенок проявляет заботливое отношение к своему здоровью и здоровью окружающих","Ребенок проявляет доступный возрасту самоконтроль","Ребенок  способен привлечь внимание других детей и организовать знакомую подвижную игру","Ребенок придумывает новые варианты игр, комбинирует движения","Ребенок имеет представление об элементах спортивных игр (городки, баскетбол, бадминтон, футбол), умеет выполнять некоторые виды движений","Ребенок умеет кататься"]
[null,"Слушание",{"$nulls":3},"Пение ","Музыкально-ритмические движения","Песенное творчество","Игра на детских музыкальных инструментах","Театрализованная деятельность",null,"Танцевально-игровое творчество","Рисование ",null,"Лепка ","Аппликация ","Народное ДПИ",null,"Прикладное творчество",null,"Ребенок самостоятельно определяет замысел рисунка, аппликации, лепки, поделки, создает образы и композиционные изображения, использует разнообразные материалы",{"$nulls":8},"Общее речевое развитие","Формирование словаря",null,"Грамматический строй",{"$nulls":4},"Звуковая культура речи","Связная речь",{"$nulls":5},"ЧХЛ","Подготовка к обучению грамоте",{"$nulls":4},"Цвет, оттенки","Форма, геометрические фигуры","Величина","Ребенок охотно участвует в обсуждении проблемы для совместного нахождения способов ее решения, предлагает пути решения, устанавливает закономерности причинно-следственного характера, проявляет любознательность","Ребенок использует математические знания, способы и средства для познания окружающего мира","Ребенок способен к произвольным умственным действиям, логическим операциям анализа, сравнения, обобщения, систематизации, классификации","Количество и счет",null,null,"Ориентировка во времени","Ориентировка в пространстве","Пространственно-количественные связи и отношения","Сравнение",null,null,"Ребенок имеет представления, может показать на картинке и в естественной среде, может рассказать",null,"Объекты живой природы",null,"Объекты неживой природы, природные явления",null,"Сфера социальных отношений",{"$nulls":16},"Область формирования основ гражданственности и патриотизма",null,null,"Сфера трудового воспитания",{"$nulls":4},"Область формирования основ безопасного поведения","Бросание, катание, ловля, метание",null,"Ползанье, лазанье",null,null,"Ходьба",null,null,"Бег",null,null,"Прыжки",{"$nulls":4},"Равновесие",null,"Строевые упражнения",null,"Ребенок может найти выход из лабиринта","Ребенок может нарисовать простой узор, изображение, не отрывая руки","Ребенок может повторить узор с чередующимися элементами","Ребенок закрашивает контурное изображение с множеством мелких деталей, не выходя за контур","Ребенок может соединить точки для получения изображения","Ребенок рисует геометрический орнамент по клеткам",{"$nulls":11},"на санках","на лыжах","на двухколесном велосипеде","на самокате"]
[null,"Ребенок различает жанры музыкальных произведений (песня, танец, марш)","Ребенок узнает мелодию по отдельным фрагментам произведения (вступление, заключение, музыкальная фраза)","Ребенок различает звуки по высоте в пределах квинты","Ребенок различает звучание музыкальных инструментов (клавишно-ударных, струнных)","Ребенок демонстрирует развитые певческие навыки","Ребенок демонстрирует развитые навыки исполнения танцевальных движений","Ребенок может импровизировать мелодию на заданный текст","Ребенок демонстрирует навыки игры на детских музыкальных инструментах","Ребенок имеет представление о различных видах театрального искусства","Ребенок с удовольствие занимается театрализованной деятельностью","Ребенок может придумывать движения к танцам","Ребенок передает в изображении основные свойства предметов (форма, величина, цвет), характерные детали, соотношение предметов и их частей по величине, высоте, расположению относительно друг друга","Ребенок владеет основными способами и приемами рисования различными изобразительными материалами (цветные карандаши, гуашь, акварель, цветные мелки, пастель, сангина, угольный карандаш, фломастеры)","Ребенок лепит с натуры и по представлению знакомые предметы, передавая характерные особенности пластическим, конструктивным и комбинированным способами","Ребенок умеет пользоваться ножницами","Ребенок имеет представление о полхов-майданской, гжельской росписи","Ребенок может нарисовать узор, используя элементы  росписи","Ребенок умеет работать с бумагой (сгибать лист, сглаживать сгибы, надрезать по сгибам)","Ребенок умеет работать с природным и бросовым материалом",null,"Ребенок умеет выделять, называть, группировать произведения по видам искусства: литература, музыка, изобразительное искусство, архитектура, театр, цирк","Ребенок имеет представление о видах изобразительного искусства: графика, декоративно-прикладное искусство, живопись, скульптура, архитектура, фотоискусство","Ребенок имеет представление о жанрах изобразительного искусства: натюрморт, пейзаж, портрет","Ребенок имеет представление о народном искусстве, фольклоре, музыке и художественных промыслах","Ребенок имеет представление о творческих профессиях: художник, композитор, музыкант, актер, артист балета","Ребенок имеет представление о культурно-досуговых местах: театр, музей, библиотека, выставка, кинотеатр, цирк и др.","Ребенок может провести анализ постройки (выделить основные части и характерные детали конструкций)","Ребенок может выполнить постройку по инструкции","Ребенок внятно разговаривает","Ребенок умеет обобщать предметы в группы по существенным признакам","Ребенок демонстрирует богатый словарный запас","Ребенок правильно использует в речи: несклоняемые существительные","Ребенок правильно использует в речи: слова, имеющие только множественное или только единственное число","Ребенок правильно использует в речи: глаголы одеть-надеть","Ребенок правильно использует в речи: существительные множественного числа в родительном падеже","Ребенок правильно образовывает слова с помощью суффикса, приставки","Ребенок правильно произносит сонорные звуки: л-ль, р-рь","Ребенок пересказывает литературные произведения по ролям, по частям, правильно передавая идею и содержание","Ребенок пользуется прямой и косвенной речью","Ребенок составляет короткий описательный рассказ о предметах, объектах и явлениях природы, из личного опыта","Ребенок сочиняет сюжетные рассказы по картине, из личного опыта","Ребенок проявляет речевое творчество: придумывает продолжение и окончание к рассказу, рассказы по аналогии, по плану педагога, по модели","Ребенок владеет первичными приемами аргументации и доказательства","Ребенок проявляет избирательное отношение к произведениям определенной тематики и жанра","Ребенок понимает термины: слово: звук, буква, предложение, гласный звук, согласный звук","Ребенок может провести звуковой анализ слова, разделить на слоги двух-, трехслоговые слова; составляет схему слова","Ребенок различает гласные-согласные звуки","Ребенок определяет твердые-мягкие согласные","Ребенок составляет предложение по модели, определяет количество и последовательность слов в предложении","Ребенок различает и называет",{"$nulls":5},"Ребенок знает/называет/находит среди других цифры 0 -10","Ребенок выполняет количественный и порядковый счет в пределах 0-10","Ребенок знает состав чисел из единиц в пределах 5","Ребенок понимает календарные единицы времени (сутки, неделя, месяц, год)","Ребенок ориентируется на листе бумаги","Ребенок понимает простейшую графическую информацию об отношениях предметов (слева направо, справа налево, снизу вверх, сверху вниз)","Ребенок выделяет сходства и отличия между группами предметов","Ребенок сравнивает предметы по 3-5 признакам","Ребенок группирует предметы по разным основаниям, преимущественно на основе зрительной оценки",null,null,"Ребенок имеет представление о сходстве и различии во внешнем виде и образе жизни объектов животного и растительного мира в разные сезоны года","Ребенок может сравнивать, группировать объекты живой природы по их особенностям, мету обитания, образу жизни, питанию","Ребенок имеет представление о признаках разных времен года","Ребенок наблюдает за явлениями природы, фиксирует результаты наблюдения","Отношение к самому себе",null,"Отношение к сверстникам",null,"Отношение к взрослым",null,"Эмоции",{"$nulls":3},"Поведение","Семья",null,null,"Игровое поведение",null,null,"Ребенок имеет представление о государственных символах России (герб, гимн, флаг)","Ребенок имеет представление о государственных праздниках России","Ребенок знает/может назвать/показать на картинке и в естественной среде достопримечательности населенного пункта, в котором живет","Ребенок имеет представления о разных видах производительного труда (промышленность, строительство, сельское хозяйство)","Ребенок имеет представления о разных видах обслуживающего труда (сфера досуга и отдыха, сфера культуры, медицина, торговля)","Ребенок имеет представление о структуре трудового процесса (мотив, цель, инструменты, оборудование, содержание действий, выбор трудовых действий, результат)","Ребенок имеет элементарные экономические представления (назначение рекламы, денег)","Ребенок охотно участвует в выполнении трудовых поручений, дежурстве; может распределять трудовые обязанности с другими","Ребенок имеет представления/ соблюдает правила поведения в быту, на улице, в природе, в общении с людьми, с животными","Ребенок выполняет различные упражнения с мячом (прокатывание, передача, перебрасывание, ведение, подбрасывание, ловля, забрасывание)","Ребенок выполняет метание в цель, метание в даль предметов разной массы","Ребенок выполняет ползанье разными способами (на четвереньках, на животе)","Ребенок выполняет переползание через несколько предметов подряд, под дугами, в туннеле","Ребенок выполняет лазанье по гимнастической стенке чередующимся шагом","Ребенок выполняет различные виды ходьбы",null,null,"Ребенок выполняет различные виды бега",null,null,"Ребенок выполняет различные виды прыжков",{"$nulls":4},"Ребенок выполняет стойку на одной ноге ","Ребенок выполняет упражнение \"ласточка\" ","Ребенок выполняет различные виды строевых упражнений",{"$nulls":7},"Ребенок выполняет самостоятельно","Ребенок выполняет самостоятельно","Ребенок выполняет самостоятельно","Ребенок выполняет самостоятельно"]
[{"$nulls":50},"Ребенок называет/различает все цвета спектра и ахроматические цвета, оттенки цвета, тоны цвета, теплые и холодные оттенки","Ребенок владеет способами воссоздания фигуры из частей, деления фигуры на части","Ребенок может выстраивать сериационные ряды предметов, различающихся по размеру в возрастающем и убывающем порядке в пределах 10",{"$nulls":12},"о многообразии людей разных национальностей (особенностей внешнего вида, одежды, традиций)","Ребенок имеет представление о многообразии стран и народов мира",{"$nulls":4},"Ребенок может рассказать о себе, выразить собственные потребности, желания","Ребенок имеет представление о некоторых своих правах","Ребенок имеет предпочтения в общении","Ребенок охотно вступает в общение со сверстниками","Ребенок уважительно относится к взрослым, пожилым людям","Ребенок охотно вступает в общение со взрослыми","Ребенок понимает свои и чужие эмоциональные состояния, демонстрирует примеры эмоциональной поддержки ","Ребенок  откликается на просьбу помочь","Ребенок выразить чувства и эмоции в мимике, пантомимике, действиях, интонации","Ребенок демонстрирует адекватные возрасту способы регуляции эмоциональных состояний","Ребенок ориентируется на общепринятые нормы и правила культуры поведения","Ребенок знает членов своей семьи, ближайших родственников по линии матери и отца","Ребенок имеет представление о способах поддержки родственных связей (переписка, разговор, совместный отдых, традиции, походы в гости и др.)","Ребенок проявляет заботу по отношению к членам своей семьи, оказывает посильную помощь больному члену семьи","Ребенок в совместной деятельности принимает общую цель, договаривается о способах деятельности и материалах, может уступить в конфликтной ситуации","Ребенок проявляет интерес к игровому экспериментированию, развивающим и познавательным играм","Ребенок способен действовать в точном соответствие с игровой задачей и правилами",{"$nulls":14},"обычным шагом, на носках, на пятках, с высоким подниманием колен","приставной, в полуприседе, мелким и широким, перекатом с пятки на носок, гимнастическим","змейкой без ориентиров, в колонне по одному и по два","в колонне по одному, змейкой, с перестроением на ходу в пары, звенья","со сменой ведущих, с пролезанием в обруч, с ловлей и увертыванием, высоко поднимая колени","между расставленными предметами, в заданном темпе, мелким и широким шагом","подпрыгивание, перепрыгивание, спрыгивание","в длину с места","в высоту с разбега","в длину с разбега","со скакалкой",null,null,"построения (по росту, в колонну по одному, в шеренгу, в круг)","в колонну по три, в две шеренги на месте, расхождение из колонны в разные стороны"]
["начало года",{"$f":"'Худ.эст.к 6г ч1. Н.г.'!E35","v":0},{"$f":"'Худ.эст.к 6г ч1. Н.г.'!F35","v":0},{"$f":"'Худ.эст.к 6г ч1. Н.г.'!G35","v":0},{"$f":"'Худ.эст.к 6г ч1. Н.г.'!H35","v":0},{"$f":"'Худ.эст.к 6г ч1. Н.г.'!I35","v":0},{"$f":"'Худ.эст.к 6г ч1. Н.г.'!J35","v":0},{"$f":"'Худ.эст.к 6г ч1. Н.г.'!K35","v":0},{"$f":"'Худ.эст.к 6г ч1. Н.г.'!L35","v":0},{"$f":"'Худ.эст.к 6г ч1. Н.г.'!M35","v":0},{"$f":"'Худ.эст.к 6г ч1. Н.г.'!N35","v":0},{"$f":"'Худ.эст.к 6г ч1. Н.г.'!O35","v":0},{"$f":"'Худ.эст.к 6г ч2. Н.г.'!E35","v":0},{"$f":"'Худ.эст.к 6г ч2. Н.г.'!F35","v":0},{"$f":"'Худ.эст.к 6г ч2. Н.г.'!G35","v":0},{"$f":"'Худ.эст.к 6г ч2. Н.г.'!H35","v":0},{"$f":"'Худ.эст.к 6г ч2. Н.г.'!I35","v":0},{"$f":"'Худ.эст.к 6г ч2. Н.г.'!J35","v":0},{"$f":"'Худ.эст.к 6г ч2. Н.г.'!K35","v":0},{"$f":"'Худ.эст.к 6г ч2. Н.г.'!L35","v":0},{"$f":"'Худ.эст.к 6г ч2. Н.г.'!M35","v":0},{"$f":"'Худ.эст.к 6г ч3. Н.г.'!E35","v":0},{"$f":"'Худ.эст.к 6г ч3. Н.г.'!F35","v":0},{"$f":"'Худ.эст.к 6г ч3. Н.г.'!G35","v":0},{"$f":"'Худ.эст.к 6г ч3. Н.г.'!H35","v":0},{"$f":"'Худ.эст.к 6г ч3. Н.г.'!I35","v":0},{"$f":"'Худ.эст.к 6г ч3. Н.г.'!J35","v":0},{"$f":"'Худ.эст.к 6г ч3. Н.г.'!K35","v":0},{"$f":"'Худ.эст.к 6г ч3. Н.г.'!L35","v":0},{"$f":"'Реч.разв.к 6г ч1. Н.г.'!E34","v":0},{"$f":"'Реч.разв.к 6г ч1. Н.г.'!F34","v":0},{"$f":"'Реч.разв.к 6г ч1. Н.г.'!G34","v":0},{"$f":"'Реч.разв.к 6г ч1. Н.г.'!H34","v":0},{"$f":"'Реч.разв.к 6г ч1. Н.г.'!I34","v":0},{"$f":"'Реч.разв.к 6г ч1. Н.г.'!J34","v":0},{"$f":"'Реч.разв.к 6г ч1. Н.г.'!K34","v":0},{"$f":"'Реч.разв.к 6г ч1. Н.г.'!L34","v":0},{"$f":"'Реч.разв.к 6г ч2. Н.г.'!E34","v":0},{"$f":"'Реч.разв.к 6г ч2. Н.г.'!F34","v":0},{"$f":"'Реч.разв.к 6г ч2. Н.г.'!G34","v":0},{"$f":"'Реч.разв.к 6г ч2. Н.г.'!H34","v":0},{"$f":"'Реч.разв.к 6г ч2. Н.г.'!I34","v":0},{"$f":"'Реч.разв.к 6г ч2. Н.г.'!J34","v":0},{"$f":"'Реч.разв.к 6г ч2. Н.г.'!K34","v":0},{"$f":"'Реч.разв.к 6г ч2. Н.г.'!L34","v":0},{"$f":"'Реч.разв.к 6г ч2. Н.г.'!M34","v":0},{"$f":"'Реч.разв.к 6г ч2. Н.г.'!N34","v":0},{"$f":"'Реч.разв.к 6г ч2. Н.г.'!O34","v":0},{"$f":"'Реч.разв.к 6г ч2. Н.г.'!P34","v":0},{"$f":"'Реч.разв.к 6г ч2. Н.г.'!Q34","v":0},{"$f":"'Позн.разв. к 6г ч1. Н.г.'!E35","v":0},{"$f":"'Позн.разв. к 6г ч1. Н.г.'!F35","v":0},{"$f":"'Позн.разв. к 6г ч1. Н.г.'!G35","v":0},{"$f":"'Позн.разв. к 6г ч1. Н.г.'!H35","v":0},{"$f":"'Позн.разв. к 6г ч1. Н.г.'!I35","v":0},{"$f":"'Позн.разв. к 6г ч1. Н.г.'!J35","v":0},{"$f":"'Позн.разв. к 6г ч1. Н.г.'!K35","v":0},{"$f":"'Позн.разв. к 6г ч1. Н.г.'!L35","v":0},{"$f":"'Позн.разв. к 6г ч1. Н.г.'!M35","v":0},{"$f":"'Позн.разв. к 6г ч1. Н.г.'!N35","v":0},{"$f":"'Позн.разв. к 6г ч1. Н.г.'!O35","v":0},{"$f":"'Позн.разв. к 6г ч1. Н.г.'!P35","v":0},{"$f":"'Позн.разв. к 6г ч1. Н.г.'!Q35","v":0},{"$f":"'Позн.разв. к 6г ч1. Н.г.'!R35","v":0},{"$f":"'Позн.разв. к 6г ч1. Н.г.'!S35","v":0},{"$f":"'Позн.разв. к 6г ч2. Н.г.'!E35","v":0},{"$f":"'Позн.разв. к 6г ч2. Н.г.'!F35","v":0},{"$f":"'Позн.разв. к 6г ч2. Н.г.'!G35","v":0},{"$f":"'Позн.разв. к 6г ч2. Н.г.'!H35","v":0},{"$f":"'Позн.разв. к 6г ч2. Н.г.'!I35","v":0},{"$f":"'Позн.разв. к 6г ч2. Н.г.'!J35","v":0},{"$f":"'Соц.ком.к 6г ч1. Н.г.'!E34","v":0},{"$f":"'Соц.ком.к 6г ч1. Н.г.'!F34","v":0},{"$f":"'Соц.ком.к 6г ч1. Н.г.'!G34","v":0},{"$f":"'Соц.ком.к 6г ч1. Н.г.'!H34","v":0},{"$f":"'Соц.ком.к 6г ч1. Н.г.'!I34","v":0},{"$f":"'Соц.ком.к 6г ч1. Н.г.'!J34","v":0},{"$f":"'Соц.ком.к 6г ч1. Н.г.'!K34","v":0},{"$f":"'Соц.ком.к 6г ч1. Н.г.'!L34","v":0},{"$f":"'Соц.ком.к 6г ч1. Н.г.'!M34","v":0},{"$f":"'Соц.ком.к 6г ч1. Н.г.'!N34","v":0},{"$f":"'Соц.ком.к 6г ч1. Н.г.'!O34","v":0},{"$f":"'Соц.ком.к 6г ч1. Н.г.'!P34","v":0},{"$f":"'Соц.ком.к 6г ч1. Н.г.'!Q34","v":0},{"$f":"'Соц.ком.к 6г ч1. Н.г.'!R34","v":0},{"$f":"'Соц.ком.к 6г ч1. Н.г.'!S34","v":0},{"$f":"'Соц.ком.к 6г ч1. Н.г.'!T34","v":0},{"$f":"'Соц.ком.к 6г ч1. Н.г.'!U34","v":0},{"$f":"'Соц.ком. к 6г ч2. Н.г.'!E34","v":0},{"$f":"'Соц.ком. к 6г ч2. Н.г.'!F34","v":0},{"$f":"'Соц.ком. к 6г ч2. Н.г.'!G34","v":0},{"$f":"'Соц.ком. к 6г ч2. Н.г.'!H34","v":0},{"$f":"'Соц.ком. к 6г ч2. Н.г.'!I34","v":0},{"$f":"'Соц.ком. к 6г ч2. Н.г.'!J34","v":0},{"$f":"'Соц.ком. к 6г ч2. Н.г.'!K34","v":0},{"$f":"'Соц.ком. к 6г ч2. Н.г.'!L34","v":0},{"$f":"'Соц.ком. к 6г ч2. Н.г.'!M34","v":0},{"$f":"'Физ.разв. к 6г ч1. Н.г.'!E35","v":0},{"$f":"'Физ.разв. к 6г ч1. Н.г.'!F35","v":0},{"$f":"'Физ.разв. к 6г ч1. Н.г.'!G35","v":0},{"$f":"'Физ.разв. к 6г ч1. Н.г.'!H35","v":0},{"$f":"'Физ.разв. к 6г ч1. Н.г.'!I35","v":0},{"$f":"'Физ.разв. к 6г ч1. Н.г.'!J35","v":0},{"$f":"'Физ.разв. к 6г ч1. Н.г.'!K35","v":0},{"$f":"'Физ.разв. к 6г ч1. Н.г.'!L35","v":0},{"$f":"'Физ.разв. к 6г ч1. Н.г.'!M35","v":0},{"$f":"'Физ.разв. к 6г ч1. Н.г.'!N35","v":0},{"$f":"'Физ.разв. к 6г ч1. Н.г.'!O35","v":0},{"$f":"'Физ.разв. к 6г ч1. Н.г.'!P35","v":0},{"$f":"'Физ.разв. к 6г ч1. Н.г.'!Q35","v":0},{"$f":"'Физ.разв. к 6г ч1. Н.г.'!R35","v":0},{"$f":"'Физ.разв. к 6г ч1. Н.г.'!S35","v":0},{"$f":"'Физ.разв. к 6г ч1. Н.г.'!T35","v":0},{"$f":"'Физ.разв. к 6г ч1. Н.г.'!U35","v":0},{"$f":"'Физ.разв. к 6г ч1. Н.г.'!V35","v":0},{"$f":"'Физ.разв. к 6г ч1. Н.г.'!W35","v":0},{"$f":"'Физ.разв. к 6г ч1. Н.г.'!X35","v":0},{"$f":"'Физ.разв. к 6г ч2. Н.г.'!E36","v":0},{"$f":"'Физ.разв. к 6г ч2. Н.г.'!F36","v":0},{"$f":"'Физ.разв. к 6г ч2. Н.г.'!G36","v":0},{"$f":"'Физ.разв. к 6г ч2. Н.г.'!H36","v":0},{"$f":"'Физ.разв. к 6г ч2. Н.г.'!I36","v":0},{"$f":"'Физ.разв. к 6г ч2. Н.г.'!J36","v":0},{"$f":"'Физ.разв. к 6г ч2. Н.г.'!K36","v":0},{"$f":"'Физ.разв. к 6г ч2. Н.г.'!L36","v":0},{"$f":"'Физ.разв. к 6г ч2. Н.г.'!M36","v":0},{"$f":"'Физ.разв. к 6г ч2. Н.г.'!N36","v":0},{"$f":"'Физ.разв. к 6г ч2. Н.г.'!O36","v":0},{"$f":"'Физ.разв. к 6г ч2. Н.г.'!P36","v":0},{"$f":"'Физ.разв. к 6г ч2. Н.г.'!Q36","v":0},{"$f":"'Физ.разв. к 6г ч2. Н.г.'!R36","v":0},{"$f":"'Физ.разв. к 6г ч2. Н.г.'!S36","v":0},{"$f":"'Физ.разв. к 6г ч2. Н.г.'!T36","v":0},{"$f":"'Физ.разв. к 6г ч2. Н.г.'!U36","v":0},{"$f":"'Физ.разв. к 6г ч2. Н.г.'!V36","v":0},{"$f":"'Физ.разв. к 6г ч2. Н.г.'!W36","v":0},{"$f":"'Физ.разв. к 6г ч2. Н.г.'!X36","v":0},{"$f":"'Физ.разв. к 6г ч2. Н.г.'!Y36","v":0}]
["конец года",{"$f":"'Худ.эст.к 6г ч1. К.г. '!E35","v":0},{"$f":"'Худ.эст.к 6г ч1. К.г. '!F35","v":0},{"$f":"'Худ.эст.к 6г ч1. К.г. '!G35","v":0},{"$f":"'Худ.эст.к 6г ч1. К.г. '!H35","v":0},{"$f":"'Худ.эст.к 6г ч1. К.г. '!I35","v":0},{"$f":"'Худ.эст.к 6г ч1. К.г. '!J35","v":0},{"$f":"'Худ.эст.к 6г ч1. К.г. '!K35","v":0},{"$f":"'Худ.эст.к 6г ч1. К.г. '!L35","v":0},{"$f":"'Худ.эст.к 6г ч1. К.г. '!M35","v":0},{"$f":"'Худ.эст.к 6г ч1. К.г. '!N35","v":0},{"$f":"'Худ.эст.к 6г ч1. К.г. '!O35","v":0},{"$f":"'Худ.эст.к 6г ч2. К.г. '!E35","v":0},{"$f":"'Худ.эст.к 6г ч2. К.г. '!F35","v":0},{"$f":"'Худ.эст.к 6г ч2. К.г. '!G35","v":0},{"$f":"'Худ.эст.к 6г ч2. К.г. '!H35","v":0},{"$f":"'Худ.эст.к 6г ч2. К.г. '!I35","v":0},{"$f":"'Худ.эст.к 6г ч2. К.г. '!J35","v":0},{"$f":"'Худ.эст.к 6г ч2. К.г. '!K35","v":0},{"$f":"'Худ.эст.к 6г ч2. К.г. '!L35","v":0},{"$f":"'Худ.эст.к 6г ч2. К.г. '!M35","v":0},{"$f":"'Худ.эст.к 6г ч3. К.г. '!E35","v":0},{"$f":"'Худ.эст.к 6г ч3. К.г. '!F35","v":0},{"$f":"'Худ.эст.к 6г ч3. К.г. '!G35","v":0},{"$f":"'Худ.эст.к 6г ч3. К.г. '!H35","v":0},{"$f":"'Худ.эст.к 6г ч3. К.г. '!I35","v":0},{"$f":"'Худ.эст.к 6г ч3. К.г. '!J35","v":0},{"$f":"'Худ.эст.к 6г ч3. К.г. '!K35","v":0},{"$f":"'Худ.эст.к 6г ч3. К.г. '!L35","v":0},{"$f":"'Реч.разв.к 6г ч1. К.г. '!E34","v":0},{"$f":"'Реч.разв.к 6г ч1. К.г. '!F34","v":0},{"$f":"'Реч.разв.к 6г ч1. К.г. '!G34","v":0},{"$f":"'Реч.разв.к 6г ч1. К.г. '!H34","v":0},{"$f":"'Реч.разв.к 6г ч1. К.г. '!I34","v":0},{"$f":"'Реч.разв.к 6г ч1. К.г. '!J34","v":0},{"$f":"'Реч.разв.к 6г ч1. К.г. '!K34","v":0},{"$f":"'Реч.разв.к 6г ч1. К.г. '!L34","v":0},{"$f":"'Реч.разв.к 6г ч2. К.г. '!E34","v":0},{"$f":"'Реч.разв.к 6г ч2. К.г. '!F34","v":0},{"$f":"'Реч.разв.к 6г ч2. К.г. '!G34","v":0},{"$f":"'Реч.разв.к 6г ч2. К.г. '!H34","v":0},{"$f":"'Реч.разв.к 6г ч2. К.г. '!I34","v":0},{"$f":"'Реч.разв.к 6г ч2. К.г. '!J34","v":0},{"$f":"'Реч.разв.к 6г ч2. К.г. '!K34","v":0},{"$f":"'Реч.разв.к 6г ч2. К.г. '!L34","v":0},{"$f":"'Реч.разв.к 6г ч2. К.г. '!M34","v":0},{"$f":"'Реч.разв.к 6г ч2. К.г. '!N34","v":0},{"$f":"'Реч.разв.к 6г ч2. К.г. '!O34","v":0},{"$f":"'Реч.разв.к 6г ч2. К.г. '!P34","v":0},{"$f":"'Реч.разв.к 6г ч2. К.г. '!Q34","v":0},{"$f":"'Позн.разв. к 6г ч1. К.г. '!E35","v":0},{"$f":"'Позн.разв. к 6г ч1. К.г. '!F35","v":0},{"$f":"'Позн.разв. к 6г ч1. К.г. '!G35","v":0},{"$f":"'Позн.разв. к 6г ч1. К.г. '!H35","v":0},{"$f":"'Позн.разв. к 6г ч1. К.г. '!I35","v":0},{"$f":"'Позн.разв. к 6г ч1. К.г. '!J35","v":0},{"$f":"'Позн.разв. к 6г ч1. К.г. '!K35","v":0},{"$f":"'Позн.разв. к 6г ч1. К.г. '!L35","v":0},{"$f":"'Позн.разв. к 6г ч1. К.г. '!M35","v":0},{"$f":"'Позн.разв. к 6г ч1. К.г. '!N35","v":0},{"$f":"'Позн.разв. к 6г ч1. К.г. '!O35","v":0},{"$f":"'Позн.разв. к 6г ч1. К.г. '!P35","v":0},{"$f":"'Позн.разв. к 6г ч1. К.г. '!Q35","v":0},{"$f":"'Позн.разв. к 6г ч1. К.г. '!R35","v":0},{"$f":"'Позн.разв. к 6г ч1. К.г. '!S35","v":0},{"$f":"'Позн.разв. к 6г ч2. К.г. '!E35","v":0},{"$f":"'Позн.разв. к 6г ч2. К.г. '!F35","v":0},{"$f":"'Позн.разв. к 6г ч2. К.г. '!G35","v":0},{"$f":"'Позн.разв. к 6г ч2. К.г. '!H35","v":0},{"$f":"'Позн.разв. к 6г ч2. К.г. '!I35","v":0},{"$f":"'Позн.разв. к 6г ч2. К.г. '!J35","v":0},{"$f":"'Соц.ком.к 6г ч1. К.г. '!$E$34","v":0},{"$f":"'Соц.ком.к 6г ч1. К.г. '!$E$34","v":0},{"$f":"'Соц.ком.к 6г ч1. К.г. '!$E$34","v":0},{"$f":"'Соц.ком.к 6г ч1. К.г. '!$E$34","v":0},{"$f":"'Соц.ком.к 6г ч1. К.г. '!$E$34","v":0},{"$f":"'Соц.ком.к 6г ч1. К.г. '!$E$34","v":0},{"$f":"'Соц.ком.к 6г ч1. К.г. '!$E$34","v":0},{"$f":"'Соц.ком.к 6г ч1. К.г. '!$E$34","v":0},{"$f":"'Соц.ком.к 6г ч1. К.г. '!$E$34","v":0},{"$f":"'Соц.ком.к 6г ч1. К.г. '!$E$34","v":0},{"$f":"'Соц.ком.к 6г ч1. К.г. '!$E$34","v":0},{"$f":"'Соц.ком.к 6г ч1. К.г. '!$E$34","v":0},{"$f":"'Соц.ком.к 6г ч1. К.г. '!$E$34","v":0},{"$f":"'Соц.ком.к 6г ч1. К.г. '!$E$34","v":0},{"$f":"'Соц.ком.к 6г ч1. К.г. '!$E$34","v":0},{"$f":"'Соц.ком.к 6г ч1. К.г. '!$E$34","v":0},{"$f":"'Соц.ком.к 6г ч1. К.г. '!$E$34","v":0},{"$f":"'Соц.ком. к 6г ч2 К.г.'!E34","v":0},{"$f":"'Соц.ком. к 6г ч2 К.г.'!F34","v":0},{"$f":"'Соц.ком. к 6г ч2 К.г.'!G34","v":0},{"$f":"'Соц.ком. к 6г ч2 К.г.'!H34","v":0},{"$f":"'Соц.ком. к 6г ч2 К.г.'!I34","v":0},{"$f":"'Соц.ком. к 6г ч2 К.г.'!J34","v":0},{"$f":"'Соц.ком. к 6г ч2 К.г.'!K34","v":0},{"$f":"'Соц.ком. к 6г ч2 К.г.'!L34","v":0},{"$f":"'Соц.ком. к 6г ч2 К.г.'!M34","v":0},{"$f":"'Физ.разв. к 6г ч1. К.г. '!E35","v":0},{"$f":"'Физ.разв. к 6г ч1. К.г. '!F35","v":0},{"$f":"'Физ.разв. к 6г ч1. К.г. '!G35","v":0},{"$f":"'Физ.разв. к 6г ч1. К.г. '!H35","v":0},{"$f":"'Физ.разв. к 6г ч1. К.г. '!I35","v":0},{"$f":"'Физ.разв. к 6г ч1. К.г. '!J35","v":0},{"$f":"'Физ.разв. к 6г ч1. К.г. '!K35","v":0},{"$f":"'Физ.разв. к 6г ч1. К.г. '!L35","v":0},{"$f":"'Физ.разв. к 6г ч1. К.г. '!M35","v":0},{"$f":"'Физ.разв. к 6г ч1. К.г. '!N35","v":0},{"$f":"'Физ.разв. к 6г ч1. К.г. '!O35","v":0},{"$f":"'Физ.разв. к 6г ч1. К.г. '!P35","v":0},{"$f":"'Физ.разв. к 6г ч1. К.г. '!Q35","v":0},{"$f":"'Физ.разв. к 6г ч1. К.г. '!R35","v":0},{"$f":"'Физ.разв. к 6г ч1. К.г. '!S35","v":0},{"$f":"'Физ.разв. к 6г ч1. К.г. '!T35","v":0},{"$f":"'Физ.разв. к 6г ч1. К.г. '!U35","v":0},{"$f":"'Физ.разв. к 6г ч1. К.г. '!V35","v":0},{"$f":"'Физ.разв. к 6г ч1. К.г. '!W35","v":0},{"$f":"'Физ.разв. к 6г ч1. К.г. '!X35","v":0},{"$f":"'Физ.разв. к 6г ч2. К.г. '!E36","v":0},{"$f":"'Физ.разв. к 6г ч2. К.г. '!F36","v":0},{"$f":"'Физ.разв. к 6г ч2. К.г. '!G36","v":0},{"$f":"'Физ.разв. к 6г ч2. К.г. '!H36","v":0},{"$f":"'Физ.разв. к 6г ч2. К.г. '!I36","v":0},{"$f":"'Физ.разв. к 6г ч2. К.г. '!J36","v":0},{"$f":"'Физ.разв. к 6г ч2. К.г. '!K36","v":0},{"$f":"'Физ.разв. к 6г ч2. К.г. '!L36","v":0},{"$f":"'Физ.разв. к 6г ч2. К.г. '!M36","v":0},{"$f":"'Физ.разв. к 6г ч2. К.г. '!N36","v":0},{"$f":"'Физ.разв. к 6г ч2. К.г. '!O36","v":0},{"$f":"'Физ.разв. к 6г ч2. К.г. '!P36","v":0},{"$f":"'Физ.разв. к 6г ч2. К.г. '!Q36","v":0},{"$f":"'Физ.разв. к 6г ч2. К.г. '!R36","v":0},{"$f":"'Физ.разв. к 6г ч2. К.г. '!S36","v":0},{"$f":"'Физ.разв. к 6г ч2. К.г. '!T36","v":0},{"$f":"'Физ.разв. к 6г ч2. К.г. '!U36","v":0},{"$f":"'Физ.разв. к 6г ч2. К.г. '!V36","v":0},{"$f":"'Физ.разв. к 6г ч2. К.г. '!W36","v":0},{"$f":"'Физ.разв. к 6г ч2. К.г. '!X36","v":0},{"$f":"'Физ.разв. к 6г ч2. К.г. '!Y36","v":0}]

{"sheet":"25","index":52,"n_rows":11,"n_cols":138,"rows_kept":11,"merged":[[4,117,4,122],[4,123,4,126],[4,127,4,129],[4,130,4,132],[4,134,4,137],[5,0,8,0],[5,1,5,11],[5,12,5,19],[5,21,6,26],[5,27,6,28],[5,50,5,52],[5,53,5,55],[5,56,5,64],[5,65,5,66],[5,67,5,70],[5,117,5,118],[5,119,5,122],[5,123,6,123],[5,124,6,124],[5,125,6,125],[5,126,6,126],[5,127,8,127],[5,128,8,128],[5,129,8,129],[5,130,8,130],[5,131,8,131],[5,132,8,132],[5,133,8,133],[5,134,5,137],[6,1,6,4],[6,9,6,10],[6,12,6,13],[6,16,6,17],[6,18,6,19],[6,20,8,20],[6,30,6,31],[6,32,6,36],[6,38,6,43],[6,45,6,49],[6,53,8,53],[6,54,8,54],[6,55,8,55],[6,56,6,58],[6,62,6,64],[6,65,7,66],[6,67,6,68],[6,69,6,70],[6,71,6,87],[6,88,6,90],[6,91,6,95],[6,97,6,98],[6,99,6,101],[6,102,6,104],[6,105,6,107],[6,108,6,112],[6,113,6,114],[6,115,6,116],[6,117,8,117],[6,118,8,118],[6,119,8,119],[6,120,8,120],[6,121,8,121],[6,122,8,122],[6,134,8,134],[6,135,8,135],[6,136,8,136],[6,137,8,137],[7,1,8,1],[7,2,8,2],[7,3,8,3],[7,4,8,4],[7,5,8,5],[7,6,8,6],[7,7,8,7],[7,8,8,8],[7,9,8,9],[7,10,8,10],[7,11,8,11],[7,12,8,12],[7,13,8,13],[7,14,8,14],[7,15,8,15],[7,16,8,16],[7,17,8,17],[7,18,8,18],[7,19,8,19],[7,21,8,21],[7,22,8,22],[7,23,8,23],[7,24,8,24],[7,25,8,25],[7,26,8,26],[7,27,8,27],[7,28,8,28],[7,29,8,29],[7,30,8,30],[7,31,8,31],[7,32,8,32],[7,33,8,33],[7,34,8,34],[7,35,8,35],[7,36,8,36],[7,37,8,37],[7,38,8,38],[7,39,8,39],[7,40,8,40],[7,41,8,41],[7,42,8,42],[7,43,8,43],[7,44,8,44],[7,45,8,45],[7,46,8,46],[7,47,8,47],[7,48,8,48],[7,49,8,49],[7,50,7,52],[7,56,8,56],[7,57,8,57],[7,58,8,58],[7,59,8,59],[7,60,8,60],[7,61,8,61],[7,62,8,62],[7,63,8,63],[7,64,8,64],[7,67,8,67],[7,68,8,68],[7,69,8,69],[7,70,8,70],[7,71,7,72],[7,73,7,74],[7,75,7,76],[7,77,7,80],[7,82,7,84],[7,85,7,87],[7,88,8,88],[7,89,8,89],[7,90,8,90],[7,91,8,91],[7,92,8,92],[7,93,8,93],[7,94,8,94],[7,95,8,95],[7,96,8,96],[7,97,8,97],[7,98,8,98],[7,99,8,99],[7,100,8,100],[7,101,8,101],[7,102,7,104],[7,105,7,107],[7,108,7,112],[7,113,8,113],[7,114,8,114],[7,115,7,116],[7,123,8,123],[7,124,8,124],[7,125,8,125],[7,126,8,126]]}
[]
[]
[]
[]
[{"$nulls":117},"Мелкая моторика",{"$nulls":5},"КГН",{"$nulls":3},"ЗОЖ",null,null,"Подвижные игры",null,null,"Спорт. игры","Спортивные упражнения"]
[{"$f":"Список!B28","v":0},"Музыкальная деятельность",{"$nulls":10},"Изобразительная деятельность",{"$nulls":8},"Приобщение к искусству",{"$nulls":5},"Конструктивная деятельность",{"$nulls":22},"Сенсорные эталоны ",null,null,"Познавательные действия",null,null,"Математические представления",{"$nulls":8},"Окружающий мир",null,"Природа ",{"$nulls":49},"Координация рук и глаз",null,"Графические навыки",{"$nulls":3},"Навыки соблюдения чистоты тела (правила личной гигиены)","Навыки культуры еды (прием пищи) ","Навыки поддержания порядка (правила поведения в быту) ","Навыки ухода за собой (одевание, раздевание) ","Ребенок имеет представление о факторах, положительно/негативно влияющих на здоровье; владеет основными способами укрепления здоровья","Ребенок имеет представление о некоторых видах спорта (9 и больше), роли спорта для укрепления здоровья","Ребенок проявляет заботливое отношение к своему здоровью и здоровью окружающих","Ребенок проявляет доступный возрасту самоконтроль","Ребенок  способен привлечь внимание других детей и организовать знакомую подвижную игру","Ребенок придумывает новые варианты игр, комбинирует движения","Ребенок имеет представление об элементах спортивных игр (городки, баскетбол, бадминтон, футбол), умеет выполнять некоторые виды движений","Ребенок умеет кататься"]
[null,"Слушание",{"$nulls":3},"Пение ","Музыкально-ритмические движения","Песенное творчество","Игра на детских музыкальных инструментах","Театрализованная деятельность",null,"Танцевально-игровое творчество","Рисование ",null,"Лепка ","Аппликация ","Народное ДПИ",null,"Прикладное творчество",null,"Ребенок самостоятельно определяет замысел рисунка, аппликации, лепки, поделки, создает образы и композиционные изображения, использует разнообразные материалы",{"$nulls":8},"Общее речевое развитие","Формирование словаря",null,"Грамматический строй",{"$nulls":4},"Звуковая культура речи","Связная речь",{"$nulls":5},"ЧХЛ","Подготовка к обучению грамоте",{"$nulls":4},"Цвет, оттенки","Форма, геометрические фигуры","Величина","Ребенок охотно участвует в обсуждении проблемы для совместного нахождения способов ее решения, предлагает пути решения, устанавливает закономерности причинно-следственного характера, проявляет любознательность","Ребенок использует математические знания, способы и средства для познания окружающего мира","Ребенок способен к произвольным умственным действиям, логическим операциям анализа, сравнения, обобщения, систематизации, классификации","Количество и счет",null,null,"Ориентировка во времени","Ориентировка в пространстве","Пространственно-количественные связи и отношения","Сравнение",null,null,"Ребенок имеет представления, может показать на картинке и в естественной среде, может рассказать",null,"Объекты живой природы",null,"Объекты неживой природы, природные явления",null,"Сфера социальных отношений",{"$nulls":16},"Область формирования основ гражданственности и патриотизма",null,null,"Сфера трудового воспитания",{"$nulls":4},"Область формирования основ безопасного поведения","Бросание, катание, ловля, метание",null,"Ползанье, лазанье",null,null,"Ходьба",null,null,"Бег",null,null,"Прыжки",{"$nulls":4},"Равновесие",null,"Строевые упражнения",null,"Ребенок может найти выход из лабиринта","Ребенок может нарисовать простой узор, изображение, не отрывая руки","Ребенок может повторить узор с чередующимися элементами","Ребенок закрашивает контурное изображение с множеством мелких деталей, не выходя за контур","Ребенок может соединить точки для получения изображения","Ребенок рисует геометрический орнамент по клеткам",{"$nulls":11},"на санках","на лыжах","на двухколесном велосипеде","на самокате"]
[null,"Ребенок различает жанры музыкальных произведений (песня, танец, марш)","Ребенок узнает мелодию по отдельным фрагментам произведения (вступление, заключение, музыкальная фраза)","Ребенок различает звуки по высоте в пределах квинты","Ребенок различает звучание музыкальных инструментов (клавишно-ударных, струнных)","Ребенок демонстрирует развитые певческие навыки","Ребенок демонстрирует развитые навыки исполнения танцевальных движений","Ребенок может импровизировать мелодию на заданный текст","Ребенок демонстрирует навыки игры на детских музыкальных инструментах","Ребенок имеет представление о различных видах театрального искусства","Ребенок с удовольствие занимается театрализованной деятельностью","Ребенок может придумывать движения к танцам","Ребенок передает в изображении основные свойства предметов (форма, величина, цвет), характерные детали, соотношение предметов и их частей по величине, высоте, расположению относительно друг друга","Ребенок владеет основными способами и приемами рисования различными изобразительными материалами (цветные карандаши, гуашь, акварель, цветные мелки, пастель, сангина, угольный карандаш, фломастеры)","Ребенок лепит с натуры и по представлению знакомые предметы, передавая характерные особенности пластическим, конструктивным и комбинированным способами","Ребенок умеет пользоваться ножницами","Ребенок имеет представление о полхов-майданской, гжельской росписи","Ребенок может нарисовать узор, используя элементы  росписи","Ребенок умеет работать с бумагой (сгибать лист, сглаживать сгибы, надрезать по сгибам)","Ребенок умеет работать с природным и бросовым материалом",null,"Ребенок умеет выделять, называть, группировать произведения по видам искусства: литература, музыка, изобразительное искусство, архитектура, театр, цирк","Ребенок имеет представление о видах изобразительного искусства: графика, декоративно-прикладное искусство, живопись, скульптура, архитектура, фотоискусство","Ребенок имеет представление о жанрах изобразительного искусства: натюрморт, пейзаж, портрет","Ребенок имеет представление о народном искусстве, фольклоре, музыке и художественных промыслах","Ребенок имеет представление о творческих профессиях: художник, композитор, музыкант, актер, артист балета","Ребенок имеет представление о культурно-досуговых местах: театр, музей, библиотека, выставка, кинотеатр, цирк и др.","Ребенок может провести анализ постройки (выделить основные части и характерные детали конструкций)","Ребенок может выполнить постройку по инструкции","Ребенок внятно разговаривает","Ребенок умеет обобщать предметы в группы по существенным признакам","Ребенок демонстрирует богатый словарный запас","Ребенок правильно использует в речи: несклоняемые существительные","Ребенок правильно использует в речи: слова, имеющие только множественное или только единственное число","Ребенок правильно использует в речи: глаголы одеть-надеть","Ребенок правильно использует в речи: существительные множественного числа в родительном падеже","Ребенок правильно образовывает слова с помощью суффикса, приставки","Ребенок правильно произносит сонорные звуки: л-ль, р-рь","Ребенок пересказывает литературные произведения по ролям, по частям, правильно передавая идею и содержание","Ребенок пользуется прямой и косвенной речью","Ребенок составляет короткий описательный рассказ о предметах, объектах и явлениях природы, из личного опыта","Ребенок сочиняет сюжетные рассказы по картине, из личного опыта","Ребенок проявляет речевое творчество: придумывает продолжение и окончание к рассказу, рассказы по аналогии, по плану педагога, по модели","Ребенок владеет первичными приемами аргументации и доказательства","Ребенок проявляет избирательное отношение к произведениям определенной тематики и жанра","Ребенок понимает термины: слово: звук, буква, предложение, гласный звук, согласный звук","Ребенок может провести звуковой анализ слова, разделить на слоги двух-, трехслоговые слова; составляет схему слова","Ребенок различает гласные-согласные звуки","Ребенок определяет твердые-мягкие согласные","Ребенок составляет предложение по модели, определяет количество и последовательность слов в предложении","Ребенок различает и называет",{"$nulls":5},"Ребенок знает/называет/находит среди других цифры 0 -10","Ребенок выполняет количественный и порядковый счет в пределах 0-10","Ребенок знает состав чисел из единиц в пределах 5","Ребенок понимает календарные единицы времени (сутки, неделя, месяц, год)","Ребенок ориентируется на листе бумаги","Ребенок понимает простейшую графическую информацию об отношениях предметов (слева направо, справа налево, снизу вверх, сверху вниз)","Ребенок выделяет сходства и отличия между группами предметов","Ребенок сравнивает предметы по 3-5 признакам","Ребенок группирует предметы по разным основаниям, преимущественно на основе зрительной оценки",null,null,"Ребенок имеет представление о сходстве и различии во внешнем виде и образе жизни объектов животного и растительного мира в разные сезоны года","Ребенок может сравнивать, группировать объекты живой природы по их особенностям, мету обитания, образу жизни, питанию","Ребенок имеет представление о признаках разных времен года","Ребенок наблюдает за явлениями природы, фиксирует результаты наблюдения","Отношение к самому себе",null,"Отношение к сверстникам",null,"Отношение к взрослым",null,"Эмоции",{"$nulls":3},"Поведение","Семья",null,null,"Игровое поведение",null,null,"Ребенок имеет представление о государственных символах России (герб, гимн, флаг)","Ребенок имеет представление о государственных праздниках России","Ребенок знает/может назвать/показать на картинке и в естественной среде достопримечательности населенного пункта, в котором живет","Ребенок имеет представления о разных видах производительного труда (промышленность, строительство, сельское хозяйство)","Ребенок имеет представления о разных видах обслуживающего труда (сфера досуга и отдыха, сфера культуры, медицина, торговля)","Ребенок имеет представление о структуре трудового процесса (мотив, цель, инструменты, оборудование, содержание действий, выбор трудовых действий, результат)","Ребенок имеет элементарные экономические представления (назначение рекламы, денег)","Ребенок охотно участвует в выполнении трудовых поручений, дежурстве; может распределять трудовые обязанности с другими","Ребенок имеет представления/ соблюдает правила поведения в быту, на улице, в природе, в общении с людьми, с животными","Ребенок выполняет различные упражнения с мячом (прокатывание, передача, перебрасывание, ведение, подбрасывание, ловля, забрасывание)","Ребенок выполняет метание в цель, метание в даль предметов разной массы","Ребенок выполняет ползанье разными способами (на четвереньках, на животе)","Ребенок выполняет переползание через несколько предметов подряд, под дугами, в туннеле","Ребенок выполняет лазанье по гимнастической стенке чередующимся шагом","Ребенок выполняет различные виды ходьбы",null,null,"Ребенок выполняет различные виды бега",null,null,"Ребенок выполняет различные виды прыжков",{"$nulls":4},"Ребенок выполняет стойку на одной ноге ","Ребенок выполняет упражнение \"ласточка\" ","Ребенок выполняет различные виды строевых упражнений",{"$nulls":7},"Ребенок выполняет самостоятельно","Ребенок выполняет самостоятельно","Ребенок выполняет самостоятельно","Ребенок выполняет самостоятельно"]
[{"$nulls":50},"Ребенок называет/различает все цвета спектра и ахроматические цвета, оттенки цвета, тоны цвета, теплые и холодные оттенки","Ребенок владеет способами воссоздания фигуры из частей, деления фигуры на части","Ребенок может выстраивать сериационные ряды предметов, различающихся по размеру в возрастающем и убывающем порядке в пределах 10",{"$nulls":12},"о многообразии людей разных национальностей (особенностей внешнего вида, одежды, традиций)","Ребенок имеет представление о многообразии стран и народов мира",{"$nulls":4},"Ребенок может рассказать о себе, выразить собственные потребности, желания","Ребенок имеет представление о некоторых своих правах","Ребенок имеет предпочтения в общении","Ребенок охотно вступает в общение со сверстниками","Ребенок уважительно относится к взрослым, пожилым людям","Ребенок охотно вступает в общение со взрослыми","Ребенок понимает свои и чужие эмоциональные состояния, демонстрирует примеры эмоциональной поддержки ","Ребенок  откликается на просьбу помочь","Ребенок выразить чувства и эмоции в мимике, пантомимике, действиях, интонации","Ребенок демонстрирует адекватные возрасту способы регуляции эмоциональных состояний","Ребенок ориентируется на общепринятые нормы и правила культуры поведения","Ребенок знает членов своей семьи, ближайших родственников по линии матери и отца","Ребенок имеет представление о способах поддержки родственных связей (переписка, разговор, совместный отдых, традиции, походы в гости и др.)","Ребенок проявляет заботу по отношению к членам своей семьи, оказывает посильную помощь больному члену семьи","Ребенок в совместной деятельности принимает общую цель, договаривается о способах деятельности и материалах, может уступить в конфликтной ситуации","Ребенок проявляет интерес к игровому экспериментированию, развивающим и познавательным играм","Ребенок способен действовать в точном соответствие с игровой задачей и правилами",{"$nulls":14},"обычным шагом, на носках, на пятках, с высоким подниманием колен","приставной, в полуприседе, мелким и широким, перекатом с пятки на носок, гимнастическим","змейкой без ориентиров, в колонне по одному и по два","в колонне по одному, змейкой, с перестроением на ходу в пары, звенья","со сменой ведущих, с пролезанием в обруч, с ловлей и увертыванием, высоко поднимая колени","между расставленными предметами, в заданном темпе, мелким и широким шагом","подпрыгивание, перепрыгивание, спрыгивание","в длину с места","в высоту с разбега","в длину с разбега","со скакалкой",null,null,"построения (по росту, в колонну по одному, в шеренгу, в круг)","в колонну по три, в две шеренги на месте, расхождение из колонны в разные стороны"]
["начало года",{"$f":"'Худ.эст.к 6г ч1. Н.г.'!E36","v":0},{"$f":"'Худ.эст.к 6г ч1. Н.г.'!F36","v":0},{"$f":"'Худ.эст.к 6г ч1. Н.г.'!G36","v":0},{"$f":"'Худ.эст.к 6г ч1. Н.г.'!H36","v":0},{"$f":"'Худ.эст.к 6г ч1. Н.г.'!I36","v":0},{"$f":"'Худ.эст.к 6г ч1. Н.г.'!J36","v":0},{"$f":"'Худ.эст.к 6г ч1. Н.г.'!K36","v":0},{"$f":"'Худ.эст.к 6г ч1. Н.г.'!L36","v":0},{"$f":"'Худ.эст.к 6г ч1. Н.г.'!M36","v":0},{"$f":"'Худ.эст.к 6г ч1. Н.г.'!N36","v":0},{"$f":"'Худ.эст.к 6г ч1. Н.г.'!O36","v":0},{"$f":"'Худ.эст.к 6г ч2. Н.г.'!E36","v":0},{"$f":"'Худ.эст.к 6г ч2. Н.г.'!F36","v":0},{"$f":"'Худ.эст.к 6г ч2. Н.г.'!G36","v":0},{"$f":"'Худ.эст.к 6г ч2. Н.г.'!H36","v":0},{"$f":"'Худ.эст.к 6г ч2. Н.г.'!I36","v":0},{"$f":"'Худ.эст.к 6г ч2. Н.г.'!J36","v":0},{"$f":"'Худ.эст.к 6г ч2. Н.г.'!K36","v":0},{"$f":"'Худ.эст.к 6г ч2. Н.г.'!L36","v":0},{"$f":"'Худ.эст.к 6г ч2. Н.г.'!M36","v":0},{"$f":"'Худ.эст.к 6г ч3. Н.г.'!E36","v":0},{"$f":"'Худ.эст.к 6г ч3. Н.г.'!F36","v":0},{"$f":"'Худ.эст.к 6г ч3. Н.г.'!G36","v":0},{"$f":"'Худ.эст.к 6г ч3. Н.г.'!H36","v":0},{"$f":"'Худ.эст.к 6г ч3. Н.г.'!I36","v":0},{"$f":"'Худ.эст.к 6г ч3. Н.г.'!J36","v":0},{"$f":"'Худ.эст.к 6г ч3. Н.г.'!K36","v":0},{"$f":"'Худ.эст.к 6г ч3. Н.г.'!L36","v":0},{"$f":"'Реч.разв.к 6г ч1. Н.г.'!E35","v":0},{"$f":"'Реч.разв.к 6г ч1. Н.г.'!F35","v":0},{"$f":"'Реч.разв.к 6г ч1. Н.г.'!G35","v":0},{"$f":"'Реч.разв.к 6г ч1. Н.г.'!H35","v":0},{"$f":"'Реч.разв.к 6г ч1. Н.г.'!I35","v":0},{"$f":"'Реч.разв.к 6г ч1. Н.г.'!J35","v":0},{"$f":"'Реч.разв.к 6г ч1. Н.г.'!K35","v":0},{"$f":"'Реч.разв.к 6г ч1. Н.г.'!L35","v":0},{"$f":"'Реч.разв.к 6г ч2. Н.г.'!E35","v":0},{"$f":"'Реч.разв.к 6г ч2. Н.г.'!F35","v":0},{"$f":"'Реч.разв.к 6г ч2. Н.г.'!G35","v":0},{"$f":"'Реч.разв.к 6г ч2. Н.г.'!H35","v":0},{"$f":"'Реч.разв.к 6г ч2. Н.г.'!I35","v":0},{"$f":"'Реч.разв.к 6г ч2. Н.г.'!J35","v":0},{"$f":"'Реч.разв.к 6г ч2. Н.г.'!K35","v":0},{"$f":"'Реч.разв.к 6г ч2. Н.г.'!L35","v":0},{"$f":"'Реч.разв.к 6г ч2. Н.г.'!M35","v":0},{"$f":"'Реч.разв.к 6г ч2. Н.г.'!N35","v":0},{"$f":"'Реч.разв.к 6г ч2. Н.г.'!O35","v":0},{"$f":"'Реч.разв.к 6г ч2. Н.г.'!P35","v":0},{"$f":"'Реч.разв.к 6г ч2. Н.г.'!Q35","v":0},{"$f":"'Позн.разв. к 6г ч1. Н.г.'!E36","v":0},{"$f":"'Позн.разв. к 6г ч1. Н.г.'!F36","v":0},{"$f":"'Позн.разв. к 6г ч1. Н.г.'!G36","v":0},{"$f":"'Позн.разв. к 6г ч1. Н.г.'!H36","v":0},{"$f":"'Позн.разв. к 6г ч1. Н.г.'!I36","v":0},{"$f":"'Позн.разв. к 6г ч1. Н.г.'!J36","v":0},{"$f":"'Позн.разв. к 6г ч1. Н.г.'!K36","v":0},{"$f":"'Позн.разв. к 6г ч1. Н.г.'!L36","v":0},{"$f":"'Позн.разв. к 6г ч1. Н.г.'!M36","v":0},{"$f":"'Позн.разв. к 6г ч1. Н.г.'!N36","v":0},{"$f":"'Позн.разв. к 6г ч1. Н.г.'!O36","v":0},{"$f":"'Позн.разв. к 6г ч1. Н.г.'!P36","v":0},{"$f":"'Позн.разв. к 6г ч1. Н.г.'!Q36","v":0},{"$f":"'Позн.разв. к 6г ч1. Н.г.'!R36","v":0},{"$f":"'Позн.разв. к 6г ч1. Н.г.'!S36","v":0},{"$f":"'Позн.разв. к 6г ч2. Н.г.'!E36","v":0},{"$f":"'Позн.разв. к 6г ч2. Н.г.'!F36","v":0},{"$f":"'Позн.разв. к 6г ч2. Н.г.'!G36","v":0},{"$f":"'Позн.разв. к 6г ч2. Н.г.'!H36","v":0},{"$f":"'Позн.разв. к 6г ч2. Н.г.'!I36","v":0},{"$f":"'Позн.разв. к 6г ч2. Н.г.'!J36","v":0},{"$f":"'Соц.ком.к 6г ч1. Н.г.'!E35","v":0},{"$f":"'Соц.ком.к 6г ч1. Н.г.'!F35","v":0},{"$f":"'Соц.ком.к 6г ч1. Н.г.'!G35","v":0},{"$f":"'Соц.ком.к 6г ч1. Н.г.'!H35","v":0},{"$f":"'Соц.ком.к 6г ч1. Н.г.'!I35","v":0},{"$f":"'Соц.ком.к 6г ч1. Н.г.'!J35","v":0},{"$f":"'Соц.ком.к 6г ч1. Н.г.'!K35","v":0},{"$f":"'Соц.ком.к 6г ч1. Н.г.'!L35","v":0},{"$f":"'Соц.ком.к 6г ч1. Н.г.'!M35","v":0},{"$f":"'Соц.ком.к 6г ч1. Н.г.'!N35","v":0},{"$f":"'Соц.ком.к 6г ч1. Н.г.'!O35","v":0},{"$f":"'Соц.ком.к 6г ч1. Н.г.'!P35","v":0},{"$f":"'Соц.ком.к 6г ч1. Н.г.'!Q35","v":0},{"$f":"'Соц.ком.к 6г ч1. Н.г.'!R35","v":0},{"$f":"'Соц.ком.к 6г ч1. Н.г.'!S35","v":0},{"$f":"'Соц.ком.к 6г ч1. Н.г.'!T35","v":0},{"$f":"'Соц.ком.к 6г ч1. Н.г.'!U35","v":0},{"$f":"'Соц.ком. к 6г ч2. Н.г.'!E35","v":0},{"$f":"'Соц.ком. к 6г ч2. Н.г.'!F35","v":0},{"$f":"'Соц.ком. к 6г ч2. Н.г.'!G35","v":0},{"$f":"'Соц.ком. к 6г ч2. Н.г.'!H35","v":0},{"$f":"'Соц.ком. к 6г ч2. Н.г.'!I35","v":0},{"$f":"'Соц.ком. к 6г ч2. Н.г.'!J35","v":0},{"$f":"'Соц.ком. к 6г ч2. Н.г.'!K35","v":0},{"$f":"'Соц.ком. к 6г ч2. Н.г.'!L35","v":0},{"$f":"'Соц.ком. к 6г ч2. Н.г.'!M35","v":0},{"$f":"'Физ.разв. к 6г ч1. Н.г.'!E36","v":0},{"$f":"'Физ.разв. к 6г ч1. Н.г.'!F36","v":0},{"$f":"'Физ.разв. к 6г ч1. Н.г.'!G36","v":0},{"$f":"'Физ.разв. к 6г ч1. Н.г.'!H36","v":0},{"$f":"'Физ.разв. к 6г ч1. Н.г.'!I36","v":0},{"$f":"'Физ.разв. к 6г ч1. Н.г.'!J36","v":0},{"$f":"'Физ.разв. к 6г ч1. Н.г.'!K36","v":0},{"$f":"'Физ.разв. к 6г ч1. Н.г.'!L36","v":0},{"$f":"'Физ.разв. к 6г ч1. Н.г.'!M36","v":0},{"$f":"'Физ.разв. к 6г ч1. Н.г.'!N36","v":0},{"$f":"'Физ.разв. к 6г ч1. Н.г.'!O36","v":0},{"$f":"'Физ.разв. к 6г ч1. Н.г.'!P36","v":0},{"$f":"'Физ.разв. к 6г ч1. Н.г.'!Q36","v":0},{"$f":"'Физ.разв. к 6г ч1. Н.г.'!R36","v":0},{"$f":"'Физ.разв. к 6г ч1. Н.г.'!S36","v":0},{"$f":"'Физ.разв. к 6г ч1. Н.г.'!T36","v":0},{"$f":"'Физ.разв. к 6г ч1. Н.г.'!U36","v":0},{"$f":"'Физ.разв. к 6г ч1. Н.г.'!V36","v":0},{"$f":"'Физ.разв. к 6г ч1. Н.г.'!W36","v":0},{"$f":"'Физ.разв. к 6г ч1. Н.г.'!X36","v":0},{"$f":"'Физ.разв. к 6г ч2. Н.г.'!E37","v":0},{"$f":"'Физ.разв. к 6г ч2. Н.г.'!F37","v":0},{"$f":"'Физ.разв. к 6г ч2. Н.г.'!G37","v":0},{"$f":"'Физ.разв. к 6г ч2. Н.г.'!H37","v":0},{"$f":"'Физ.разв. к 6г ч2. Н.г.'!I37","v":0},{"$f":"'Физ.разв. к 6г ч2. Н.г.'!J37","v":0},{"$f":"'Физ.разв. к 6г ч2. Н.г.'!K37","v":0},{"$f":"'Физ.разв. к 6г ч2. Н.г.'!L37","v":0},{"$f":"'Физ.разв. к 6г ч2. Н.г.'!M37","v":0},{"$f":"'Физ.разв. к 6г ч2. Н.г.'!N37","v":0},{"$f":"'Физ.разв. к 6г ч2. Н.г.'!O37","v":0},{"$f":"'Физ.разв. к 6г ч2. Н.г.'!P37","v":0},{"$f":"'Физ.разв. к 6г ч2. Н.г.'!Q37","v":0},{"$f":"'Физ.разв. к 6г ч2. Н.г.'!R37","v":0},{"$f":"'Физ.разв. к 6г ч2. Н.г.'!S37","v":0},{"$f":"'Физ.разв. к 6г ч2. Н.г.'!T37","v":0},{"$f":"'Физ.разв. к 6г ч2. Н.г.'!U37","v":0},{"$f":"'Физ.разв. к 6г ч2. Н.г.'!V37","v":0},{"$f":"'Физ.разв. к 6г ч2. Н.г.'!W37","v":0},{"$f":"'Физ.разв. к 6г ч2. Н.г.'!X37","v":0},{"$f":"'Физ.разв. к 6г ч2. Н.г.'!Y37","v":0}]
["конец года",{"$f":"'Худ.эст.к 6г ч1. К.г. '!E36","v":0},{"$f":"'Худ.эст.к 6г ч1. К.г. '!F36","v":0},{"$f":"'Худ.эст.к 6г ч1. К.г. '!G36","v":0},{"$f":"'Худ.эст.к 6г ч1. К.г. '!H36","v":0},{"$f":"'Худ.эст.к 6г ч1. К.г. '!I36","v":0},{"$f":"'Худ.эст.к 6г ч1. К.г. '!J36","v":0},{"$f":"'Худ.эст.к 6г ч1. К.г. '!K36","v":0},{"$f":"'Худ.эст.к 6г ч1. К.г. '!L36","v":0},{"$f":"'Худ.эст.к 6г ч1. К.г. '!M36","v":0},{"$f":"'Худ.эст.к 6г ч1. К.г. '!N36","v":0},{"$f":"'Худ.эст.к 6г ч1. К.г. '!O36","v":0},{"$f":"'Худ.эст.к 6г ч2. К.г. '!E36","v":0},{"$f":"'Худ.эст.к 6г ч2. К.г. '!F36","v":0},{"$f":"'Худ.эст.к 6г ч2. К.г. '!G36","v":0},{"$f":"'Худ.эст.к 6г ч2. К.г. '!H36","v":0},{"$f":"'Худ.эст.к 6г ч2. К.г. '!I36","v":0},{"$f":"'Худ.эст.к 6г ч2. К.г. '!J36","v":0},{"$f":"'Худ.эст.к 6г ч2. К.г. '!K36","v":0},{"$f":"'Худ.эст.к 6г ч2. К.г. '!L36","v":0},{"$f":"'Худ.эст.к 6г ч2. К.г. '!M36","v":0},{"$f":"'Худ.эст.к 6г ч3. К.г. '!E36","v":0},{"$f":"'Худ.эст.к 6г ч3. К.г. '!F36","v":0},{"$f":"'Худ.эст.к 6г ч3. К.г. '!G36","v":0},{"$f":"'Худ.эст.к 6г ч3. К.г. '!H36","v":0},{"$f":"'Худ.эст.к 6г ч3. К.г. '!I36","v":0},{"$f":"'Худ.эст.к 6г ч3. К.г. '!J36","v":0},{"$f":"'Худ.эст.к 6г ч3. К.г. '!K36","v":0},{"$f":"'Худ.эст.к 6г ч3. К.г. '!L36","v":0},{"$f":"'Реч.разв.к 6г ч1. К.г. '!E35","v":0},{"$f":"'Реч.разв.к 6г ч1. К.г. '!F35","v":0},{"$f":"'Реч.разв.к 6г ч1. К.г. '!G35","v":0},{"$f":"'Реч.разв.к 6г ч1. К.г. '!H35","v":0},{"$f":"'Реч.разв.к 6г ч1. К.г. '!I35","v":0},{"$f":"'Реч.разв.к 6г ч1. К.г. '!J35","v":0},{"$f":"'Реч.разв.к 6г ч1. К.г. '!K35","v":0},{"$f":"'Реч.разв.к 6г ч1. К.г. '!L35","v":0},{"$f":"'Реч.разв.к 6г ч2. К.г. '!E35","v":0},{"$f":"'Реч.разв.к 6г ч2. К.г. '!F35","v":0},{"$f":"'Реч.разв.к 6г ч2. К.г. '!G35","v":0},{"$f":"'Реч.разв.к 6г ч2. К.г. '!H35","v":0},{"$f":"'Реч.разв.к 6г ч2. К.г. '!I35","v":0},{"$f":"'Реч.разв.к 6г ч2. К.г. '!J35","v":0},{"$f":"'Реч.разв.к 6г ч2. К.г. '!K35","v":0},{"$f":"'Реч.разв.к 6г ч2. К.г. '!L35","v":0},{"$f":"'Реч.разв.к 6г ч2. К.г. '!M35","v":0},{"$f":"'Реч.разв.к 6г ч2. К.г. '!N35","v":0},{"$f":"'Реч.разв.к 6г ч2. К.г. '!O35","v":0},{"$f":"'Реч.разв.к 6г ч2. К.г. '!P35","v":0},{"$f":"'Реч.разв.к 6г ч2. К.г. '!Q35","v":0},{"$f":"'Позн.разв. к 6г ч1. К.г. '!E36","v":0},{"$f":"'Позн.разв. к 6г ч1. К.г. '!F36","v":0},{"$f":"'Позн.разв. к 6г ч1. К.г. '!G36","v":0},{"$f":"'Позн.разв. к 6г ч1. К.г. '!H36","v":0},{"$f":"'Позн.разв. к 6г ч1. К.г. '!I36","v":0},{"$f":"'Позн.разв. к 6г ч1. К.г. '!J36","v":0},{"$f":"'Позн.разв. к 6г ч1. К.г. '!K36","v":0},{"$f":"'Позн.разв. к 6г ч1. К.г. '!L36","v":0},{"$f":"'Позн.разв. к 6г ч1. К.г. '!M36","v":0},{"$f":"'Позн.разв. к 6г ч1. К.г. '!N36","v":0},{"$f":"'Позн.разв. к 6г ч1. К.г. '!O36","v":0},{"$f":"'Позн.разв. к 6г ч1. К.г. '!P36","v":0},{"$f":"'Позн.разв. к 6г ч1. К.г. '!Q36","v":0},{"$f":"'Позн.разв. к 6г ч1. К.г. '!R36","v":0},{"$f":"'Позн.разв. к 6г ч1. К.г. '!S36","v":0},{"$f":"'Позн.разв. к 6г ч2. К.г. '!E36","v":0},{"$f":"'Позн.разв. к 6г ч2. К.г. '!F36","v":0},{"$f":"'Позн.разв. к 6г ч2. К.г. '!G36","v":0},{"$f":"'Позн.разв. к 6г ч2. К.г. '!H36","v":0},{"$f":"'Позн.разв. к 6г ч2. К.г. '!I36","v":0},{"$f":"'Позн.разв. к 6г ч2. К.г. '!J36","v":0},{"$f":"'Соц.ком.к 6г ч1. К.г. '!$E$35","v":0},{"$f":"'Соц.ком.к 6г ч1. К.г. '!$E$35","v":0},{"$f":"'Соц.ком.к 6г ч1. К.г. '!$E$35","v":0},{"$f":"'Соц.ком.к 6г ч1. К.г. '!$E$35","v":0},{"$f":"'Соц.ком.к 6г ч1. К.г. '!$E$35","v":0},{"$f":"'Соц.ком.к 6г ч1. К.г. '!$E$35","v":0},{"$f":"'Соц.ком.к 6г ч1. К.г. '!$E$35","v":0},{"$f":"'Соц.ком.к 6г ч1. К.г. '!$E$35","v":0},{"$f":"'Соц.ком.к 6г ч1. К.г. '!$E$35","v":0},{"$f":"'Соц.ком.к 6г ч1. К.г. '!$E$35","v":0},{"$f":"'Соц.ком.к 6г ч1. К.г. '!$E$35","v":0},{"$f":"'Соц.ком.к 6г ч1. К.г. '!$E$35","v":0},{"$f":"'Соц.ком.к 6г ч1. К.г. '!$E$35","v":0},{"$f":"'Соц.ком.к 6г ч1. К.г. '!$E$35","v":0},{"$f":"'Соц.ком.к 6г ч1. К.г. '!$E$35","v":0},{"$f":"'Соц.ком.к 6г ч1. К.г. '!$E$35","v":0},{"$f":"'Соц.ком.к 6г ч1. К.г. '!$E$35","v":0},{"$f":"'Соц.ком. к 6г ч2 К.г.'!E35","v":0},{"$f":"'Соц.ком. к 6г ч2 К.г.'!F35","v":0},{"$f":"'Соц.ком. к 6г ч2 К.г.'!G35","v":0},{"$f":"'Соц.ком. к 6г ч2 К.г.'!H35","v":0},{"$f":"'Соц.ком. к 6г ч2 К.г.'!I35","v":0},{"$f":"'Соц.ком. к 6г ч2 К.г.'!J35","v":0},{"$f":"'Соц.ком. к 6г ч2 К.г.'!K35","v":0},{"$f":"'Соц.ком. к 6г ч2 К.г.'!L35","v":0},{"$f":"'Соц.ком. к 6г ч2 К.г.'!M35","v":0},{"$f":"'Физ.разв. к 6г ч1. К.г. '!E36","v":0},{"$f":"'Физ.разв. к 6г ч1. К.г. '!F36","v":0},{"$f":"'Физ.разв. к 6г ч1. К.г. '!G36","v":0},{"$f":"'Физ.разв. к 6г ч1. К.г. '!H36","v":0},{"$f":"'Физ.разв. к 6г ч1. К.г. '!I36","v":0},{"$f":"'Физ.разв. к 6г ч1. К.г. '!J36","v":0},{"$f":"'Физ.разв. к 6г ч1. К.г. '!K36","v":0},{"$f":"'Физ.разв. к 6г ч1. К.г. '!L36","v":0},{"$f":"'Физ.разв. к 6г ч1. К.г. '!M36","v":0},{"$f":"'Физ.разв. к 6г ч1. К.г. '!N36","v":0},{"$f":"'Физ.разв. к 6г ч1. К.г. '!O36","v":0},{"$f":"'Физ.разв. к 6г ч1. К.г. '!P36","v":0},{"$f":"'Физ.разв. к 6г ч1. К.г. '!Q36","v":0},{"$f":"'Физ.разв. к 6г ч1. К.г. '!R36","v":0},{"$f":"'Физ.разв. к 6г ч1. К.г. '!S36","v":0},{"$f":"'Физ.разв. к 6г ч1. К.г. '!T36","v":0},{"$f":"'Физ.разв. к 6г ч1. К.г. '!U36","v":0},{"$f":"'Физ.разв. к 6г ч1. К.г. '!V36","v":0},{"$f":"'Физ.разв. к 6г ч1. К.г. '!W36","v":0},{"$f":"'Физ.разв. к 6г ч1. К.г. '!X36","v":0},{"$f":"'Физ.разв. к 6г ч2. К.г. '!E37","v":0},{"$f":"'Физ.разв. к 6г ч2. К.г. '!F37","v":0},{"$f":"'Физ.разв. к 6г ч2. К.г. '!G37","v":0},{"$f":"'Физ.разв. к 6г ч2. К.г. '!H37","v":0},{"$f":"'Физ.разв. к 6г ч2. К.г. '!I37","v":0},{"$f":"'Физ.разв. к 6г ч2. К.г. '!J37","v":0},{"$f":"'Физ.разв. к 6г ч2. К.г. '!K37","v":0},{"$f":"'Физ.разв. к 6г ч2. К.г. '!L37","v":0},{"$f":"'Физ.разв. к 6г ч2. К.г. '!M37","v":0},{"$f":"'Физ.разв. к 6г ч2. К.г. '!N37","v":0},{"$f":"'Физ.разв. к 6г ч2. К.г. '!O37","v":0},{"$f":"'Физ.разв. к 6г ч2. К.г. '!P37","v":0},{"$f":"'Физ.разв. к 6г ч2. К.г. '!Q37","v":0},{"$f":"'Физ.разв. к 6г ч2. К.г. '!R37","v":0},{"$f":"'Физ.разв. к 6г ч2. К.г. '!S37","v":0},{"$f":"'Физ.разв. к 6г ч2. К.г. '!T37","v":0},{"$f":"'Физ.разв. к 6г ч2. К.г. '!U37","v":0},{"$f":"'Физ.разв. к 6г ч2. К.г. '!V37","v":0},{"$f":"'Физ.разв. к 6г ч2. К.г. '!W37","v":0},{"$f":"'Физ.разв. к 6г ч2. К.г. '!X37","v":0},{"$f":"'Физ.разв. к 6г ч2. К.г. '!Y37","v":0}]

{"sheet":"26","index":53,"n_rows":11,"n_cols":138,"rows_kept":11,"merged":[[4,117,4,122],[4,123,4,126],[4,127,4,129],[4,130,4,132],[4,134,4,137],[5,0,8,0],[5,1,5,11],[5,12,5,19],[5,21,6,26],[5,27,6,28],[5,50,5,52],[5,53,5,55],[5,56,5,64],[5,65,5,66],[5,67,5,70],[5,117,5,118],[5,119,5,122],[5,123,6,123],[5,124,6,124],[5,125,6,125],[5,126,6,126],[5,127,8,127],[5,128,8,128],[5,129,8,129],[5,130,8,130],[5,131,8,131],[5,132,8,132],[5,133,8,133],[5,134,5,137],[6,1,6,4],[6,9,6,10],[6,12,6,13],[6,16,6,17],[6,18,6,19],[6,20,8,20],[6,30,6,31],[6,32,6,36],[6,38,6,43],[6,45,6,49],[6,53,8,53],[6,54,8,54],[6,55,8,55],[6,56,6,58],[6,62,6,64],[6,65,7,66],[6,67,6,68],[6,69,6,70],[6,71,6,87],[6,88,6,90],[6,91,6,95],[6,97,6,98],[6,99,6,101],[6,102,6,104],[6,105,6,107],[6,108,6,112],[6,113,6,114],[6,115,6,116],[6,117,8,117],[6,118,8,118],[6,119,8,119],[6,120,8,120],[6,121,8,121],[6,122,8,122],[6,134,8,134],[6,135,8,135],[6,136,8,136],[6,137,8,137],[7,1,8,1],[7,2,8,2],[7,3,8,3],[7,4,8,4],[7,5,8,5],[7,6,8,6],[7,7,8,7],[7,8,8,8],[7,9,8,9],[7,10,8,10],[7,11,8,11],[7,12,8,12],[7,13,8,13],[7,14,8,14],[7,15,8,15],[7,16,8,16],[7,17,8,17],[7,18,8,18],[7,19,8,19],[7,21,8,21],[7,22,8,22],[7,23,8,23],[7,24,8,24],[7,25,8,25],[7,26,8,26],[7,27,8,27],[7,28,8,28],[7,29,8,29],[7,30,8,30],[7,31,8,31],[7,32,8,32],[7,33,8,33],[7,34,8,34],[7,35,8,35],[7,36,8,36],[7,37,8,37],[7,38,8,38],[7,39,8,39],[7,40,8,40],[7,41,8,41],[7,42,8,42],[7,43,8,43],[7,44,8,44],[7,45,8,45],[7,46,8,46],[7,47,8,47],[7,48,8,48],[7,49,8,49],[7,50,7,52],[7,56,8,56],[7,57,8,57],[7,58,8,58],[7,59,8,59],[7,60,8,60],[7,61,8,61],[7,62,8,62],[7,63,8,63],[7,64,8,64],[7,67,8,67],[7,68,8,68],[7,69,8,69],[7,70,8,70],[7,71,7,72],[7,73,7,74],[7,75,7,76],[7,77,7,80],[7,82,7,84],[7,85,7,87],[7,88,8,88],[7,89,8,89],[7,90,8,90],[7,91,8,91],[7,92,8,92],[7,93,8,93],[7,94,8,94],[7,95,8,95],[7,96,8,96],[7,97,8,97],[7,98,8,98],[7,99,8,99],[7,100,8,100],[7,101,8,101],[7,102,7,104],[7,105,7,107],[7,108,7,112],[7,113,8,113],[7,114,8,114],[7,115,7,116],[7,123,8,123],[7,124,8,124],[7,125,8,125],[7,126,8,126]]}
[]
[]
[]
[]
[{"$nulls":117},"Мелкая моторика",{"$nulls":5},"КГН",{"$nulls":3},"ЗОЖ",null,null,"Подвижные игры",null,null,"Спорт. игры","Спортивные упражнения"]
[{"$f":"Список!B29","v":0},"Музыкальная деятельность",{"$nulls":10},"Изобразительная деятельность",{"$nulls":8},"Приобщение к искусству",{"$nulls":5},"Конструктивная деятельность",{"$nulls":22},"Сенсорные эталоны ",null,null,"Познавательные действия",null,null,"Математические представления",{"$nulls":8},"Окружающий мир",null,"Природа ",{"$nulls":49},"Координация рук и глаз",null,"Графические навыки",{"$nulls":3},"Навыки соблюдения чистоты тела (правила личной гигиены)","Навыки культуры еды (прием пищи) ","Навыки поддержания порядка (правила поведения в быту) ","Навыки ухода за собой (одевание, раздевание) ","Ребенок имеет представление о факторах, положительно/негативно влияющих на здоровье; владеет основными способами укрепления здоровья","Ребенок имеет представление о некоторых видах спорта (9 и больше), роли спорта для укрепления здоровья","Ребенок проявляет заботливое отношение к своему здоровью и здоровью окружающих","Ребенок проявляет доступный возрасту самоконтроль","Ребенок  способен привлечь внимание других детей и организовать знакомую подвижную игру","Ребенок придумывает новые варианты игр, комбинирует движения","Ребенок имеет представление об элементах спортивных игр (городки, баскетбол, бадминтон, футбол), умеет выполнять некоторые виды движений","Ребенок умеет кататься"]
[null,"Слушание",{"$nulls":3},"Пение ","Музыкально-ритмические движения","Песенное творчество","Игра на детских музыкальных инструментах","Театрализованная деятельность",null,"Танцевально-игровое творчество","Рисование ",null,"Лепка ","Аппликация ","Народное ДПИ",null,"Прикладное творчество",null,"Ребенок самостоятельно определяет замысел рисунка, аппликации, лепки, поделки, создает образы и композиционные изображения, использует разнообразные материалы",{"$nulls":8},"Общее речевое развитие","Формирование словаря",null,"Грамматический строй",{"$nulls":4},"Звуковая культура речи","Связная речь",{"$nulls":5},"ЧХЛ","Подготовка к обучению грамоте",{"$nulls":4},"Цвет, оттенки","Форма, геометрические фигуры","Величина","Ребенок охотно участвует в обсуждении проблемы для совместного нахождения способов ее решения, предлагает пути решения, устанавливает закономерности причинно-следственного характера, проявляет любознательность","Ребенок использует математические знания, способы и средства для познания окружающего мира","Ребенок способен к произвольным умственным действиям, логическим операциям анализа, сравнения, обобщения, систематизации, классификации","Количество и счет",null,null,"Ориентировка во времени","Ориентировка в пространстве","Пространственно-количественные связи и отношения","Сравнение",null,null,"Ребенок имеет представления, может показать на картинке и в естественной среде, может рассказать",null,"Объекты живой природы",null,"Объекты неживой природы, природные явления",null,"Сфера социальных отношений",{"$nulls":16},"Область формирования основ гражданственности и патриотизма",null,null,"Сфера трудового воспитания",{"$nulls":4},"Область формирования основ безопасного поведения","Бросание, катание, ловля, метание",null,"Ползанье, лазанье",null,null,"Ходьба",null,null,"Бег",null,null,"Прыжки",{"$nulls":4},"Равновесие",null,"Строевые упражнения",null,"Ребенок может найти выход из лабиринта","Ребенок может нарисовать простой узор, изображение, не отрывая руки","Ребенок может повторить узор с чередующимися элементами","Ребенок закрашивает контурное изображение с множеством мелких деталей, не выходя за контур","Ребенок может соединить точки для получения изображения","Ребенок рисует геометрический орнамент по клеткам",{"$nulls":11},"на санках","на лыжах","на двухколесном велосипеде","на самокате"]
[null,"Ребенок различает жанры музыкальных произведений (песня, танец, марш)","Ребенок узнает мелодию по отдельным фрагментам произведения (вступление, заключение, музыкальная фраза)","Ребенок различает звуки по высоте в пределах квинты","Ребенок различает звучание музыкальных инструментов (клавишно-ударных, струнных)","Ребенок демонстрирует развитые певческие навыки","Ребенок демонстрирует развитые навыки исполнения танцевальных движений","Ребенок может импровизировать мелодию на заданный текст","Ребенок демонстрирует навыки игры на детских музыкальных инструментах","Ребенок имеет представление о различных видах театрального искусства","Ребенок с удовольствие занимается театрализованной деятельностью","Ребенок может придумывать движения к танцам","Ребенок передает в изображении основные свойства предметов (форма, величина, цвет), характерные детали, соотношение предметов и их частей по величине, высоте, расположению относительно друг друга","Ребенок владеет основными способами и приемами рисования различными изобразительными материалами (цветные карандаши, гуашь, акварель, цветные мелки, пастель, сангина, угольный карандаш, фломастеры)","Ребенок лепит с натуры и по представлению знакомые предметы, передавая характерные особенности пластическим, конструктивным и комбинированным способами","Ребенок умеет пользоваться ножницами","Ребенок имеет представление о полхов-майданской, гжельской росписи","Ребенок может нарисовать узор, используя элементы  росписи","Ребенок умеет работать с бумагой (сгибать лист, сглаживать сгибы, надрезать по сгибам)","Ребенок умеет работать с природным и бросовым материалом",null,"Ребенок умеет выделять, называть, группировать произведения по видам искусства: литература, музыка, изобразительное искусство, архитектура, театр, цирк","Ребенок имеет представление о видах изобразительного искусства: графика, декоративно-прикладное искусство, живопись, скульптура, архитектура, фотоискусство","Ребенок имеет представление о жанрах изобразительного искусства: натюрморт, пейзаж, портрет","Ребенок имеет представление о народном искусстве, фольклоре, музыке и художественных промыслах","Ребенок имеет представление о творческих профессиях: художник, композитор, музыкант, актер, артист балета","Ребенок имеет представление о культурно-досуговых местах: театр, музей, библиотека, выставка, кинотеатр, цирк и др.","Ребенок может провести анализ постройки (выделить основные части и характерные детали конструкций)","Ребенок может выполнить постройку по инструкции","Ребенок внятно разговаривает","Ребенок умеет обобщать предметы в группы по существенным признакам","Ребенок демонстрирует богатый словарный запас","Ребенок правильно использует в речи: несклоняемые существительные","Ребенок правильно использует в речи: слова, имеющие только множественное или только единственное число","Ребенок правильно использует в речи: глаголы одеть-надеть","Ребенок правильно использует в речи: существительные множественного числа в родительном падеже","Ребенок правильно образовывает слова с помощью суффикса, приставки","Ребенок правильно произносит сонорные звуки: л-ль, р-рь","Ребенок пересказывает литературные произведения по ролям, по частям, правильно передавая идею и содержание","Ребенок пользуется прямой и косвенной речью","Ребенок составляет короткий описательный рассказ о предметах, объектах и явлениях природы, из личного опыта","Ребенок сочиняет сюжетные рассказы по картине, из личного опыта","Ребенок проявляет речевое творчество: придумывает продолжение и окончание к рассказу, рассказы по аналогии, по плану педагога, по модели","Ребенок владеет первичными приемами аргументации и доказательства","Ребенок проявляет избирательное отношение к произведениям определенной тематики и жанра","Ребенок понимает термины: слово: звук, буква, предложение, гласный звук, согласный звук","Ребенок может провести звуковой анализ слова, разделить на слоги двух-, трехслоговые слова; составляет схему слова","Ребенок различает гласные-согласные звуки","Ребенок определяет твердые-мягкие согласные","Ребенок составляет предложение по модели, определяет количество и последовательность слов в предложении","Ребенок различает и называет",{"$nulls":5},"Ребенок знает/называет/находит среди других цифры 0 -10","Ребенок выполняет количественный и порядковый счет в пределах 0-10","Ребенок знает состав чисел из единиц в пределах 5","Ребенок понимает календарные единицы времени (сутки, неделя, месяц, год)","Ребенок ориентируется на листе бумаги","Ребенок понимает простейшую графическую информацию об отношениях предметов (слева направо, справа налево, снизу вверх, сверху вниз)","Ребенок выделяет сходства и отличия между группами предметов","Ребенок сравнивает предметы по 3-5 признакам","Ребенок группирует предметы по разным основаниям, преимущественно на основе зрительной оценки",null,null,"Ребенок имеет представление о сходстве и различии во внешнем виде и образе жизни объектов животного и растительного мира в разные сезоны года","Ребенок может сравнивать, группировать объекты живой природы по их особенностям, мету обитания, образу жизни, питанию","Ребенок имеет представление о признаках разных времен года","Ребенок наблюдает за явлениями природы, фиксирует результаты наблюдения","Отношение к самому себе",null,"Отношение к сверстникам",null,"Отношение к взрослым",null,"Эмоции",{"$nulls":3},"Поведение","Семья",null,null,"Игровое поведение",null,null,"Ребенок имеет представление о государственных символах России (герб, гимн, флаг)","Ребенок имеет представление о государственных праздниках России","Ребенок знает/может назвать/показать на картинке и в естественной среде достопримечательности населенного пункта, в котором живет","Ребенок имеет представления о разных видах производительного труда (промышленность, строительство, сельское хозяйство)","Ребенок имеет представления о разных видах обслуживающего труда (сфера досуга и отдыха, сфера культуры, медицина, торговля)","Ребенок имеет представление о структуре трудового процесса (мотив, цель, инструменты, оборудование, содержание действий, выбор трудовых действий, результат)","Ребенок имеет элементарные экономические представления (назначение рекламы, денег)","Ребенок охотно участвует в выполнении трудовых поручений, дежурстве; может распределять трудовые обязанности с другими","Ребенок имеет представления/ соблюдает правила поведения в быту, на улице, в природе, в общении с людьми, с животными","Ребенок выполняет различные упражнения с мячом (прокатывание, передача, перебрасывание, ведение, подбрасывание, ловля, забрасывание)","Ребенок выполняет метание в цель, метание в даль предметов разной массы","Ребенок выполняет ползанье разными способами (на четвереньках, на животе)","Ребенок выполняет переползание через несколько предметов подряд, под дугами, в туннеле","Ребенок выполняет лазанье по гимнастической стенке чередующимся шагом","Ребенок выполняет различные виды ходьбы",null,null,"Ребенок выполняет различные виды бега",null,null,"Ребенок выполняет различные виды прыжков",{"$nulls":4},"Ребенок выполняет стойку на одной ноге ","Ребенок выполняет упражнение \"ласточка\" ","Ребенок выполняет различные виды строевых упражнений",{"$nulls":7},"Ребенок выполняет самостоятельно","Ребенок выполняет самостоятельно","Ребенок выполняет самостоятельно","Ребенок выполняет самостоятельно"]
[{"$nulls":50},"Ребенок называет/различает все цвета спектра и ахроматические цвета, оттенки цвета, тоны цвета, теплые и холодные оттенки","Ребенок владеет способами воссоздания фигуры из частей, деления фигуры на части","Ребенок может выстраивать сериационные ряды предметов, различающихся по размеру в возрастающем и убывающем порядке в пределах 10",{"$nulls":12},"о многообразии людей разных национальностей (особенностей внешнего вида, одежды, традиций)","Ребенок имеет представление о многообразии стран и народов мира",{"$nulls":4},"Ребенок может рассказать о себе, выразить собственные потребности, желания","Ребенок имеет представление о некоторых своих правах","Ребенок имеет предпочтения в общении","Ребенок охотно вступает в общение со сверстниками","Ребенок уважительно относится к взрослым, пожилым людям","Ребенок охотно вступает в общение со взрослыми","Ребенок понимает свои и чужие эмоциональные состояния, демонстрирует примеры эмоциональной поддержки ","Ребенок  откликается на просьбу помочь","Ребенок выразить чувства и эмоции в мимике, пантомимике, действиях, интонации","Ребенок демонстрирует адекватные возрасту способы регуляции эмоциональных состояний","Ребенок ориентируется на общепринятые нормы и правила культуры поведения","Ребенок знает членов своей семьи, ближайших родственников по линии матери и отца","Ребенок имеет представление о способах поддержки родственных связей (переписка, разговор, совместный отдых, традиции, походы в гости и др.)","Ребенок проявляет заботу по отношению к членам своей семьи, оказывает посильную помощь больному члену семьи","Ребенок в совместной деятельности принимает общую цель, договаривается о способах деятельности и материалах, может уступить в конфликтной ситуации","Ребенок проявляет интерес к игровому экспериментированию, развивающим и познавательным играм","Ребенок способен действовать в точном соответствие с игровой задачей и правилами",{"$nulls":14},"обычным шагом, на носках, на пятках, с высоким подниманием колен","приставной, в полуприседе, мелким и широким, перекатом с пятки на носок, гимнастическим","змейкой без ориентиров, в колонне по одному и по два","в колонне по одному, змейкой, с перестроением на ходу в пары, звенья","со сменой ведущих, с пролезанием в обруч, с ловлей и увертыванием, высоко поднимая колени","между расставленными предметами, в заданном темпе, мелким и широким шагом","подпрыгивание, перепрыгивание, спрыгивание","в длину с места","в высоту с разбега","в длину с разбега","со скакалкой",null,null,"построения (по росту, в колонну по одному, в шеренгу, в круг)","в колонну по три, в две шеренги на месте, расхождение из колонны в разные стороны"]
["начало года",{"$f":"'Худ.эст.к 6г ч1. Н.г.'!E37","v":0},{"$f":"'Худ.эст.к 6г ч1. Н.г.'!F37","v":0},{"$f":"'Худ.эст.к 6г ч1. Н.г.'!G37","v":0},{"$f":"'Худ.эст.к 6г ч1. Н.г.'!H37","v":0},{"$f":"'Худ.эст.к 6г ч1. Н.г.'!I37","v":0},{"$f":"'Худ.эст.к 6г ч1. Н.г.'!J37","v":0},{"$f":"'Худ.эст.к 6г ч1. Н.г.'!K37","v":0},{"$f":"'Худ.эст.к 6г ч1. Н.г.'!L37","v":0},{"$f":"'Худ.эст.к 6г ч1. Н.г.'!M37","v":0},{"$f":"'Худ.эст.к 6г ч1. Н.г.'!N37","v":0},{"$f":"'Худ.эст.к 6г ч1. Н.г.'!O37","v":0},{"$f":"'Худ.эст.к 6г ч2. Н.г.'!E37","v":0},{"$f":"'Худ.эст.к 6г ч2. Н.г.'!F37","v":0},{"$f":"'Худ.эст.к 6г ч2. Н.г.'!G37","v":0},{"$f":"'Худ.эст.к 6г ч2. Н.г.'!H37","v":0},{"$f":"'Худ.эст.к 6г ч2. Н.г.'!I37","v":0},{"$f":"'Худ.эст.к 6г ч2. Н.г.'!J37","v":0},{"$f":"'Худ.эст.к 6г ч2. Н.г.'!K37","v":0},{"$f":"'Худ.эст.к 6г ч2. Н.г.'!L37","v":0},{"$f":"'Худ.эст.к 6г ч2. Н.г.'!M37","v":0},{"$f":"'Худ.эст.к 6г ч3. Н.г.'!E37","v":0},{"$f":"'Худ.эст.к 6г ч3. Н.г.'!F37","v":0},{"$f":"'Худ.эст.к 6г ч3. Н.г.'!G37","v":0},{"$f":"'Худ.эст.к 6г ч3. Н.г.'!H37","v":0},{"$f":"'Худ.эст.к 6г ч3. Н.г.'!I37","v":0},{"$f":"'Худ.эст.к 6г ч3. Н.г.'!J37","v":0},{"$f":"'Худ.эст.к 6г ч3. Н.г.'!K37","v":0},{"$f":"'Худ.эст.к 6г ч3. Н.г.'!L37","v":0},{"$f":"'Реч.разв.к 6г ч1. Н.г.'!E36","v":0},{"$f":"'Реч.разв.к 6г ч1. Н.г.'!F36","v":0},{"$f":"'Реч.разв.к 6г ч1. Н.г.'!G36","v":0},{"$f":"'Реч.разв.к 6г ч1. Н.г.'!H36","v":0},{"$f":"'Реч.разв.к 6г ч1. Н.г.'!I36","v":0},{"$f":"'Реч.разв.к 6г ч1. Н.г.'!J36","v":0},{"$f":"'Реч.разв.к 6г ч1. Н.г.'!K36","v":0},{"$f":"'Реч.разв.к 6г ч1. Н.г.'!L36","v":0},{"$f":"'Реч.разв.к 6г ч2. Н.г.'!E36","v":0},{"$f":"'Реч.разв.к 6г ч2. Н.г.'!F36","v":0},{"$f":"'Реч.разв.к 6г ч2. Н.г.'!G36","v":0},{"$f":"'Реч.разв.к 6г ч2. Н.г.'!H36","v":0},{"$f":"'Реч.разв.к 6г ч2. Н.г.'!I36","v":0},{"$f":"'Реч.разв.к 6г ч2. Н.г.'!J36","v":0},{"$f":"'Реч.разв.к 6г ч2. Н.г.'!K36","v":0},{"$f":"'Реч.разв.к 6г ч2. Н.г.'!L36","v":0},{"$f":"'Реч.разв.к 6г ч2. Н.г.'!M36","v":0},{"$f":"'Реч.разв.к 6г ч2. Н.г.'!N36","v":0},{"$f":"'Реч.разв.к 6г ч2. Н.г.'!O36","v":0},{"$f":"'Реч.разв.к 6г ч2. Н.г.'!P36","v":0},{"$f":"'Реч.разв.к 6г ч2. Н.г.'!Q36","v":0},{"$f":"'Позн.разв. к 6г ч1. Н.г.'!E37","v":0},{"$f":"'Позн.разв. к 6г ч1. Н.г.'!F37","v":0},{"$f":"'Позн.разв. к 6г ч1. Н.г.'!G37","v":0},{"$f":"'Позн.разв. к 6г ч1. Н.г.'!H37","v":0},{"$f":"'Позн.разв. к 6г ч1. Н.г.'!I37","v":0},{"$f":"'Позн.разв. к 6г ч1. Н.г.'!J37","v":0},{"$f":"'Позн.разв. к 6г ч1. Н.г.'!K37","v":0},{"$f":"'Позн.разв. к 6г ч1. Н.г.'!L37","v":0},{"$f":"'Позн.разв. к 6г ч1. Н.г.'!M37","v":0},{"$f":"'Позн.разв. к 6г ч1. Н.г.'!N37","v":0},{"$f":"'Позн.разв. к 6г ч1. Н.г.'!O37","v":0},{"$f":"'Позн.разв. к 6г ч1. Н.г.'!P37","v":0},{"$f":"'Позн.разв. к 6г ч1. Н.г.'!Q37","v":0},{"$f":"'Позн.разв. к 6г ч1. Н.г.'!R37","v":0},{"$f":"'Позн.разв. к 6г ч1. Н.г.'!S37","v":0},{"$f":"'Позн.разв. к 6г ч2. Н.г.'!E37","v":0},{"$f":"'Позн.разв. к 6г ч2. Н.г.'!F37","v":0},{"$f":"'Позн.разв. к 6г ч2. Н.г.'!G37","v":0},{"$f":"'Позн.разв. к 6г ч2. Н.г.'!H37","v":0},{"$f":"'Позн.разв. к 6г ч2. Н.г.'!I37","v":0},{"$f":"'Позн.разв. к 6г ч2. Н.г.'!J37","v":0},{"$f":"'Соц.ком.к 6г ч1. Н.г.'!E36","v":0},{"$f":"'Соц.ком.к 6г ч1. Н.г.'!F36","v":0},{"$f":"'Соц.ком.к 6г ч1. Н.г.'!G36","v":0},{"$f":"'Соц.ком.к 6г ч1. Н.г.'!H36","v":0},{"$f":"'Соц.ком.к 6г ч1. Н.г.'!I36","v":0},{"$f":"'Соц.ком.к 6г ч1. Н.г.'!J36","v":0},{"$f":"'Соц.ком.к 6г ч1. Н.г.'!K36","v":0},{"$f":"'Соц.ком.к 6г ч1. Н.г.'!L36","v":0},{"$f":"'Соц.ком.к 6г ч1. Н.г.'!M36","v":0},{"$f":"'Соц.ком.к 6г ч1. Н.г.'!N36","v":0},{"$f":"'Соц.ком.к 6г ч1. Н.г.'!O36","v":0},{"$f":"'Соц.ком.к 6г ч1. Н.г.'!P36","v":0},{"$f":"'Соц.ком.к 6г ч1. Н.г.'!Q36","v":0},{"$f":"'Соц.ком.к 6г ч1. Н.г.'!R36","v":0},{"$f":"'Соц.ком.к 6г ч1. Н.г.'!S36","v":0},{"$f":"'Соц.ком.к 6г ч1. Н.г.'!T36","v":0},{"$f":"'Соц.ком.к 6г ч1. Н.г.'!U36","v":0},{"$f":"'Соц.ком. к 6г ч2. Н.г.'!E36","v":0},{"$f":"'Соц.ком. к 6г ч2. Н.г.'!F36","v":0},{"$f":"'Соц.ком. к 6г ч2. Н.г.'!G36","v":0},{"$f":"'Соц.ком. к 6г ч2. Н.г.'!H36","v":0},{"$f":"'Соц.ком. к 6г ч2. Н.г.'!I36","v":0},{"$f":"'Соц.ком. к 6г ч2. Н.г.'!J36","v":0},{"$f":"'Соц.ком. к 6г ч2. Н.г.'!K36","v":0},{"$f":"'Соц.ком. к 6г ч2. Н.г.'!L36","v":0},{"$f":"'Соц.ком. к 6г ч2. Н.г.'!M36","v":0},{"$f":"'Физ.разв. к 6г ч1. Н.г.'!E37","v":0},{"$f":"'Физ.разв. к 6г ч1. Н.г.'!F37","v":0},{"$f":"'Физ.разв. к 6г ч1. Н.г.'!G37","v":0},{"$f":"'Физ.разв. к 6г ч1. Н.г.'!H37","v":0},{"$f":"'Физ.разв. к 6г ч1. Н.г.'!I37","v":0},{"$f":"'Физ.разв. к 6г ч1. Н.г.'!J37","v":0},{"$f":"'Физ.разв. к 6г ч1. Н.г.'!K37","v":0},{"$f":"'Физ.разв. к 6г ч1. Н.г.'!L37","v":0},{"$f":"'Физ.разв. к 6г ч1. Н.г.'!M37","v":0},{"$f":"'Физ.разв. к 6г ч1. Н.г.'!N37","v":0},{"$f":"'Физ.разв. к 6г ч1. Н.г.'!O37","v":0},{"$f":"'Физ.разв. к 6г ч1. Н.г.'!P37","v":0},{"$f":"'Физ.разв. к 6г ч1. Н.г.'!Q37","v":0},{"$f":"'Физ.разв. к 6г ч1. Н.г.'!R37","v":0},{"$f":"'Физ.разв. к 6г ч1. Н.г.'!S37","v":0},{"$f":"'Физ.разв. к 6г ч1. Н.г.'!T37","v":0},{"$f":"'Физ.разв. к 6г ч1. Н.г.'!U37","v":0},{"$f":"'Физ.разв. к 6г ч1. Н.г.'!V37","v":0},{"$f":"'Физ.разв. к 6г ч1. Н.г.'!W37","v":0},{"$f":"'Физ.разв. к 6г ч1. Н.г.'!X37","v":0},{"$f":"'Физ.разв. к 6г ч2. Н.г.'!E38","v":0},{"$f":"'Физ.разв. к 6г ч2. Н.г.'!F38","v":0},{"$f":"'Физ.разв. к 6г ч2. Н.г.'!G38","v":0},{"$f":"'Физ.разв. к 6г ч2. Н.г.'!H38","v":0},{"$f":"'Физ.разв. к 6г ч2. Н.г.'!I38","v":0},{"$f":"'Физ.разв. к 6г ч2. Н.г.'!J38","v":0},{"$f":"'Физ.разв. к 6г ч2. Н.г.'!K38","v":0},{"$f":"'Физ.разв. к 6г ч2. Н.г.'!L38","v":0},{"$f":"'Физ.разв. к 6г ч2. Н.г.'!M38","v":0},{"$f":"'Физ.разв. к 6г ч2. Н.г.'!N38","v":0},{"$f":"'Физ.разв. к 6г ч2. Н.г.'!O38","v":0},{"$f":"'Физ.разв. к 6г ч2. Н.г.'!P38","v":0},{"$f":"'Физ.разв. к 6г ч2. Н.г.'!Q38","v":0},{"$f":"'Физ.разв. к 6г ч2. Н.г.'!R38","v":0},{"$f":"'Физ.разв. к 6г ч2. Н.г.'!S38","v":0},{"$f":"'Физ.разв. к 6г ч2. Н.г.'!T38","v":0},{"$f":"'Физ.разв. к 6г ч2. Н.г.'!U38","v":0},{"$f":"'Физ.разв. к 6г ч2. Н.г.'!V38","v":0},{"$f":"'Физ.разв. к 6г ч2. Н.г.'!W38","v":0},{"$f":"'Физ.разв. к 6г ч2. Н.г.'!X38","v":0},{"$f":"'Физ.разв. к 6г ч2. Н.г.'!Y38","v":0}]
["конец года",{"$f":"'Худ.эст.к 6г ч1. К.г. '!E37","v":0},{"$f":"'Худ.эст.к 6г ч1. К.г. '!F37","v":0},{"$f":"'Худ.эст.к 6г ч1. К.г. '!G37","v":0},{"$f":"'Худ.эст.к 6г ч1. К.г. '!H37","v":0},{"$f":"'Худ.эст.к 6г ч1. К.г. '!I37","v":0},{"$f":"'Худ.эст.к 6г ч1. К.г. '!J37","v":0},{"$f":"'Худ.эст.к 6г ч1. К.г. '!K37","v":0},{"$f":"'Худ.эст.к 6г ч1. К.г. '!L37","v":0},{"$f":"'Худ.эст.к 6г ч1. К.г. '!M37","v":0},{"$f":"'Худ.эст.к 6г ч1. К.г. '!N37","v":0},{"$f":"'Худ.эст.к 6г ч1. К.г. '!O37","v":0},{"$f":"'Худ.эст.к 6г ч2. К.г. '!E37","v":0},{"$f":"'Худ.эст.к 6г ч2. К.г. '!F37","v":0},{"$f":"'Худ.эст.к 6г ч2. К.г. '!G37","v":0},{"$f":"'Худ.эст.к 6г ч2. К.г. '!H37","v":0},{"$f":"'Худ.эст.к 6г ч2. К.г. '!I37","v":0},{"$f":"'Худ.эст.к 6г ч2. К.г. '!J37","v":0},{"$f":"'Худ.эст.к 6г ч2. К.г. '!K37","v":0},{"$f":"'Худ.эст.к 6г ч2. К.г. '!L37","v":0},{"$f":"'Худ.эст.к 6г ч2. К.г. '!M37","v":0},{"$f":"'Худ.эст.к 6г ч3. К.г. '!E37","v":0},{"$f":"'Худ.эст.к 6г ч3. К.г. '!F37","v":0},{"$f":"'Худ.эст.к 6г ч3. К.г. '!G37","v":0},{"$f":"'Худ.эст.к 6г ч3. К.г. '!H37","v":0},{"$f":"'Худ.эст.к 6г ч3. К.г. '!I37","v":0},{"$f":"'Худ.эст.к 6г ч3. К.г. '!J37","v":0},{"$f":"'Худ.эст.к 6г ч3. К.г. '!K37","v":0},{"$f":"'Худ.эст.к 6г ч3. К.г. '!L37","v":0},{"$f":"'Реч.разв.к 6г ч1. К.г. '!E36","v":0},{"$f":"'Реч.разв.к 6г ч1. К.г. '!F36","v":0},{"$f":"'Реч.разв.к 6г ч1. К.г. '!G36","v":0},{"$f":"'Реч.разв.к 6г ч1. К.г. '!H36","v":0},{"$f":"'Реч.разв.к 6г ч1. К.г. '!I36","v":0},{"$f":"'Реч.разв.к 6г ч1. К.г. '!J36","v":0},{"$f":"'Реч.разв.к 6г ч1. К.г. '!K36","v":0},{"$f":"'Реч.разв.к 6г ч1. К.г. '!L36","v":0},{"$f":"'Реч.разв.к 6г ч2. К.г. '!E36","v":0},{"$f":"'Реч.разв.к 6г ч2. К.г. '!F36","v":0},{"$f":"'Реч.разв.к 6г ч2. К.г. '!G36","v":0},{"$f":"'Реч.разв.к 6г ч2. К.г. '!H36","v":0},{"$f":"'Реч.разв.к 6г ч2. К.г. '!I36","v":0},{"$f":"'Реч.разв.к 6г ч2. К.г. '!J36","v":0},{"$f":"'Реч.разв.к 6г ч2. К.г. '!K36","v":0},{"$f":"'Реч.разв.к 6г ч2. К.г. '!L36","v":0},{"$f":"'Реч.разв.к 6г ч2. К.г. '!M36","v":0},{"$f":"'Реч.разв.к 6г ч2. К.г. '!N36","v":0},{"$f":"'Реч.разв.к 6г ч2. К.г. '!O36","v":0},{"$f":"'Реч.разв.к 6г ч2. К.г. '!P36","v":0},{"$f":"'Реч.разв.к 6г ч2. К.г. '!Q36","v":0},{"$f":"'Позн.разв. к 6г ч1. К.г. '!E37","v":0},{"$f":"'Позн.разв. к 6г ч1. К.г. '!F37","v":0},{"$f":"'Позн.разв. к 6г ч1. К.г. '!G37","v":0},{"$f":"'Позн.разв. к 6г ч1. К.г. '!H37","v":0},{"$f":"'Позн.разв. к 6г ч1. К.г. '!I37","v":0},{"$f":"'Позн.разв. к 6г ч1. К.г. '!J37","v":0},{"$f":"'Позн.разв. к 6г ч1. К.г. '!K37","v":0},{"$f":"'Позн.разв. к 6г ч1. К.г. '!L37","v":0},{"$f":"'Позн.разв. к 6г ч1. К.г. '!M37","v":0},{"$f":"'Позн.разв. к 6г ч1. К.г. '!N37","v":0},{"$f":"'Позн.разв. к 6г ч1. К.г. '!O37","v":0},{"$f":"'Позн.разв. к 6г ч1. К.г. '!P37","v":0},{"$f":"'Позн.разв. к 6г ч1. К.г. '!Q37","v":0},{"$f":"'Позн.разв. к 6г ч1. К.г. '!R37","v":0},{"$f":"'Позн.разв. к 6г ч1. К.г. '!S37","v":0},{"$f":"'Позн.разв. к 6г ч2. К.г. '!E37","v":0},{"$f":"'Позн.разв. к 6г ч2. К.г. '!F37","v":0},{"$f":"'Позн.разв. к 6г ч2. К.г. '!G37","v":0},{"$f":"'Позн.разв. к 6г ч2. К.г. '!H37","v":0},{"$f":"'Позн.разв. к 6г ч2. К.г. '!I37","v":0},{"$f":"'Позн.разв. к 6г ч2. К.г. '!J37","v":0},{"$f":"'Соц.ком.к 6г ч1. К.г. '!$E$36","v":0},{"$f":"'Соц.ком.к 6г ч1. К.г. '!$E$36","v":0},{"$f":"'Соц.ком.к 6г ч1. К.г. '!$E$36","v":0},{"$f":"'Соц.ком.к 6г ч1. К.г. '!$E$36","v":0},{"$f":"'Соц.ком.к 6г ч1. К.г. '!$E$36","v":0},{"$f":"'Соц.ком.к 6г ч1. К.г. '!$E$36","v":0},{"$f":"'Соц.ком.к 6г ч1. К.г. '!$E$36","v":0},{"$f":"'Соц.ком.к 6г ч1. К.г. '!$E$36","v":0},{"$f":"'Соц.ком.к 6г ч1. К.г. '!$E$36","v":0},{"$f":"'Соц.ком.к 6г ч1. К.г. '!$E$36","v":0},{"$f":"'Соц.ком.к 6г ч1. К.г. '!$E$36","v":0},{"$f":"'Соц.ком.к 6г ч1. К.г. '!$E$36","v":0},{"$f":"'Соц.ком.к 6г ч1. К.г. '!$E$36","v":0},{"$f":"'Соц.ком.к 6г ч1. К.г. '!$E$36","v":0},{"$f":"'Соц.ком.к 6г ч1. К.г. '!$E$36","v":0},{"$f":"'Соц.ком.к 6г ч1. К.г. '!$E$36","v":0},{"$f":"'Соц.ком.к 6г ч1. К.г. '!$E$36","v":0},{"$f":"'Соц.ком. к 6г ч2 К.г.'!E36","v":0},{"$f":"'Соц.ком. к 6г ч2 К.г.'!F36","v":0},{"$f":"'Соц.ком. к 6г ч2 К.г.'!G36","v":0},{"$f":"'Соц.ком. к 6г ч2 К.г.'!H36","v":0},{"$f":"'Соц.ком. к 6г ч2 К.г.'!I36","v":0},{"$f":"'Соц.ком. к 6г ч2 К.г.'!J36","v":0},{"$f":"'Соц.ком. к 6г ч2 К.г.'!K36","v":0},{"$f":"'Соц.ком. к 6г ч2 К.г.'!L36","v":0},{"$f":"'Соц.ком. к 6г ч2 К.г.'!M36","v":0},{"$f":"'Физ.разв. к 6г ч1. К.г. '!E37","v":0},{"$f":"'Физ.разв. к 6г ч1. К.г. '!F37","v":0},{"$f":"'Физ.разв. к 6г ч1. К.г. '!G37","v":0},{"$f":"'Физ.разв. к 6г ч1. К.г. '!H37","v":0},{"$f":"'Физ.разв. к 6г ч1. К.г. '!I37","v":0},{"$f":"'Физ.разв. к 6г ч1. К.г. '!J37","v":0},{"$f":"'Физ.разв. к 6г ч1. К.г. '!K37","v":0},{"$f":"'Физ.разв. к 6г ч1. К.г. '!L37","v":0},{"$f":"'Физ.разв. к 6г ч1. К.г. '!M37","v":0},{"$f":"'Физ.разв. к 6г ч1. К.г. '!N37","v":0},{"$f":"'Физ.разв. к 6г ч1. К.г. '!O37","v":0},{"$f":"'Физ.разв. к 6г ч1. К.г. '!P37","v":0},{"$f":"'Физ.разв. к 6г ч1. К.г. '!Q37","v":0},{"$f":"'Физ.разв. к 6г ч1. К.г. '!R37","v":0},{"$f":"'Физ.разв. к 6г ч1. К.г. '!S37","v":0},{"$f":"'Физ.разв. к 6г ч1. К.г. '!T37","v":0},{"$f":"'Физ.разв. к 6г ч1. К.г. '!U37","v":0},{"$f":"'Физ.разв. к 6г ч1. К.г. '!V37","v":0},{"$f":"'Физ.разв. к 6г ч1. К.г. '!W37","v":0},{"$f":"'Физ.разв. к 6г ч1. К.г. '!X37","v":0},{"$f":"'Физ.разв. к 6г ч2. К.г. '!E38","v":0},{"$f":"'Физ.разв. к 6г ч2. К.г. '!F38","v":0},{"$f":"'Физ.разв. к 6г ч2. К.г. '!G38","v":0},{"$f":"'Физ.разв. к 6г ч2. К.г. '!H38","v":0},{"$f":"'Физ.разв. к 6г ч2. К.г. '!I38","v":0},{"$f":"'Физ.разв. к 6г ч2. К.г. '!J38","v":0},{"$f":"'Физ.разв. к 6г ч2. К.г. '!K38","v":0},{"$f":"'Физ.разв. к 6г ч2. К.г. '!L38","v":0},{"$f":"'Физ.разв. к 6г ч2. К.г. '!M38","v":0},{"$f":"'Физ.разв. к 6г ч2. К.г. '!N38","v":0},{"$f":"'Физ.разв. к 6г ч2. К.г. '!O38","v":0},{"$f":"'Физ.разв. к 6г ч2. К.г. '!P38","v":0},{"$f":"'Физ.разв. к 6г ч2. К.г. '!Q38","v":0},{"$f":"'Физ.разв. к 6г ч2. К.г. '!R38","v":0},{"$f":"'Физ.разв. к 6г ч2. К.г. '!S38","v":0},{"$f":"'Физ.разв. к 6г ч2. К.г. '!T38","v":0},{"$f":"'Физ.разв. к 6г ч2. К.г. '!U38","v":0},{"$f":"'Физ.разв. к 6г ч2. К.г. '!V38","v":0},{"$f":"'Физ.разв. к 6г ч2. К.г. '!W38","v":0},{"$f":"'Физ.разв. к 6г ч2. К.г. '!X38","v":0},{"$f":"'Физ.разв. к 6г ч2. К.г. '!Y38","v":0}]

{"sheet":"27","index":54,"n_rows":11,"n_cols":138,"rows_kept":11,"merged":[[4,117,4,122],[4,123,4,126],[4,127,4,129],[4,130,4,132],[4,134,4,137],[5,0,8,0],[5,1,5,11],[5,12,5,19],[5,21,6,26],[5,27,6,28],[5,50,5,52],[5,53,5,55],[5,56,5,64],[5,65,5,66],[5,67,5,70],[5,117,5,118],[5,119,5,122],[5,123,6,123],[5,124,6,124],[5,125,6,125],[5,126,6,126],[5,127,8,127],[5,128,8,128],[5,129,8,129],[5,130,8,130],[5,131,8,131],[5,132,8,132],[5,133,8,133],[5,134,5,137],[6,1,6,4],[6,9,6,10],[6,12,6,13],[6,16,6,17],[6,18,6,19],[6,20,8,20],[6,30,6,31],[6,32,6,36],[6,38,6,43],[6,45,6,49],[6,53,8,53],[6,54,8,54],[6,55,8,55],[6,56,6,58],[6,62,6,64],[6,65,7,66],[6,67,6,68],[6,69,6,70],[6,71,6,87],[6,88,6,90],[6,91,6,95],[6,97,6,98],[6,99,6,101],[6,102,6,104],[6,105,6,107],[6,108,6,112],[6,113,6,114],[6,115,6,116],[6,117,8,117],[6,118,8,118],[6,119,8,119],[6,120,8,120],[6,121,8,121],[6,122,8,122],[6,134,8,134],[6,135,8,135],[6,136,8,136],[6,137,8,137],[7,1,8,1],[7,2,8,2],[7,3,8,3],[7,4,8,4],[7,5,8,5],[7,6,8,6],[7,7,8,7],[7,8,8,8],[7,9,8,9],[7,10,8,10],[7,11,8,11],[7,12,8,12],[7,13,8,13],[7,14,8,14],[7,15,8,15],[7,16,8,16],[7,17,8,17],[7,18,8,18],[7,19,8,19],[7,21,8,21],[7,22,8,22],[7,23,8,23],[7,24,8,24],[7,25,8,25],[7,26,8,26],[7,27,8,27],[7,28,8,28],[7,29,8,29],[7,30,8,30],[7,31,8,31],[7,32,8,32],[7,33,8,33],[7,34,8,34],[7,35,8,35],[7,36,8,36],[7,37,8,37],[7,38,8,38],[7,39,8,39],[7,40,8,40],[7,41,8,41],[7,42,8,42],[7,43,8,43],[7,44,8,44],[7,45,8,45],[7,46,8,46],[7,47,8,47],[7,48,8,48],[7,49,8,49],[7,50,7,52],[7,56,8,56],[7,57,8,57],[7,58,8,58],[7,59,8,59],[7,60,8,60],[7,61,8,61],[7,62,8,62],[7,63,8,63],[7,64,8,64],[7,67,8,67],[7,68,8,68],[7,69,8,69],[7,70,8,70],[7,71,7,72],[7,73,7,74],[7,75,7,76],[7,77,7,80],[7,82,7,84],[7,85,7,87],[7,88,8,88],[7,89,8,89],[7,90,8,90],[7,91,8,91],[7,92,8,92],[7,93,8,93],[7,94,8,94],[7,95,8,95],[7,96,8,96],[7,97,8,97],[7,98,8,98],[7,99,8,99],[7,100,8,100],[7,101,8,101],[7,102,7,104],[7,105,7,107],[7,108,7,112],[7,113,8,113],[7,114,8,114],[7,115,7,116],[7,123,8,123],[7,124,8,124],[7,125,8,125],[7,126,8,126]]}
[]
[]
[]
[]
[{"$nulls":117},"Мелкая моторика",{"$nulls":5},"КГН",{"$nulls":3},"ЗОЖ",null,null,"Подвижные игры",null,null,"Спорт. игры","Спортивные упражнения"]
[{"$f":"Список!B30","v":0},"Музыкальная деятельность",{"$nulls":10},"Изобразительная деятельность",{"$nulls":8},"Приобщение к искусству",{"$nulls":5},"Конструктивная деятельность",{"$nulls":22},"Сенсорные эталоны ",null,null,"Познавательные действия",null,null,"Математические представления",{"$nulls":8},"Окружающий мир",null,"Природа ",{"$nulls":49},"Координация рук и глаз",null,"Графические навыки",{"$nulls":3},"Навыки соблюдения чистоты тела (правила личной гигиены)","Навыки культуры еды (прием пищи) ","Навыки поддержания порядка (правила поведения в быту) ","Навыки ухода за собой (одевание, раздевание) ","Ребенок имеет представление о факторах, положительно/негативно влияющих на здоровье; владеет основными способами укрепления здоровья","Ребенок имеет представление о некоторых видах спорта (9 и больше), роли спорта для укрепления здоровья","Ребенок проявляет заботливое отношение к своему здоровью и здоровью окружающих","Ребенок проявляет доступный возрасту самоконтроль","Ребенок  способен привлечь внимание других детей и организовать знакомую подвижную игру","Ребенок придумывает новые варианты игр, комбинирует движения","Ребенок имеет представление об элементах спортивных игр (городки, баскетбол, бадминтон, футбол), умеет выполнять некоторые виды движений","Ребенок умеет кататься"]
[null,"Слушание",{"$nulls":3},"Пение ","Музыкально-ритмические движения","Песенное творчество","Игра на детских музыкальных инструментах","Театрализованная деятельность",null,"Танцевально-игровое творчество","Рисование ",null,"Лепка ","Аппликация ","Народное ДПИ",null,"Прикладное творчество",null,"Ребенок самостоятельно определяет замысел рисунка, аппликации, лепки, поделки, создает образы и композиционные изображения, использует разнообразные материалы",{"$nulls":8},"Общее речевое развитие","Формирование словаря",null,"Грамматический строй",{"$nulls":4},"Звуковая культура речи","Связная речь",{"$nulls":5},"ЧХЛ","Подготовка к обучению грамоте",{"$nulls":4},"Цвет, оттенки","Форма, геометрические фигуры","Величина","Ребенок охотно участвует в обсуждении проблемы для совместного нахождения способов ее решения, предлагает пути решения, устанавливает закономерности причинно-следственного характера, проявляет любознательность","Ребенок использует математические знания, способы и средства для познания окружающего мира","Ребенок способен к произвольным умственным действиям, логическим операциям анализа, сравнения, обобщения, систематизации, классификации","Количество и счет",null,null,"Ориентировка во времени","Ориентировка в пространстве","Пространственно-количественные связи и отношения","Сравнение",null,null,"Ребенок имеет представления, может показать на картинке и в естественной среде, может рассказать",null,"Объекты живой природы",null,"Объекты неживой природы, природные явления",null,"Сфера социальных отношений",{"$nulls":16},"Область формирования основ гражданственности и патриотизма",null,null,"Сфера трудового воспитания",{"$nulls":4},"Область формирования основ безопасного поведения","Бросание, катание, ловля, метание",null,"Ползанье, лазанье",null,null,"Ходьба",null,null,"Бег",null,null,"Прыжки",{"$nulls":4},"Равновесие",null,"Строевые упражнения",null,"Ребенок может найти выход из лабиринта","Ребенок может нарисовать простой узор, изображение, не отрывая руки","Ребенок может повторить узор с чередующимися элементами","Ребенок закрашивает контурное изображение с множеством мелких деталей, не выходя за контур","Ребенок может соединить точки для получения изображения","Ребенок рисует геометрический орнамент по клеткам",{"$nulls":11},"на санках","на лыжах","на двухколесном велосипеде","на самокате"]
[null,"Ребенок различает жанры музыкальных произведений (песня, танец, марш)","Ребенок узнает мелодию по отдельным фрагментам произведения (вступление, заключение, музыкальная фраза)","Ребенок различает звуки по высоте в пределах квинты","Ребенок различает звучание музыкальных инструментов (клавишно-ударных, струнных)","Ребенок демонстрирует развитые певческие навыки","Ребенок демонстрирует развитые навыки исполнения танцевальных движений","Ребенок может импровизировать мелодию на заданный текст","Ребенок демонстрирует навыки игры на детских музыкальных инструментах","Ребенок имеет представление о различных видах театрального искусства","Ребенок с удовольствие занимается театрализованной деятельностью","Ребенок может придумывать движения к танцам","Ребенок передает в изображении основные свойства предметов (форма, величина, цвет), характерные детали, соотношение предметов и их частей по величине, высоте, расположению относительно друг друга","Ребенок владеет основными способами и приемами рисования различными изобразительными материалами (цветные карандаши, гуашь, акварель, цветные мелки, пастель, сангина, угольный карандаш, фломастеры)","Ребенок лепит с натуры и по представлению знакомые предметы, передавая характерные особенности пластическим, конструктивным и комбинированным способами","Ребенок умеет пользоваться ножницами","Ребенок имеет представление о полхов-майданской, гжельской росписи","Ребенок может нарисовать узор, используя элементы  росписи","Ребенок умеет работать с бумагой (сгибать лист, сглаживать сгибы, надрезать по сгибам)","Ребенок умеет работать с природным и бросовым материалом",null,"Ребенок умеет выделять, называть, группировать произведения по видам искусства: литература, музыка, изобразительное искусство, архитектура, театр, цирк","Ребенок имеет представление о видах изобразительного искусства: графика, декоративно-прикладное искусство, живопись, скульптура, архитектура, фотоискусство","Ребенок имеет представление о жанрах изобразительного искусства: натюрморт, пейзаж, портрет","Ребенок имеет представление о народном искусстве, фольклоре, музыке и художественных промыслах","Ребенок имеет представление о творческих профессиях: художник, композитор, музыкант, актер, артист балета","Ребенок имеет представление о культурно-досуговых местах: театр, музей, библиотека, выставка, кинотеатр, цирк и др.","Ребенок может провести анализ постройки (выделить основные части и характерные детали конструкций)","Ребенок может выполнить постройку по инструкции","Ребенок внятно разговаривает","Ребенок умеет обобщать предметы в группы по существенным признакам","Ребенок демонстрирует богатый словарный запас","Ребенок правильно использует в речи: несклоняемые существительные","Ребенок правильно использует в речи: слова, имеющие только множественное или только единственное число","Ребенок правильно использует в речи: глаголы одеть-надеть","Ребенок правильно использует в речи: существительные множественного числа в родительном падеже","Ребенок правильно образовывает слова с помощью суффикса, приставки","Ребенок правильно произносит сонорные звуки: л-ль, р-рь","Ребенок пересказывает литературные произведения по ролям, по частям, правильно передавая идею и содержание","Ребенок пользуется прямой и косвенной речью","Ребенок составляет короткий описательный рассказ о предметах, объектах и явлениях природы, из личного опыта","Ребенок сочиняет сюжетные рассказы по картине, из личного опыта","Ребенок проявляет речевое творчество: придумывает продолжение и окончание к рассказу, рассказы по аналогии, по плану педагога, по модели","Ребенок владеет первичными приемами аргументации и доказательства","Ребенок проявляет избирательное отношение к произведениям определенной тематики и жанра","Ребенок понимает термины: слово: звук, буква, предложение, гласный звук, согласный звук","Ребенок может провести звуковой анализ слова, разделить на слоги двух-, трехслоговые слова; составляет схему слова","Ребенок различает гласные-согласные звуки","Ребенок определяет твердые-мягкие согласные","Ребенок составляет предложение по модели, определяет количество и последовательность слов в предложении","Ребенок различает и называет",{"$nulls":5},"Ребенок знает/называет/находит среди других цифры 0 -10","Ребенок выполняет количественный и порядковый счет в пределах 0-10","Ребенок знает состав чисел из единиц в пределах 5","Ребенок понимает календарные единицы времени (сутки, неделя, месяц, год)","Ребенок ориентируется на листе бумаги","Ребенок понимает простейшую графическую информацию об отношениях предметов (слева направо, справа налево, снизу вверх, сверху вниз)","Ребенок выделяет сходства и отличия между группами предметов","Ребенок сравнивает предметы по 3-5 признакам","Ребенок группирует предметы по разным основаниям, преимущественно на основе зрительной оценки",null,null,"Ребенок имеет представление о сходстве и различии во внешнем виде и образе жизни объектов животного и растительного мира в разные сезоны года","Ребенок может сравнивать, группировать объекты живой природы по их особенностям, мету обитания, образу жизни, питанию","Ребенок имеет представление о признаках разных времен года","Ребенок наблюдает за явлениями природы, фиксирует результаты наблюдения","Отношение к самому себе",null,"Отношение к сверстникам",null,"Отношение к взрослым",null,"Эмоции",{"$nulls":3},"Поведение","Семья",null,null,"Игровое поведение",null,null,"Ребенок имеет представление о государственных символах России (герб, гимн, флаг)","Ребенок имеет представление о государственных праздниках России","Ребенок знает/может назвать/показать на картинке и в естественной среде достопримечательности населенного пункта, в котором живет","Ребенок имеет представления о разных видах производительного труда (промышленность, строительство, сельское хозяйство)","Ребенок имеет представления о разных видах обслуживающего труда (сфера досуга и отдыха, сфера культуры, медицина, торговля)","Ребенок имеет представление о структуре трудового процесса (мотив, цель, инструменты, оборудование, содержание действий, выбор трудовых действий, результат)","Ребенок имеет элементарные экономические представления (назначение рекламы, денег)","Ребенок охотно участвует в выполнении трудовых поручений, дежурстве; может распределять трудовые обязанности с другими","Ребенок имеет представления/ соблюдает правила поведения в быту, на улице, в природе, в общении с людьми, с животными","Ребенок выполняет различные упражнения с мячом (прокатывание, передача, перебрасывание, ведение, подбрасывание, ловля, забрасывание)","Ребенок выполняет метание в цель, метание в даль предметов разной массы","Ребенок выполняет ползанье разными способами (на четвереньках, на животе)","Ребенок выполняет переползание через несколько предметов подряд, под дугами, в туннеле","Ребенок выполняет лазанье по гимнастической стенке чередующимся шагом","Ребенок выполняет различные виды ходьбы",null,null,"Ребенок выполняет различные виды бега",null,null,"Ребенок выполняет различные виды прыжков",{"$nulls":4},"Ребенок выполняет стойку на одной ноге ","Ребенок выполняет упражнение \"ласточка\" ","Ребенок выполняет различные виды строевых упражнений",{"$nulls":7},"Ребенок выполняет самостоятельно","Ребенок выполняет самостоятельно","Ребенок выполняет самостоятельно","Ребенок выполняет самостоятельно"]
[{"$nulls":50},"Ребенок называет/различает все цвета спектра и ахроматические цвета, оттенки цвета, тоны цвета, теплые и холодные оттенки","Ребенок владеет способами воссоздания фигуры из частей, деления фигуры на части","Ребенок может выстраивать сериационные ряды предметов, различающихся по размеру в возрастающем и убывающем порядке в пределах 10",{"$nulls":12},"о многообразии людей разных национальностей (особенностей внешнего вида, одежды, традиций)","Ребенок имеет представление о многообразии стран и народов мира",{"$nulls":4},"Ребенок может рассказать о себе, выразить собственные потребности, желания","Ребенок имеет представление о некоторых своих правах","Ребенок имеет предпочтения в общении","Ребенок охотно вступает в общение со сверстниками","Ребенок уважительно относится к взрослым, пожилым людям","Ребенок охотно вступает в общение со взрослыми","Ребенок понимает свои и чужие эмоциональные состояния, демонстрирует примеры эмоциональной поддержки ","Ребенок  откликается на просьбу помочь","Ребенок выразить чувства и эмоции в мимике, пантомимике, действиях, интонации","Ребенок демонстрирует адекватные возрасту способы регуляции эмоциональных состояний","Ребенок ориентируется на общепринятые нормы и правила культуры поведения","Ребенок знает членов своей семьи, ближайших родственников по линии матери и отца","Ребенок имеет представление о способах поддержки родственных связей (переписка, разговор, совместный отдых, традиции, походы в гости и др.)","Ребенок проявляет заботу по отношению к членам своей семьи, оказывает посильную помощь больному члену семьи","Ребенок в совместной деятельности принимает общую цель, договаривается о способах деятельности и материалах, может уступить в конфликтной ситуации","Ребенок проявляет интерес к игровому экспериментированию, развивающим и познавательным играм","Ребенок способен действовать в точном соответствие с игровой задачей и правилами",{"$nulls":14},"обычным шагом, на носках, на пятках, с высоким подниманием колен","приставной, в полуприседе, мелким и широким, перекатом с пятки на носок, гимнастическим","змейкой без ориентиров, в колонне по одному и по два","в колонне по одному, змейкой, с перестроением на ходу в пары, звенья","со сменой ведущих, с пролезанием в обруч, с ловлей и увертыванием, высоко поднимая колени","между расставленными предметами, в заданном темпе, мелким и широким шагом","подпрыгивание, перепрыгивание, спрыгивание","в длину с места","в высоту с разбега","в длину с разбега","со скакалкой",null,null,"построения (по росту, в колонну по одному, в шеренгу, в круг)","в колонну по три, в две шеренги на месте, расхождение из колонны в разные стороны"]
["начало года",{"$f":"'Худ.эст.к 6г ч1. Н.г.'!E38","v":0},{"$f":"'Худ.эст.к 6г ч1. Н.г.'!F38","v":0},{"$f":"'Худ.эст.к 6г ч1. Н.г.'!G38","v":0},{"$f":"'Худ.эст.к 6г ч1. Н.г.'!H38","v":0},{"$f":"'Худ.эст.к 6г ч1. Н.г.'!I38","v":0},{"$f":"'Худ.эст.к 6г ч1. Н.г.'!J38","v":0},{"$f":"'Худ.эст.к 6г ч1. Н.г.'!K38","v":0},{"$f":"'Худ.эст.к 6г ч1. Н.г.'!L38","v":0},{"$f":"'Худ.эст.к 6г ч1. Н.г.'!M38","v":0},{"$f":"'Худ.эст.к 6г ч1. Н.г.'!N38","v":0},{"$f":"'Худ.эст.к 6г ч1. Н.г.'!O38","v":0},{"$f":"'Худ.эст.к 6г ч2. Н.г.'!E38","v":0},{"$f":"'Худ.эст.к 6г ч2. Н.г.'!F38","v":0},{"$f":"'Худ.эст.к 6г ч2. Н.г.'!G38","v":0},{"$f":"'Худ.эст.к 6г ч2. Н.г.'!H38","v":0},{"$f":"'Худ.эст.к 6г ч2. Н.г.'!I38","v":0},{"$f":"'Худ.эст.к 6г ч2. Н.г.'!J38","v":0},{"$f":"'Худ.эст.к 6г ч2. Н.г.'!K38","v":0},{"$f":"'Худ.эст.к 6г ч2. Н.г.'!L38","v":0},{"$f":"'Худ.эст.к 6г ч2. Н.г.'!M38","v":0},{"$f":"'Худ.эст.к 6г ч3. Н.г.'!E38","v":0},{"$f":"'Худ.эст.к 6г ч3. Н.г.'!F38","v":0},{"$f":"'Худ.эст.к 6г ч3. Н.г.'!G38","v":0},{"$f":"'Худ.эст.к 6г ч3. Н.г.'!H38","v":0},{"$f":"'Худ.эст.к 6г ч3. Н.г.'!I38","v":0},{"$f":"'Худ.эст.к 6г ч3. Н.г.'!J38","v":0},{"$f":"'Худ.эст.к 6г ч3. Н.г.'!K38","v":0},{"$f":"'Худ.эст.к 6г ч3. Н.г.'!L38","v":0},{"$f":"'Реч.разв.к 6г ч1. Н.г.'!E37","v":0},{"$f":"'Реч.разв.к 6г ч1. Н.г.'!F37","v":0},{"$f":"'Реч.разв.к 6г ч1. Н.г.'!G37","v":0},{"$f":"'Реч.разв.к 6г ч1. Н.г.'!H37","v":0},{"$f":"'Реч.разв.к 6г ч1. Н.г.'!I37","v":0},{"$f":"'Реч.разв.к 6г ч1. Н.г.'!J37","v":0},{"$f":"'Реч.разв.к 6г ч1. Н.г.'!K37","v":0},{"$f":"'Реч.разв.к 6г ч1. Н.г.'!L37","v":0},{"$f":"'Реч.разв.к 6г ч2. Н.г.'!E37","v":0},{"$f":"'Реч.разв.к 6г ч2. Н.г.'!F37","v":0},{"$f":"'Реч.разв.к 6г ч2. Н.г.'!G37","v":0},{"$f":"'Реч.разв.к 6г ч2. Н.г.'!H37","v":0},{"$f":"'Реч.разв.к 6г ч2. Н.г.'!I37","v":0},{"$f":"'Реч.разв.к 6г ч2. Н.г.'!J37","v":0},{"$f":"'Реч.разв.к 6г ч2. Н.г.'!K37","v":0},{"$f":"'Реч.разв.к 6г ч2. Н.г.'!L37","v":0},{"$f":"'Реч.разв.к 6г ч2. Н.г.'!M37","v":0},{"$f":"'Реч.разв.к 6г ч2. Н.г.'!N37","v":0},{"$f":"'Реч.разв.к 6г ч2. Н.г.'!O37","v":0},{"$f":"'Реч.разв.к 6г ч2. Н.г.'!P37","v":0},{"$f":"'Реч.разв.к 6г ч2. Н.г.'!Q37","v":0},{"$f":"'Позн.разв. к 6г ч1. Н.г.'!E38","v":0},{"$f":"'Позн.разв. к 6г ч1. Н.г.'!F38","v":0},{"$f":"'Позн.разв. к 6г ч1. Н.г.'!G38","v":0},{"$f":"'Позн.разв. к 6г ч1. Н.г.'!H38","v":0},{"$f":"'Позн.разв. к 6г ч1. Н.г.'!I38","v":0},{"$f":"'Позн.разв. к 6г ч1. Н.г.'!J38","v":0},{"$f":"'Позн.разв. к 6г ч1. Н.г.'!K38","v":0},{"$f":"'Позн.разв. к 6г ч1. Н.г.'!L38","v":0},{"$f":"'Позн.разв. к 6г ч1. Н.г.'!M38","v":0},{"$f":"'Позн.разв. к 6г ч1. Н.г.'!N38","v":0},{"$f":"'Позн.разв. к 6г ч1. Н.г.'!O38","v":0},{"$f":"'Позн.разв. к 6г ч1. Н.г.'!P38","v":0},{"$f":"'Позн.разв. к 6г ч1. Н.г.'!Q38","v":0},{"$f":"'Позн.разв. к 6г ч1. Н.г.'!R38","v":0},{"$f":"'Позн.разв. к 6г ч1. Н.г.'!S38","v":0},{"$f":"'Позн.разв. к 6г ч2. Н.г.'!E38","v":0},{"$f":"'Позн.разв. к 6г ч2. Н.г.'!F38","v":0},{"$f":"'Позн.разв. к 6г ч2. Н.г.'!G38","v":0},{"$f":"'Позн.разв. к 6г ч2. Н.г.'!H38","v":0},{"$f":"'Позн.разв. к 6г ч2. Н.г.'!I38","v":0},{"$f":"'Позн.разв. к 6г ч2. Н.г.'!J38","v":0},{"$f":"'Соц.ком.к 6г ч1. Н.г.'!E37","v":0},{"$f":"'Соц.ком.к 6г ч1. Н.г.'!F37","v":0},{"$f":"'Соц.ком.к 6г ч1. Н.г.'!G37","v":0},{"$f":"'Соц.ком.к 6г ч1. Н.г.'!H37","v":0},{"$f":"'Соц.ком.к 6г ч1. Н.г.'!I37","v":0},{"$f":"'Соц.ком.к 6г ч1. Н.г.'!J37","v":0},{"$f":"'Соц.ком.к 6г ч1. Н.г.'!K37","v":0},{"$f":"'Соц.ком.к 6г ч1. Н.г.'!L37","v":0},{"$f":"'Соц.ком.к 6г ч1. Н.г.'!M37","v":0},{"$f":"'Соц.ком.к 6г ч1. Н.г.'!N37","v":0},{"$f":"'Соц.ком.к 6г ч1. Н.г.'!O37","v":0},{"$f":"'Соц.ком.к 6г ч1. Н.г.'!P37","v":0},{"$f":"'Соц.ком.к 6г ч1. Н.г.'!Q37","v":0},{"$f":"'Соц.ком.к 6г ч1. Н.г.'!R37","v":0},{"$f":"'Соц.ком.к 6г ч1. Н.г.'!S37","v":0},{"$f":"'Соц.ком.к 6г ч1. Н.г.'!T37","v":0},{"$f":"'Соц.ком.к 6г ч1. Н.г.'!U37","v":0},{"$f":"'Соц.ком. к 6г ч2. Н.г.'!E37","v":0},{"$f":"'Соц.ком. к 6г ч2. Н.г.'!F37","v":0},{"$f":"'Соц.ком. к 6г ч2. Н.г.'!G37","v":0},{"$f":"'Соц.ком. к 6г ч2. Н.г.'!H37","v":0},{"$f":"'Соц.ком. к 6г ч2. Н.г.'!I37","v":0},{"$f":"'Соц.ком. к 6г ч2. Н.г.'!J37","v":0},{"$f":"'Соц.ком. к 6г ч2. Н.г.'!K37","v":0},{"$f":"'Соц.ком. к 6г ч2. Н.г.'!L37","v":0},{"$f":"'Соц.ком. к 6г ч2. Н.г.'!M37","v":0},{"$f":"'Физ.разв. к 6г ч1. Н.г.'!E38","v":0},{"$f":"'Физ.разв. к 6г ч1. Н.г.'!F38","v":0},{"$f":"'Физ.разв. к 6г ч1. Н.г.'!G38","v":0},{"$f":"'Физ.разв. к 6г ч1. Н.г.'!H38","v":0},{"$f":"'Физ.разв. к 6г ч1. Н.г.'!I38","v":0},{"$f":"'Физ.разв. к 6г ч1. Н.г.'!J38","v":0},{"$f":"'Физ.разв. к 6г ч1. Н.г.'!K38","v":0},{"$f":"'Физ.разв. к 6г ч1. Н.г.'!L38","v":0},{"$f":"'Физ.разв. к 6г ч1. Н.г.'!M38","v":0},{"$f":"'Физ.разв. к 6г ч1. Н.г.'!N38","v":0},{"$f":"'Физ.разв. к 6г ч1. Н.г.'!O38","v":0},{"$f":"'Физ.разв. к 6г ч1. Н.г.'!P38","v":0},{"$f":"'Физ.разв. к 6г ч1. Н.г.'!Q38","v":0},{"$f":"'Физ.разв. к 6г ч1. Н.г.'!R38","v":0},{"$f":"'Физ.разв. к 6г ч1. Н.г.'!S38","v":0},{"$f":"'Физ.разв. к 6г ч1. Н.г.'!T38","v":0},{"$f":"'Физ.разв. к 6г ч1. Н.г.'!U38","v":0},{"$f":"'Физ.разв. к 6г ч1. Н.г.'!V38","v":0},{"$f":"'Физ.разв. к 6г ч1. Н.г.'!W38","v":0},{"$f":"'Физ.разв. к 6г ч1. Н.г.'!X38","v":0},{"$f":"'Физ.разв. к 6г ч2. Н.г.'!E39","v":0},{"$f":"'Физ.разв. к 6г ч2. Н.г.'!F39","v":0},{"$f":"'Физ.разв. к 6г ч2. Н.г.'!G39","v":0},{"$f":"'Физ.разв. к 6г ч2. Н.г.'!H39","v":0},{"$f":"'Физ.разв. к 6г ч2. Н.г.'!I39","v":0},{"$f":"'Физ.разв. к 6г ч2. Н.г.'!J39","v":0},{"$f":"'Физ.разв. к 6г ч2. Н.г.'!K39","v":0},{"$f":"'Физ.разв. к 6г ч2. Н.г.'!L39","v":0},{"$f":"'Физ.разв. к 6г ч2. Н.г.'!M39","v":0},{"$f":"'Физ.разв. к 6г ч2. Н.г.'!N39","v":0},{"$f":"'Физ.разв. к 6г ч2. Н.г.'!O39","v":0},{"$f":"'Физ.разв. к 6г ч2. Н.г.'!P39","v":0},{"$f":"'Физ.разв. к 6г ч2. Н.г.'!Q39","v":0},{"$f":"'Физ.разв. к 6г ч2. Н.г.'!R39","v":0},{"$f":"'Физ.разв. к 6г ч2. Н.г.'!S39","v":0},{"$f":"'Физ.разв. к 6г ч2. Н.г.'!T39","v":0},{"$f":"'Физ.разв. к 6г ч2. Н.г.'!U39","v":0},{"$f":"'Физ.разв. к 6г ч2. Н.г.'!V39","v":0},{"$f":"'Физ.разв. к 6г ч2. Н.г.'!W39","v":0},{"$f":"'Физ.разв. к 6г ч2. Н.г.'!X39","v":0},{"$f":"'Физ.разв. к 6г ч2. Н.г.'!Y39","v":0}]
["конец года",{"$f":"'Худ.эст.к 6г ч1. К.г. '!E38","v":0},{"$f":"'Худ.эст.к 6г ч1. К.г. '!F38","v":0},{"$f":"'Худ.эст.к 6г ч1. К.г. '!G38","v":0},{"$f":"'Худ.эст.к 6г ч1. К.г. '!H38","v":0},{"$f":"'Худ.эст.к 6г ч1. К.г. '!I38","v":0},{"$f":"'Худ.эст.к 6г ч1. К.г. '!J38","v":0},{"$f":"'Худ.эст.к 6г ч1. К.г. '!K38","v":0},{"$f":"'Худ.эст.к 6г ч1. К.г. '!L38","v":0},{"$f":"'Худ.эст.к 6г ч1. К.г. '!M38","v":0},{"$f":"'Худ.эст.к 6г ч1. К.г. '!N38","v":0},{"$f":"'Худ.эст.к 6г ч1. К.г. '!O38","v":0},{"$f":"'Худ.эст.к 6г ч2. К.г. '!E38","v":0},{"$f":"'Худ.эст.к 6г ч2. К.г. '!F38","v":0},{"$f":"'Худ.эст.к 6г ч2. К.г. '!G38","v":0},{"$f":"'Худ.эст.к 6г ч2. К.г. '!H38","v":0},{"$f":"'Худ.эст.к 6г ч2. К.г. '!I38","v":0},{"$f":"'Худ.эст.к 6г ч2. К.г. '!J38","v":0},{"$f":"'Худ.эст.к 6г ч2. К.г. '!K38","v":0},{"$f":"'Худ.эст.к 6г ч2. К.г. '!L38","v":0},{"$f":"'Худ.эст.к 6г ч2. К.г. '!M38","v":0},{"$f":"'Худ.эст.к 6г ч3. К.г. '!E38","v":0},{"$f":"'Худ.эст.к 6г ч3. К.г. '!F38","v":0},{"$f":"'Худ.эст.к 6г ч3. К.г. '!G38","v":0},{"$f":"'Худ.эст.к 6г ч3. К.г. '!H38","v":0},{"$f":"'Худ.эст.к 6г ч3. К.г. '!I38","v":0},{"$f":"'Худ.эст.к 6г ч3. К.г. '!J38","v":0},{"$f":"'Худ.эст.к 6г ч3. К.г. '!K38","v":0},{"$f":"'Худ.эст.к 6г ч3. К.г. '!L38","v":0},{"$f":"'Реч.разв.к 6г ч1. К.г. '!E37","v":0},{"$f":"'Реч.разв.к 6г ч1. К.г. '!F37","v":0},{"$f":"'Реч.разв.к 6г ч1. К.г. '!G37","v":0},{"$f":"'Реч.разв.к 6г ч1. К.г. '!H37","v":0},{"$f":"'Реч.разв.к 6г ч1. К.г. '!I37","v":0},{"$f":"'Реч.разв.к 6г ч1. К.г. '!J37","v":0},{"$f":"'Реч.разв.к 6г ч1. К.г. '!K37","v":0},{"$f":"'Реч.разв.к 6г ч1. К.г. '!L37","v":0},{"$f":"'Реч.разв.к 6г ч2. К.г. '!E37","v":0},{"$f":"'Реч.разв.к 6г ч2. К.г. '!F37","v":0},{"$f":"'Реч.разв.к 6г ч2. К.г. '!G37","v":0},{"$f":"'Реч.разв.к 6г ч2. К.г. '!H37","v":0},{"$f":"'Реч.разв.к 6г ч2. К.г. '!I37","v":0},{"$f":"'Реч.разв.к 6г ч2. К.г. '!J37","v":0},{"$f":"'Реч.разв.к 6г ч2. К.г. '!K37","v":0},{"$f":"'Реч.разв.к 6г ч2. К.г. '!L37","v":0},{"$f":"'Реч.разв.к 6г ч2. К.г. '!M37","v":0},{"$f":"'Реч.разв.к 6г ч2. К.г. '!N37","v":0},{"$f":"'Реч.разв.к 6г ч2. К.г. '!O37","v":0},{"$f":"'Реч.разв.к 6г ч2. К.г. '!P37","v":0},{"$f":"'Реч.разв.к 6г ч2. К.г. '!Q37","v":0},{"$f":"'Позн.разв. к 6г ч1. К.г. '!E38","v":0},{"$f":"'Позн.разв. к 6г ч1. К.г. '!F38","v":0},{"$f":"'Позн.разв. к 6г ч1. К.г. '!G38","v":0},{"$f":"'Позн.разв. к 6г ч1. К.г. '!H38","v":0},{"$f":"'Позн.разв. к 6г ч1. К.г. '!I38","v":0},{"$f":"'Позн.разв. к 6г ч1. К.г. '!J38","v":0},{"$f":"'Позн.разв. к 6г ч1. К.г. '!K38","v":0},{"$f":"'Позн.разв. к 6г ч1. К.г. '!L38","v":0},{"$f":"'Позн.разв. к 6г ч1. К.г. '!M38","v":0},{"$f":"'Позн.разв. к 6г ч1. К.г. '!N38","v":0},{"$f":"'Позн.разв. к 6г ч1. К.г. '!O38","v":0},{"$f":"'Позн.разв. к 6г ч1. К.г. '!P38","v":0},{"$f":"'Позн.разв. к 6г ч1. К.г. '!Q38","v":0},{"$f":"'Позн.разв. к 6г ч1. К.г. '!R38","v":0},{"$f":"'Позн.разв. к 6г ч1. К.г. '!S38","v":0},{"$f":"'Позн.разв. к 6г ч2. К.г. '!E38","v":0},{"$f":"'Позн.разв. к 6г ч2. К.г. '!F38","v":0},{"$f":"'Позн.разв. к 6г ч2. К.г. '!G38","v":0},{"$f":"'Позн.разв. к 6г ч2. К.г. '!H38","v":0},{"$f":"'Позн.разв. к 6г ч2. К.г. '!I38","v":0},{"$f":"'Позн.разв. к 6г ч2. К.г. '!J38","v":0},{"$f":"'Соц.ком.к 6г ч1. К.г. '!$E$37","v":0},{"$f":"'Соц.ком.к 6г ч1. К.г. '!$E$37","v":0},{"$f":"'Соц.ком.к 6г ч1. К.г. '!$E$37","v":0},{"$f":"'Соц.ком.к 6г ч1. К.г. '!$E$37","v":0},{"$f":"'Соц.ком.к 6г ч1. К.г. '!$E$37","v":0},{"$f":"'Соц.ком.к 6г ч1. К.г. '!$E$37","v":0},{"$f":"'Соц.ком.к 6г ч1. К.г. '!$E$37","v":0},{"$f":"'Соц.ком.к 6г ч1. К.г. '!$E$37","v":0},{"$f":"'Соц.ком.к 6г ч1. К.г. '!$E$37","v":0},{"$f":"'Соц.ком.к 6г ч1. К.г. '!$E$37","v":0},{"$f":"'Соц.ком.к 6г ч1. К.г. '!$E$37","v":0},{"$f":"'Соц.ком.к 6г ч1. К.г. '!$E$37","v":0},{"$f":"'Соц.ком.к 6г ч1. К.г. '!$E$37","v":0},{"$f":"'Соц.ком.к 6г ч1. К.г. '!$E$37","v":0},{"$f":"'Соц.ком.к 6г ч1. К.г. '!$E$37","v":0},{"$f":"'Соц.ком.к 6г ч1. К.г. '!$E$37","v":0},{"$f":"'Соц.ком.к 6г ч1. К.г. '!$E$37","v":0},{"$f":"'Соц.ком. к 6г ч2 К.г.'!E37","v":0},{"$f":"'Соц.ком. к 6г ч2 К.г.'!F37","v":0},{"$f":"'Соц.ком. к 6г ч2 К.г.'!G37","v":0},{"$f":"'Соц.ком. к 6г ч2 К.г.'!H37","v":0},{"$f":"'Соц.ком. к 6г ч2 К.г.'!I37","v":0},{"$f":"'Соц.ком. к 6г ч2 К.г.'!J37","v":0},{"$f":"'Соц.ком. к 6г ч2 К.г.'!K37","v":0},{"$f":"'Соц.ком. к 6г ч2 К.г.'!L37","v":0},{"$f":"'Соц.ком. к 6г ч2 К.г.'!M37","v":0},{"$f":"'Физ.разв. к 6г ч1. К.г. '!E38","v":0},{"$f":"'Физ.разв. к 6г ч1. К.г. '!F38","v":0},{"$f":"'Физ.разв. к 6г ч1. К.г. '!G38","v":0},{"$f":"'Физ.разв. к 6г ч1. К.г. '!H38","v":0},{"$f":"'Физ.разв. к 6г ч1. К.г. '!I38","v":0},{"$f":"'Физ.разв. к 6г ч1. К.г. '!J38","v":0},{"$f":"'Физ.разв. к 6г ч1. К.г. '!K38","v":0},{"$f":"'Физ.разв. к 6г ч1. К.г. '!L38","v":0},{"$f":"'Физ.разв. к 6г ч1. К.г. '!M38","v":0},{"$f":"'Физ.разв. к 6г ч1. К.г. '!N38","v":0},{"$f":"'Физ.разв. к 6г ч1. К.г. '!O38","v":0},{"$f":"'Физ.разв. к 6г ч1. К.г. '!P38","v":0},{"$f":"'Физ.разв. к 6г ч1. К.г. '!Q38","v":0},{"$f":"'Физ.разв. к 6г ч1. К.г. '!R38","v":0},{"$f":"'Физ.разв. к 6г ч1. К.г. '!S38","v":0},{"$f":"'Физ.разв. к 6г ч1. К.г. '!T38","v":0},{"$f":"'Физ.разв. к 6г ч1. К.г. '!U38","v":0},{"$f":"'Физ.разв. к 6г ч1. К.г. '!V38","v":0},{"$f":"'Физ.разв. к 6г ч1. К.г. '!W38","v":0},{"$f":"'Физ.разв. к 6г ч1. К.г. '!X38","v":0},{"$f":"'Физ.разв. к 6г ч2. К.г. '!E39","v":0},{"$f":"'Физ.разв. к 6г ч2. К.г. '!F39","v":0},{"$f":"'Физ.разв. к 6г ч2. К.г. '!G39","v":0},{"$f":"'Физ.разв. к 6г ч2. К.г. '!H39","v":0},{"$f":"'Физ.разв. к 6г ч2. К.г. '!I39","v":0},{"$f":"'Физ.разв. к 6г ч2. К.г. '!J39","v":0},{"$f":"'Физ.разв. к 6г ч2. К.г. '!K39","v":0},{"$f":"'Физ.разв. к 6г ч2. К.г. '!L39","v":0},{"$f":"'Физ.разв. к 6г ч2. К.г. '!M39","v":0},{"$f":"'Физ.разв. к 6г ч2. К.г. '!N39","v":0},{"$f":"'Физ.разв. к 6г ч2. К.г. '!O39","v":0},{"$f":"'Физ.разв. к 6г ч2. К.г. '!P39","v":0},{"$f":"'Физ.разв. к 6г ч2. К.г. '!Q39","v":0},{"$f":"'Физ.разв. к 6г ч2. К.г. '!R39","v":0},{"$f":"'Физ.разв. к 6г ч2. К.г. '!S39","v":0},{"$f":"'Физ.разв. к 6г ч2. К.г. '!T39","v":0},{"$f":"'Физ.разв. к 6г ч2. К.г. '!U39","v":0},{"$f":"'Физ.разв. к 6г ч2. К.г. '!V39","v":0},{"$f":"'Физ.разв. к 6г ч2. К.г. '!W39","v":0},{"$f":"'Физ.разв. к 6г ч2. К.г. '!X39","v":0},{"$f":"'Физ.разв. к 6г ч2. К.г. '!Y39","v":0}]

{"sheet":"28","index":55,"n_rows":11,"n_cols":138,"rows_kept":11,"merged":[[4,117,4,122],[4,123,4,126],[4,127,4,129],[4,130,4,132],[4,134,4,137],[5,0,8,0],[5,1,5,11],[5,12,5,19],[5,21,6,26],[5,27,6,28],[5,50,5,52],[5,53,5,55],[5,56,5,64],[5,65,5,66],[5,67,5,70],[5,117,5,118],[5,119,5,122],[5,123,6,123],[5,124,6,124],[5,125,6,125],[5,126,6,126],[5,127,8,127],[5,128,8,128],[5,129,8,129],[5,130,8,130],[5,131,8,131],[5,132,8,132],[5,133,8,133],[5,134,5,137],[6,1,6,4],[6,9,6,10],[6,12,6,13],[6,16,6,17],[6,18,6,19],[6,20,8,20],[6,30,6,31],[6,32,6,36],[6,38,6,43],[6,45,6,49],[6,53,8,53],[6,54,8,54],[6,55,8,55],[6,56,6,58],[6,62,6,64],[6,65,7,66],[6,67,6,68],[6,69,6,70],[6,71,6,87],[6,88,6,90],[6,91,6,95],[6,97,6,98],[6,99,6,101],[6,102,6,104],[6,105,6,107],[6,108,6,112],[6,113,6,114],[6,115,6,116],[6,117,8,117],[6,118,8,118],[6,119,8,119],[6,120,8,120],[6,121,8,121],[6,122,8,122],[6,134,8,134],[6,135,8,135],[6,136,8,136],[6,137,8,137],[7,1,8,1],[7,2,8,2],[7,3,8,3],[7,4,8,4],[7,5,8,5],[7,6,8,6],[7,7,8,7],[7,8,8,8],[7,9,8,9],[7,10,8,10],[7,11,8,11],[7,12,8,12],[7,13,8,13],[7,14,8,14],[7,15,8,15],[7,16,8,16],[7,17,8,17],[7,18,8,18],[7,19,8,19],[7,21,8,21],[7,22,8,22],[7,23,8,23],[7,24,8,24],[7,25,8,25],[7,26,8,26],[7,27,8,27],[7,28,8,28],[7,29,8,29],[7,30,8,30],[7,31,8,31],[7,32,8,32],[7,33,8,33],[7,34,8,34],[7,35,8,35],[7,36,8,36],[7,37,8,37],[7,38,8,38],[7,39,8,39],[7,40,8,40],[7,41,8,41],[7,42,8,42],[7,43,8,43],[7,44,8,44],[7,45,8,45],[7,46,8,46],[7,47,8,47],[7,48,8,48],[7,49,8,49],[7,50,7,52],[7,56,8,56],[7,57,8,57],[7,58,8,58],[7,59,8,59],[7,60,8,60],[7,61,8,61],[7,62,8,62],[7,63,8,63],[7,64,8,64],[7,67,8,67],[7,68,8,68],[7,69,8,69],[7,70,8,70],[7,71,7,72],[7,73,7,74],[7,75,7,76],[7,77,7,80],[7,82,7,84],[7,85,7,87],[7,88,8,88],[7,89,8,89],[7,90,8,90],[7,91,8,91],[7,92,8,92],[7,93,8,93],[7,94,8,94],[7,95,8,95],[7,96,8,96],[7,97,8,97],[7,98,8,98],[7,99,8,99],[7,100,8,100],[7,101,8,101],[7,102,7,104],[7,105,7,107],[7,108,7,112],[7,113,8,113],[7,114,8,114],[7,115,7,116],[7,123,8,123],[7,124,8,124],[7,125,8,125],[7,126,8,126]]}
[]
[]
[]
[]
[{"$nulls":117},"Мелкая моторика",{"$nulls":5},"КГН",{"$nulls":3},"ЗОЖ",null,null,"Подвижные игры",null,null,"Спорт. игры","Спортивные упражнения"]
[{"$f":"Список!B31","v":0},"Музыкальная деятельность",{"$nulls":10},"Изобразительная деятельность",{"$nulls":8},"Приобщение к искусству",{"$nulls":5},"Конструктивная деятельность",{"$nulls":22},"Сенсорные эталоны ",null,null,"Познавательные действия",null,null,"Математические представления",{"$nulls":8},"Окружающий мир",null,"Природа ",{"$nulls":49},"Координация рук и глаз",null,"Графические навыки",{"$nulls":3},"Навыки соблюдения чистоты тела (правила личной гигиены)","Навыки культуры еды (прием пищи) ","Навыки поддержания порядка (правила поведения в быту) ","Навыки ухода за собой (одевание, раздевание) ","Ребенок имеет представление о факторах, положительно/негативно влияющих на здоровье; владеет основными способами укрепления здоровья","Ребенок имеет представление о некоторых видах спорта (9 и больше), роли спорта для укрепления здоровья","Ребенок проявляет заботливое отношение к своему здоровью и здоровью окружающих","Ребенок проявляет доступный возрасту самоконтроль","Ребенок  способен привлечь внимание других детей и организовать знакомую подвижную игру","Ребенок придумывает новые варианты игр, комбинирует движения","Ребенок имеет представление об элементах спортивных игр (городки, баскетбол, бадминтон, футбол), умеет выполнять некоторые виды движений","Ребенок умеет кататься"]
[null,"Слушание",{"$nulls":3},"Пение ","Музыкально-ритмические движения","Песенное творчество","Игра на детских музыкальных инструментах","Театрализованная деятельность",null,"Танцевально-игровое творчество","Рисование ",null,"Лепка ","Аппликация ","Народное ДПИ",null,"Прикладное творчество",null,"Ребенок самостоятельно определяет замысел рисунка, аппликации, лепки, поделки, создает образы и композиционные изображения, использует разнообразные материалы",{"$nulls":8},"Общее речевое развитие","Формирование словаря",null,"Грамматический строй",{"$nulls":4},"Звуковая культура речи","Связная речь",{"$nulls":5},"ЧХЛ","Подготовка к обучению грамоте",{"$nulls":4},"Цвет, оттенки","Форма, геометрические фигуры","Величина","Ребенок охотно участвует в обсуждении проблемы для совместного нахождения способов ее решения, предлагает пути решения, устанавливает закономерности причинно-следственного характера, проявляет любознательность","Ребенок использует математические знания, способы и средства для познания окружающего мира","Ребенок способен к произвольным умственным действиям, логическим операциям анализа, сравнения, обобщения, систематизации, классификации","Количество и счет",null,null,"Ориентировка во времени","Ориентировка в пространстве","Пространственно-количественные связи и отношения","Сравнение",null,null,"Ребенок имеет представления, может показать на картинке и в естественной среде, может рассказать",null,"Объекты живой природы",null,"Объекты неживой природы, природные явления",null,"Сфера социальных отношений",{"$nulls":16},"Область формирования основ гражданственности и патриотизма",null,null,"Сфера трудового воспитания",{"$nulls":4},"Область формирования основ безопасного поведения","Бросание, катание, ловля, метание",null,"Ползанье, лазанье",null,null,"Ходьба",null,null,"Бег",null,null,"Прыжки",{"$nulls":4},"Равновесие",null,"Строевые упражнения",null,"Ребенок может найти выход из лабиринта","Ребенок может нарисовать простой узор, изображение, не отрывая руки","Ребенок может повторить узор с чередующимися элементами","Ребенок закрашивает контурное изображение с множеством мелких деталей, не выходя за контур","Ребенок может соединить точки для получения изображения","Ребенок рисует геометрический орнамент по клеткам",{"$nulls":11},"на санках","на лыжах","на двухколесном велосипеде","на самокате"]
[null,"Ребенок различает жанры музыкальных произведений (песня, танец, марш)","Ребенок узнает мелодию по отдельным фрагментам произведения (вступление, заключение, музыкальная фраза)","Ребенок различает звуки по высоте в пределах квинты","Ребенок различает звучание музыкальных инструментов (клавишно-ударных, струнных)","Ребенок демонстрирует развитые певческие навыки","Ребенок демонстрирует развитые навыки исполнения танцевальных движений","Ребенок может импровизировать мелодию на заданный текст","Ребенок демонстрирует навыки игры на детских музыкальных инструментах","Ребенок имеет представление о различных видах театрального искусства","Ребенок с удовольствие занимается театрализованной деятельностью","Ребенок может придумывать движения к танцам","Ребенок передает в изображении основные свойства предметов (форма, величина, цвет), характерные детали, соотношение предметов и их частей по величине, высоте, расположению относительно друг друга","Ребенок владеет основными способами и приемами рисования различными изобразительными материалами (цветные карандаши, гуашь, акварель, цветные мелки, пастель, сангина, угольный карандаш, фломастеры)","Ребенок лепит с натуры и по представлению знакомые предметы, передавая характерные особенности пластическим, конструктивным и комбинированным способами","Ребенок умеет пользоваться ножницами","Ребенок имеет представление о полхов-майданской, гжельской росписи","Ребенок может нарисовать узор, используя элементы  росписи","Ребенок умеет работать с бумагой (сгибать лист, сглаживать сгибы, надрезать по сгибам)","Ребенок умеет работать с природным и бросовым материалом",null,"Ребенок умеет выделять, называть, группировать произведения по видам искусства: литература, музыка, изобразительное искусство, архитектура, театр, цирк","Ребенок имеет представление о видах изобразительного искусства: графика, декоративно-прикладное искусство, живопись, скульптура, архитектура, фотоискусство","Ребенок имеет представление о жанрах изобразительного искусства: натюрморт, пейзаж, портрет","Ребенок имеет представление о народном искусстве, фольклоре, музыке и художественных промыслах","Ребенок имеет представление о творческих профессиях: художник, композитор, музыкант, актер, артист балета","Ребенок имеет представление о культурно-досуговых местах: театр, музей, библиотека, выставка, кинотеатр, цирк и др.","Ребенок может провести анализ постройки (выделить основные части и характерные детали конструкций)","Ребенок может выполнить постройку по инструкции","Ребенок внятно разговаривает","Ребенок умеет обобщать предметы в группы по существенным признакам","Ребенок демонстрирует богатый словарный запас","Ребенок правильно использует в речи: несклоняемые существительные","Ребенок правильно использует в речи: слова, имеющие только множественное или только единственное число","Ребенок правильно использует в речи: глаголы одеть-надеть","Ребенок правильно использует в речи: существительные множественного числа в родительном падеже","Ребенок правильно образовывает слова с помощью суффикса, приставки","Ребенок правильно произносит сонорные звуки: л-ль, р-рь","Ребенок пересказывает литературные произведения по ролям, по частям, правильно передавая идею и содержание","Ребенок пользуется прямой и косвенной речью","Ребенок составляет короткий описательный рассказ о предметах, объектах и явлениях природы, из личного опыта","Ребенок сочиняет сюжетные рассказы по картине, из личного опыта","Ребенок проявляет речевое творчество: придумывает продолжение и окончание к рассказу, рассказы по аналогии, по плану педагога, по модели","Ребенок владеет первичными приемами аргументации и доказательства","Ребенок проявляет избирательное отношение к произведениям определенной тематики и жанра","Ребенок понимает термины: слово: звук, буква, предложение, гласный звук, согласный звук","Ребенок может провести звуковой анализ слова, разделить на слоги двух-, трехслоговые слова; составляет схему слова","Ребенок различает гласные-согласные звуки","Ребенок определяет твердые-мягкие согласные","Ребенок составляет предложение по модели, определяет количество и последовательность слов в предложении","Ребенок различает и называет",{"$nulls":5},"Ребенок знает/называет/находит среди других цифры 0 -10","Ребенок выполняет количественный и порядковый счет в пределах 0-10","Ребенок знает состав чисел из единиц в пределах 5","Ребенок понимает календарные единицы времени (сутки, неделя, месяц, год)","Ребенок ориентируется на листе бумаги","Ребенок понимает простейшую графическую информацию об отношениях предметов (слева направо, справа налево, снизу вверх, сверху вниз)","Ребенок выделяет сходства и отличия между группами предметов","Ребенок сравнивает предметы по 3-5 признакам","Ребенок группирует предметы по разным основаниям, преимущественно на основе зрительной оценки",null,null,"Ребенок имеет представление о сходстве и различии во внешнем виде и образе жизни объектов животного и растительного мира в разные сезоны года","Ребенок может сравнивать, группировать объекты живой природы по их особенностям, мету обитания, образу жизни, питанию","Ребенок имеет представление о признаках разных времен года","Ребенок наблюдает за явлениями природы, фиксирует результаты наблюдения","Отношение к самому себе",null,"Отношение к сверстникам",null,"Отношение к взрослым",null,"Эмоции",{"$nulls":3},"Поведение","Семья",null,null,"Игровое поведение",null,null,"Ребенок имеет представление о государственных символах России (герб, гимн, флаг)","Ребенок имеет представление о государственных праздниках России","Ребенок знает/может назвать/показать на картинке и в естественной среде достопримечательности населенного пункта, в котором живет","Ребенок имеет представления о разных видах производительного труда (промышленность, строительство, сельское хозяйство)","Ребенок имеет представления о разных видах обслуживающего труда (сфера досуга и отдыха, сфера культуры, медицина, торговля)","Ребенок имеет представление о структуре трудового процесса (мотив, цель, инструменты, оборудование, содержание действий, выбор трудовых действий, результат)","Ребенок имеет элементарные экономические представления (назначение рекламы, денег)","Ребенок охотно участвует в выполнении трудовых поручений, дежурстве; может распределять трудовые обязанности с другими","Ребенок имеет представления/ соблюдает правила поведения в быту, на улице, в природе, в общении с людьми, с животными","Ребенок выполняет различные упражнения с мячом (прокатывание, передача, перебрасывание, ведение, подбрасывание, ловля, забрасывание)","Ребенок выполняет метание в цель, метание в даль предметов разной массы","Ребенок выполняет ползанье разными способами (на четвереньках, на животе)","Ребенок выполняет переползание через несколько предметов подряд, под дугами, в туннеле","Ребенок выполняет лазанье по гимнастической стенке чередующимся шагом","Ребенок выполняет различные виды ходьбы",null,null,"Ребенок выполняет различные виды бега",null,null,"Ребенок выполняет различные виды прыжков",{"$nulls":4},"Ребенок выполняет стойку на одной ноге ","Ребенок выполняет упражнение \"ласточка\" ","Ребенок выполняет различные виды строевых упражнений",{"$nulls":7},"Ребенок выполняет самостоятельно","Ребенок выполняет самостоятельно","Ребенок выполняет самостоятельно","Ребенок выполняет самостоятельно"]
[{"$nulls":50},"Ребенок называет/различает все цвета спектра и ахроматические цвета, оттенки цвета, тоны цвета, теплые и холодные оттенки","Ребенок владеет способами воссоздания фигуры из частей, деления фигуры на части","Ребенок может выстраивать сериационные ряды предметов, различающихся по размеру в возрастающем и убывающем порядке в пределах 10",{"$nulls":12},"о многообразии людей разных национальностей (особенностей внешнего вида, одежды, традиций)","Ребенок имеет представление о многообразии стран и народов мира",{"$nulls":4},"Ребенок может рассказать о себе, выразить собственные потребности, желания","Ребенок имеет представление о некоторых своих правах","Ребенок имеет предпочтения в общении","Ребенок охотно вступает в общение со сверстниками","Ребенок уважительно относится к взрослым, пожилым людям","Ребенок охотно вступает в общение со взрослыми","Ребенок понимает свои и чужие эмоциональные состояния, демонстрирует примеры эмоциональной поддержки ","Ребенок  откликается на просьбу помочь","Ребенок выразить чувства и эмоции в мимике, пантомимике, действиях, интонации","Ребенок демонстрирует адекватные возрасту способы регуляции эмоциональных состояний","Ребенок ориентируется на общепринятые нормы и правила культуры поведения","Ребенок знает членов своей семьи, ближайших родственников по линии матери и отца","Ребенок имеет представление о способах поддержки родственных связей (переписка, разговор, совместный отдых, традиции, походы в гости и др.)","Ребенок проявляет заботу по отношению к членам своей семьи, оказывает посильную помощь больному члену семьи","Ребенок в совместной деятельности принимает общую цель, договаривается о способах деятельности и материалах, может уступить в конфликтной ситуации","Ребенок проявляет интерес к игровому экспериментированию, развивающим и познавательным играм","Ребенок способен действовать в точном соответствие с игровой задачей и правилами",{"$nulls":14},"обычным шагом, на носках, на пятках, с высоким подниманием колен","приставной, в полуприседе, мелким и широким, перекатом с пятки на носок, гимнастическим","змейкой без ориентиров, в колонне по одному и по два","в колонне по одному, змейкой, с перестроением на ходу в пары, звенья","со сменой ведущих, с пролезанием в обруч, с ловлей и увертыванием, высоко поднимая колени","между расставленными предметами, в заданном темпе, мелким и широким шагом","подпрыгивание, перепрыгивание, спрыгивание","в длину с места","в высоту с разбега","в длину с разбега","со скакалкой",null,null,"построения (по росту, в колонну по одному, в шеренгу, в круг)","в колонну по три, в две шеренги на месте, расхождение из колонны в разные стороны"]
["начало года",{"$f":"'Худ.эст.к 6г ч1. Н.г.'!E39","v":0},{"$f":"'Худ.эст.к 6г ч1. Н.г.'!F39","v":0},{"$f":"'Худ.эст.к 6г ч1. Н.г.'!G39","v":0},{"$f":"'Худ.эст.к 6г ч1. Н.г.'!H39","v":0},{"$f":"'Худ.эст.к 6г ч1. Н.г.'!I39","v":0},{"$f":"'Худ.эст.к 6г ч1. Н.г.'!J39","v":0},{"$f":"'Худ.эст.к 6г ч1. Н.г.'!K39","v":0},{"$f":"'Худ.эст.к 6г ч1. Н.г.'!L39","v":0},{"$f":"'Худ.эст.к 6г ч1. Н.г.'!M39","v":0},{"$f":"'Худ.эст.к 6г ч1. Н.г.'!N39","v":0},{"$f":"'Худ.эст.к 6г ч1. Н.г.'!O39","v":0},{"$f":"'Худ.эст.к 6г ч2. Н.г.'!E39","v":0},{"$f":"'Худ.эст.к 6г ч2. Н.г.'!F39","v":0},{"$f":"'Худ.эст.к 6г ч2. Н.г.'!G39","v":0},{"$f":"'Худ.эст.к 6г ч2. Н.г.'!H39","v":0},{"$f":"'Худ.эст.к 6г ч2. Н.г.'!I39","v":0},{"$f":"'Худ.эст.к 6г ч2. Н.г.'!J39","v":0},{"$f":"'Худ.эст.к 6г ч2. Н.г.'!K39","v":0},{"$f":"'Худ.эст.к 6г ч2. Н.г.'!L39","v":0},{"$f":"'Худ.эст.к 6г ч2. Н.г.'!M39","v":0},{"$f":"'Худ.эст.к 6г ч3. Н.г.'!E39","v":0},{"$f":"'Худ.эст.к 6г ч3. Н.г.'!F39","v":0},{"$f":"'Худ.эст.к 6г ч3. Н.г.'!G39","v":0},{"$f":"'Худ.эст.к 6г ч3. Н.г.'!H39","v":0},{"$f":"'Худ.эст.к 6г ч3. Н.г.'!I39","v":0},{"$f":"'Худ.эст.к 6г ч3. Н.г.'!J39","v":0},{"$f":"'Худ.эст.к 6г ч3. Н.г.'!K39","v":0},{"$f":"'Худ.эст.к 6г ч3. Н.г.'!L39","v":0},{"$f":"'Реч.разв.к 6г ч1. Н.г.'!E38","v":0},{"$f":"'Реч.разв.к 6г ч1. Н.г.'!F38","v":0},{"$f":"'Реч.разв.к 6г ч1. Н.г.'!G38","v":0},{"$f":"'Реч.разв.к 6г ч1. Н.г.'!H38","v":0},{"$f":"'Реч.разв.к 6г ч1. Н.г.'!I38","v":0},{"$f":"'Реч.разв.к 6г ч1. Н.г.'!J38","v":0},{"$f":"'Реч.разв.к 6г ч1. Н.г.'!K38","v":0},{"$f":"'Реч.разв.к 6г ч1. Н.г.'!L38","v":0},{"$f":"'Реч.разв.к 6г ч2. Н.г.'!E38","v":0},{"$f":"'Реч.разв.к 6г ч2. Н.г.'!F38","v":0},{"$f":"'Реч.разв.к 6г ч2. Н.г.'!G38","v":0},{"$f":"'Реч.разв.к 6г ч2. Н.г.'!H38","v":0},{"$f":"'Реч.разв.к 6г ч2. Н.г.'!I38","v":0},{"$f":"'Реч.разв.к 6г ч2. Н.г.'!J38","v":0},{"$f":"'Реч.разв.к 6г ч2. Н.г.'!K38","v":0},{"$f":"'Реч.разв.к 6г ч2. Н.г.'!L38","v":0},{"$f":"'Реч.разв.к 6г ч2. Н.г.'!M38","v":0},{"$f":"'Реч.разв.к 6г ч2. Н.г.'!N38","v":0},{"$f":"'Реч.разв.к 6г ч2. Н.г.'!O38","v":0},{"$f":"'Реч.разв.к 6г ч2. Н.г.'!P38","v":0},{"$f":"'Реч.разв.к 6г ч2. Н.г.'!Q38","v":0},{"$f":"'Позн.разв. к 6г ч1. Н.г.'!E39","v":0},{"$f":"'Позн.разв. к 6г ч1. Н.г.'!F39","v":0},{"$f":"'Позн.разв. к 6г ч1. Н.г.'!G39","v":0},{"$f":"'Позн.разв. к 6г ч1. Н.г.'!H39","v":0},{"$f":"'Позн.разв. к 6г ч1. Н.г.'!I39","v":0},{"$f":"'Позн.разв. к 6г ч1. Н.г.'!J39","v":0},{"$f":"'Позн.разв. к 6г ч1. Н.г.'!K39","v":0},{"$f":"'Позн.разв. к 6г ч1. Н.г.'!L39","v":0},{"$f":"'Позн.разв. к 6г ч1. Н.г.'!M39","v":0},{"$f":"'Позн.разв. к 6г ч1. Н.г.'!N39","v":0},{"$f":"'Позн.разв. к 6г ч1. Н.г.'!O39","v":0},{"$f":"'Позн.разв. к 6г ч1. Н.г.'!P39","v":0},{"$f":"'Позн.разв. к 6г ч1. Н.г.'!Q39","v":0},{"$f":"'Позн.разв. к 6г ч1. Н.г.'!R39","v":0},{"$f":"'Позн.разв. к 6г ч1. Н.г.'!S39","v":0},{"$f":"'Позн.разв. к 6г ч2. Н.г.'!E39","v":0},{"$f":"'Позн.разв. к 6г ч2. Н.г.'!F39","v":0},{"$f":"'Позн.разв. к 6г ч2. Н.г.'!G39","v":0},{"$f":"'Позн.разв. к 6г ч2. Н.г.'!H39","v":0},{"$f":"'Позн.разв. к 6г ч2. Н.г.'!I39","v":0},{"$f":"'Позн.разв. к 6г ч2. Н.г.'!J39","v":0},{"$f":"'Соц.ком.к 6г ч1. Н.г.'!E38","v":0},{"$f":"'Соц.ком.к 6г ч1. Н.г.'!F38","v":0},{"$f":"'Соц.ком.к 6г ч1. Н.г.'!G38","v":0},{"$f":"'Соц.ком.к 6г ч1. Н.г.'!H38","v":0},{"$f":"'Соц.ком.к 6г ч1. Н.г.'!I38","v":0},{"$f":"'Соц.ком.к 6г ч1. Н.г.'!J38","v":0},{"$f":"'Соц.ком.к 6г ч1. Н.г.'!K38","v":0},{"$f":"'Соц.ком.к 6г ч1. Н.г.'!L38","v":0},{"$f":"'Соц.ком.к 6г ч1. Н.г.'!M38","v":0},{"$f":"'Соц.ком.к 6г ч1. Н.г.'!N38","v":0},{"$f":"'Соц.ком.к 6г ч1. Н.г.'!O38","v":0},{"$f":"'Соц.ком.к 6г ч1. Н.г.'!P38","v":0},{"$f":"'Соц.ком.к 6г ч1. Н.г.'!Q38","v":0},{"$f":"'Соц.ком.к 6г ч1. Н.г.'!R38","v":0},{"$f":"'Соц.ком.к 6г ч1. Н.г.'!S38","v":0},{"$f":"'Соц.ком.к 6г ч1. Н.г.'!T38","v":0},{"$f":"'Соц.ком.к 6г ч1. Н.г.'!U38","v":0},{"$f":"'Соц.ком. к 6г ч2. Н.г.'!E38","v":0},{"$f":"'Соц.ком. к 6г ч2. Н.г.'!F38","v":0},{"$f":"'Соц.ком. к 6г ч2. Н.г.'!G38","v":0},{"$f":"'Соц.ком. к 6г ч2. Н.г.'!H38","v":0},{"$f":"'Соц.ком. к 6г ч2. Н.г.'!I38","v":0},{"$f":"'Соц.ком. к 6г ч2. Н.г.'!J38","v":0},{"$f":"'Соц.ком. к 6г ч2. Н.г.'!K38","v":0},{"$f":"'Соц.ком. к 6г ч2. Н.г.'!L38","v":0},{"$f":"'Соц.ком. к 6г ч2. Н.г.'!M38","v":0},{"$f":"'Физ.разв. к 6г ч1. Н.г.'!E39","v":0},{"$f":"'Физ.разв. к 6г ч1. Н.г.'!F39","v":0},{"$f":"'Физ.разв. к 6г ч1. Н.г.'!G39","v":0},{"$f":"'Физ.разв. к 6г ч1. Н.г.'!H39","v":0},{"$f":"'Физ.разв. к 6г ч1. Н.г.'!I39","v":0},{"$f":"'Физ.разв. к 6г ч1. Н.г.'!J39","v":0},{"$f":"'Физ.разв. к 6г ч1. Н.г.'!K39","v":0},{"$f":"'Физ.разв. к 6г ч1. Н.г.'!L39","v":0},{"$f":"'Физ.разв. к 6г ч1. Н.г.'!M39","v":0},{"$f":"'Физ.разв. к 6г ч1. Н.г.'!N39","v":0},{"$f":"'Физ.разв. к 6г ч1. Н.г.'!O39","v":0},{"$f":"'Физ.разв. к 6г ч1. Н.г.'!P39","v":0},{"$f":"'Физ.разв. к 6г ч1. Н.г.'!Q39","v":0},{"$f":"'Физ.разв. к 6г ч1. Н.г.'!R39","v":0},{"$f":"'Физ.разв. к 6г ч1. Н.г.'!S39","v":0},{"$f":"'Физ.разв. к 6г ч1. Н.г.'!T39","v":0},{"$f":"'Физ.разв. к 6г ч1. Н.г.'!U39","v":0},{"$f":"'Физ.разв. к 6г ч1. Н.г.'!V39","v":0},{"$f":"'Физ.разв. к 6г ч1. Н.г.'!W39","v":0},{"$f":"'Физ.разв. к 6г ч1. Н.г.'!X39","v":0},{"$f":"'Физ.разв. к 6г ч2. Н.г.'!E40","v":0},{"$f":"'Физ.разв. к 6г ч2. Н.г.'!F40","v":0},{"$f":"'Физ.разв. к 6г ч2. Н.г.'!G40","v":0},{"$f":"'Физ.разв. к 6г ч2. Н.г.'!H40","v":0},{"$f":"'Физ.разв. к 6г ч2. Н.г.'!I40","v":0},{"$f":"'Физ.разв. к 6г ч2. Н.г.'!J40","v":0},{"$f":"'Физ.разв. к 6г ч2. Н.г.'!K40","v":0},{"$f":"'Физ.разв. к 6г ч2. Н.г.'!L40","v":0},{"$f":"'Физ.разв. к 6г ч2. Н.г.'!M40","v":0},{"$f":"'Физ.разв. к 6г ч2. Н.г.'!N40","v":0},{"$f":"'Физ.разв. к 6г ч2. Н.г.'!O40","v":0},{"$f":"'Физ.разв. к 6г ч2. Н.г.'!P40","v":0},{"$f":"'Физ.разв. к 6г ч2. Н.г.'!Q40","v":0},{"$f":"'Физ.разв. к 6г ч2. Н.г.'!R40","v":0},{"$f":"'Физ.разв. к 6г ч2. Н.г.'!S40","v":0},{"$f":"'Физ.разв. к 6г ч2. Н.г.'!T40","v":0},{"$f":"'Физ.разв. к 6г ч2. Н.г.'!U40","v":0},{"$f":"'Физ.разв. к 6г ч2. Н.г.'!V40","v":0},{"$f":"'Физ.разв. к 6г ч2. Н.г.'!W40","v":0},{"$f":"'Физ.разв. к 6г ч2. Н.г.'!X40","v":0},{"$f":"'Физ.разв. к 6г ч2. Н.г.'!Y40","v":0}]
["конец года",{"$f":"'Худ.эст.к 6г ч1. К.г. '!E39","v":0},{"$f":"'Худ.эст.к 6г ч1. К.г. '!F39","v":0},{"$f":"'Худ.эст.к 6г ч1. К.г. '!G39","v":0},{"$f":"'Худ.эст.к 6г ч1. К.г. '!H39","v":0},{"$f":"'Худ.эст.к 6г ч1. К.г. '!I39","v":0},{"$f":"'Худ.эст.к 6г ч1. К.г. '!J39","v":0},{"$f":"'Худ.эст.к 6г ч1. К.г. '!K39","v":0},{"$f":"'Худ.эст.к 6г ч1. К.г. '!L39","v":0},{"$f":"'Худ.эст.к 6г ч1. К.г. '!M39","v":0},{"$f":"'Худ.эст.к 6г ч1. К.г. '!N39","v":0},{"$f":"'Худ.эст.к 6г ч1. К.г. '!O39","v":0},{"$f":"'Худ.эст.к 6г ч2. К.г. '!E39","v":0},{"$f":"'Худ.эст.к 6г ч2. К.г. '!F39","v":0},{"$f":"'Худ.эст.к 6г ч2. К.г. '!G39","v":0},{"$f":"'Худ.эст.к 6г ч2. К.г. '!H39","v":0},{"$f":"'Худ.эст.к 6г ч2. К.г. '!I39","v":0},{"$f":"'Худ.эст.к 6г ч2. К.г. '!J39","v":0},{"$f":"'Худ.эст.к 6г ч2. К.г. '!K39","v":0},{"$f":"'Худ.эст.к 6г ч2. К.г. '!L39","v":0},{"$f":"'Худ.эст.к 6г ч2. К.г. '!M39","v":0},{"$f":"'Худ.эст.к 6г ч3. К.г. '!E39","v":0},{"$f":"'Худ.эст.к 6г ч3. К.г. '!F39","v":0},{"$f":"'Худ.эст.к 6г ч3. К.г. '!G39","v":0},{"$f":"'Худ.эст.к 6г ч3. К.г. '!H39","v":0},{"$f":"'Худ.эст.к 6г ч3. К.г. '!I39","v":0},{"$f":"'Худ.эст.к 6г ч3. К.г. '!J39","v":0},{"$f":"'Худ.эст.к 6г ч3. К.г. '!K39","v":0},{"$f":"'Худ.эст.к 6г ч3. К.г. '!L39","v":0},{"$f":"'Реч.разв.к 6г ч1. К.г. '!E38","v":0},{"$f":"'Реч.разв.к 6г ч1. К.г. '!F38","v":0},{"$f":"'Реч.разв.к 6г ч1. К.г. '!G38","v":0},{"$f":"'Реч.разв.к 6г ч1. К.г. '!H38","v":0},{"$f":"'Реч.разв.к 6г ч1. К.г. '!I38","v":0},{"$f":"'Реч.разв.к 6г ч1. К.г. '!J38","v":0},{"$f":"'Реч.разв.к 6г ч1. К.г. '!K38","v":0},{"$f":"'Реч.разв.к 6г ч1. К.г. '!L38","v":0},{"$f":"'Реч.разв.к 6г ч2. К.г. '!E38","v":0},{"$f":"'Реч.разв.к 6г ч2. К.г. '!F38","v":0},{"$f":"'Реч.разв.к 6г ч2. К.г. '!G38","v":0},{"$f":"'Реч.разв.к 6г ч2. К.г. '!H38","v":0},{"$f":"'Реч.разв.к 6г ч2. К.г. '!I38","v":0},{"$f":"'Реч.разв.к 6г ч2. К.г. '!J38","v":0},{"$f":"'Реч.разв.к 6г ч2. К.г. '!K38","v":0},{"$f":"'Реч.разв.к 6г ч2. К.г. '!L38","v":0},{"$f":"'Реч.разв.к 6г ч2. К.г. '!M38","v":0},{"$f":"'Реч.разв.к 6г ч2. К.г. '!N38","v":0},{"$f":"'Реч.разв.к 6г ч2. К.г. '!O38","v":0},{"$f":"'Реч.разв.к 6г ч2. К.г. '!P38","v":0},{"$f":"'Реч.разв.к 6г ч2. К.г. '!Q38","v":0},{"$f":"'Позн.разв. к 6г ч1. К.г. '!E39","v":0},{"$f":"'Позн.разв. к 6г ч1. К.г. '!F39","v":0},{"$f":"'Позн.разв. к 6г ч1. К.г. '!G39","v":0},{"$f":"'Позн.разв. к 6г ч1. К.г. '!H39","v":0},{"$f":"'Позн.разв. к 6г ч1. К.г. '!I39","v":0},{"$f":"'Позн.разв. к 6г ч1. К.г. '!J39","v":0},{"$f":"'Позн.разв. к 6г ч1. К.г. '!K39","v":0},{"$f":"'Позн.разв. к 6г ч1. К.г. '!L39","v":0},{"$f":"'Позн.разв. к 6г ч1. К.г. '!M39","v":0},{"$f":"'Позн.разв. к 6г ч1. К.г. '!N39","v":0},{"$f":"'Позн.разв. к 6г ч1. К.г. '!O39","v":0},{"$f":"'Позн.разв. к 6г ч1. К.г. '!P39","v":0},{"$f":"'Позн.разв. к 6г ч1. К.г. '!Q39","v":0},{"$f":"'Позн.разв. к 6г ч1. К.г. '!R39","v":0},{"$f":"'Позн.разв. к 6г ч1. К.г. '!S39","v":0},{"$f":"'Позн.разв. к 6г ч2. К.г. '!E39","v":0},{"$f":"'Позн.разв. к 6г ч2. К.г. '!F39","v":0},{"$f":"'Позн.разв. к 6г ч2. К.г. '!G39","v":0},{"$f":"'Позн.разв. к 6г ч2. К.г. '!H39","v":0},{"$f":"'Позн.разв. к 6г ч2. К.г. '!I39","v":0},{"$f":"'Позн.разв. к 6г ч2. К.г. '!J39","v":0},{"$f":"'Соц.ком.к 6г ч1. К.г. '!$E$38","v":0},{"$f":"'Соц.ком.к 6г ч1. К.г. '!$E$38","v":0},{"$f":"'Соц.ком.к 6г ч1. К.г. '!$E$38","v":0},{"$f":"'Соц.ком.к 6г ч1. К.г. '!$E$38","v":0},{"$f":"'Соц.ком.к 6г ч1. К.г. '!$E$38","v":0},{"$f":"'Соц.ком.к 6г ч1. К.г. '!$E$38","v":0},{"$f":"'Соц.ком.к 6г ч1. К.г. '!$E$38","v":0},{"$f":"'Соц.ком.к 6г ч1. К.г. '!$E$38","v":0},{"$f":"'Соц.ком.к 6г ч1. К.г. '!$E$38","v":0},{"$f":"'Соц.ком.к 6г ч1. К.г. '!$E$38","v":0},{"$f":"'Соц.ком.к 6г ч1. К.г. '!$E$38","v":0},{"$f":"'Соц.ком.к 6г ч1. К.г. '!$E$38","v":0},{"$f":"'Соц.ком.к 6г ч1. К.г. '!$E$38","v":0},{"$f":"'Соц.ком.к 6г ч1. К.г. '!$E$38","v":0},{"$f":"'Соц.ком.к 6г ч1. К.г. '!$E$38","v":0},{"$f":"'Соц.ком.к 6г ч1. К.г. '!$E$38","v":0},{"$f":"'Соц.ком.к 6г ч1. К.г. '!$E$38","v":0},{"$f":"'Соц.ком. к 6г ч2 К.г.'!E38","v":0},{"$f":"'Соц.ком. к 6г ч2 К.г.'!F38","v":0},{"$f":"'Соц.ком. к 6г ч2 К.г.'!G38","v":0},{"$f":"'Соц.ком. к 6г ч2 К.г.'!H38","v":0},{"$f":"'Соц.ком. к 6г ч2 К.г.'!I38","v":0},{"$f":"'Соц.ком. к 6г ч2 К.г.'!J38","v":0},{"$f":"'Соц.ком. к 6г ч2 К.г.'!K38","v":0},{"$f":"'Соц.ком. к 6г ч2 К.г.'!L38","v":0},{"$f":"'Соц.ком. к 6г ч2 К.г.'!M38","v":0},{"$f":"'Физ.разв. к 6г ч1. К.г. '!E39","v":0},{"$f":"'Физ.разв. к 6г ч1. К.г. '!F39","v":0},{"$f":"'Физ.разв. к 6г ч1. К.г. '!G39","v":0},{"$f":"'Физ.разв. к 6г ч1. К.г. '!H39","v":0},{"$f":"'Физ.разв. к 6г ч1. К.г. '!I39","v":0},{"$f":"'Физ.разв. к 6г ч1. К.г. '!J39","v":0},{"$f":"'Физ.разв. к 6г ч1. К.г. '!K39","v":0},{"$f":"'Физ.разв. к 6г ч1. К.г. '!L39","v":0},{"$f":"'Физ.разв. к 6г ч1. К.г. '!M39","v":0},{"$f":"'Физ.разв. к 6г ч1. К.г. '!N39","v":0},{"$f":"'Физ.разв. к 6г ч1. К.г. '!O39","v":0},{"$f":"'Физ.разв. к 6г ч1. К.г. '!P39","v":0},{"$f":"'Физ.разв. к 6г ч1. К.г. '!Q39","v":0},{"$f":"'Физ.разв. к 6г ч1. К.г. '!R39","v":0},{"$f":"'Физ.разв. к 6г ч1. К.г. '!S39","v":0},{"$f":"'Физ.разв. к 6г ч1. К.г. '!T39","v":0},{"$f":"'Физ.разв. к 6г ч1. К.г. '!U39","v":0},{"$f":"'Физ.разв. к 6г ч1. К.г. '!V39","v":0},{"$f":"'Физ.разв. к 6г ч1. К.г. '!W39","v":0},{"$f":"'Физ.разв. к 6г ч1. К.г. '!X39","v":0},{"$f":"'Физ.разв. к 6г ч2. К.г. '!E40","v":0},{"$f":"'Физ.разв. к 6г ч2. К.г. '!F40","v":0},{"$f":"'Физ.разв. к 6г ч2. К.г. '!G40","v":0},{"$f":"'Физ.разв. к 6г ч2. К.г. '!H40","v":0},{"$f":"'Физ.разв. к 6г ч2. К.г. '!I40","v":0},{"$f":"'Физ.разв. к 6г ч2. К.г. '!J40","v":0},{"$f":"'Физ.разв. к 6г ч2. К.г. '!K40","v":0},{"$f":"'Физ.разв. к 6г ч2. К.г. '!L40","v":0},{"$f":"'Физ.разв. к 6г ч2. К.г. '!M40","v":0},{"$f":"'Физ.разв. к 6г ч2. К.г. '!N40","v":0},{"$f":"'Физ.разв. к 6г ч2. К.г. '!O40","v":0},{"$f":"'Физ.разв. к 6г ч2. К.г. '!P40","v":0},{"$f":"'Физ.разв. к 6г ч2. К.г. '!Q40","v":0},{"$f":"'Физ.разв. к 6г ч2. К.г. '!R40","v":0},{"$f":"'Физ.разв. к 6г ч2. К.г. '!S40","v":0},{"$f":"'Физ.разв. к 6г ч2. К.г. '!T40","v":0},{"$f":"'Физ.разв. к 6г ч2. К.г. '!U40","v":0},{"$f":"'Физ.разв. к 6г ч2. К.г. '!V40","v":0},{"$f":"'Физ.разв. к 6г ч2. К.г. '!W40","v":0},{"$f":"'Физ.разв. к 6г ч2. К.г. '!X40","v":0},{"$f":"'Физ.разв. к 6г ч2. К.г. '!Y40","v":0}]

{"sheet":"29","index":56,"n_rows":11,"n_cols":138,"rows_kept":11,"merged":[[4,117,4,122],[4,123,4,126],[4,127,4,129],[4,130,4,132],[4,134,4,137],[5,0,8,0],[5,1,5,11],[5,12,5,19],[5,21,6,26],[5,27,6,28],[5,50,5,52],[5,53,5,55],[5,56,5,64],[5,65,5,66],[5,67,5,70],[5,117,5,118],[5,119,5,122],[5,123,6,123],[5,124,6,124],[5,125,6,125],[5,126,6,126],[5,127,8,127],[5,128,8,128],[5,129,8,129],[5,130,8,130],[5,131,8,131],[5,132,8,132],[5,133,8,133],[5,134,5,137],[6,1,6,4],[6,9,6,10],[6,12,6,13],[6,16,6,17],[6,18,6,19],[6,20,8,20],[6,30,6,31],[6,32,6,36],[6,38,6,43],[6,45,6,49],[6,53,8,53],[6,54,8,54],[6,55,8,55],[6,56,6,58],[6,62,6,64],[6,65,7,66],[6,67,6,68],[6,69,6,70],[6,71,6,87],[6,88,6,90],[6,91,6,95],[6,97,6,98],[6,99,6,101],[6,102,6,104],[6,105,6,107],[6,108,6,112],[6,113,6,114],[6,115,6,116],[6,117,8,117],[6,118,8,118],[6,119,8,119],[6,120,8,120],[6,121,8,121],[6,122,8,122],[6,134,8,134],[6,135,8,135],[6,136,8,136],[6,137,8,137],[7,1,8,1],[7,2,8,2],[7,3,8,3],[7,4,8,4],[7,5,8,5],[7,6,8,6],[7,7,8,7],[7,8,8,8],[7,9,8,9],[7,10,8,10],[7,11,8,11],[7,12,8,12],[7,13,8,13],[7,14,8,14],[7,15,8,15],[7,16,8,16],[7,17,8,17],[7,18,8,18],[7,19,8,19],[7,21,8,21],[7,22,8,22],[7,23,8,23],[7,24,8,24],[7,25,8,25],[7,26,8,26],[7,27,8,27],[7,28,8,28],[7,29,8,29],[7,30,8,30],[7,31,8,31],[7,32,8,32],[7,33,8,33],[7,34,8,34],[7,35,8,35],[7,36,8,36],[7,37,8,37],[7,38,8,38],[7,39,8,39],[7,40,8,40],[7,41,8,41],[7,42,8,42],[7,43,8,43],[7,44,8,44],[7,45,8,45],[7,46,8,46],[7,47,8,47],[7,48,8,48],[7,49,8,49],[7,50,7,52],[7,56,8,56],[7,57,8,57],[7,58,8,58],[7,59,8,59],[7,60,8,60],[7,61,8,61],[7,62,8,62],[7,63,8,63],[7,64,8,64],[7,67,8,67],[7,68,8,68],[7,69,8,69],[7,70,8,70],[7,71,7,72],[7,73,7,74],[7,75,7,76],[7,77,7,80],[7,82,7,84],[7,85,7,87],[7,88,8,88],[7,89,8,89],[7,90,8,90],[7,91,8,91],[7,92,8,92],[7,93,8,93],[7,94,8,94],[7,95,8,95],[7,96,8,96],[7,97,8,97],[7,98,8,98],[7,99,8,99],[7,100,8,100],[7,101,8,101],[7,102,7,104],[7,105,7,107],[7,108,7,112],[7,113,8,113],[7,114,8,114],[7,115,7,116],[7,123,8,123],[7,124,8,124],[7,125,8,125],[7,126,8,126]]}
[]
[]
[]
[]
[{"$nulls":117},"Мелкая моторика",{"$nulls":5},"КГН",{"$nulls":3},"ЗОЖ",null,null,"Подвижные игры",null,null,"Спорт. игры","Спортивные упражнения"]
[{"$f":"Список!B32","v":0},"Музыкальная деятельность",{"$nulls":10},"Изобразительная деятельность",{"$nulls":8},"Приобщение к искусству",{"$nulls":5},"Конструктивная деятельность",{"$nulls":22},"Сенсорные эталоны ",null,null,"Познавательные действия",null,null,"Математические представления",{"$nulls":8},"Окружающий мир",null,"Природа ",{"$nulls":49},"Координация рук и глаз",null,"Графические навыки",{"$nulls":3},"Навыки соблюдения чистоты тела (правила личной гигиены)","Навыки культуры еды (прием пищи) ","Навыки поддержания порядка (правила поведения в быту) ","Навыки ухода за собой (одевание, раздевание) ","Ребенок имеет представление о факторах, положительно/негативно влияющих на здоровье; владеет основными способами укрепления здоровья","Ребенок имеет представление о некоторых видах спорта (9 и больше), роли спорта для укрепления здоровья","Ребенок проявляет заботливое отношение к своему здоровью и здоровью окружающих","Ребенок проявляет доступный возрасту самоконтроль","Ребенок  способен привлечь внимание других детей и организовать знакомую подвижную игру","Ребенок придумывает новые варианты игр, комбинирует движения","Ребенок имеет представление об элементах спортивных игр (городки, баскетбол, бадминтон, футбол), умеет выполнять некоторые виды движений","Ребенок умеет кататься"]
[null,"Слушание",{"$nulls":3},"Пение ","Музыкально-ритмические движения","Песенное творчество","Игра на детских музыкальных инструментах","Театрализованная деятельность",null,"Танцевально-игровое творчество","Рисование ",null,"Лепка ","Аппликация ","Народное ДПИ",null,"Прикладное творчество",null,"Ребенок самостоятельно определяет замысел рисунка, аппликации, лепки, поделки, создает образы и композиционные изображения, использует разнообразные материалы",{"$nulls":8},"Общее речевое развитие","Формирование словаря",null,"Грамматический строй",{"$nulls":4},"Звуковая культура речи","Связная речь",{"$nulls":5},"ЧХЛ","Подготовка к обучению грамоте",{"$nulls":4},"Цвет, оттенки","Форма, геометрические фигуры","Величина","Ребенок охотно участвует в обсуждении проблемы для совместного нахождения способов ее решения, предлагает пути решения, устанавливает закономерности причинно-следственного характера, проявляет любознательность","Ребенок использует математические знания, способы и средства для познания окружающего мира","Ребенок способен к произвольным умственным действиям, логическим операциям анализа, сравнения, обобщения, систематизации, классификации","Количество и счет",null,null,"Ориентировка во времени","Ориентировка в пространстве","Пространственно-количественные связи и отношения","Сравнение",null,null,"Ребенок имеет представления, может показать на картинке и в естественной среде, может рассказать",null,"Объекты живой природы",null,"Объекты неживой природы, природные явления",null,"Сфера социальных отношений",{"$nulls":16},"Область формирования основ гражданственности и патриотизма",null,null,"Сфера трудового воспитания",{"$nulls":4},"Область формирования основ безопасного поведения","Бросание, катание, ловля, метание",null,"Ползанье, лазанье",null,null,"Ходьба",null,null,"Бег",null,null,"Прыжки",{"$nulls":4},"Равновесие",null,"Строевые упражнения",null,"Ребенок может найти выход из лабиринта","Ребенок может нарисовать простой узор, изображение, не отрывая руки","Ребенок может повторить узор с чередующимися элементами","Ребенок закрашивает контурное изображение с множеством мелких деталей, не выходя за контур","Ребенок может соединить точки для получения изображения","Ребенок рисует геометрический орнамент по клеткам",{"$nulls":11},"на санках","на лыжах","на двухколесном велосипеде","на самокате"]
[null,"Ребенок различает жанры музыкальных произведений (песня, танец, марш)","Ребенок узнает мелодию по отдельным фрагментам произведения (вступление, заключение, музыкальная фраза)","Ребенок различает звуки по высоте в пределах квинты","Ребенок различает звучание музыкальных инструментов (клавишно-ударных, струнных)","Ребенок демонстрирует развитые певческие навыки","Ребенок демонстрирует развитые навыки исполнения танцевальных движений","Ребенок может импровизировать мелодию на заданный текст","Ребенок демонстрирует навыки игры на детских музыкальных инструментах","Ребенок имеет представление о различных видах театрального искусства","Ребенок с удовольствие занимается театрализованной деятельностью","Ребенок может придумывать движения к танцам","Ребенок передает в изображении основные свойства предметов (форма, величина, цвет), характерные детали, соотношение предметов и их частей по величине, высоте, расположению относительно друг друга","Ребенок владеет основными способами и приемами рисования различными изобразительными материалами (цветные карандаши, гуашь, акварель, цветные мелки, пастель, сангина, угольный карандаш, фломастеры)","Ребенок лепит с натуры и по представлению знакомые предметы, передавая характерные особенности пластическим, конструктивным и комбинированным способами","Ребенок умеет пользоваться ножницами","Ребенок имеет представление о полхов-майданской, гжельской росписи","Ребенок может нарисовать узор, используя элементы  росписи","Ребенок умеет работать с бумагой (сгибать лист, сглаживать сгибы, надрезать по сгибам)","Ребенок умеет работать с природным и бросовым материалом",null,"Ребенок умеет выделять, называть, группировать произведения по видам искусства: литература, музыка, изобразительное искусство, архитектура, театр, цирк","Ребенок имеет представление о видах изобразительного искусства: графика, декоративно-прикладное искусство, живопись, скульптура, архитектура, фотоискусство","Ребенок имеет представление о жанрах изобразительного искусства: натюрморт, пейзаж, портрет","Ребенок имеет представление о народном искусстве, фольклоре, музыке и художественных промыслах","Ребенок имеет представление о творческих профессиях: художник, композитор, музыкант, актер, артист балета","Ребенок имеет представление о культурно-досуговых местах: театр, музей, библиотека, выставка, кинотеатр, цирк и др.","Ребенок может провести анализ постройки (выделить основные части и характерные детали конструкций)","Ребенок может выполнить постройку по инструкции","Ребенок внятно разговаривает","Ребенок умеет обобщать предметы в группы по существенным признакам","Ребенок демонстрирует богатый словарный запас","Ребенок правильно использует в речи: несклоняемые существительные","Ребенок правильно использует в речи: слова, имеющие только множественное или только единственное число","Ребенок правильно использует в речи: глаголы одеть-надеть","Ребенок правильно использует в речи: существительные множественного числа в родительном падеже","Ребенок правильно образовывает слова с помощью суффикса, приставки","Ребенок правильно произносит сонорные звуки: л-ль, р-рь","Ребенок пересказывает литературные произведения по ролям, по частям, правильно передавая идею и содержание","Ребенок пользуется прямой и косвенной речью","Ребенок составляет короткий описательный рассказ о предметах, объектах и явлениях природы, из личного опыта","Ребенок сочиняет сюжетные рассказы по картине, из личного опыта","Ребенок проявляет речевое творчество: придумывает продолжение и окончание к рассказу, рассказы по аналогии, по плану педагога, по модели","Ребенок владеет первичными приемами аргументации и доказательства","Ребенок проявляет избирательное отношение к произведениям определенной тематики и жанра","Ребенок понимает термины: слово: звук, буква, предложение, гласный звук, согласный звук","Ребенок может провести звуковой анализ слова, разделить на слоги двух-, трехслоговые слова; составляет схему слова","Ребенок различает гласные-согласные звуки","Ребенок определяет твердые-мягкие согласные","Ребенок составляет предложение по модели, определяет количество и последовательность слов в предложении","Ребенок различает и называет",{"$nulls":5},"Ребенок знает/называет/находит среди других цифры 0 -10","Ребенок выполняет количественный и порядковый счет в пределах 0-10","Ребенок знает состав чисел из единиц в пределах 5","Ребенок понимает календарные единицы времени (сутки, неделя, месяц, год)","Ребенок ориентируется на листе бумаги","Ребенок понимает простейшую графическую информацию об отношениях предметов (слева направо, справа налево, снизу вверх, сверху вниз)","Ребенок выделяет сходства и отличия между группами предметов","Ребенок сравнивает предметы по 3-5 признакам","Ребенок группирует предметы по разным основаниям, преимущественно на основе зрительной оценки",null,null,"Ребенок имеет представление о сходстве и различии во внешнем виде и образе жизни объектов животного и растительного мира в разные сезоны года","Ребенок может сравнивать, группировать объекты живой природы по их особенностям, мету обитания, образу жизни, питанию","Ребенок имеет представление о признаках разных времен года","Ребенок наблюдает за явлениями природы, фиксирует результаты наблюдения","Отношение к самому себе",null,"Отношение к сверстникам",null,"Отношение к взрослым",null,"Эмоции",{"$nulls":3},"Поведение","Семья",null,null,"Игровое поведение",null,null,"Ребенок имеет представление о государственных символах России (герб, гимн, флаг)","Ребенок имеет представление о государственных праздниках России","Ребенок знает/может назвать/показать на картинке и в естественной среде достопримечательности населенного пункта, в котором живет","Ребенок имеет представления о разных видах производительного труда (промышленность, строительство, сельское хозяйство)","Ребенок имеет представления о разных видах обслуживающего труда (сфера досуга и отдыха, сфера культуры, медицина, торговля)","Ребенок имеет представление о структуре трудового процесса (мотив, цель, инструменты, оборудование, содержание действий, выбор трудовых действий, результат)","Ребенок имеет элементарные экономические представления (назначение рекламы, денег)","Ребенок охотно участвует в выполнении трудовых поручений, дежурстве; может распределять трудовые обязанности с другими","Ребенок имеет представления/ соблюдает правила поведения в быту, на улице, в природе, в общении с людьми, с животными","Ребенок выполняет различные упражнения с мячом (прокатывание, передача, перебрасывание, ведение, подбрасывание, ловля, забрасывание)","Ребенок выполняет метание в цель, метание в даль предметов разной массы","Ребенок выполняет ползанье разными способами (на четвереньках, на животе)","Ребенок выполняет переползание через несколько предметов подряд, под дугами, в туннеле","Ребенок выполняет лазанье по гимнастической стенке чередующимся шагом","Ребенок выполняет различные виды ходьбы",null,null,"Ребенок выполняет различные виды бега",null,null,"Ребенок выполняет различные виды прыжков",{"$nulls":4},"Ребенок выполняет стойку на одной ноге ","Ребенок выполняет упражнение \"ласточка\" ","Ребенок выполняет различные виды строевых упражнений",{"$nulls":7},"Ребенок выполняет самостоятельно","Ребенок выполняет самостоятельно","Ребенок выполняет самостоятельно","Ребенок выполняет самостоятельно"]
[{"$nulls":50},"Ребенок называет/различает все цвета спектра и ахроматические цвета, оттенки цвета, тоны цвета, теплые и холодные оттенки","Ребенок владеет способами воссоздания фигуры из частей, деления фигуры на части","Ребенок может выстраивать сериационные ряды предметов, различающихся по размеру в возрастающем и убывающем порядке в пределах 10",{"$nulls":12},"о многообразии людей разных национальностей (особенностей внешнего вида, одежды, традиций)","Ребенок имеет представление о многообразии стран и народов мира",{"$nulls":4},"Ребенок может рассказать о себе, выразить собственные потребности, желания","Ребенок имеет представление о некоторых своих правах","Ребенок имеет предпочтения в общении","Ребенок охотно вступает в общение со сверстниками","Ребенок уважительно относится к взрослым, пожилым людям","Ребенок охотно вступает в общение со взрослыми","Ребенок понимает свои и чужие эмоциональные состояния, демонстрирует примеры эмоциональной поддержки ","Ребенок  откликается на просьбу помочь","Ребенок выразить чувства и эмоции в мимике, пантомимике, действиях, интонации","Ребенок демонстрирует адекватные возрасту способы регуляции эмоциональных состояний","Ребенок ориентируется на общепринятые нормы и правила культуры поведения","Ребенок знает членов своей семьи, ближайших родственников по линии матери и отца","Ребенок имеет представление о способах поддержки родственных связей (переписка, разговор, совместный отдых, традиции, походы в гости и др.)","Ребенок проявляет заботу по отношению к членам своей семьи, оказывает посильную помощь больному члену семьи","Ребенок в совместной деятельности принимает общую цель, договаривается о способах деятельности и материалах, может уступить в конфликтной ситуации","Ребенок проявляет интерес к игровому экспериментированию, развивающим и познавательным играм","Ребенок способен действовать в точном соответствие с игровой задачей и правилами",{"$nulls":14},"обычным шагом, на носках, на пятках, с высоким подниманием колен","приставной, в полуприседе, мелким и широким, перекатом с пятки на носок, гимнастическим","змейкой без ориентиров, в колонне по одному и по два","в колонне по одному, змейкой, с перестроением на ходу в пары, звенья","со сменой ведущих, с пролезанием в обруч, с ловлей и увертыванием, высоко поднимая колени","между расставленными предметами, в заданном темпе, мелким и широким шагом","подпрыгивание, перепрыгивание, спрыгивание","в длину с места","в высоту с разбега","в длину с разбега","со скакалкой",null,null,"построения (по росту, в колонну по одному, в шеренгу, в круг)","в колонну по три, в две шеренги на месте, расхождение из колонны в разные стороны"]
["начало года",{"$f":"'Худ.эст.к 6г ч1. Н.г.'!E40","v":0},{"$f":"'Худ.эст.к 6г ч1. Н.г.'!F40","v":0},{"$f":"'Худ.эст.к 6г ч1. Н.г.'!G40","v":0},{"$f":"'Худ.эст.к 6г ч1. Н.г.'!H40","v":0},{"$f":"'Худ.эст.к 6г ч1. Н.г.'!I40","v":0},{"$f":"'Худ.эст.к 6г ч1. Н.г.'!J40","v":0},{"$f":"'Худ.эст.к 6г ч1. Н.г.'!K40","v":0},{"$f":"'Худ.эст.к 6г ч1. Н.г.'!L40","v":0},{"$f":"'Худ.эст.к 6г ч1. Н.г.'!M40","v":0},{"$f":"'Худ.эст.к 6г ч1. Н.г.'!N40","v":0},{"$f":"'Худ.эст.к 6г ч1. Н.г.'!O40","v":0},{"$f":"'Худ.эст.к 6г ч2. Н.г.'!E40","v":0},{"$f":"'Худ.эст.к 6г ч2. Н.г.'!F40","v":0},{"$f":"'Худ.эст.к 6г ч2. Н.г.'!G40","v":0},{"$f":"'Худ.эст.к 6г ч2. Н.г.'!H40","v":0},{"$f":"'Худ.эст.к 6г ч2. Н.г.'!I40","v":0},{"$f":"'Худ.эст.к 6г ч2. Н.г.'!J40","v":0},{"$f":"'Худ.эст.к 6г ч2. Н.г.'!K40","v":0},{"$f":"'Худ.эст.к 6г ч2. Н.г.'!L40","v":0},{"$f":"'Худ.эст.к 6г ч2. Н.г.'!M40","v":0},{"$f":"'Худ.эст.к 6г ч3. Н.г.'!E40","v":0},{"$f":"'Худ.эст.к 6г ч3. Н.г.'!F40","v":0},{"$f":"'Худ.эст.к 6г ч3. Н.г.'!G40","v":0},{"$f":"'Худ.эст.к 6г ч3. Н.г.'!H40","v":0},{"$f":"'Худ.эст.к 6г ч3. Н.г.'!I40","v":0},{"$f":"'Худ.эст.к 6г ч3. Н.г.'!J40","v":0},{"$f":"'Худ.эст.к 6г ч3. Н.г.'!K40","v":0},{"$f":"'Худ.эст.к 6г ч3. Н.г.'!L40","v":0},{"$f":"'Реч.разв.к 6г ч1. Н.г.'!E39","v":0},{"$f":"'Реч.разв.к 6г ч1. Н.г.'!F39","v":0},{"$f":"'Реч.разв.к 6г ч1. Н.г.'!G39","v":0},{"$f":"'Реч.разв.к 6г ч1. Н.г.'!H39","v":0},{"$f":"'Реч.разв.к 6г ч1. Н.г.'!I39","v":0},{"$f":"'Реч.разв.к 6г ч1. Н.г.'!J39","v":0},{"$f":"'Реч.разв.к 6г ч1. Н.г.'!K39","v":0},{"$f":"'Реч.разв.к 6г ч1. Н.г.'!L39","v":0},{"$f":"'Реч.разв.к 6г ч2. Н.г.'!E39","v":0},{"$f":"'Реч.разв.к 6г ч2. Н.г.'!F39","v":0},{"$f":"'Реч.разв.к 6г ч2. Н.г.'!G39","v":0},{"$f":"'Реч.разв.к 6г ч2. Н.г.'!H39","v":0},{"$f":"'Реч.разв.к 6г ч2. Н.г.'!I39","v":0},{"$f":"'Реч.разв.к 6г ч2. Н.г.'!J39","v":0},{"$f":"'Реч.разв.к 6г ч2. Н.г.'!K39","v":0},{"$f":"'Реч.разв.к 6г ч2. Н.г.'!L39","v":0},{"$f":"'Реч.разв.к 6г ч2. Н.г.'!M39","v":0},{"$f":"'Реч.разв.к 6г ч2. Н.г.'!N39","v":0},{"$f":"'Реч.разв.к 6г ч2. Н.г.'!O39","v":0},{"$f":"'Реч.разв.к 6г ч2. Н.г.'!P39","v":0},{"$f":"'Реч.разв.к 6г ч2. Н.г.'!Q39","v":0},{"$f":"'Позн.разв. к 6г ч1. Н.г.'!E40","v":0},{"$f":"'Позн.разв. к 6г ч1. Н.г.'!F40","v":0},{"$f":"'Позн.разв. к 6г ч1. Н.г.'!G40","v":0},{"$f":"'Позн.разв. к 6г ч1. Н.г.'!H40","v":0},{"$f":"'Позн.разв. к 6г ч1. Н.г.'!I40","v":0},{"$f":"'Позн.разв. к 6г ч1. Н.г.'!J40","v":0},{"$f":"'Позн.разв. к 6г ч1. Н.г.'!K40","v":0},{"$f":"'Позн.разв. к 6г ч1. Н.г.'!L40","v":0},{"$f":"'Позн.разв. к 6г ч1. Н.г.'!M40","v":0},{"$f":"'Позн.разв. к 6г ч1. Н.г.'!N40","v":0},{"$f":"'Позн.разв. к 6г ч1. Н.г.'!O40","v":0},{"$f":"'Позн.разв. к 6г ч1. Н.г.'!P40","v":0},{"$f":"'Позн.разв. к 6г ч1. Н.г.'!Q40","v":0},{"$f":"'Позн.разв. к 6г ч1. Н.г.'!R40","v":0},{"$f":"'Позн.разв. к 6г ч1. Н.г.'!S40","v":0},{"$f":"'Позн.разв. к 6г ч2. Н.г.'!E40","v":0},{"$f":"'Позн.разв. к 6г ч2. Н.г.'!F40","v":0},{"$f":"'Позн.разв. к 6г ч2. Н.г.'!G40","v":0},{"$f":"'Позн.разв. к 6г ч2. Н.г.'!H40","v":0},{"$f":"'Позн.разв. к 6г ч2. Н.г.'!I40","v":0},{"$f":"'Позн.разв. к 6г ч2. Н.г.'!J40","v":0},{"$f":"'Соц.ком.к 6г ч1. Н.г.'!E39","v":0},{"$f":"'Соц.ком.к 6г ч1. Н.г.'!F39","v":0},{"$f":"'Соц.ком.к 6г ч1. Н.г.'!G39","v":0},{"$f":"'Соц.ком.к 6г ч1. Н.г.'!H39","v":0},{"$f":"'Соц.ком.к 6г ч1. Н.г.'!I39","v":0},{"$f":"'Соц.ком.к 6г ч1. Н.г.'!J39","v":0},{"$f":"'Соц.ком.к 6г ч1. Н.г.'!K39","v":0},{"$f":"'Соц.ком.к 6г ч1. Н.г.'!L39","v":0},{"$f":"'Соц.ком.к 6г ч1. Н.г.'!M39","v":0},{"$f":"'Соц.ком.к 6г ч1. Н.г.'!N39","v":0},{"$f":"'Соц.ком.к 6г ч1. Н.г.'!O39","v":0},{"$f":"'Соц.ком.к 6г ч1. Н.г.'!P39","v":0},{"$f":"'Соц.ком.к 6г ч1. Н.г.'!Q39","v":0},{"$f":"'Соц.ком.к 6г ч1. Н.г.'!R39","v":0},{"$f":"'Соц.ком.к 6г ч1. Н.г.'!S39","v":0},{"$f":"'Соц.ком.к 6г ч1. Н.г.'!T39","v":0},{"$f":"'Соц.ком.к 6г ч1. Н.г.'!U39","v":0},{"$f":"'Соц.ком. к 6г ч2. Н.г.'!E39","v":0},{"$f":"'Соц.ком. к 6г ч2. Н.г.'!F39","v":0},{"$f":"'Соц.ком. к 6г ч2. Н.г.'!G39","v":0},{"$f":"'Соц.ком. к 6г ч2. Н.г.'!H39","v":0},{"$f":"'Соц.ком. к 6г ч2. Н.г.'!I39","v":0},{"$f":"'Соц.ком. к 6г ч2. Н.г.'!J39","v":0},{"$f":"'Соц.ком. к 6г ч2. Н.г.'!K39","v":0},{"$f":"'Соц.ком. к 6г ч2. Н.г.'!L39","v":0},{"$f":"'Соц.ком. к 6г ч2. Н.г.'!M39","v":0},{"$f":"'Физ.разв. к 6г ч1. Н.г.'!E40","v":0},{"$f":"'Физ.разв. к 6г ч1. Н.г.'!F40","v":0},{"$f":"'Физ.разв. к 6г ч1. Н.г.'!G40","v":0},{"$f":"'Физ.разв. к 6г ч1. Н.г.'!H40","v":0},{"$f":"'Физ.разв. к 6г ч1. Н.г.'!I40","v":0},{"$f":"'Физ.разв. к 6г ч1. Н.г.'!J40","v":0},{"$f":"'Физ.разв. к 6г ч1. Н.г.'!K40","v":0},{"$f":"'Физ.разв. к 6г ч1. Н.г.'!L40","v":0},{"$f":"'Физ.разв. к 6г ч1. Н.г.'!M40","v":0},{"$f":"'Физ.разв. к 6г ч1. Н.г.'!N40","v":0},{"$f":"'Физ.разв. к 6г ч1. Н.г.'!O40","v":0},{"$f":"'Физ.разв. к 6г ч1. Н.г.'!P40","v":0},{"$f":"'Физ.разв. к 6г ч1. Н.г.'!Q40","v":0},{"$f":"'Физ.разв. к 6г ч1. Н.г.'!R40","v":0},{"$f":"'Физ.разв. к 6г ч1. Н.г.'!S40","v":0},{"$f":"'Физ.разв. к 6г ч1. Н.г.'!T40","v":0},{"$f":"'Физ.разв. к 6г ч1. Н.г.'!U40","v":0},{"$f":"'Физ.разв. к 6г ч1. Н.г.'!V40","v":0},{"$f":"'Физ.разв. к 6г ч1. Н.г.'!W40","v":0},{"$f":"'Физ.разв. к 6г ч1. Н.г.'!X40","v":0},{"$f":"'Физ.разв. к 6г ч2. Н.г.'!E41","v":0},{"$f":"'Физ.разв. к 6г ч2. Н.г.'!F41","v":0},{"$f":"'Физ.разв. к 6г ч2. Н.г.'!G41","v":0},{"$f":"'Физ.разв. к 6г ч2. Н.г.'!H41","v":0},{"$f":"'Физ.разв. к 6г ч2. Н.г.'!I41","v":0},{"$f":"'Физ.разв. к 6г ч2. Н.г.'!J41","v":0},{"$f":"'Физ.разв. к 6г ч2. Н.г.'!K41","v":0},{"$f":"'Физ.разв. к 6г ч2. Н.г.'!L41","v":0},{"$f":"'Физ.разв. к 6г ч2. Н.г.'!M41","v":0},{"$f":"'Физ.разв. к 6г ч2. Н.г.'!N41","v":0},{"$f":"'Физ.разв. к 6г ч2. Н.г.'!O41","v":0},{"$f":"'Физ.разв. к 6г ч2. Н.г.'!P41","v":0},{"$f":"'Физ.разв. к 6г ч2. Н.г.'!Q41","v":0},{"$f":"'Физ.разв. к 6г ч2. Н.г.'!R41","v":0},{"$f":"'Физ.разв. к 6г ч2. Н.г.'!S41","v":0},{"$f":"'Физ.разв. к 6г ч2. Н.г.'!T41","v":0},{"$f":"'Физ.разв. к 6г ч2. Н.г.'!U41","v":0},{"$f":"'Физ.разв. к 6г ч2. Н.г.'!V41","v":0},{"$f":"'Физ.разв. к 6г ч2. Н.г.'!W41","v":0},{"$f":"'Физ.разв. к 6г ч2. Н.г.'!X41","v":0},{"$f":"'Физ.разв. к 6г ч2. Н.г.'!Y41","v":0}]
["конец года",{"$f":"'Худ.эст.к 6г ч1. К.г. '!E40","v":0},{"$f":"'Худ.эст.к 6г ч1. К.г. '!F40","v":0},{"$f":"'Худ.эст.к 6г ч1. К.г. '!G40","v":0},{"$f":"'Худ.эст.к 6г ч1. К.г. '!H40","v":0},{"$f":"'Худ.эст.к 6г ч1. К.г. '!I40","v":0},{"$f":"'Худ.эст.к 6г ч1. К.г. '!J40","v":0},{"$f":"'Худ.эст.к 6г ч1. К.г. '!K40","v":0},{"$f":"'Худ.эст.к 6г ч1. К.г. '!L40","v":0},{"$f":"'Худ.эст.к 6г ч1. К.г. '!M40","v":0},{"$f":"'Худ.эст.к 6г ч1. К.г. '!N40","v":0},{"$f":"'Худ.эст.к 6г ч1. К.г. '!O40","v":0},{"$f":"'Худ.эст.к 6г ч2. К.г. '!E40","v":0},{"$f":"'Худ.эст.к 6г ч2. К.г. '!F40","v":0},{"$f":"'Худ.эст.к 6г ч2. К.г. '!G40","v":0},{"$f":"'Худ.эст.к 6г ч2. К.г. '!H40","v":0},{"$f":"'Худ.эст.к 6г ч2. К.г. '!I40","v":0},{"$f":"'Худ.эст.к 6г ч2. К.г. '!J40","v":0},{"$f":"'Худ.эст.к 6г ч2. К.г. '!K40","v":0},{"$f":"'Худ.эст.к 6г ч2. К.г. '!L40","v":0},{"$f":"'Худ.эст.к 6г ч2. К.г. '!M40","v":0},{"$f":"'Худ.эст.к 6г ч3. К.г. '!E40","v":0},{"$f":"'Худ.эст.к 6г ч3. К.г. '!F40","v":0},{"$f":"'Худ.эст.к 6г ч3. К.г. '!G40","v":0},{"$f":"'Худ.эст.к 6г ч3. К.г. '!H40","v":0},{"$f":"'Худ.эст.к 6г ч3. К.г. '!I40","v":0},{"$f":"'Худ.эст.к 6г ч3. К.г. '!J40","v":0},{"$f":"'Худ.эст.к 6г ч3. К.г. '!K40","v":0},{"$f":"'Худ.эст.к 6г ч3. К.г. '!L40","v":0},{"$f":"'Реч.разв.к 6г ч1. К.г. '!E39","v":0},{"$f":"'Реч.разв.к 6г ч1. К.г. '!F39","v":0},{"$f":"'Реч.разв.к 6г ч1. К.г. '!G39","v":0},{"$f":"'Реч.разв.к 6г ч1. К.г. '!H39","v":0},{"$f":"'Реч.разв.к 6г ч1. К.г. '!I39","v":0},{"$f":"'Реч.разв.к 6г ч1. К.г. '!J39","v":0},{"$f":"'Реч.разв.к 6г ч1. К.г. '!K39","v":0},{"$f":"'Реч.разв.к 6г ч1. К.г. '!L39","v":0},{"$f":"'Реч.разв.к 6г ч2. К.г. '!E39","v":0},{"$f":"'Реч.разв.к 6г ч2. К.г. '!F39","v":0},{"$f":"'Реч.разв.к 6г ч2. К.г. '!G39","v":0},{"$f":"'Реч.разв.к 6г ч2. К.г. '!H39","v":0},{"$f":"'Реч.разв.к 6г ч2. К.г. '!I39","v":0},{"$f":"'Реч.разв.к 6г ч2. К.г. '!J39","v":0},{"$f":"'Реч.разв.к 6г ч2. К.г. '!K39","v":0},{"$f":"'Реч.разв.к 6г ч2. К.г. '!L39","v":0},{"$f":"'Реч.разв.к 6г ч2. К.г. '!M39","v":0},{"$f":"'Реч.разв.к 6г ч2. К.г. '!N39","v":0},{"$f":"'Реч.разв.к 6г ч2. К.г. '!O39","v":0},{"$f":"'Реч.разв.к 6г ч2. К.г. '!P39","v":0},{"$f":"'Реч.разв.к 6г ч2. К.г. '!Q39","v":0},{"$f":"'Позн.разв. к 6г ч1. К.г. '!E40","v":0},{"$f":"'Позн.разв. к 6г ч1. К.г. '!F40","v":0},{"$f":"'Позн.разв. к 6г ч1. К.г. '!G40","v":0},{"$f":"'Позн.разв. к 6г ч1. К.г. '!H40","v":0},{"$f":"'Позн.разв. к 6г ч1. К.г. '!I40","v":0},{"$f":"'Позн.разв. к 6г ч1. К.г. '!J40","v":0},{"$f":"'Позн.разв. к 6г ч1. К.г. '!K40","v":0},{"$f":"'Позн.разв. к 6г ч1. К.г. '!L40","v":0},{"$f":"'Позн.разв. к 6г ч1. К.г. '!M40","v":0},{"$f":"'Позн.разв. к 6г ч1. К.г. '!N40","v":0},{"$f":"'Позн.разв. к 6г ч1. К.г. '!O40","v":0},{"$f":"'Позн.разв. к 6г ч1. К.г. '!P40","v":0},{"$f":"'Позн.разв. к 6г ч1. К.г. '!Q40","v":0},{"$f":"'Позн.разв. к 6г ч1. К.г. '!R40","v":0},{"$f":"'Позн.разв. к 6г ч1. К.г. '!S40","v":0},{"$f":"'Позн.разв. к 6г ч2. К.г. '!E40","v":0},{"$f":"'Позн.разв. к 6г ч2. К.г. '!F40","v":0},{"$f":"'Позн.разв. к 6г ч2. К.г. '!G40","v":0},{"$f":"'Позн.разв. к 6г ч2. К.г. '!H40","v":0},{"$f":"'Позн.разв. к 6г ч2. К.г. '!I40","v":0},{"$f":"'Позн.разв. к 6г ч2. К.г. '!J40","v":0},{"$f":"'Соц.ком.к 6г ч1. К.г. '!$E$39","v":0},{"$f":"'Соц.ком.к 6г ч1. К.г. '!$E$39","v":0},{"$f":"'Соц.ком.к 6г ч1. К.г. '!$E$39","v":0},{"$f":"'Соц.ком.к 6г ч1. К.г. '!$E$39","v":0},{"$f":"'Соц.ком.к 6г ч1. К.г. '!$E$39","v":0},{"$f":"'Соц.ком.к 6г ч1. К.г. '!$E$39","v":0},{"$f":"'Соц.ком.к 6г ч1. К.г. '!$E$39","v":0},{"$f":"'Соц.ком.к 6г ч1. К.г. '!$E$39","v":0},{"$f":"'Соц.ком.к 6г ч1. К.г. '!$E$39","v":0},{"$f":"'Соц.ком.к 6г ч1. К.г. '!$E$39","v":0},{"$f":"'Соц.ком.к 6г ч1. К.г. '!$E$39","v":0},{"$f":"'Соц.ком.к 6г ч1. К.г. '!$E$39","v":0},{"$f":"'Соц.ком.к 6г ч1. К.г. '!$E$39","v":0},{"$f":"'Соц.ком.к 6г ч1. К.г. '!$E$39","v":0},{"$f":"'Соц.ком.к 6г ч1. К.г. '!$E$39","v":0},{"$f":"'Соц.ком.к 6г ч1. К.г. '!$E$39","v":0},{"$f":"'Соц.ком.к 6г ч1. К.г. '!$E$39","v":0},{"$f":"'Соц.ком. к 6г ч2 К.г.'!E39","v":0},{"$f":"'Соц.ком. к 6г ч2 К.г.'!F39","v":0},{"$f":"'Соц.ком. к 6г ч2 К.г.'!G39","v":0},{"$f":"'Соц.ком. к 6г ч2 К.г.'!H39","v":0},{"$f":"'Соц.ком. к 6г ч2 К.г.'!I39","v":0},{"$f":"'Соц.ком. к 6г ч2 К.г.'!J39","v":0},{"$f":"'Соц.ком. к 6г ч2 К.г.'!K39","v":0},{"$f":"'Соц.ком. к 6г ч2 К.г.'!L39","v":0},{"$f":"'Соц.ком. к 6г ч2 К.г.'!M39","v":0},{"$f":"'Физ.разв. к 6г ч1. К.г. '!E40","v":0},{"$f":"'Физ.разв. к 6г ч1. К.г. '!F40","v":0},{"$f":"'Физ.разв. к 6г ч1. К.г. '!G40","v":0},{"$f":"'Физ.разв. к 6г ч1. К.г. '!H40","v":0},{"$f":"'Физ.разв. к 6г ч1. К.г. '!I40","v":0},{"$f":"'Физ.разв. к 6г ч1. К.г. '!J40","v":0},{"$f":"'Физ.разв. к 6г ч1. К.г. '!K40","v":0},{"$f":"'Физ.разв. к 6г ч1. К.г. '!L40","v":0},{"$f":"'Физ.разв. к 6г ч1. К.г. '!M40","v":0},{"$f":"'Физ.разв. к 6г ч1. К.г. '!N40","v":0},{"$f":"'Физ.разв. к 6г ч1. К.г. '!O40","v":0},{"$f":"'Физ.разв. к 6г ч1. К.г. '!P40","v":0},{"$f":"'Физ.разв. к 6г ч1. К.г. '!Q40","v":0},{"$f":"'Физ.разв. к 6г ч1. К.г. '!R40","v":0},{"$f":"'Физ.разв. к 6г ч1. К.г. '!S40","v":0},{"$f":"'Физ.разв. к 6г ч1. К.г. '!T40","v":0},{"$f":"'Физ.разв. к 6г ч1. К.г. '!U40","v":0},{"$f":"'Физ.разв. к 6г ч1. К.г. '!V40","v":0},{"$f":"'Физ.разв. к 6г ч1. К.г. '!W40","v":0},{"$f":"'Физ.разв. к 6г ч1. К.г. '!X40","v":0},{"$f":"'Физ.разв. к 6г ч2. К.г. '!E41","v":0},{"$f":"'Физ.разв. к 6г ч2. К.г. '!F41","v":0},{"$f":"'Физ.разв. к 6г ч2. К.г. '!G41","v":0},{"$f":"'Физ.разв. к 6г ч2. К.г. '!H41","v":0},{"$f":"'Физ.разв. к 6г ч2. К.г. '!I41","v":0},{"$f":"'Физ.разв. к 6г ч2. К.г. '!J41","v":0},{"$f":"'Физ.разв. к 6г ч2. К.г. '!K41","v":0},{"$f":"'Физ.разв. к 6г ч2. К.г. '!L41","v":0},{"$f":"'Физ.разв. к 6г ч2. К.г. '!M41","v":0},{"$f":"'Физ.разв. к 6г ч2. К.г. '!N41","v":0},{"$f":"'Физ.разв. к 6г ч2. К.г. '!O41","v":0},{"$f":"'Физ.разв. к 6г ч2. К.г. '!P41","v":0},{"$f":"'Физ.разв. к 6г ч2. К.г. '!Q41","v":0},{"$f":"'Физ.разв. к 6г ч2. К.г. '!R41","v":0},{"$f":"'Физ.разв. к 6г ч2. К.г. '!S41","v":0},{"$f":"'Физ.разв. к 6г ч2. К.г. '!T41","v":0},{"$f":"'Физ.разв. к 6г ч2. К.г. '!U41","v":0},{"$f":"'Физ.разв. к 6г ч2. К.г. '!V41","v":0},{"$f":"'Физ.разв. к 6г ч2. К.г. '!W41","v":0},{"$f":"'Физ.разв. к 6г ч2. К.г. '!X41","v":0},{"$f":"'Физ.разв. к 6г ч2. К.г. '!Y41","v":0}]

{"sheet":"30","index":57,"n_rows":11,"n_cols":138,"rows_kept":11,"merged":[[4,117,4,122],[4,123,4,126],[4,127,4,129],[4,130,4,132],[4,134,4,137],[5,0,8,0],[5,1,5,11],[5,12,5,19],[5,21,6,26],[5,27,6,28],[5,50,5,52],[5,53,5,55],[5,56,5,64],[5,65,5,66],[5,67,5,70],[5,117,5,118],[5,119,5,122],[5,123,6,123],[5,124,6,124],[5,125,6,125],[5,126,6,126],[5,127,8,127],[5,128,8,128],[5,129,8,129],[5,130,8,130],[5,131,8,131],[5,132,8,132],[5,133,8,133],[5,134,5,137],[6,1,6,4],[6,9,6,10],[6,12,6,13],[6,16,6,17],[6,18,6,19],[6,20,8,20],[6,30,6,31],[6,32,6,36],[6,38,6,43],[6,45,6,49],[6,53,8,53],[6,54,8,54],[6,55,8,55],[6,56,6,58],[6,62,6,64],[6,65,7,66],[6,67,6,68],[6,69,6,70],[6,71,6,87],[6,88,6,90],[6,91,6,95],[6,97,6,98],[6,99,6,101],[6,102,6,104],[6,105,6,107],[6,108,6,112],[6,113,6,114],[6,115,6,116],[6,117,8,117],[6,118,8,118],[6,119,8,119],[6,120,8,120],[6,121,8,121],[6,122,8,122],[6,134,8,134],[6,135,8,135],[6,136,8,136],[6,137,8,137],[7,1,8,1],[7,2,8,2],[7,3,8,3],[7,4,8,4],[7,5,8,5],[7,6,8,6],[7,7,8,7],[7,8,8,8],[7,9,8,9],[7,10,8,10],[7,11,8,11],[7,12,8,12],[7,13,8,13],[7,14,8,14],[7,15,8,15],[7,16,8,16],[7,17,8,17],[7,18,8,18],[7,19,8,19],[7,21,8,21],[7,22,8,22],[7,23,8,23],[7,24,8,24],[7,25,8,25],[7,26,8,26],[7,27,8,27],[7,28,8,28],[7,29,8,29],[7,30,8,30],[7,31,8,31],[7,32,8,32],[7,33,8,33],[7,34,8,34],[7,35,8,35],[7,36,8,36],[7,37,8,37],[7,38,8,38],[7,39,8,39],[7,40,8,40],[7,41,8,41],[7,42,8,42],[7,43,8,43],[7,44,8,44],[7,45,8,45],[7,46,8,46],[7,47,8,47],[7,48,8,48],[7,49,8,49],[7,50,7,52],[7,56,8,56],[7,57,8,57],[7,58,8,58],[7,59,8,59],[7,60,8,60],[7,61,8,61],[7,62,8,62],[7,63,8,63],[7,64,8,64],[7,67,8,67],[7,68,8,68],[7,69,8,69],[7,70,8,70],[7,71,7,72],[7,73,7,74],[7,75,7,76],[7,77,7,80],[7,82,7,84],[7,85,7,87],[7,88,8,88],[7,89,8,89],[7,90,8,90],[7,91,8,91],[7,92,8,92],[7,93,8,93],[7,94,8,94],[7,95,8,95],[7,96,8,96],[7,97,8,97],[7,98,8,98],[7,99,8,99],[7,100,8,100],[7,101,8,101],[7,102,7,104],[7,105,7,107],[7,108,7,112],[7,113,8,113],[7,114,8,114],[7,115,7,116],[7,123,8,123],[7,124,8,124],[7,125,8,125],[7,126,8,126]]}
[]
[]
[]
[]
[{"$nulls":117},"Мелкая моторика",{"$nulls":5},"КГН",{"$nulls":3},"ЗОЖ",null,null,"Подвижные игры",null,null,"Спорт. игры","Спортивные упражнения"]
[{"$f":"Список!B33","v":0},"Музыкальная деятельность",{"$nulls":10},"Изобразительная деятельность",{"$nulls":8},"Приобщение к искусству",{"$nulls":5},"Конструктивная деятельность",{"$nulls":22},"Сенсорные эталоны ",null,null,"Познавательные действия",null,null,"Математические представления",{"$nulls":8},"Окружающий мир",null,"Природа ",{"$nulls":49},"Координация рук и глаз",null,"Графические навыки",{"$nulls":3},"Навыки соблюдения чистоты тела (правила личной гигиены)","Навыки культуры еды (прием пищи) ","Навыки поддержания порядка (правила поведения в быту) ","Навыки ухода за собой (одевание, раздевание) ","Ребенок имеет представление о факторах, положительно/негативно влияющих на здоровье; владеет основными способами укрепления здоровья","Ребенок имеет представление о некоторых видах спорта (9 и больше), роли спорта для укрепления здоровья","Ребенок проявляет заботливое отношение к своему здоровью и здоровью окружающих","Ребенок проявляет доступный возрасту самоконтроль","Ребенок  способен привлечь внимание других детей и организовать знакомую подвижную игру","Ребенок придумывает новые варианты игр, комбинирует движения","Ребенок имеет представление об элементах спортивных игр (городки, баскетбол, бадминтон, футбол), умеет выполнять некоторые виды движений","Ребенок умеет кататься"]
[null,"Слушание",{"$nulls":3},"Пение ","Музыкально-ритмические движения","Песенное творчество","Игра на детских музыкальных инструментах","Театрализованная деятельность",null,"Танцевально-игровое творчество","Рисование ",null,"Лепка ","Аппликация ","Народное ДПИ",null,"Прикладное творчество",null,"Ребенок самостоятельно определяет замысел рисунка, аппликации, лепки, поделки, создает образы и композиционные изображения, использует разнообразные материалы",{"$nulls":8},"Общее речевое развитие","Формирование словаря",null,"Грамматический строй",{"$nulls":4},"Звуковая культура речи","Связная речь",{"$nulls":5},"ЧХЛ","Подготовка к обучению грамоте",{"$nulls":4},"Цвет, оттенки","Форма, геометрические фигуры","Величина","Ребенок охотно участвует в обсуждении проблемы для совместного нахождения способов ее решения, предлагает пути решения, устанавливает закономерности причинно-следственного характера, проявляет любознательность","Ребенок использует математические знания, способы и средства для познания окружающего мира","Ребенок способен к произвольным умственным действиям, логическим операциям анализа, сравнения, обобщения, систематизации, классификации","Количество и счет",null,null,"Ориентировка во времени","Ориентировка в пространстве","Пространственно-количественные связи и отношения","Сравнение",null,null,"Ребенок имеет представления, может показать на картинке и в естественной среде, может рассказать",null,"Объекты живой природы",null,"Объекты неживой природы, природные явления",null,"Сфера социальных отношений",{"$nulls":16},"Область формирования основ гражданственности и патриотизма",null,null,"Сфера трудового воспитания",{"$nulls":4},"Область формирования основ безопасного поведения","Бросание, катание, ловля, метание",null,"Ползанье, лазанье",null,null,"Ходьба",null,null,"Бег",null,null,"Прыжки",{"$nulls":4},"Равновесие",null,"Строевые упражнения",null,"Ребенок может найти выход из лабиринта","Ребенок может нарисовать простой узор, изображение, не отрывая руки","Ребенок может повторить узор с чередующимися элементами","Ребенок закрашивает контурное изображение с множеством мелких деталей, не выходя за контур","Ребенок может соединить точки для получения изображения","Ребенок рисует геометрический орнамент по клеткам",{"$nulls":11},"на санках","на лыжах","на двухколесном велосипеде","на самокате"]
[null,"Ребенок различает жанры музыкальных произведений (песня, танец, марш)","Ребенок узнает мелодию по отдельным фрагментам произведения (вступление, заключение, музыкальная фраза)","Ребенок различает звуки по высоте в пределах квинты","Ребенок различает звучание музыкальных инструментов (клавишно-ударных, струнных)","Ребенок демонстрирует развитые певческие навыки","Ребенок демонстрирует развитые навыки исполнения танцевальных движений","Ребенок может импровизировать мелодию на заданный текст","Ребенок демонстрирует навыки игры на детских музыкальных инструментах","Ребенок имеет представление о различных видах театрального искусства","Ребенок с удовольствие занимается театрализованной деятельностью","Ребенок может придумывать движения к танцам","Ребенок передает в изображении основные свойства предметов (форма, величина, цвет), характерные детали, соотношение предметов и их частей по величине, высоте, расположению относительно друг друга","Ребенок владеет основными способами и приемами рисования различными изобразительными материалами (цветные карандаши, гуашь, акварель, цветные мелки, пастель, сангина, угольный карандаш, фломастеры)","Ребенок лепит с натуры и по представлению знакомые предметы, передавая характерные особенности пластическим, конструктивным и комбинированным способами","Ребенок умеет пользоваться ножницами","Ребенок имеет представление о полхов-майданской, гжельской росписи","Ребенок может нарисовать узор, используя элементы  росписи","Ребенок умеет работать с бумагой (сгибать лист, сглаживать сгибы, надрезать по сгибам)","Ребенок умеет работать с природным и бросовым материалом",null,"Ребенок умеет выделять, называть, группировать произведения по видам искусства: литература, музыка, изобразительное искусство, архитектура, театр, цирк","Ребенок имеет представление о видах изобразительного искусства: графика, декоративно-прикладное искусство, живопись, скульптура, архитектура, фотоискусство","Ребенок имеет представление о жанрах изобразительного искусства: натюрморт, пейзаж, портрет","Ребенок имеет представление о народном искусстве, фольклоре, музыке и художественных промыслах","Ребенок имеет представление о творческих профессиях: художник, композитор, музыкант, актер, артист балета","Ребенок имеет представление о культурно-досуговых местах: театр, музей, библиотека, выставка, кинотеатр, цирк и др.","Ребенок может провести анализ постройки (выделить основные части и характерные детали конструкций)","Ребенок может выполнить постройку по инструкции","Ребенок внятно разговаривает","Ребенок умеет обобщать предметы в группы по существенным признакам","Ребенок демонстрирует богатый словарный запас","Ребенок правильно использует в речи: несклоняемые существительные","Ребенок правильно использует в речи: слова, имеющие только множественное или только единственное число","Ребенок правильно использует в речи: глаголы одеть-надеть","Ребенок правильно использует в речи: существительные множественного числа в родительном падеже","Ребенок правильно образовывает слова с помощью суффикса, приставки","Ребенок правильно произносит сонорные звуки: л-ль, р-рь","Ребенок пересказывает литературные произведения по ролям, по частям, правильно передавая идею и содержание","Ребенок пользуется прямой и косвенной речью","Ребенок составляет короткий описательный рассказ о предметах, объектах и явлениях природы, из личного опыта","Ребенок сочиняет сюжетные рассказы по картине, из личного опыта","Ребенок проявляет речевое творчество: придумывает продолжение и окончание к рассказу, рассказы по аналогии, по плану педагога, по модели","Ребенок владеет первичными приемами аргументации и доказательства","Ребенок проявляет избирательное отношение к произведениям определенной тематики и жанра","Ребенок понимает термины: слово: звук, буква, предложение, гласный звук, согласный звук","Ребенок может провести звуковой анализ слова, разделить на слоги двух-, трехслоговые слова; составляет схему слова","Ребенок различает гласные-согласные звуки","Ребенок определяет твердые-мягкие согласные","Ребенок составляет предложение по модели, определяет количество и последовательность слов в предложении","Ребенок различает и называет",{"$nulls":5},"Ребенок знает/называет/находит среди других цифры 0 -10","Ребенок выполняет количественный и порядковый счет в пределах 0-10","Ребенок знает состав чисел из единиц в пределах 5","Ребенок понимает календарные единицы времени (сутки, неделя, месяц, год)","Ребенок ориентируется на листе бумаги","Ребенок понимает простейшую графическую информацию об отношениях предметов (слева направо, справа налево, снизу вверх, сверху вниз)","Ребенок выделяет сходства и отличия между группами предметов","Ребенок сравнивает предметы по 3-5 признакам","Ребенок группирует предметы по разным основаниям, преимущественно на основе зрительной оценки",null,null,"Ребенок имеет представление о сходстве и различии во внешнем виде и образе жизни объектов животного и растительного мира в разные сезоны года","Ребенок может сравнивать, группировать объекты живой природы по их особенностям, мету обитания, образу жизни, питанию","Ребенок имеет представление о признаках разных времен года","Ребенок наблюдает за явлениями природы, фиксирует результаты наблюдения","Отношение к самому себе",null,"Отношение к сверстникам",null,"Отношение к взрослым",null,"Эмоции",{"$nulls":3},"Поведение","Семья",null,null,"Игровое поведение",null,null,"Ребенок имеет представление о государственных символах России (герб, гимн, флаг)","Ребенок имеет представление о государственных праздниках России","Ребенок знает/может назвать/показать на картинке и в естественной среде достопримечательности населенного пункта, в котором живет","Ребенок имеет представления о разных видах производительного труда (промышленность, строительство, сельское хозяйство)","Ребенок имеет представления о разных видах обслуживающего труда (сфера досуга и отдыха, сфера культуры, медицина, торговля)","Ребенок имеет представление о структуре трудового процесса (мотив, цель, инструменты, оборудование, содержание действий, выбор трудовых действий, результат)","Ребенок имеет элементарные экономические представления (назначение рекламы, денег)","Ребенок охотно участвует в выполнении трудовых поручений, дежурстве; может распределять трудовые обязанности с другими","Ребенок имеет представления/ соблюдает правила поведения в быту, на улице, в природе, в общении с людьми, с животными","Ребенок выполняет различные упражнения с мячом (прокатывание, передача, перебрасывание, ведение, подбрасывание, ловля, забрасывание)","Ребенок выполняет метание в цель, метание в даль предметов разной массы","Ребенок выполняет ползанье разными способами (на четвереньках, на животе)","Ребенок выполняет переползание через несколько предметов подряд, под дугами, в туннеле","Ребенок выполняет лазанье по гимнастической стенке чередующимся шагом","Ребенок выполняет различные виды ходьбы",null,null,"Ребенок выполняет различные виды бега",null,null,"Ребенок выполняет различные виды прыжков",{"$nulls":4},"Ребенок выполняет стойку на одной ноге ","Ребенок выполняет упражнение \"ласточка\" ","Ребенок выполняет различные виды строевых упражнений",{"$nulls":7},"Ребенок выполняет самостоятельно","Ребенок выполняет самостоятельно","Ребенок выполняет самостоятельно","Ребенок выполняет самостоятельно"]
[{"$nulls":50},"Ребенок называет/различает все цвета спектра и ахроматические цвета, оттенки цвета, тоны цвета, теплые и холодные оттенки","Ребенок владеет способами воссоздания фигуры из частей, деления фигуры на части","Ребенок может выстраивать сериационные ряды предметов, различающихся по размеру в возрастающем и убывающем порядке в пределах 10",{"$nulls":12},"о многообразии людей разных национальностей (особенностей внешнего вида, одежды, традиций)","Ребенок имеет представление о многообразии стран и народов мира",{"$nulls":4},"Ребенок может рассказать о себе, выразить собственные потребности, желания","Ребенок имеет представление о некоторых своих правах","Ребенок имеет предпочтения в общении","Ребенок охотно вступает в общение со сверстниками","Ребенок уважительно относится к взрослым, пожилым людям","Ребенок охотно вступает в общение со взрослыми","Ребенок понимает свои и чужие эмоциональные состояния, демонстрирует примеры эмоциональной поддержки ","Ребенок  откликается на просьбу помочь","Ребенок выразить чувства и эмоции в мимике, пантомимике, действиях, интонации","Ребенок демонстрирует адекватные возрасту способы регуляции эмоциональных состояний","Ребенок ориентируется на общепринятые нормы и правила культуры поведения","Ребенок знает членов своей семьи, ближайших родственников по линии матери и отца","Ребенок имеет представление о способах поддержки родственных связей (переписка, разговор, совместный отдых, традиции, походы в гости и др.)","Ребенок проявляет заботу по отношению к членам своей семьи, оказывает посильную помощь больному члену семьи","Ребенок в совместной деятельности принимает общую цель, договаривается о способах деятельности и материалах, может уступить в конфликтной ситуации","Ребенок проявляет интерес к игровому экспериментированию, развивающим и познавательным играм","Ребенок способен действовать в точном соответствие с игровой задачей и правилами",{"$nulls":14},"обычным шагом, на носках, на пятках, с высоким подниманием колен","приставной, в полуприседе, мелким и широким, перекатом с пятки на носок, гимнастическим","змейкой без ориентиров, в колонне по одному и по два","в колонне по одному, змейкой, с перестроением на ходу в пары, звенья","со сменой ведущих, с пролезанием в обруч, с ловлей и увертыванием, высоко поднимая колени","между расставленными предметами, в заданном темпе, мелким и широким шагом","подпрыгивание, перепрыгивание, спрыгивание","в длину с места","в высоту с разбега","в длину с разбега","со скакалкой",null,null,"построения (по росту, в колонну по одному, в шеренгу, в круг)","в колонну по три, в две шеренги на месте, расхождение из колонны в разные стороны"]
["начало года",{"$f":"'Худ.эст.к 6г ч1. Н.г.'!E41","v":0},{"$f":"'Худ.эст.к 6г ч1. Н.г.'!F41","v":0},{"$f":"'Худ.эст.к 6г ч1. Н.г.'!G41","v":0},{"$f":"'Худ.эст.к 6г ч1. Н.г.'!H41","v":0},{"$f":"'Худ.эст.к 6г ч1. Н.г.'!I41","v":0},{"$f":"'Худ.эст.к 6г ч1. Н.г.'!J41","v":0},{"$f":"'Худ.эст.к 6г ч1. Н.г.'!K41","v":0},{"$f":"'Худ.эст.к 6г ч1. Н.г.'!L41","v":0},{"$f":"'Худ.эст.к 6г ч1. Н.г.'!M41","v":0},{"$f":"'Худ.эст.к 6г ч1. Н.г.'!N41","v":0},{"$f":"'Худ.эст.к 6г ч1. Н.г.'!O41","v":0},{"$f":"'Худ.эст.к 6г ч2. Н.г.'!E41","v":0},{"$f":"'Худ.эст.к 6г ч2. Н.г.'!F41","v":0},{"$f":"'Худ.эст.к 6г ч2. Н.г.'!G41","v":0},{"$f":"'Худ.эст.к 6г ч2. Н.г.'!H41","v":0},{"$f":"'Худ.эст.к 6г ч2. Н.г.'!I41","v":0},{"$f":"'Худ.эст.к 6г ч2. Н.г.'!J41","v":0},{"$f":"'Худ.эст.к 6г ч2. Н.г.'!K41","v":0},{"$f":"'Худ.эст.к 6г ч2. Н.г.'!L41","v":0},{"$f":"'Худ.эст.к 6г ч2. Н.г.'!M41","v":0},{"$f":"'Худ.эст.к 6г ч3. Н.г.'!E41","v":0},{"$f":"'Худ.эст.к 6г ч3. Н.г.'!F41","v":0},{"$f":"'Худ.эст.к 6г ч3. Н.г.'!G41","v":0},{"$f":"'Худ.эст.к 6г ч3. Н.г.'!H41","v":0},{"$f":"'Худ.эст.к 6г ч3. Н.г.'!I41","v":0},{"$f":"'Худ.эст.к 6г ч3. Н.г.'!J41","v":0},{"$f":"'Худ.эст.к 6г ч3. Н.г.'!K41","v":0},{"$f":"'Худ.эст.к 6г ч3. Н.г.'!L41","v":0},{"$f":"'Реч.разв.к 6г ч1. Н.г.'!E40","v":0},{"$f":"'Реч.разв.к 6г ч1. Н.г.'!F40","v":0},{"$f":"'Реч.разв.к 6г ч1. Н.г.'!G40","v":0},{"$f":"'Реч.разв.к 6г ч1. Н.г.'!H40","v":0},{"$f":"'Реч.разв.к 6г ч1. Н.г.'!I40","v":0},{"$f":"'Реч.разв.к 6г ч1. Н.г.'!J40","v":0},{"$f":"'Реч.разв.к 6г ч1. Н.г.'!K40","v":0},{"$f":"'Реч.разв.к 6г ч1. Н.г.'!L40","v":0},{"$f":"'Реч.разв.к 6г ч2. Н.г.'!E40","v":0},{"$f":"'Реч.разв.к 6г ч2. Н.г.'!F40","v":0},{"$f":"'Реч.разв.к 6г ч2. Н.г.'!G40","v":0},{"$f":"'Реч.разв.к 6г ч2. Н.г.'!H40","v":0},{"$f":"'Реч.разв.к 6г ч2. Н.г.'!I40","v":0},{"$f":"'Реч.разв.к 6г ч2. Н.г.'!J40","v":0},{"$f":"'Реч.разв.к 6г ч2. Н.г.'!K40","v":0},{"$f":"'Реч.разв.к 6г ч2. Н.г.'!L40","v":0},{"$f":"'Реч.разв.к 6г ч2. Н.г.'!M40","v":0},{"$f":"'Реч.разв.к 6г ч2. Н.г.'!N40","v":0},{"$f":"'Реч.разв.к 6г ч2. Н.г.'!O40","v":0},{"$f":"'Реч.разв.к 6г ч2. Н.г.'!P40","v":0},{"$f":"'Реч.разв.к 6г ч2. Н.г.'!Q40","v":0},{"$f":"'Позн.разв. к 6г ч1. Н.г.'!E41","v":0},{"$f":"'Позн.разв. к 6г ч1. Н.г.'!F41","v":0},{"$f":"'Позн.разв. к 6г ч1. Н.г.'!G41","v":0},{"$f":"'Позн.разв. к 6г ч1. Н.г.'!H41","v":0},{"$f":"'Позн.разв. к 6г ч1. Н.г.'!I41","v":0},{"$f":"'Позн.разв. к 6г ч1. Н.г.'!J41","v":0},{"$f":"'Позн.разв. к 6г ч1. Н.г.'!K41","v":0},{"$f":"'Позн.разв. к 6г ч1. Н.г.'!L41","v":0},{"$f":"'Позн.разв. к 6г ч1. Н.г.'!M41","v":0},{"$f":"'Позн.разв. к 6г ч1. Н.г.'!N41","v":0},{"$f":"'Позн.разв. к 6г ч1. Н.г.'!O41","v":0},{"$f":"'Позн.разв. к 6г ч1. Н.г.'!P41","v":0},{"$f":"'Позн.разв. к 6г ч1. Н.г.'!Q41","v":0},{"$f":"'Позн.разв. к 6г ч1. Н.г.'!R41","v":0},{"$f":"'Позн.разв. к 6г ч1. Н.г.'!S41","v":0},{"$f":"'Позн.разв. к 6г ч2. Н.г.'!E41","v":0},{"$f":"'Позн.разв. к 6г ч2. Н.г.'!F41","v":0},{"$f":"'Позн.разв. к 6г ч2. Н.г.'!G41","v":0},{"$f":"'Позн.разв. к 6г ч2. Н.г.'!H41","v":0},{"$f":"'Позн.разв. к 6г ч2. Н.г.'!I41","v":0},{"$f":"'Позн.разв. к 6г ч2. Н.г.'!J41","v":0},{"$f":"'Соц.ком.к 6г ч1. Н.г.'!E40","v":0},{"$f":"'Соц.ком.к 6г ч1. Н.г.'!F40","v":0},{"$f":"'Соц.ком.к 6г ч1. Н.г.'!G40","v":0},{"$f":"'Соц.ком.к 6г ч1. Н.г.'!H40","v":0},{"$f":"'Соц.ком.к 6г ч1. Н.г.'!I40","v":0},{"$f":"'Соц.ком.к 6г ч1. Н.г.'!J40","v":0},{"$f":"'Соц.ком.к 6г ч1. Н.г.'!K40","v":0},{"$f":"'Соц.ком.к 6г ч1. Н.г.'!L40","v":0},{"$f":"'Соц.ком.к 6г ч1. Н.г.'!M40","v":0},{"$f":"'Соц.ком.к 6г ч1. Н.г.'!N40","v":0},{"$f":"'Соц.ком.к 6г ч1. Н.г.'!O40","v":0},{"$f":"'Соц.ком.к 6г ч1. Н.г.'!P40","v":0},{"$f":"'Соц.ком.к 6г ч1. Н.г.'!Q40","v":0},{"$f":"'Соц.ком.к 6г ч1. Н.г.'!R40","v":0},{"$f":"'Соц.ком.к 6г ч1. Н.г.'!S40","v":0},{"$f":"'Соц.ком.к 6г ч1. Н.г.'!T40","v":0},{"$f":"'Соц.ком.к 6г ч1. Н.г.'!U40","v":0},{"$f":"'Соц.ком. к 6г ч2. Н.г.'!E40","v":0},{"$f":"'Соц.ком. к 6г ч2. Н.г.'!F40","v":0},{"$f":"'Соц.ком. к 6г ч2. Н.г.'!G40","v":0},{"$f":"'Соц.ком. к 6г ч2. Н.г.'!H40","v":0},{"$f":"'Соц.ком. к 6г ч2. Н.г.'!I40","v":0},{"$f":"'Соц.ком. к 6г ч2. Н.г.'!J40","v":0},{"$f":"'Соц.ком. к 6г ч2. Н.г.'!K40","v":0},{"$f":"'Соц.ком. к 6г ч2. Н.г.'!L40","v":0},{"$f":"'Соц.ком. к 6г ч2. Н.г.'!M40","v":0},{"$f":"'Физ.разв. к 6г ч1. Н.г.'!E41","v":0},{"$f":"'Физ.разв. к 6г ч1. Н.г.'!F41","v":0},{"$f":"'Физ.разв. к 6г ч1. Н.г.'!G41","v":0},{"$f":"'Физ.разв. к 6г ч1. Н.г.'!H41","v":0},{"$f":"'Физ.разв. к 6г ч1. Н.г.'!I41","v":0},{"$f":"'Физ.разв. к 6г ч1. Н.г.'!J41","v":0},{"$f":"'Физ.разв. к 6г ч1. Н.г.'!K41","v":0},{"$f":"'Физ.разв. к 6г ч1. Н.г.'!L41","v":0},{"$f":"'Физ.разв. к 6г ч1. Н.г.'!M41","v":0},{"$f":"'Физ.разв. к 6г ч1. Н.г.'!N41","v":0},{"$f":"'Физ.разв. к 6г ч1. Н.г.'!O41","v":0},{"$f":"'Физ.разв. к 6г ч1. Н.г.'!P41","v":0},{"$f":"'Физ.разв. к 6г ч1. Н.г.'!Q41","v":0},{"$f":"'Физ.разв. к 6г ч1. Н.г.'!R41","v":0},{"$f":"'Физ.разв. к 6г ч1. Н.г.'!S41","v":0},{"$f":"'Физ.разв. к 6г ч1. Н.г.'!T41","v":0},{"$f":"'Физ.разв. к 6г ч1. Н.г.'!U41","v":0},{"$f":"'Физ.разв. к 6г ч1. Н.г.'!V41","v":0},{"$f":"'Физ.разв. к 6г ч1. Н.г.'!W41","v":0},{"$f":"'Физ.разв. к 6г ч1. Н.г.'!X41","v":0},{"$f":"'Физ.разв. к 6г ч2. Н.г.'!E42","v":0},{"$f":"'Физ.разв. к 6г ч2. Н.г.'!F42","v":0},{"$f":"'Физ.разв. к 6г ч2. Н.г.'!G42","v":0},{"$f":"'Физ.разв. к 6г ч2. Н.г.'!H42","v":0},{"$f":"'Физ.разв. к 6г ч2. Н.г.'!I42","v":0},{"$f":"'Физ.разв. к 6г ч2. Н.г.'!J42","v":0},{"$f":"'Физ.разв. к 6г ч2. Н.г.'!K42","v":0},{"$f":"'Физ.разв. к 6г ч2. Н.г.'!L42","v":0},{"$f":"'Физ.разв. к 6г ч2. Н.г.'!M42","v":0},{"$f":"'Физ.разв. к 6г ч2. Н.г.'!N42","v":0},{"$f":"'Физ.разв. к 6г ч2. Н.г.'!O42","v":0},{"$f":"'Физ.разв. к 6г ч2. Н.г.'!P42","v":0},{"$f":"'Физ.разв. к 6г ч2. Н.г.'!Q42","v":0},{"$f":"'Физ.разв. к 6г ч2. Н.г.'!R42","v":0},{"$f":"'Физ.разв. к 6г ч2. Н.г.'!S42","v":0},{"$f":"'Физ.разв. к 6г ч2. Н.г.'!T42","v":0},{"$f":"'Физ.разв. к 6г ч2. Н.г.'!U42","v":0},{"$f":"'Физ.разв. к 6г ч2. Н.г.'!V42","v":0},{"$f":"'Физ.разв. к 6г ч2. Н.г.'!W42","v":0},{"$f":"'Физ.разв. к 6г ч2. Н.г.'!X42","v":0},{"$f":"'Физ.разв. к 6г ч2. Н.г.'!Y42","v":0}]
["конец года",{"$f":"'Худ.эст.к 6г ч1. К.г. '!E41","v":0},{"$f":"'Худ.эст.к 6г ч1. К.г. '!F41","v":0},{"$f":"'Худ.эст.к 6г ч1. К.г. '!G41","v":0},{"$f":"'Худ.эст.к 6г ч1. К.г. '!H41","v":0},{"$f":"'Худ.эст.к 6г ч1. К.г. '!I41","v":0},{"$f":"'Худ.эст.к 6г ч1. К.г. '!J41","v":0},{"$f":"'Худ.эст.к 6г ч1. К.г. '!K41","v":0},{"$f":"'Худ.эст.к 6г ч1. К.г. '!L41","v":0},{"$f":"'Худ.эст.к 6г ч1. К.г. '!M41","v":0},{"$f":"'Худ.эст.к 6г ч1. К.г. '!N41","v":0},{"$f":"'Худ.эст.к 6г ч1. К.г. '!O41","v":0},{"$f":"'Худ.эст.к 6г ч2. К.г. '!E41","v":0},{"$f":"'Худ.эст.к 6г ч2. К.г. '!F41","v":0},{"$f":"'Худ.эст.к 6г ч2. К.г. '!G41","v":0},{"$f":"'Худ.эст.к 6г ч2. К.г. '!H41","v":0},{"$f":"'Худ.эст.к 6г ч2. К.г. '!I41","v":0},{"$f":"'Худ.эст.к 6г ч2. К.г. '!J41","v":0},{"$f":"'Худ.эст.к 6г ч2. К.г. '!K41","v":0},{"$f":"'Худ.эст.к 6г ч2. К.г. '!L41","v":0},{"$f":"'Худ.эст.к 6г ч2. К.г. '!M41","v":0},{"$f":"'Худ.эст.к 6г ч3. К.г. '!E41","v":0},{"$f":"'Худ.эст.к 6г ч3. К.г. '!F41","v":0},{"$f":"'Худ.эст.к 6г ч3. К.г. '!G41","v":0},{"$f":"'Худ.эст.к 6г ч3. К.г. '!H41","v":0},{"$f":"'Худ.эст.к 6г ч3. К.г. '!I41","v":0},{"$f":"'Худ.эст.к 6г ч3. К.г. '!J41","v":0},{"$f":"'Худ.эст.к 6г ч3. К.г. '!K41","v":0},{"$f":"'Худ.эст.к 6г ч3. К.г. '!L41","v":0},{"$f":"'Реч.разв.к 6г ч1. К.г. '!E40","v":0},{"$f":"'Реч.разв.к 6г ч1. К.г. '!F40","v":0},{"$f":"'Реч.разв.к 6г ч1. К.г. '!G40","v":0},{"$f":"'Реч.разв.к 6г ч1. К.г. '!H40","v":0},{"$f":"'Реч.разв.к 6г ч1. К.г. '!I40","v":0},{"$f":"'Реч.разв.к 6г ч1. К.г. '!J40","v":0},{"$f":"'Реч.разв.к 6г ч1. К.г. '!K40","v":0},{"$f":"'Реч.разв.к 6г ч1. К.г. '!L40","v":0},{"$f":"'Реч.разв.к 6г ч2. К.г. '!E40","v":0},{"$f":"'Реч.разв.к 6г ч2. К.г. '!F40","v":0},{"$f":"'Реч.разв.к 6г ч2. К.г. '!G40","v":0},{"$f":"'Реч.разв.к 6г ч2. К.г. '!H40","v":0},{"$f":"'Реч.разв.к 6г ч2. К.г. '!I40","v":0},{"$f":"'Реч.разв.к 6г ч2. К.г. '!J40","v":0},{"$f":"'Реч.разв.к 6г ч2. К.г. '!K40","v":0},{"$f":"'Реч.разв.к 6г ч2. К.г. '!L40","v":0},{"$f":"'Реч.разв.к 6г ч2. К.г. '!M40","v":0},{"$f":"'Реч.разв.к 6г ч2. К.г. '!N40","v":0},{"$f":"'Реч.разв.к 6г ч2. К.г. '!O40","v":0},{"$f":"'Реч.разв.к 6г ч2. К.г. '!P40","v":0},{"$f":"'Реч.разв.к 6г ч2. К.г. '!Q40","v":0},{"$f":"'Позн.разв. к 6г ч1. К.г. '!E41","v":0},{"$f":"'Позн.разв. к 6г ч1. К.г. '!F41","v":0},{"$f":"'Позн.разв. к 6г ч1. К.г. '!G41","v":0},{"$f":"'Позн.разв. к 6г ч1. К.г. '!H41","v":0},{"$f":"'Позн.разв. к 6г ч1. К.г. '!I41","v":0},{"$f":"'Позн.разв. к 6г ч1. К.г. '!J41","v":0},{"$f":"'Позн.разв. к 6г ч1. К.г. '!K41","v":0},{"$f":"'Позн.разв. к 6г ч1. К.г. '!L41","v":0},{"$f":"'Позн.разв. к 6г ч1. К.г. '!M41","v":0},{"$f":"'Позн.разв. к 6г ч1. К.г. '!N41","v":0},{"$f":"'Позн.разв. к 6г ч1. К.г. '!O41","v":0},{"$f":"'Позн.разв. к 6г ч1. К.г. '!P41","v":0},{"$f":"'Позн.разв. к 6г ч1. К.г. '!Q41","v":0},{"$f":"'Позн.разв. к 6г ч1. К.г. '!R41","v":0},{"$f":"'Позн.разв. к 6г ч1. К.г. '!S41","v":0},{"$f":"'Позн.разв. к 6г ч2. К.г. '!E41","v":0},{"$f":"'Позн.разв. к 6г ч2. К.г. '!F41","v":0},{"$f":"'Позн.разв. к 6г ч2. К.г. '!G41","v":0},{"$f":"'Позн.разв. к 6г ч2. К.г. '!H41","v":0},{"$f":"'Позн.разв. к 6г ч2. К.г. '!I41","v":0},{"$f":"'Позн.разв. к 6г ч2. К.г. '!J41","v":0},{"$f":"'Соц.ком.к 6г ч1. К.г. '!$E$40","v":0},{"$f":"'Соц.ком.к 6г ч1. К.г. '!$E$40","v":0},{"$f":"'Соц.ком.к 6г ч1. К.г. '!$E$40","v":0},{"$f":"'Соц.ком.к 6г ч1. К.г. '!$E$40","v":0},{"$f":"'Соц.ком.к 6г ч1. К.г. '!$E$40","v":0},{"$f":"'Соц.ком.к 6г ч1. К.г. '!$E$40","v":0},{"$f":"'Соц.ком.к 6г ч1. К.г. '!$E$40","v":0},{"$f":"'Соц.ком.к 6г ч1. К.г. '!$E$40","v":0},{"$f":"'Соц.ком.к 6г ч1. К.г. '!$E$40","v":0},{"$f":"'Соц.ком.к 6г ч1. К.г. '!$E$40","v":0},{"$f":"'Соц.ком.к 6г ч1. К.г. '!$E$40","v":0},{"$f":"'Соц.ком.к 6г ч1. К.г. '!$E$40","v":0},{"$f":"'Соц.ком.к 6г ч1. К.г. '!$E$40","v":0},{"$f":"'Соц.ком.к 6г ч1. К.г. '!$E$40","v":0},{"$f":"'Соц.ком.к 6г ч1. К.г. '!$E$40","v":0},{"$f":"'Соц.ком.к 6г ч1. К.г. '!$E$40","v":0},{"$f":"'Соц.ком.к 6г ч1. К.г. '!$E$40","v":0},{"$f":"'Соц.ком. к 6г ч2 К.г.'!E40","v":0},{"$f":"'Соц.ком. к 6г ч2 К.г.'!F40","v":0},{"$f":"'Соц.ком. к 6г ч2 К.г.'!G40","v":0},{"$f":"'Соц.ком. к 6г ч2 К.г.'!H40","v":0},{"$f":"'Соц.ком. к 6г ч2 К.г.'!I40","v":0},{"$f":"'Соц.ком. к 6г ч2 К.г.'!J40","v":0},{"$f":"'Соц.ком. к 6г ч2 К.г.'!K40","v":0},{"$f":"'Соц.ком. к 6г ч2 К.г.'!L40","v":0},{"$f":"'Соц.ком. к 6г ч2 К.г.'!M40","v":0},{"$f":"'Физ.разв. к 6г ч1. К.г. '!E41","v":0},{"$f":"'Физ.разв. к 6г ч1. К.г. '!F41","v":0},{"$f":"'Физ.разв. к 6г ч1. К.г. '!G41","v":0},{"$f":"'Физ.разв. к 6г ч1. К.г. '!H41","v":0},{"$f":"'Физ.разв. к 6г ч1. К.г. '!I41","v":0},{"$f":"'Физ.разв. к 6г ч1. К.г. '!J41","v":0},{"$f":"'Физ.разв. к 6г ч1. К.г. '!K41","v":0},{"$f":"'Физ.разв. к 6г ч1. К.г. '!L41","v":0},{"$f":"'Физ.разв. к 6г ч1. К.г. '!M41","v":0},{"$f":"'Физ.разв. к 6г ч1. К.г. '!N41","v":0},{"$f":"'Физ.разв. к 6г ч1. К.г. '!O41","v":0},{"$f":"'Физ.разв. к 6г ч1. К.г. '!P41","v":0},{"$f":"'Физ.разв. к 6г ч1. К.г. '!Q41","v":0},{"$f":"'Физ.разв. к 6г ч1. К.г. '!R41","v":0},{"$f":"'Физ.разв. к 6г ч1. К.г. '!S41","v":0},{"$f":"'Физ.разв. к 6г ч1. К.г. '!T41","v":0},{"$f":"'Физ.разв. к 6г ч1. К.г. '!U41","v":0},{"$f":"'Физ.разв. к 6г ч1. К.г. '!V41","v":0},{"$f":"'Физ.разв. к 6г ч1. К.г. '!W41","v":0},{"$f":"'Физ.разв. к 6г ч1. К.г. '!X41","v":0},{"$f":"'Физ.разв. к 6г ч2. К.г. '!E42","v":0},{"$f":"'Физ.разв. к 6г ч2. К.г. '!F42","v":0},{"$f":"'Физ.разв. к 6г ч2. К.г. '!G42","v":0},{"$f":"'Физ.разв. к 6г ч2. К.г. '!H42","v":0},{"$f":"'Физ.разв. к 6г ч2. К.г. '!I42","v":0},{"$f":"'Физ.разв. к 6г ч2. К.г. '!J42","v":0},{"$f":"'Физ.разв. к 6г ч2. К.г. '!K42","v":0},{"$f":"'Физ.разв. к 6г ч2. К.г. '!L42","v":0},{"$f":"'Физ.разв. к 6г ч2. К.г. '!M42","v":0},{"$f":"'Физ.разв. к 6г ч2. К.г. '!N42","v":0},{"$f":"'Физ.разв. к 6г ч2. К.г. '!O42","v":0},{"$f":"'Физ.разв. к 6г ч2. К.г. '!P42","v":0},{"$f":"'Физ.разв. к 6г ч2. К.г. '!Q42","v":0},{"$f":"'Физ.разв. к 6г ч2. К.г. '!R42","v":0},{"$f":"'Физ.разв. к 6г ч2. К.г. '!S42","v":0},{"$f":"'Физ.разв. к 6г ч2. К.г. '!T42","v":0},{"$f":"'Физ.разв. к 6г ч2. К.г. '!U42","v":0},{"$f":"'Физ.разв. к 6г ч2. К.г. '!V42","v":0},{"$f":"'Физ.разв. к 6г ч2. К.г. '!W42","v":0},{"$f":"'Физ.разв. к 6г ч2. К.г. '!X42","v":0},{"$f":"'Физ.разв. к 6г ч2. К.г. '!Y42","v":0}]